{"text_format":"3","workbook":"xlsx","n_sheets":10,"sheets":["Accueil","Notice","Renseignements","Programmation","Période","Bulletin2","Bulletin","Formules","Appréciations","Socle"],"not_rendered":{"images":1,"macros":1,"defined_names":109},"read":"whole","date_system":"1900"}

{"sheet":"Accueil","index":0,"n_rows":22,"n_cols":2,"rows_kept":22,"merged":[[2,1,2,11],[3,1,3,11],[4,1,4,11],[5,1,5,11],[7,1,7,11],[9,1,9,11],[11,1,11,11],[13,1,13,11],[21,1,21,11]]}
[]
[]
[null,"PROGRAMMATION, EVALUATION DES COMPETENCES DU"]
[null,"CYCLE 3"]
[null,"Nécessite d'accepter les macros *"]
[null,"NOTICE D'UTLISATION"]
[]
[null,"  -1                             Saisir les renseignements"]
[]
[null,"   -2                            Etablir la programmation des compétences par période"]
[]
[null,"  - 3                            Saisie des appréciations par période"]
[]
[null,"   -4                            Edition du socle commun"]
[]
[null,"* Vous pouvez avoir besoin de modifier votre niveau de sécurité s'il est trop élevé, cochez faible (ce logiciel est sans danger)"]
[]
[]
[]
[]
[]
[null,"Le livret cycle 3 version 4 by Eric Di Donfrancesco sont mis à disposition selon les termes de la licence Creative Commons Paternité - Pas d'Utilisation Commerciale - Partage des Conditions Initiales à l'Identique 3.0 Unported."]

{"sheet":"Notice","index":1,"n_rows":40,"n_cols":2,"rows_kept":40}
[null,"NOTICE"]
[]
[null,"Principes de bases  :  \nCette version du livret permet de  modifier à votre guise les compétences, en rajouter, les récrire, les préciser selon la période évaluée. \nLes feuilles d'évaluation (périodes) et les feuilles bulletins ne sont créées qu'au fur et à mesure des besoins. "]
[]
[null,"Les versions :  \nCette version fonctionne sous PC avec  excel 2010 et plus. Si vous utilisez une version plus ancienne téléchargez la version XLS (excel 97 2000) du livret. Les conversions sont sources d'erreurs.  Les versions trop anciennes d'excel (95) risquent de mal fonctionner.  Il est recommandé d'éviter de passer d'une version à l'autre, ou de mac à PC avec le même livret."]
[null,"Si vous utilisez mac excel "]
[null,"Renseignements :     onglet renseignement"]
[null,"Renseigner dans les cadres blancs les données de l’école et de la classe, puis ceux des élèves (nom et prénom).\nVous pouvez modifier le type de notes ou créer les vôtres en cochant l'option. "]
[null,"Puis aller à la page programmation pour établir votre programmation des compétences abordées par période."]
[]
[null,"Les compétences: onglet programmation"]
[null,"Dans l'onglet \"programmation\" vous avez les compétences du BO. Vous pouvez les modifier de plusieurs façons:\n- En les réécrivant dans la cellule\n- En ajoutant des lignes pour mettre de nouvelles compétences.\nPour ajouter des lignes : il faut sélectionner une cellule numérotée de la première colonne  (sauf les bleues qui correspondent aux titres) et cliquer sur le bouton \"ajouter \". Vous pouvez en ajouter autant de fois que vous voulez. Idem pour suprimer.\nUne fois que vous avez fini vos modifications, cliquez sur le bouton \"valider les modifications\" sinon elles ne seront pas prises en compte dans la génération des périodes."]
[]
[null,"Programmation :  onglet programmation"]
[null,"Sélectionner votre niveau de classe en cliquant sur le bouton CE2, CM1 ou CM2 pour filtrer les compétences. Vous pouvez aussi choisir de les afficher toutes, en cliquant sur le bouton \"tout cycle\". \nSi vous avez crée des nouvelles compétences vous pouvez les affecter à un niveau en ajoutant un 1 dans la colonnes correspondantes"]
[null,"Remarque : si vous avez un double-niveau et que vous voulez n'utiliser qu'un bulletin,  utiliser le bouton tout cycle pour voir apparaître l’ensemble des compétences du cycle . "]
[null,"Cocher par une croix (x) les compétences que vous allez aborder dans chaque période. Colonnes P1 P2 …"]
[]
[null,"Évaluation des compétences de chaque élève par période :"]
[null,"Une fois les compétences à évaluer programmées dans les périodes, vous allez créer la grille d'évaluation de la période qui vous intéresse en cliquant sur les boutons P1, P2.. en haut des colonnes concernées. Vous pouvez évaluer chacun de vos élèves dans un tableau collectif (4 degrés d’évaluation et NE – Non Évalué-).\nSi vous modifiez de nouveau la programmation, elle sera prise en compte dans vos feuilles périodes. Par contre une fois une période créée vous ne pouvez plus ajouter ou enlever des compétences sur cette dernière."]
[]
[null,"La feuille d'évaluation:  (onglets P1, P2, P3, P4, P5) "]
[null,"Elles se nomment P1, P2, P3, P4 ou P5 Quand vous l'ouvrez, cliquez sur le bouton \"mise à jour de la feuille\" pour filtrer les colonnes vides et actualiser les compétences programmées. Vous pouvez ensuite mettre les notes . \nPour supprimer une feuille période il faut passer par les macros: en cliquant sur le bouton Effacer. La boite de dialogue apparaitra et vous choisirez la période à supprimer. "]
[]
[null,"Saisie des appréciations par période :"]
[null,"Pour chaque enfant, vous noterez dans un tableau collectif l’appréciation littérale concernant la période. Vous pouvez aussi noter les jours d’absences. La cellule s'adaptera à la longueur de votre texte."]
[]
[null,"Bulletin : onglets B1, B2, B3, B4, B5, BT1, BT2, BT3 Bilan  "]
[null,"Une fois les évaluations terminées vous devez générer le bulletin correspondant ( B1 pour P1)  utiliser le bouton Bulletin présent dans les feuilles périodes.  Après avoir choisi l’enfant dans la liste déroulante et la période, vous pourrez cliquer sur le bouton imprimer, ou imprimez en passant par le menu. Vous pouvez aussi générer des bulletins PDF. Si vous cliquez sur \"imprimer tout\" toutes les feuilles sortiront mais pas en recto verso.\nLes bulletins trimestriels : BT1, BT2  fusionnent deux périodes P1 et P2 pour le premier trimestre et P2 P3 pour le deuxième. Le trimestre 3  BT3 reprend la période 5\nLe bilan annuel : si vous générez cette feuille, toutes les compétences évaluées sur le nombre de période que vous aurez choisi se reporteront sur cette feuille. si une compétence a été évaluée plusieurs fois; c'est la dernière note qui l'emporte (vous pouvez toujours modifier manuellement cela). Attention la génération de cette feuille prend un certain temps de calcul"]
[]
[null,"Édition du socle commun : onglet socle"]
[null,"En fin d’année de cycle, il est possible d’éditer le livret du socle commun pour chaque élève."]
[null,"Si la moyenne des compétences nécessaires à l’obtention de celle du socle est supérieure à 70 % alors la compétence est notée acquise. \nLe socle se réfère au bilan annuel, il vous demande donc de créer cette page si vous ne l'avez pas fait pour valider le socle."]
[null,"Les compétences qui sont liées au socle sont codées dans une case jaune (à gauche) Il est recommandé de ne pas les effacer ou les transformer."]
[null,"Pour valider les compétences du socle, un bouton est prévu qui fixera une date de validation à chaque fois que vous l’utiliserez. La date de la compétence validée ne changera plus. Vous pouvez aussi valider manuellement en mettant vous-même une date dans la case du tableau à gauche"]
[]
[null,"Pour l’enseignant des tableaux statistiques peuvent être utiles :"]
[null,"Sur chaque période vous pouvez voir les pourcentages d'acquisition pour chaque compétences."]
[null,"bilan élèves: C'est un bulletin qui reprend les compétences sur toute l'année, il se réfère à la feuille \"Année\" le même sous forme synoptique regroupant l’ensemble des élèves de la classe."]
[null,"Sur la feuille \"Année\" vous avez comme sur les autres périodes un bilan des compétences qui montre, pour la classe, les compétences réussies, à renforcer, en cours d’acquisition ou non acquises par période ou sur l'année."]

{"sheet":"Renseignements","index":2,"n_rows":49,"n_cols":16,"rows_kept":49,"merged":[[1,2,1,6],[2,2,2,3],[2,4,2,6],[3,2,3,3],[3,4,3,6],[4,2,4,3],[4,4,4,6],[5,2,5,3],[5,4,5,6],[6,2,6,3],[6,4,6,6],[7,2,7,3],[7,4,7,6],[8,2,8,3],[8,4,8,6],[9,2,9,3],[9,4,9,6],[10,2,10,3],[10,4,10,6],[13,2,13,4],[18,7,18,11]]}
[]
[null,null,"RENSEIGNEMENTS"]
[null,null,"Académie"]
[null,null,"Circonscription "]
[null,null,"Ville"]
[null,null,"Ecole",null,"Léonard de Vinci"]
[null,null,"Adresse"]
[null,null,"Cycle",null,3]
[null,null,"Classe",null,"CM1"]
[null,null,"Enseignant",null,"M. DURANT"]
[null,null,"Année",null,"2013  2014"]
[]
[]
[null,null,"LISTE",{"$nulls":4},"CHOIX DU TYPE DE NOTATION"]
[null,null,"Prénom","Nom","Né le"]
[null,1,"Marc","Aurèle","1999-11-12",{"$nulls":10},{"$f":"CONCATENATE(C16,\"  \",D16)","v":"Marc  Aurèle"}]
[null,2,"Jérôme","Lenoir","1998-07-04",{"$nulls":10},{"$f":"CONCATENATE(C17,\"  \",D17)","v":"Jérôme  Lenoir"}]
[null,3,"Fabien","Léglise","1999-10-05",{"$nulls":10},"Fabien  Léglise"]
[null,4,"Aicha","Samarahoui","1999-12-03",null,null,"NOTATION LIBRE",{"$nulls":7},"Aicha  Samarahoui"]
[null,5,"Karim","Maha","2000-03-30",{"$nulls":7},"NE",null,null,"Karim  Maha"]
[null,6,{"$nulls":13},"  "]
[null,7,{"$nulls":13},"  "]
[null,8,{"$nulls":13},"  "]
[null,9,{"$nulls":13},"  "]
[null,10,{"$nulls":13},"  "]
[null,11,{"$nulls":13},"  "]
[null,12,{"$nulls":13},"  "]
[null,13,{"$nulls":13},"  "]
[null,14,{"$nulls":13},"  "]
[null,15,{"$nulls":13},"  "]
[null,16,{"$nulls":13},"  "]
[null,17,{"$nulls":13},"  "]
[null,18,{"$nulls":13},"  "]
[null,19,{"$nulls":13},"  "]
[null,20,{"$nulls":13},"  "]
[null,21,{"$nulls":13},"  "]
[null,22,{"$nulls":13},"  "]
[null,23,{"$nulls":13},"  "]
[null,24,{"$nulls":13},"  "]
[null,25,{"$nulls":13},"  "]
[null,26,{"$nulls":13},"  "]
[null,27,{"$nulls":13},"  "]
[null,28,{"$nulls":13},"  "]
[null,29,{"$nulls":13},"  "]
[null,30,{"$nulls":13},"  "]
[null,31,{"$nulls":13},"  "]
[null,32,{"$nulls":13},"  "]
[null,33,{"$nulls":13},"  "]
[null,null,{"$f":"COUNTIF(C16:C48,\"*\")","v":5}]

{"sheet":"Programmation","index":3,"n_rows":535,"n_cols":21,"rows_kept":535,"merged":[[0,0,1,1],[0,2,3,2],[0,8,2,16],[0,18,2,18]]}
["Ajout, suppression de lignes :\nSelectionner une cellule de la colonne A  (sauf les bleues) et cliquer sur un bouton",null,"Si vous modifiez cette feuille, (ajouts de lignes, récriture des compétences) : Vous devez valider cette modification",{"$nulls":5},"1)  Choisir les compétences à  travailler par période en mettant une croix (x) dans les cases P1, P2…\n\n2) Cliquer sur un bouton pour générer la grille d'évaluation de la période voulue.",{"$nulls":9},"Fusionne toutes les notes de l'année"]
[]
[{"$nulls":20},"socle"]
[{"$nulls":8},"P1",null,"P2",null,"P3",null,"P4",null,"P5",{"$nulls":3},185]
[5,null,"LANGAGE ORAL",{"$f":"SUM(5,D6:D535)","v":535},"ce2","cm1","cm2",null,{"$f":"IF(COUNTIF(I6:I16,\"x\")>0,\"x\",0)","v":"x"},null,{"$f":"IF(COUNTIF(K6:K16,\"x\")>0,\"x\",0)","v":"x"},null,{"$f":"IF(COUNTIF(M6:M16,\"x\")>0,\"x\",0)","v":0},null,{"$f":"IF(COUNTIF(O6:O16,\"x\")>0,\"x\",0)","v":0},null,{"$f":"IF(COUNTIF(Q6:Q16,\"x\")>0,\"x\",0)","v":0},null,{"$f":"IF(COUNTIF(I5:Q5,\"X\"),\"X\",\"\")","v":"X"},null,1]
[6,null,"Raconter, décrire, exposer",1,1,1,1,null,{"$f":"IF(COUNTIF(I7:I8,\"x\")>0,\"x\",0)","v":"x"},null,{"$f":"IF(COUNTIF(K7:K8,\"x\")>0,\"x\",0)","v":"x"},null,{"$f":"IF(COUNTIF(M7:M8,\"x\")>0,\"x\",0)","v":0},null,{"$f":"IF(COUNTIF(O7:O8,\"x\")>0,\"x\",0)","v":0},null,{"$f":"IF(COUNTIF(Q7:Q8,\"x\")>0,\"x\",0)","v":0},null,"X"]
[7,"LO1","Faire un récit structuré et compréhensible pour un tiers ignorant des faits rapportés ou de l’histoire racontée, inventer et modifier des histoires, décrire une image, exprimer des senti­ments, en s’exprimant en phrases correctes et dans un vocabulaire approprié.",1,1,1,1,null,"x",null,"x",{"$nulls":7},"X"]
[8,".LO2","Décrire un objet, présenter un travail à la classe en s’exprimant en phrases correctes et dans un vocabulaire approprié.",1,null,1,1,null,"x",null,"x",{"$nulls":7},"X",null,1]
[9,null,"Echanger, débattre",1,1,1,1,null,{"$f":"IF(COUNTIF(I10:I14,\"x\")>0,\"x\",0)","v":"x"},null,{"$f":"IF(COUNTIF(K10:K14,\"x\")>0,\"x\",0)","v":"x"},{"$nulls":7},"X"]
[10,"LO6","Demander et prendre la parole à bon escient.",1,null,1,1,{"$nulls":3},"x",{"$nulls":7},"X"]
[11,".LO7","Réagir à l’exposé d’un autre élève en apportant un point de vue motivé.",1,null,1,1,null,"x",null,"x",{"$nulls":7},"X",null,1]
[12,".LO8","Participer à un débat en respectant les tours de parole et les règles de la politesse.",1,null,1,1,null,"x",null,"x",{"$nulls":7},"X",null,1]
[13,".LO9","Présenter à la classe un travail collectif.",1,null,1,1,null,"x",{"$nulls":9},"X",null,1]
[14,".LO10","Participer aux échanges de manière constructive : rester dans le sujet, situer son propos par rapport aux autres, apporter des arguments, mobiliser des connaissances, respecter les règles habituelles de la communication.",1,null,null,1,null,"x",{"$nulls":9},"X",null,1]
[15,null,"Réciter",1,1,1,1,null,{"$f":"I16","v":"x"},null,{"$f":"K16","v":"x"},null,{"$f":"M16","v":0},null,{"$f":"O16","v":0},null,{"$f":"Q16","v":0},null,"X"]
[16,".LO11","Dire sans erreur et de manière expressive des textes en prose ou des poèmes (une dizaine).",1,1,1,1,null,"x",null,"x",{"$nulls":7},"X",null,1]
[17,"","LECTURE",1,1,1,1,null,{"$f":"IF(COUNTIF(I18:I22,\"x\")>0,\"x\",0)","v":"x"},null,{"$f":"IF(COUNTIF(K18:K22,\"x\")>0,\"x\",0)","v":"x"},null,{"$f":"IF(COUNTIF(M18:M22,\"x\")>0,\"x\",0)","v":0},null,{"$f":"IF(COUNTIF(O18:O22,\"x\")>0,\"x\",0)","v":0},null,{"$f":"IF(COUNTIF(Q18:Q22,\"x\")>0,\"x\",0)","v":0},null,"X"]
[18,"LE1","Lire les consignes de travail, les énoncés de problèmes dont le vocabulaire difficile ou nouveau a été élucidé par le maître.",1,1,{"$nulls":3},"x",null,"x",{"$nulls":7},"X"]
[19,"LE2","Lire à haute voix avec fluidité et de manière expressive un extrait de texte, après préparation.",1,1,{"$nulls":3},"x",null,"x",{"$nulls":7},"X"]
[20,"LE3","Lire silencieusement un texte littéraire ou documentaire et le comprendre (reformuler, répondre à des questions sur ce texte).",1,1,{"$nulls":3},"x",{"$nulls":9},"X"]
[21,"LE4","Repérer dans un texte des informations explicites en s’appuyant en particulier sur le titre, l’organisation (phrases, paragraphes), le vocabulaire. ",1,1,{"$nulls":3},"x",{"$nulls":9},"X"]
[22,"LE5","Reconnaître les marques de ponctuation. ",1,1,{"$nulls":3},"x",{"$nulls":9},"X"]
[23,null,"Dans un récit",1,1,1,1,null,{"$f":"IF(COUNTIF(I24:I46,\"x\")>0,\"x\",0)","v":0},null,{"$f":"IF(COUNTIF(K24:K46,\"x\")>0,\"x\",0)","v":"x"},null,{"$f":"IF(COUNTIF(M24:M46,\"x\")>0,\"x\",0)","v":0},null,{"$f":"IF(COUNTIF(O24:O46,\"x\")>0,\"x\",0)","v":0},null,{"$f":"IF(COUNTIF(Q24:Q46,\"x\")>0,\"x\",0)","v":0},null,"X"]
[24,"LE6","Dans un récit d'appuyer sur le repérage des différents termes désignant un personnage,",1,1,1,1,{"$nulls":3},"X",{"$nulls":7},"X"]
[25,"LE7","Dans un récit s'appuyer sur les temps des verbes et sur les mots de liaison exprimant les relations temporelles pour comprendre avec précision la chronologie des événements,",1,1,{"$nulls":5},"X",{"$nulls":7},"X"]
[26,"LE8","Dans un récit s'appuyer sur les deux-points et guillemets pour repérer les paroles des personnages.",1,1,1,1,{"$nulls":11},""]
[27,"LE9","Lire un texte documentaire, descriptif ou narratif, et restituer à l’oral ou par écrit l’essentiel du texte (sujet du texte, objet de la description, trame de l’histoire, relations entre les personnages…).",1,1,1,1,{"$nulls":11},""]
[28,"LE10","Adopter une stratégie pour parvenir à comprendre : repérer des mots inconnus et incompris, relire, questionner, recourir au dictionnaire, etc.",1,1,1,1,{"$nulls":11},""]
[29,"LE11","Se repérer dans une bibliothèque habituellement fréquentée pour choisir et emprunter un livre.",1,1,{"$nulls":13},""]
[30,".LE12","Lire sans aide les consignes du travail scolaire, les énoncés de problèmes.",1,null,1,1,{"$nulls":11},"",null,1]
[31,"LE13","Lire à haute voix avec fluidité et de manière expressive un texte d’une dizaine de lignes, après préparation.",1,null,1,{"$nulls":12},""]
[32,"LE14","Lire silencieusement un texte littéraire ou documentaire et le comprendre (reformuler, résumer, répondre à des questions sur ce texte).",1,null,1,1,{"$nulls":11},""]
[33,".LE15","Repérer dans un texte des informations explicites et en inférer des informations nouvelles (implicites). ",1,null,1,1,{"$nulls":11},"",null,1]
[34,"LE16","Dans un récit ou une description, s’appuyer sur les mots de liaison qui marquent les relations spatiales et sur les compléments de lieu pour comprendre avec précision la confi­guration du lieu de l’action ou du lieu décrit.",1,null,1,{"$nulls":12},""]
[35,"LE17","Comprendre l’usage de l’imparfait et du passé simple dans un récit, du présent dans un texte scientifique ou documentaire.",1,null,1,1,{"$nulls":11},""]
[36,"LE18","Saisir l’atmosphère ou le ton d’un texte descriptif,narratif ou poétique, en s’appuyant en particulier sur son vocabulaire.",1,null,1,1,{"$nulls":11},""]
[37,"LE19","Participer à un débat sur un texte en confrontant son interprétation à d’autres de manière argumentée.",1,null,1,1,{"$nulls":11},""]
[38,"LE20","Utiliser les outils usuels de la classe (manuels, affichages, etc.) pour rechercher une information, surmonter une difficulté.",1,null,1,{"$nulls":12},""]
[39,"LE21","Effectuer des recherches, avec l’aide de l’adulte, dans des ouvrages documentaires (livres ou produits multimédia).",1,null,1,{"$nulls":12},""]
[40,"LE22","Lire sans aide une leçon dans un manuel après un travail en classe sur le sujet.",1,null,null,1,{"$nulls":11},""]
[41,"LE23","Lire à haute voix avec fluidité et de manière expressive un texte de plus de dix lignes, après préparation.",1,null,null,1,{"$nulls":11},""]
[42,".LE24","S’appuyer sur les mots de liaisons et les expressions qui marquent les relations logiques pour comprendre avec précision l’enchaînement d’une action ou d’un raisonnement.",1,null,null,1,{"$nulls":11},"",null,1]
[43,".LE25","Repérer les effets de choix formels (emplois de certains mots, utilisation d’un niveau de langue bien caractérisé, etc.).",1,null,null,1,{"$nulls":11},"",null,1]
[44,".LE26","Effectuer, seul, des recherches dans des ouvrages documentaires (livres, produits multimédia).",1,null,null,1,{"$nulls":11},"",null,1]
[45,".LE27","Se repérer dans une bibliothèque, une médiathèque.",1,null,null,1,{"$nulls":11},"",null,1]
[46,"LE28","Utiliser ses connaissances pour réfléchir sur un texte, mieux le comprendre",1,null,null,1,{"$nulls":11},""]
[47,""," ECRIRE",1,1,1,1,null,{"$f":"IF(COUNTIF(I48:I50,\"x\")>0,\"x\",0)","v":0},null,{"$f":"IF(COUNTIF(K48:K50,\"x\")>0,\"x\",0)","v":0},null,{"$f":"IF(COUNTIF(M48:M50,\"x\")>0,\"x\",0)","v":0},null,{"$f":"IF(COUNTIF(O48:O50,\"x\")>0,\"x\",0)","v":0},null,{"$f":"IF(COUNTIF(Q48:Q50,\"x\")>0,\"x\",0)","v":0},null,""]
[48,".EC1","Copier sans erreur un texte en lui donnant une présentation adaptée. (au moins 5 lignes CE2; 10 C61lignes CM1 15 lignes CM2",1,1,1,1,{"$nulls":11},"",null,1]
[49,".EC2","Copier avec soin, en respectant la mise en page, un texte en prose ou poème appris en récitation. ",1,1,1,1,{"$nulls":11},"",null,1]
[50,"EC3","Répondre à une question par une phrase complète à l’écrit",1,1,1,1,{"$nulls":11},""]
[51,"","REDACTION",1,1,1,1,null,{"$f":"IF(COUNTIF(I52:I63,\"x\")>0,\"x\",0)","v":0},null,{"$f":"IF(COUNTIF(K52:K63,\"x\")>0,\"x\",0)","v":0},null,{"$f":"IF(COUNTIF(M52:M63,\"x\")>0,\"x\",0)","v":0},null,{"$f":"IF(COUNTIF(O52:O63,\"x\")>0,\"x\",0)","v":0},null,{"$f":"IF(COUNTIF(Q52:Q63,\"x\")>0,\"x\",0)","v":0},null,""]
[52,"RE1","Dans les diverses activités scolaires, proposer une réponse écrite, explicite et énoncée dans une forme correcte.",1,1,{"$nulls":13},""]
[53,"RE2","Rédiger un court texte narratif en veillant à sa cohérence temporelle (temps des verbes) et à sa précision (dans la nomination des personnages et par l’usage d’adjectifs qualificatifs), en évitant les répétitions par l’usage de synonymes, et en respectant les contraintes syntaxiques et orthographiques ainsi que la ponctuation.",1,1,{"$nulls":13},""]
[54,"RE3","Rédiger un court dialogue (formulation des questions et des ordres).",1,1,{"$nulls":13},""]
[55,"RE4","Savoir amplifier une phrase en ajoutant des mots : en coordonnant par et un nom à un autre, un adjectif à un autre, un verbe à un autre.",1,1,{"$nulls":13},""]
[56,"RE5","Améliorer (corriger et enrichir) un texte en fonction des remarques et aides du maître.",1,1,1,1,{"$nulls":11},""]
[57,"RE6","Dans les diverses activités scolaires, noter des idées, des hypothèses, des informations utiles au travail scolaire",1,null,1,{"$nulls":12},""]
[58,"RE7","Rédiger des textes courts de différents types (récits, descriptions, portraits) en veillant à leur cohérence, à leur précision, (pronoms, mots de liaison, relations temporelles en particulier) et en évitant les répétitions. ",1,null,1,{"$nulls":12},""]
[59,"RE8","Savoir amplifier une phrase simple par l’ajout d’éléments coordonnés (et, ni, ou, mais entre des mots ou des phrases simples ; car, donc entre des phrases simples), d’adverbes, de compléments circonstanciels  et par l’enrichissement des groupes nominaux",1,null,1,1,{"$nulls":11},""]
[60,".RE9","Dans les diverses activités scolaires, prendre des notes utiles au travail scolaire.",1,null,null,1,{"$nulls":11},"",null,1]
[61,".RE10","Maîtriser la cohérence des temps dans un récit d’une dizaine de lignes.",1,null,null,1,{"$nulls":11},"",null,1]
[62,".RE11","Rédiger différents types de textes d’au moins deux paragraphes en veillant à leur cohérence, en évitant les répétitions, et en respectant les contraintes syntaxiques et orthographiques ainsi que la ponctuation.",1,null,null,1,{"$nulls":11},"",null,1]
[63,"RE12","Ecrire un texte de type poétique en obéissant à une ou plusieurs consignes précises.",1,null,null,1,{"$nulls":11},""]
[64,"","LITTERATURE",1,1,1,1,null,{"$f":"IF(COUNTIF(I65:I76,\"x\")>0,\"x\",0)","v":0},null,{"$f":"IF(COUNTIF(K65:K76,\"x\")>0,\"x\",0)","v":0},null,{"$f":"IF(COUNTIF(M65:M76,\"x\")>0,\"x\",0)","v":0},null,{"$f":"IF(COUNTIF(O65:O76,\"x\")>0,\"x\",0)","v":0},null,{"$f":"IF(COUNTIF(Q65:Q76,\"x\")>0,\"x\",0)","v":0},null,""]
[65,"LI1","Lire une œuvre intégrale ou de larges extraits d’une œuvre longue. ",1,1,{"$nulls":13},""]
[66,"LI2","Rendre compte des œuvres lues, donner son point de vue à leur propos.",1,1,1,1,{"$nulls":11},{"$f":"IF(COUNTIF(I66:Q66,\"X\"),\"X\",\"\")","v":""}]
[67,"LI3","Raconter de mémoire, ou en s’aidant de quelques images des histoires lues dans les années ou les mois antérieurs ; connaître leur titre.",1,1,{"$nulls":13},""]
[68,"LI4","Etablir des relations entre des textes ou des œuvres : même auteur, même thème, même personnage, etc.",1,1,{"$nulls":13},""]
[69,".LI5","Lire au moins un ouvrage par trimestre et en rendre compte ; choisir un extrait caractéristique et le lire à haute voix.",1,1,1,1,{"$nulls":11},"",null,1]
[70,".LI6","Adapter son comportement de lecteur aux difficultés rencontrées : notes pour mémoriser, relecture, demande d’aide, etc.",1,null,1,1,{"$nulls":11},"",null,1]
[71,"LI7","Se rappeler le titre et l’auteur des œuvres lues. ",1,null,1,{"$nulls":12},""]
[72,"LI8","Participer à un débat sur une œuvre en confrontant son point de vue à d’autres de manière argumentée.",1,null,1,{"$nulls":12},""]
[73,".LI9","Lire au moins cinq ouvrages dans l’année scolaire et en rendre compte ; choisir un extrait caractéristique et le lire à haute voix.",1,null,1,{"$nulls":12},"",null,1]
[74,".LI10","Expliciter des choix de lecture, des préférences",1,null,null,1,{"$nulls":11},"",null,1]
[75,".LI11","Raconter de mémoire une œuvre lue ; citer de mémoire un court extrait caractéristique.",1,null,null,1,{"$nulls":11},"",null,1]
[76,"LI12","Rapprocher des œuvres littéraires, à l’oral et à l'écrit",1,null,null,1,{"$nulls":11},""]
[77,"","VOCABULAIRE",1,1,1,1,null,{"$f":"IF(COUNTIF(I78:I112,\"x\")>0,\"x\",0)","v":0},null,{"$f":"IF(COUNTIF(K78:K112,\"x\")>0,\"x\",0)","v":0},null,{"$f":"IF(COUNTIF(M78:M112,\"x\")>0,\"x\",0)","v":0},null,{"$f":"IF(COUNTIF(O78:O112,\"x\")>0,\"x\",0)","v":0},null,{"$f":"IF(COUNTIF(Q78:Q112,\"x\")>0,\"x\",0)","v":0},null,""]
[78,null,"Acquisition du vocabulaire",1,1,1,1,null,{"$f":"IF(COUNTIF(I79:I84,\"x\")>0,\"x\",0)","v":0},null,{"$f":"IF(COUNTIF(K79:K84,\"x\")>0,\"x\",0)","v":0},null,{"$f":"IF(COUNTIF(M79:M84,\"x\")>0,\"x\",0)","v":0},null,{"$f":"IF(COUNTIF(O79:O84,\"x\")>0,\"x\",0)","v":0},null,{"$f":"IF(COUNTIF(Q79:Q84,\"x\")>0,\"x\",0)","v":0},null,""]
[79,"VO1","Utiliser à bon escient des termes appartenant aux lexiques des repères temporels, de la vie quotidienne et du travail scolaire. ",1,1,1,1,{"$nulls":11},""]
[80,"VO2","Utiliser les termes exacts qui correspondent aux notions étudiées dans les divers domaines scolaires.",1,1,1,1,{"$nulls":11},""]
[81,"VO3","Savoir ce qu’est une abréviation (ex. « adj. » dans un article de dictionnaire).",1,1,1,1,{"$nulls":11},""]
[82,".VO4","Utiliser à bon escient des termes afférents aux actions, sensations et jugements.",1,null,1,1,{"$nulls":11},"",null,1]
[83,".VO5","Commencer à utiliser des termes renvoyant à des notions abstraites (émotions, sentiments, devoirs, droits).",1,null,null,1,{"$nulls":11},"",null,1]
[84,".VO6","Comprendre des sigles.",1,null,null,1,{"$nulls":11},"",null,1]
[85,null,"Maîtrise du sens des mots",1,1,1,1,null,{"$f":"IF(COUNTIF(I86:I95,\"x\")>0,\"x\",0)","v":0},null,{"$f":"IF(COUNTIF(K86:K95,\"x\")>0,\"x\",0)","v":0},null,{"$f":"IF(COUNTIF(M86:M95,\"x\")>0,\"x\",0)","v":0},null,{"$f":"IF(COUNTIF(O86:O95,\"x\")>0,\"x\",0)","v":0},null,{"$f":"IF(COUNTIF(Q86:Q95,\"x\")>0,\"x\",0)","v":0},null,""]
[86,"VO7","Dans un texte, relever les mots d’un même domaine (ex. le vocabulaire de la mer). ",1,1,1,1,{"$nulls":11},""]
[87,"VO8","Utiliser des synonymes et des mots de sens contraire dans les activités d’expression orale et écrite.",1,1,1,1,{"$nulls":11},""]
[88,"VO9","Préciser, dans son contexte, le sens d’un mot connu ; le distinguer d’autres sens possibles.",1,1,1,1,{"$nulls":11},""]
[89,"VO10","Utiliser le contexte pour comprendre un mot inconnu ; vérifier son sens dans le dictionnaire.",1,null,1,1,{"$nulls":11},""]
[90,"VO11","Définir un mot connu en utilisant un terme générique adéquat (mots concrets : ex. un pommier est un arbre fruitier).",1,null,1,1,{"$nulls":11},""]
[91,"VO12","Commencer à identifier les différents niveaux de langue.",1,null,1,1,{"$nulls":11},""]
[92,"VO13","Distinguer les différents sens d’un verbe selon sa construction  (ex. jouer, jouer quelque chose, jouer à, jouer de, jouer sur).",1,null,null,1,{"$nulls":11},""]
[93,".VO14","Identifier l’utilisation d’un mot ou d’une expression au sens figuré. ",1,null,null,1,{"$nulls":11},"",null,1]
[94,".VO15","Classer des mots de sens voisin en repérant les variations d’intensité (ex. bon, délicieux, succulent).",1,null,null,1,{"$nulls":11},"",null,1]
[95,"VO16","Définir un mot connu en utilisant un terme générique adéquat et en y ajoutant les précisions spécifiques à l’objet défini.",1,null,null,1,{"$nulls":11},""]
[96,null,"Les familles de mots",1,1,1,1,null,{"$f":"IF(COUNTIF(I97:I105,\"x\")>0,\"x\",0)","v":0},null,{"$f":"IF(COUNTIF(K97:K105,\"x\")>0,\"x\",0)","v":0},null,{"$f":"IF(COUNTIF(M97:M105,\"x\")>0,\"x\",0)","v":0},null,{"$f":"IF(COUNTIF(O97:O105,\"x\")>0,\"x\",0)","v":0},null,{"$f":"IF(COUNTIF(Q97:Q105,\"x\")>0,\"x\",0)","v":0},null,""]
[97,"VO17","Construire ou compléter des familles de mots. ",1,1,1,{"$nulls":12},""]
[98,"VO18","Regrouper des mots selon le sens de leur préfixe, ",1,null,1,{"$nulls":12},""]
[99,"VO19","Regrouper des mots selon le sens de leur suffixe, ",1,null,1,{"$nulls":12},""]
[100,"VO20","Connaître et utiliser oralement le vocabulaire concernant la construction des mots (radical, préfixe, suffixe, famille).",1,null,1,{"$nulls":12},""]
[101,"VO21","Utiliser la construction d’un mot inconnu pour le comprendre.",1,null,1,{"$nulls":12},""]
[102,"VO22","Regrouper des mots selon leur radical.",1,null,null,1,{"$nulls":11},""]
[103,"VO23","Regrouper des mots selon le sens de leur préfixe et connaître ce sens ; en particulier celui des principaux préfixes exprimant des idées de lieu ou de mouvement.   ",1,null,null,1,{"$nulls":11},""]
[104,".VO24","Regrouper des mots selon le sens de  leur suffixe et connaître ce sens. ",1,null,null,1,{"$nulls":11},"",null,1]
[105,"VO25","Pour un mot donné, fournir un ou plusieurs mots de la même famille en vérifiant qu’il(s) existe(nt).",1,null,null,1,{"$nulls":11},""]
[106,null,"Utilisation du dictionnaire",1,1,1,1,null,{"$f":"IF(COUNTIF(I107:I112,\"x\")>0,\"x\",0)","v":0},null,{"$f":"IF(COUNTIF(K107:K112,\"x\")>0,\"x\",0)","v":0},null,{"$f":"IF(COUNTIF(M107:M112,\"x\")>0,\"x\",0)","v":0},null,{"$f":"IF(COUNTIF(O107:O112,\"x\")>0,\"x\",0)","v":0},null,{"$f":"IF(COUNTIF(Q107:Q112,\"x\")>0,\"x\",0)","v":0},null,""]
[107,"VO26","Savoir épeler un mot ; connaître l’ordre alphabétique ; savoir classer des mots par ordre alphabétique.",1,1,null,1,{"$nulls":11},""]
[108,"VO27","Utiliser le dictionnaire pour rechercher le sens d’un mot.",1,1,{"$nulls":13},""]
[109,"VO28","Dans une définition de dictionnaire, identifier le terme générique. ",1,null,1,{"$nulls":12},""]
[110,"VO29","Utiliser le dictionnaire pour vérifier le sens d’un mot (en particulier quand il en a plusieurs), ou sa classe, ou son orthographe, ou son niveau de langue.",1,null,1,{"$nulls":12},""]
[111,".VO30","Se servir des codes utilisés dans les articles de dictionnaire",1,null,1,1,{"$nulls":11},"",null,1]
[112,".VO31","Utiliser avec aisance un dictionnaire",1,null,null,1,{"$nulls":11},"",null,1]
[113,""," GRAMMAIRE",1,1,1,1,null,{"$f":"IF(COUNTIF(I114:I163,\"x\")>0,\"x\",0)","v":0},null,{"$f":"IF(COUNTIF(K114:K163,\"x\")>0,\"x\",0)","v":0},null,{"$f":"IF(COUNTIF(M114:M163,\"x\")>0,\"x\",0)","v":0},null,{"$f":"IF(COUNTIF(O114:O163,\"x\")>0,\"x\",0)","v":0},null,{"$f":"IF(COUNTIF(Q114:Q163,\"x\")>0,\"x\",0)","v":0},null,""]
[114,"","La phrase",1,{"$nulls":4},{"$f":"IF(COUNTIF(I115:I122,\"x\")>0,\"x\",0)","v":0},null,{"$f":"IF(COUNTIF(K115:K122,\"x\")>0,\"x\",0)","v":0},null,{"$f":"IF(COUNTIF(M115:M122,\"x\")>0,\"x\",0)","v":0},null,{"$f":"IF(COUNTIF(O115:O122,\"x\")>0,\"x\",0)","v":0},null,{"$f":"IF(COUNTIF(Q115:Q122,\"x\")>0,\"x\",0)","v":0},null,""]
[115,"GR1","Transformer une phrase simple affirmative en phrase négative ou interrogative, ou inversement. ",1,1,{"$nulls":13},""]
[116,"GR2","Identifier le verbe conjugué dans une phrase simple et fournir son infinitif. ",1,1,{"$nulls":13},""]
[117,"GR3","Construire correctement des phrases négatives, interrogatives, injonctives. ",1,null,1,1,{"$nulls":11},""]
[118,"GR4","Identifier les verbes conjugués dans des phrases complexes et fournir leurs infinitifs",1,null,1,1,{"$nulls":11},""]
[119,"GR5","Construire correctement des phrases exclamatives. ",1,null,null,1,{"$nulls":11},""]
[120,"GR6","Comprendre la distinction entre phrase simple et phrase complexe.",1,null,null,1,{"$nulls":11},""]
[121,"GR7","Reconnaître des propositions indépendantes coordonnées, juxtaposées ;",1,null,null,1,{"$nulls":11},""]
[122,"GR8","Reconnaître la proposition relative (seulement la relative complément de nom).",1,null,null,1,{"$nulls":11},""]
[123,"","Les classes de mots",1,1,1,1,null,{"$f":"IF(COUNTIF(I124:I129,\"x\")>0,\"x\",0)","v":0},null,{"$f":"IF(COUNTIF(K124:K129,\"x\")>0,\"x\",0)","v":0},null,{"$f":"IF(COUNTIF(M124:M129,\"x\")>0,\"x\",0)","v":0},null,{"$f":"IF(COUNTIF(O124:O129,\"x\")>0,\"x\",0)","v":0},null,{"$f":"IF(COUNTIF(Q124:Q129,\"x\")>0,\"x\",0)","v":0},null,""]
[124,"GR9","Distinguer selon leur nature le verbe, le nom (propre / commun), les articles, les déterminants possessifs, les pronoms personnels (formes sujet), les adjectifs qualificatifs.",1,1,{"$nulls":13},""]
[125,"GR10","Approche de l’adverbe : modifier le sens d’un verbe en lui ajoutant un adverbe, relier des phrases simples par des mots de liaison temporelle (ex. les adverbes puis, alors…).",1,1,{"$nulls":13},""]
[126,"GR11"," Distinguer selon leur nature les mots des classes déjà connues, ainsi que les déterminants démonstratifs et interrogatifs, les pronoms personnels (sauf en, y), les pronoms relatifs (qui, que), les adverbes (de lieu, de temps, de manière), les négations",1,null,1,{"$nulls":12},""]
[127,".GR12","Distinguer selon leur nature les mots des classes déjà connues, ainsi que les pronoms possessifs, démonstratifs , interrogatifs et relatifs, les mots de liaison ( conjonctions de coordination, adverbes ou locutions adverbiales exprimant le temps, le lieu, la cause et la conséquence), les prépositions (lieu, temps).",1,null,null,1,{"$nulls":11},"",null,1]
[128,"GR13","Connaître la distinction entre article défini et article indéfini et en comprendre le sens ; reconnaître la forme élidée et les formes contractées de l’article défini.",1,null,null,1,{"$nulls":11},""]
[129,"GR14","Reconnaître et utiliser les degrés de l’adjectif et de l’adverbe (comparatif, superlatif).",1,null,null,1,{"$nulls":11},""]
[130,"","Les fonctions",1,1,1,1,null,{"$f":"IF(COUNTIF(I131:I132,\"x\")>0,\"x\",0)","v":0},null,{"$f":"IF(COUNTIF(K131:K132,\"x\")>0,\"x\",0)","v":0},null,{"$f":"IF(COUNTIF(M131:M132,\"x\")>0,\"x\",0)","v":0},null,{"$f":"IF(COUNTIF(O131:O132,\"x\")>0,\"x\",0)","v":0},null,{"$f":"IF(COUNTIF(Q131:Q132,\"x\")>0,\"x\",0)","v":0},null,{"$f":"IF(COUNTIF(I130:Q130,\"X\"),\"X\",\"\")","v":""}]
[131,"GR15","Comprendre la différence entre la nature d’un mot et sa fonction.",1,1,{"$nulls":13},""]
[132,"GR16","Connaître la distinction entre compléments du verbe et compléments du nom. ",1,1,{"$nulls":13},""]
[133,"","Dans une phrase simple où l’ordre sujet-verbe est respecté,",1,1,1,1,null,{"$f":"IF(COUNTIF(I134:I145,\"x\")>0,\"x\",0)","v":0},null,{"$f":"IF(COUNTIF(K134:K145,\"x\")>0,\"x\",0)","v":0},null,{"$f":"IF(COUNTIF(M134:M145,\"x\")>0,\"x\",0)","v":0},null,{"$f":"IF(COUNTIF(O134:O145,\"x\")>0,\"x\",0)","v":0},null,{"$f":"IF(COUNTIF(Q134:Q145,\"x\")>0,\"x\",0)","v":0},null,""]
[134,"GR17","Reconnaître le complément d’objet (direct et indirect) du verbe ;",1,1,1,1,{"$nulls":11},""]
[135,"GR18","Reconnaître le complément du nom. ",1,1,1,1,{"$nulls":11},""]
[136,"GR19","Approche de la circonstance : savoir répondre oralement aux questions où ?, quand ?, com­ment ?, pourquoi ? ",1,1,{"$nulls":13},""]
[137,"GR20","Identifier le verbe et le sujet ",1,null,1,1,{"$nulls":11},""]
[138,"GR21","Reconnaître le complément d’objet second",1,null,1,1,{"$nulls":11},""]
[139,"GR22","Reconnaître les compléments circonstanciels de lieu, de temps, ",1,null,1,1,{"$nulls":11},""]
[140,"GR23","Reconnaître l’attribut du sujet.",1,null,1,1,{"$nulls":11},""]
[141,"GR24","Comprendre la notion de circonstance : la différence entre complément d’objet et complément circonstanciel (manipulations).",1,null,1,{"$nulls":12},""]
[142,"GR25","Manipuler la proposition relative (ajout, suppression, substitution à l’adjectif ou au complément de nom et inversement).",1,null,1,1,{"$nulls":11},""]
[143,"GR26","Connaître les fonctions de l’adjectif qualificatif : épithète, attribut du sujet. ",1,null,1,1,{"$nulls":11},""]
[144,".GR27","Comprendre la distinction entre compléments essentiels (compléments d’objet), et compléments circonstanciels (manipulations).",1,null,null,1,{"$nulls":11},"",null,1]
[145,".GR28","Comprendre la notion de groupe nominal : l’adjectif qualificatif épithète, le complément de nom et la proposition relative comme enrichissements du nom.",1,null,null,1,{"$nulls":11},"",null,1]
[146,"","Le groupe nominal ",1,1,1,1,null,{"$f":"IF(COUNTIF(I147:I148,\"x\")>0,\"x\",0)","v":0},null,{"$f":"IF(COUNTIF(K147:K148,\"x\")>0,\"x\",0)","v":0},null,{"$f":"IF(COUNTIF(M147:M148,\"x\")>0,\"x\",0)","v":0},null,{"$f":"IF(COUNTIF(O147:O148,\"x\")>0,\"x\",0)","v":0},null,{"$f":"IF(COUNTIF(Q147:Q148,\"x\")>0,\"x\",0)","v":0},null,""]
[147,"GR30","Comprendre la fonction de ses éléments : le nom (noyau du groupe nominal), le déterminant (article, déterminant possessif) qui le détermine, l’adjectif qualificatif qui le qualifie, le nom qui le complète ; ",1,1,1,1,{"$nulls":11},""]
[148,"GR31","Manipuler l’adjectif et le complément de nom (ajout, suppression, substitution de l’un à l’autre…).",1,1,1,1,{"$nulls":11},""]
[149,"","Le verbe",1,1,1,1,null,{"$f":"IF(COUNTIF(I150:I158,\"x\")>0,\"x\",0)","v":0},null,{"$f":"IF(COUNTIF(K150:K158,\"x\")>0,\"x\",0)","v":0},null,{"$f":"IF(COUNTIF(M150:M158,\"x\")>0,\"x\",0)","v":0},null,{"$f":"IF(COUNTIF(O150:O158,\"x\")>0,\"x\",0)","v":0},null,{"$f":"IF(COUNTIF(Q150:Q158,\"x\")>0,\"x\",0)","v":0},null,""]
[150,"GR33","Comprendre les notions d’action passée, présente, future.",1,1,{"$nulls":13},""]
[151,"GR34","Connaître les personnes, les règles de formation et les terminaisons des temps simples étudiés(présent, futur, imparfait).",1,1,1,1,{"$nulls":11},""]
[152,"GR35","Conjuguer à l’indicatif présent, futur et  imparfait les verbes des premier et deuxième groupes, ainsi qu’être, avoir, aller,, dire, faire, pouvoir,partir, prendre, venir, voir, vouloir. ",1,1,1,1,{"$nulls":11},""]
[153,"GR36","Repérer dans un texte l’infinitif d’un verbe étudié.",1,1,1,1,{"$nulls":11},""]
[154,"GR37","Comprendre la notion d’antériorité d’un fait passé par rapport à un fait présent.",1,null,1,{"$nulls":12},""]
[155,"GR38","Connaître la distinction entre temps simple et temps composé, la règle de formation des temps composés (passé composé), la notion d’auxiliaire.",1,null,1,{"$nulls":12},""]
[156,"GR39","Conjuguer aux temps déjà étudiés, ainsi qu’à l’indicatif passé simple, au passé composé et à l’impératif présent, les verbes déjà étudiés ; conjuguer des verbes non étudiés en appliquant les règles apprises.",1,null,1,{"$nulls":12},""]
[157,".GR40","Comprendre la notion d’antériorité relative d’un fait passé par rapport à un autre, d’un fait futur par rapport à un autre.",1,null,null,1,{"$nulls":11},""]
[158,".GR41","Conjuguer aux temps et modes  déjà étudiés, ainsi qu’à l’indicatif futur antérieur, plus-que-parfait,  conditionnel présent, au participe présent et passé, les verbes  déjà étudiés ;  conjuguer des verbes non étudiés en appliquant les règles apprises.",1,null,null,1,{"$nulls":11},"",null,1]
[159,"","Les accords",1,1,1,1,null,{"$f":"IF(COUNTIF(I160:I163,\"x\")>0,\"x\",0)","v":0},null,{"$f":"IF(COUNTIF(K160:K163,\"x\")>0,\"x\",0)","v":0},null,{"$f":"IF(COUNTIF(M160:M163,\"x\")>0,\"x\",0)","v":0},null,{"$f":"IF(COUNTIF(O160:O163,\"x\")>0,\"x\",0)","v":0},null,{"$f":"IF(COUNTIF(Q160:Q163,\"x\")>0,\"x\",0)","v":0},null,""]
[160,"GR42","Connaître les règles de l’accord du verbe avec son sujet ; de l’accord entre déterminant et nom, nom et adjectif. ",1,1,1,1,{"$nulls":11},""]
[161,"GR43","Connaître la règle de l’accord du participe passé dans les verbes construits avec être (non compris les verbes pronominaux).",1,null,1,1,{"$nulls":11},""]
[162,"GR44","Connaître la règle de l’accord de l’adjectif (épithète, ou attribut) avec le nom. ",1,null,1,1,{"$nulls":11},""]
[163,".GR45","Connaître la règle de l’accord du participe passé dans les verbes construits avec être et avoir (cas du complément d’objet posé après le verbe).",1,null,null,1,{"$nulls":11},"",null,1]
[164,"","ORTHOGRAPHE",1,1,1,1,null,{"$f":"IF(COUNTIF(I165:I201,\"x\")>0,\"x\",0)","v":0},null,{"$f":"IF(COUNTIF(K165:K201,\"x\")>0,\"x\",0)","v":0},null,{"$f":"IF(COUNTIF(M165:M201,\"x\")>0,\"x\",0)","v":0},null,{"$f":"IF(COUNTIF(O165:O201,\"x\")>0,\"x\",0)","v":0},null,{"$f":"IF(COUNTIF(Q165:Q201,\"x\")>0,\"x\",0)","v":0},null,""]
[165,".OR1","Ecrire sans erreur sous la dictée un texte  en mobilisant les connaissances acquises (au moins 5 ligne CE2,10 lignes CM1 CM2).",1,1,1,1,{"$nulls":11},"",null,1]
[166,"","Compétences grapho-phoniques",1,1,1,1,null,{"$f":"IF(COUNTIF(I167:I177,\"x\")>0,\"x\",0)","v":0},null,{"$f":"IF(COUNTIF(K167:K177,\"x\")>0,\"x\",0)","v":0},null,{"$f":"IF(COUNTIF(M167:M177,\"x\")>0,\"x\",0)","v":0},null,{"$f":"IF(COUNTIF(O167:O177,\"x\")>0,\"x\",0)","v":0},null,{"$f":"IF(COUNTIF(Q167:Q177,\"x\")>0,\"x\",0)","v":0},null,""]
[167,"OR2","Respecter les correspondances entre lettres et sons.",1,1,1,1,{"$nulls":11},""]
[168,"OR3","Respecter la valeur des lettres en fonction des voyelles placées à proximité (s/ss, c/ç, c/qu, g/gu/ge.)",1,1,1,1,{"$nulls":11},""]
[169,"OR4","Respecter la valeur des lettres en fonction de la consonne suivante (n devenant m devant b, m p).",1,1,1,1,{"$nulls":11},""]
[170,"OR5"," Utiliser sans erreur les accents (é,è,ê).",1,1,1,1,{"$nulls":11},""]
[171,"OR6","Ecrire sans erreur le pluriel des noms se terminant par –eu, par –eau. Le pluriel des noms en –au, -ail est en cours d’acquisition.",1,null,1,1,{"$nulls":11},""]
[172,"OR7","Ecrire sans erreur les formes des verbes étudiés aux temps étudiés, dont les verbes du premier groupe en -cer, -ger, -guer,. ",1,null,1,1,{"$nulls":11},""]
[173,"OR8","Appliquer la règle de l’accord du verbe avec son sujet, y compris pour les verbes à un temps composé, et pour les sujets inversés.",1,null,1,1,{"$nulls":11},""]
[174,"OR9","Appliquer la règle de l’accord du participe passé avec être et avoir (cas du complément d’objet direct postposé).",1,null,1,1,{"$nulls":11},""]
[175,"OR10","Accorder sans erreur l’adjectif (épithète, apposé et attribut du sujet) avec le nom.",1,null,1,1,{"$nulls":11},""]
[176,"OR11","Ecrire sans erreur les homophones grammaticaux déjà étudiés, ainsi que ses/ces, mes/mais, on/on n’, ce/se, c’/s’ (c’est/s’est, c’était/s’était), ou/où, la/l’a/l’as/là.",1,null,1,1,{"$nulls":11},""]
[177,"OR12","Ecrire sans erreur les infinitifs de verbes du premier groupe après préposition (il me dit d’aller). ",1,null,1,1,{"$nulls":11},""]
[178,"","Orthographe grammaticale",1,1,1,1,null,{"$f":"IF(COUNTIF(I179:I191,\"x\")>0,\"x\",0)","v":0},null,{"$f":"IF(COUNTIF(K179:K191,\"x\")>0,\"x\",0)","v":0},null,{"$f":"IF(COUNTIF(M179:M191,\"x\")>0,\"x\",0)","v":0},null,{"$f":"IF(COUNTIF(O179:O191,\"x\")>0,\"x\",0)","v":0},null,{"$f":"IF(COUNTIF(Q179:Q191,\"x\")>0,\"x\",0)","v":0},null,""]
[179,"ORG1","Ecrire sans erreur les pluriels des noms se terminant par s, x, z ; par –al, par -ou. ",1,1,1,1,{"$nulls":11},""]
[180,"ORG2","Utiliser sans erreur les marques du pluriel et du féminin des adjectifs.",1,1,1,1,{"$nulls":11},""]
[181,"ORG3","Ecrire sans erreur les formes des verbes étudiés aux temps étudiés, sans confondre, en particulier, les terminaisons (-e, -es, -ent ;-ons et -ont ; -ez, -ais, -ait et -aient ; -ras, -ra). ",1,1,{"$nulls":13},""]
[182,"ORG4","Appliquer la règle de l’accord du verbe avec le sujet (y compris pronom personnel) dans les phrases où l’ordre sujet-verbe est respecté, et où le verbe est à un temps simple.",1,1,{"$nulls":13},""]
[183,"ORG5","Accorder sans erreur le déterminant et le nom, le nom et l’adjectif (épithète).",1,1,1,1,{"$nulls":11},""]
[184,"ORG6","Ecrire sans erreur des homophones grammaticaux en liaison avec le programme de grammaire (a/à, ont/on, est/et, sont/son).",1,1,{"$nulls":13},""]
[185,"ORG7","Ecrire sans erreur le pluriel des noms se terminant par –eu, par –eau. Le pluriel des noms en –au, -ail est en cours d’acquisition.",1,null,1,1,{"$nulls":11},""]
[186,"ORG8","Ecrire sans erreur les formes des verbes étudiés aux temps étudiés, dont les verbes du premier groupe en -cer, -ger, -guer,. ",1,null,1,1,{"$nulls":11},""]
[187,"ORG9","Appliquer la règle de l’accord du verbe avec son sujet, y compris pour les verbes à un temps composé, et pour les sujets inversés.",1,null,1,{"$nulls":12},""]
[188,".ORG10","Orthographier correctement les verbes étudiés aux temps étudiés, dont les verbes du premier groupe en -yer, -eter, -eler.",1,null,null,1,{"$nulls":11},"",null,1]
[189,".ORG11","Appliquer la règle de l’accord du verbe avec son sujet, y compris avec le sujet qui de 3e personne.",1,null,null,1,{"$nulls":11},"",null,1]
[190,".ORG12","Ecrire sans erreur les homophones grammaticaux déjà étudiés, ainsi que on/ on n’ d’on/dont/donc, quel(s)/quelle(s)/qu’elle(s), sans/s’en ; la distinc­tion entre leur et leurs est en cours d’acquisition en fin de cycle.",1,null,null,1,{"$nulls":11},"",null,1]
[191,".ORG13","Distinguer par le sens les formes verbales homophones de l’imparfait et du passé composé. .",1,null,null,1,{"$nulls":11},"",null,1]
[192,"","Orthographe lexicale",1,1,1,1,null,{"$f":"IF(COUNTIF(I193:I201,\"x\")>0,\"x\",0)","v":0},null,{"$f":"IF(COUNTIF(K193:K201,\"x\")>0,\"x\",0)","v":0},null,{"$f":"IF(COUNTIF(M193:M201,\"x\")>0,\"x\",0)","v":0},null,{"$f":"IF(COUNTIF(O193:O201,\"x\")>0,\"x\",0)","v":0},null,{"$f":"IF(COUNTIF(Q193:Q201,\"x\")>0,\"x\",0)","v":0},null,""]
[193,"ORL1","Ecrire sans erreur des noms et des adjectifs se terminant par une consonne muette (ex. chant, cf. chanteur ; blond, cf. blonde…).",1,1,1,1,{"$nulls":11},""]
[194,"ORL2","Ecrire sans erreur les mots mémorisés et régulièrement révisés, en particulier les mots invariables acquis aux CP et CE 1, des mots fréquents, des mots référents pour des sons. ",1,1,{"$nulls":13},{"$f":"IF(COUNTIF(I194:Q194,\"X\"),\"X\",\"\")","v":""}]
[195,"ORL3","Connaître la notion d’homonyme et écrire sans erreur un nombre croissant d’homonymes jusqu’à la fin du cycle. ",1,1,1,1,{"$nulls":11},""]
[196,"ORL4","Ecrire sans erreur des mots invariables, en particulier les plus fréquents de ceux étudiés en grammaire.",1,null,1,1,{"$nulls":11},""]
[197,"ORL5","S’appuyer sur sa connaissance des familles de mots pour écrire sans erreur des mots nouveaux (préfixe in-, im-, ilou ir-, suffixe -tion…).",1,null,1,1,{"$nulls":11},""]
[198,"ORL6","Mémoriser la graphie de la syllabe finale des noms terminés par -ail, -eil, -euil . ",1,null,1,1,{"$nulls":11},""]
[199,".ORL7","Ecrire correctement (doublement de la consonne) le début des mots commençant par ap-, ac-, af-, efet of-.",1,null,null,1,{"$nulls":11},"",null,1]
[200,".ORL8","Ecrire correctement la syllabe finale des noms terminés par -ée ; par -té ou -tié ; par un e muet.",1,null,null,1,{"$nulls":11},"",null,1]
[201,".ORL9","Respecter la convention de la coupe syllabique à la ligne.",1,null,null,1,{"$nulls":11},"",null,1]
[202,""," NOMBRE ET CALCUL",1,1,1,1,null,{"$f":"IF(COUNTIF(I203:I251,\"x\")>0,\"x\",0)","v":0},null,{"$f":"IF(COUNTIF(K203:K251,\"x\")>0,\"x\",0)","v":0},null,0,null,0,null,0,null,""]
[203,"","Les nombres entiers ",1,1,1,1,null,{"$f":"IF(COUNTIF(I204:I208,\"x\")>0,\"x\",0)","v":0},null,{"$f":"IF(COUNTIF(K204:K208,\"x\")>0,\"x\",0)","v":0},null,0,null,0,null,0,null,""]
[204,".NE1"," Connaître, savoir écrire et nommer les nombres entiers (jusqu'au million CE2, jusqu’au milliard CM1 CM2).",1,1,1,1,{"$nulls":11},""]
[205,"NE2","Comparer, ranger, encadrer ces nombres.",1,1,1,1,{"$nulls":11},""]
[206,"NE3","Connaître et utiliser des expressions telles que: double, moitié ou demi, triple, quart; d’un nombre entier.",1,1,1,1,{"$nulls":11},""]
[207,"NE4","Connaître et utiliser certaines relations entre des nombres d’usage courant : entre 5, 10, 25, 50, 100, entre 15, 30 et 60.",1,1,1,1,{"$nulls":11},""]
[208,"NE5","La notion de multiple : reconnaître les multiples des nombres d’usage courant : 5, 10, 15, 20, 25, 50.",1,1,1,1,{"$nulls":11},""]
[209,"","Fractions ",1,null,1,1,null,{"$f":"IF(COUNTIF(I210:I214,\"x\")>0,\"x\",0)","v":0},null,{"$f":"IF(COUNTIF(K210:K214,\"x\")>0,\"x\",0)","v":0},null,{"$f":"IF(COUNTIF(M210:M214,\"x\")>0,\"x\",0)","v":0},null,{"$f":"IF(COUNTIF(O210:O214,\"x\")>0,\"x\",0)","v":0},null,{"$f":"IF(COUNTIF(Q210:Q214,\"x\")>0,\"x\",0)","v":0},null,""]
[210,"NF6","Nommer les fractions simples et décimales en utilisant le vocabulaire: demi, tiers, quart, dixième, centième.",1,null,1,1,{"$nulls":11},""]
[211,"NF7","Utiliser, ces fractions dans des cas simples de partage, ou de codage de mesures de grandeurs.",1,null,1,1,{"$nulls":11},""]
[212,"NF8","Encadrer une fraction simple par deux entiers consécutifs.",1,null,null,1,{"$nulls":11},""]
[213,".NF9","Écrire une fraction sous forme de somme d’un entier et d’une fraction inférieure à 1.",1,null,null,1,{"$nulls":11},"",null,1]
[214,".NF10","Ajouter 2 fractions décimales, ou deux fractions simples de même dénominateur.",1,null,null,1,{"$nulls":11},"",null,1]
[215,"","Nombres décimaux ",1,null,1,1,null,{"$f":"IF(COUNTIF(I216:I217,\"x\")>0,\"x\",0)","v":0},null,{"$f":"IF(COUNTIF(K216:K217,\"x\")>0,\"x\",0)","v":0},null,{"$f":"IF(COUNTIF(M216:M217,\"x\")>0,\"x\",0)","v":0},null,{"$f":"IF(COUNTIF(O216:O217,\"x\")>0,\"x\",0)","v":0},null,{"$f":"IF(COUNTIF(Q216:Q217,\"x\")>0,\"x\",0)","v":0},null,""]
[216,"ND11","Connaître la valeur de chacun des chiffres de la partie décimale en fonction de sa position (jusqu’au 1/10 000e)",1,null,null,1,{"$nulls":11},""]
[217,"ND12","Repérer, placer les nombres décimaux sur une droite graduée,",1,null,1,1,{"$nulls":11},""]
[218,"ND13","Comparer, ranger les nombres décimaux,",1,null,1,1,{"$nulls":11},""]
[219,"ND14","Encadrer les nombres décimaux par deux nombres entiers consécutifs,",1,null,1,1,{"$nulls":11},""]
[220,"ND15","Passer d’une écriture fractionnaire à une écriture à virgule et réciproquement.",1,null,1,1,{"$nulls":11},""]
[221,"ND16","Produire des décompositions liées à une écriture à virgule, en utilisant 10; 100; 1000... et 0,1; 0,001... ",1,null,null,1,{"$nulls":11},""]
[222,".ND17","Donner une valeur approchée à l’unité près, au dixième ou au centième près.",1,null,null,1,{"$nulls":11},"",null,1]
[223,"","Calcul ",1,1,1,1,null,{"$f":"IF(COUNTIF(I224:I247,\"x\")>0,\"x\",0)","v":0},null,{"$f":"IF(COUNTIF(K224:K247,\"x\")>0,\"x\",0)","v":0},null,{"$f":"IF(COUNTIF(M224:M247,\"x\")>0,\"x\",0)","v":0},null,{"$f":"IF(COUNTIF(O224:O247,\"x\")>0,\"x\",0)","v":0},null,{"$f":"IF(COUNTIF(Q224:Q247,\"x\")>0,\"x\",0)","v":0},null,""]
[224,"","Calculer mentalement ",1,1,1,1,null,{"$f":"IF(COUNTIF(I225:I230,\"x\")>0,\"x\",0)","v":0},null,{"$f":"IF(COUNTIF(K225:K230,\"x\")>0,\"x\",0)","v":0},null,{"$f":"IF(COUNTIF(M225:M230,\"x\")>0,\"x\",0)","v":0},null,{"$f":"IF(COUNTIF(O225:O230,\"x\")>0,\"x\",0)","v":0},null,{"$f":"IF(COUNTIF(Q225:Q230,\"x\")>0,\"x\",0)","v":0},null,""]
[225,".CAL1","Mémoriser et mobiliser les résultats des tables d’addition et de multiplication ",1,1,1,1,{"$nulls":11},"",null,1]
[226,".CAL2","Calculer mentalement des sommes, des différences, des produits. ",1,1,1,1,{"$nulls":11},"",null,1]
[227,".CAL3","Multiplier mentalement un nombre entier ou décimal par 10, 100, 1000 ;",1,null,1,1,{"$nulls":11},"",null,1]
[228,"CAL4","Estimer mentalement un ordre de grandeur du résultat.",1,null,1,1,{"$nulls":11},""]
[229,".CAL5","Consolider les connaissances et capacités en calcul mental sur les nombres entiers et décimaux;",1,null,null,1,{"$nulls":11},"",null,1]
[230,".CAL6","Diviser un nombre entier ou décimal par 10, 100, 1000. ",1,null,null,1,{"$nulls":11},"",null,1]
[231,"","Effectuer un calcul posé ",1,1,1,1,null,{"$f":"IF(COUNTIF(I232:I247,\"x\")>0,\"x\",0)","v":0},null,{"$f":"IF(COUNTIF(K232:K247,\"x\")>0,\"x\",0)","v":0},null,{"$f":"IF(COUNTIF(M232:M247,\"x\")>0,\"x\",0)","v":0},null,{"$f":"IF(COUNTIF(O232:O247,\"x\")>0,\"x\",0)","v":0},null,{"$f":"IF(COUNTIF(Q232:Q247,\"x\")>0,\"x\",0)","v":0},null,""]
[232,"CAL7","Addition des nombres entiers",1,1,1,1,{"$nulls":11},""]
[233,"CAL8","Soustraction des nombres entiers",1,1,null,1,{"$nulls":11},""]
[234,"CAL9","Multiplication des nombres entiers",1,1,1,1,{"$nulls":11},""]
[235,"CAL10","Connaître une technique opératoire de la division et la mettre en œuvre avec un diviseur à un chiffre.",1,1,1,1,{"$nulls":11},""]
[236,"CAL11","Organiser ses calculs pour trouver un résultat par calcul mental, posé, où à l’aide de la calculatrice.",1,1,1,1,{"$nulls":11},""]
[237,"CAL12","Utiliser les touches des opérations de la calculatrice.",1,1,{"$nulls":13},""]
[238,"CAL13","Addition et soustraction de deux nombres décimaux.",1,null,1,1,{"$nulls":11},""]
[239,"CAL14","Multiplication d’un nombre décimal par un nombre entier.",1,null,1,1,{"$nulls":11},""]
[240,"CAL15","Division euclidienne de deux entiers.",1,null,1,1,{"$nulls":11},""]
[241,"CAL16","Division décimale de deux entiers",1,null,1,1,{"$nulls":11},""]
[242,"CAL17","Connaître quelques fonctionnalités de la calculatrice utiles pour effectuer une suite de calculs.",1,null,1,{"$nulls":12},""]
[243,".CAL18","Addition de deux nombres décimaux",1,null,null,1,{"$nulls":11},"",null,1]
[244,".CAL19","Soustraction de deux nombres décimaux",1,null,null,1,{"$nulls":11},"",null,1]
[245,".CAL20","Multiplication de deux nombres décimaux",1,null,null,1,{"$nulls":11},"",null,1]
[246,".CAL21","Division d’un nombre décimal par un nombre entier.",1,null,null,1,{"$nulls":11},"",null,1]
[247,".CAL22","Utiliser sa calculatrice à bon escient.",1,null,null,1,{"$nulls":11},"",null,1]
[248,"","Problèmes ",1,1,1,1,null,{"$f":"IF(COUNTIF(I249:I251,\"x\")>0,\"x\",0)","v":0},null,{"$f":"IF(COUNTIF(K249:K251,\"x\")>0,\"x\",0)","v":0},null,{"$f":"IF(COUNTIF(M249:M251,\"x\")>0,\"x\",0)","v":0},null,{"$f":"IF(COUNTIF(O249:O251,\"x\")>0,\"x\",0)","v":0},null,{"$f":"IF(COUNTIF(Q249:Q251,\"x\")>0,\"x\",0)","v":0},null,""]
[249,".PB1","Résoudre des problèmes relevant des quatre opérations.",1,1,1,1,{"$nulls":11},"",null,1]
[250,".PB2","Résoudre des problèmes engageant une démarche à une ou plusieurs étapes.",1,null,1,1,{"$nulls":11},"",null,1]
[251,".PB3","Résoudre des problèmes de plus en plus complexes.",1,null,null,1,{"$nulls":11},"",null,1]
[252,null,"GEOMETRIE",1,1,1,1,null,{"$f":"IF(COUNTIF(I253:I280,\"x\")>0,\"x\",0)","v":0},null,{"$f":"IF(COUNTIF(K253:K280,\"x\")>0,\"x\",0)","v":0},null,{"$f":"IF(COUNTIF(M253:M280,\"x\")>0,\"x\",0)","v":0},null,{"$f":"IF(COUNTIF(O253:O280,\"x\")>0,\"x\",0)","v":0},null,{"$f":"IF(COUNTIF(Q253:Q280,\"x\")>0,\"x\",0)","v":0},null,""]
[253,null,"Dans le plan",1,1,1,1,null,{"$f":"IF(COUNTIF(I254:I267,\"x\")>0,\"x\",0)","v":0},null,{"$f":"IF(COUNTIF(K254:K267,\"x\")>0,\"x\",0)","v":0},null,{"$f":"IF(COUNTIF(M254:M267,\"x\")>0,\"x\",0)","v":0},null,{"$f":"IF(COUNTIF(O254:O267,\"x\")>0,\"x\",0)","v":0},null,{"$f":"IF(COUNTIF(Q254:Q267,\"x\")>0,\"x\",0)","v":0},null,""]
[254,".GE1","Reconnaître, décrire, nommer et reproduire, tracer des figures géométriques:  carré, rectangle, losange, triangle rectangle;",1,1,1,1,{"$nulls":11},"",null,1]
[255,"GE2","Vérifier la nature d’une figure plane en utilisant la règle graduée et l’équerre. ",1,1,1,1,{"$nulls":11},""]
[256,"GE3","Construire un cercle avec un compas.",1,1,1,1,{"$nulls":11},""]
[257,"GE4","Utiliser en situation le vocabulaire : côté, sommet, angle, milieu.",1,1,1,1,{"$nulls":11},""]
[258,"GE5","Reconnaître qu’une figure possède un ou plusieurs axes de symétrie, par pliage ou à l’aide du papier calque.",1,1,1,1,{"$nulls":11},{"$f":"IF(COUNTIF(I258:Q258,\"X\"),\"X\",\"\")","v":""}]
[259,"GE6","Tracer, sur papier quadrillé, la figure symétrique d’une figure donnée par rapport à une droite donnée. ",1,1,1,1,{"$nulls":11},""]
[260,"GE7","Reconnaître que des droites sont parallèles.",1,null,1,1,{"$nulls":11},""]
[261,"GE8","Utiliser en situation le vocabulaire géométrique : points alignés, droite, droites perpendiculaires, droites parallèles, segment, milieu, angle, axe de symétrie, centre d’un cercle, rayon, diamètre. ",1,null,1,1,{"$nulls":11},""]
[262,"GE9","Vérifier la nature d’une figure plane simple  en utilisant la règle graduée, l’équerre, le compas.",1,null,1,{"$nulls":12},""]
[263,".GE10","Décrire une figure en vue de l’identifier parmi d’autres figures ou de la faire reproduire. ",1,null,1,1,{"$nulls":11},"",null,1]
[264,"GE11","Utiliser les instruments pour vérifier le parallélisme de deux droites (règle et équerre) et pour tracer des droites parallèles.",1,null,null,1,{"$nulls":11},""]
[265,"GE12","Vérifier la nature d’une figure en ayant recours aux instruments.",1,null,null,1,{"$nulls":11},""]
[266,"GE13","Construire une hauteur d’un triangle.",1,{"$nulls":14},""]
[267,"GE14","Reproduire un triangle à l’aide d’instruments.",1,null,null,1,{"$nulls":11},""]
[268,"","Dans l’espace",1,1,1,1,null,{"$f":"IF(COUNTIF(I269:I274,\"x\")>0,\"x\",0)","v":0},null,{"$f":"IF(COUNTIF(K269:K274,\"x\")>0,\"x\",0)","v":0},null,{"$f":"IF(COUNTIF(M269:M274,\"x\")>0,\"x\",0)","v":0},null,{"$f":"IF(COUNTIF(O269:O274,\"x\")>0,\"x\",0)","v":0},null,{"$f":"IF(COUNTIF(Q269:Q274,\"x\")>0,\"x\",0)","v":0},null,""]
[269,"GE15","Reconnaître, décrire et nommer : un cube, un pavé droit.",1,1,{"$nulls":13},""]
[270,"GE16","Utiliser en situation le vocabulaire : face, arête, sommet.",1,1,1,1,{"$nulls":11},""]
[271,"GE17","Reconnaître, décrire et nommer les solides droits : cube, pavé,  prisme.",1,null,1,{"$nulls":12},""]
[272,"GE18","Reconnaître ou compléter un patron de cube ou de pavé.",1,null,1,{"$nulls":12},""]
[273,"GE19","Reconnaître, décrire et nommer les solides droits : cube, pavé, cylindre, prisme.",1,null,null,1,{"$nulls":11},""]
[274,"GE20","Reconnaître ou compléter un patron de solide droit.",1,null,null,1,{"$nulls":11},""]
[275,"","Problèmes de reproduction, de construction. ",1,1,1,1,null,{"$f":"IF(COUNTIF(I276:I280,\"x\")>0,\"x\",0)","v":0},null,{"$f":"IF(COUNTIF(K276:K280,\"x\")>0,\"x\",0)","v":0},null,{"$f":"IF(COUNTIF(M276:M280,\"x\")>0,\"x\",0)","v":0},null,{"$f":"IF(COUNTIF(O276:O280,\"x\")>0,\"x\",0)","v":0},null,{"$f":"IF(COUNTIF(Q276:Q280,\"x\")>0,\"x\",0)","v":0},null,""]
[276,"GE21","Reproduire des figures (sur papier uni, quadrillé ou pointé) à partir d’un modèle.",1,1,1,1,{"$nulls":11},""]
[277,"GE22","Construire un carré ou un rectangle de dimensions données.",1,1,{"$nulls":13},""]
[278,"GE23","Compléter une figure par symétrie axiale.",1,null,1,{"$nulls":12},""]
[279,"GE24","Tracer une figure simple à partir d’un programme de construction ou en suivant des consignes.",1,null,1,{"$nulls":12},""]
[280,"GE25","Tracer une figure (sur papier uni, quadrillé ou pointé), à partir, d’un programme de construction ou d’un dessin à main levée (avec des indications relatives aux propriétés et aux dimensions).",1,null,null,1,{"$nulls":11},""]
[281,""," GRANDEURS ET MESURE",1,1,1,1,null,{"$f":"IF(COUNTIF(I282:I297,\"x\")>0,\"x\",0)","v":0},null,{"$f":"IF(COUNTIF(K282:K297,\"x\")>0,\"x\",0)","v":0},null,{"$f":"IF(COUNTIF(M282:M297,\"x\")>0,\"x\",0)","v":0},null,{"$f":"IF(COUNTIF(O282:O297,\"x\")>0,\"x\",0)","v":0},null,{"$f":"IF(COUNTIF(Q282:Q297,\"x\")>0,\"x\",0)","v":0},null,""]
[282,"GM1","Connaître les unités de mesure suivantes et les relations qui les lient:",1,1,1,1,{"$nulls":11},""]
[283,"GM2","Longueur : le mètre, le km, le cm, le mm ;",1,1,1,1,{"$nulls":11},""]
[284,"GM3","Masse : le kilogramme, le gramme ;",1,1,1,1,{"$nulls":11},""]
[285,"GM4","Capacité : le litre, le centilitre ;",1,1,1,1,{"$nulls":11},""]
[286,"GM5","Monnaie : l’euro et le centime ;",1,1,1,1,{"$nulls":11},""]
[287,"GM6","Temps : l’heure, la minute, la seconde, le mois, l’année.",1,1,1,1,{"$nulls":11},""]
[288,".GM7","Utiliser des instruments pour mesurer des longueurs, des masses, des capacités, puis exprimer cette mesure par un nombre entier ou un encadrement par deux nombres entiers. ",1,1,1,1,{"$nulls":11},"",null,1]
[289,".GM8","Vérifier qu’un angle est droit en utilisant l’équerre ou un gabarit.",1,1,1,1,{"$nulls":11},"",null,1]
[290,".GM9","Calculer le périmètre d’un polygone.",1,1,1,1,{"$nulls":11},"",null,1]
[291,"GM10","Lire l’heure sur une montre à aiguilles ou une horloge.",1,1,1,1,{"$nulls":11},""]
[292,".GM11","Connaître et utiliser les unités usuelles de mesure des durées, ainsi que les unités du système métrique pour les longueurs, les masses et les contenances, et leurs relations ;",1,null,1,1,{"$nulls":11},"",null,1]
[293,".GM12","Reporter des longueurs à l’aide du compas.",1,null,1,1,{"$nulls":11},"",null,1]
[294,".GM13","Formules du périmètre du carré et du rectangle ;",1,null,1,1,{"$nulls":11},"",null,1]
[295,"GM14","Calculer une durée à partir de la donnée de l’instant initial et de l’instant final ;",1,null,null,1,{"$nulls":11},""]
[296,"GM15","Formule de la longueur d’un cercle.",1,null,null,1,{"$nulls":11},""]
[297,"GM16","Formule du volume du pavé droit (initiation à l’utilisation d’unités métriques de volume).",1,null,null,1,{"$nulls":11},""]
[298,"","Aires",1,null,1,1,null,{"$f":"IF(COUNTIF(I299:I302,\"x\")>0,\"x\",0)","v":0},null,{"$f":"IF(COUNTIF(K299:K302,\"x\")>0,\"x\",0)","v":0},null,{"$f":"IF(COUNTIF(M299:M302,\"x\")>0,\"x\",0)","v":0},null,{"$f":"IF(COUNTIF(O299:O302,\"x\")>0,\"x\",0)","v":0},null,{"$f":"IF(COUNTIF(Q299:Q302,\"x\")>0,\"x\",0)","v":0},null,""]
[299,"GM17","Mesurer ou estimer l’aire d’une surface grâce à un pavage effectif à l’aide d’une surface de référence (d’aire une unité) ou grâce à l’utilisation d’un réseau quadrillé.",1,null,1,{"$nulls":12},""]
[300,"GM18","Classer et ranger des surfaces selon leur aire.",1,null,1,{"$nulls":12},""]
[301,"GM19","Calculer l’aire d’un carré, d’un rectangle, d’un triangle en utilisant la formule appropriée.",1,null,null,1,{"$nulls":11},""]
[302,"GM20","Connaître et utiliser les unités d’aire usuelles (cm2, m2 et km2).",1,null,null,1,{"$nulls":11},""]
[303,"","Angles ",1,null,1,1,null,{"$f":"IF(COUNTIF(I304:I306,\"x\")>0,\"x\",0)","v":0},null,{"$f":"IF(COUNTIF(K304:K306,\"x\")>0,\"x\",0)","v":0},null,{"$f":"IF(COUNTIF(M304:M306,\"x\")>0,\"x\",0)","v":0},null,{"$f":"IF(COUNTIF(O304:O306,\"x\")>0,\"x\",0)","v":0},null,{"$f":"IF(COUNTIF(Q304:Q306,\"x\")>0,\"x\",0)","v":0},null,""]
[304,".GM21","Comparer les angles d’une figure en utilisant un gabarit.",1,null,1,1,{"$nulls":11},"",null,1]
[305,".GM22","Estimer, et vérifier en utilisant l’équerre, qu’un angle est droit, aigu, ou obtus.",1,null,1,1,{"$nulls":11},"",null,1]
[306,"GM23","Reproduire un angle donné en utilisant un gabarit. ",1,null,null,1,{"$nulls":11},""]
[307,"","Problèmes ",1,1,1,1,null,{"$f":"IF(COUNTIF(I308:I310,\"x\")>0,\"x\",0)","v":0},null,{"$f":"IF(COUNTIF(K308:K310,\"x\")>0,\"x\",0)","v":0},null,{"$f":"IF(COUNTIF(M308:M310,\"x\")>0,\"x\",0)","v":0},null,{"$f":"IF(COUNTIF(O308:O310,\"x\")>0,\"x\",0)","v":0},null,{"$f":"IF(COUNTIF(Q308:Q310,\"x\")>0,\"x\",0)","v":0},null,""]
[308,"GM24","Résoudre des problèmes dont la résolution implique les grandeurs ci-dessus. ",1,1,1,1,{"$nulls":11},""]
[309,".GM25","Résoudre des problèmes dont la résolution implique des conversions.",1,null,1,1,{"$nulls":11},"",null,1]
[310,"GM26","Résoudre des problèmes dont la résolution implique simultanément des unités différentes de mesure",1,null,null,1,{"$nulls":11},""]
[311,null," ORGANISATION ET GESTION DES DONNEES",1,1,1,1,null,{"$f":"IF(COUNTIF(I312:I319,\"x\")>0,\"x\",0)","v":0},null,{"$f":"IF(COUNTIF(K312:K319,\"x\")>0,\"x\",0)","v":0},null,{"$f":"IF(COUNTIF(M312:M319,\"x\")>0,\"x\",0)","v":0},null,{"$f":"IF(COUNTIF(O312:O319,\"x\")>0,\"x\",0)","v":0},null,{"$f":"IF(COUNTIF(Q312:Q319,\"x\")>0,\"x\",0)","v":0},null,""]
[312,".OG1","Savoir organiser les données d’un problème en vue de sa résolution.",1,1,1,1,{"$nulls":11},"",null,1]
[313,".OG2","Utiliser un tableau ou un graphique en vue d’un traitement des données.",1,1,1,1,{"$nulls":11},"",null,1]
[314,".OG3","Construire un tableau ou un graphique.",1,null,1,1,{"$nulls":11},"",null,1]
[315,".OG4","Interpréter un tableau ou un graphique.",1,null,1,1,{"$nulls":11},"",null,1]
[316,"OG5","Lire les coordonnées d’un point.",1,null,1,1,{"$nulls":11},""]
[317,"OG6","Placer un point dont on connaît les coordonnées.",1,null,1,1,{"$nulls":11},""]
[318,"OG7","Utiliser un tableau ou la « règle de trois » dans des situations très simples de proportionnalité.",1,null,1,1,{"$nulls":11},""]
[319,".OG8","Résoudre des problèmes relevant de la proportionnalité et notamment des problèmes relatifs aux pourcentages, aux échelles, aux vitesses moyennes ou aux conversions d’unité, en utilisant des procédures variées (dont la « règle de trois »).",1,null,null,1,{"$nulls":11},"",null,1]
[320,null,"SCIENCES EXPERIMENTALES ET TECNOLOGIE",1,1,1,1,null,{"$f":"IF(COUNTIF(I321:I358,\"x\")>0,\"x\",0)","v":0},null,{"$f":"IF(COUNTIF(K321:K358,\"x\")>0,\"x\",0)","v":0},null,{"$f":"IF(COUNTIF(M321:M358,\"x\")>0,\"x\",0)","v":0},null,{"$f":"IF(COUNTIF(O321:O358,\"x\")>0,\"x\",0)","v":0},null,{"$f":"IF(COUNTIF(Q321:Q358,\"x\")>0,\"x\",0)","v":0},null,""]
[321,".ST01","Pratiquer une démarche d'investigation : savoir observer, questionner",1,1,1,1,{"$nulls":11},"",null,1]
[322,".ST02","Manipuler et expérimenter, formuler une hypothèse et la tester, argumenter, mettre à l'essai plusieurs pistes de solutions",1,1,1,1,{"$nulls":11},{"$f":"IF(COUNTIF(I322:Q322,\"X\"),\"X\",\"\")","v":""},null,1]
[323,".ST03","Exprimer et exploiter les résultats d'une mesure et d'une recherche en utilisant un vocabulaire scientifique à l'écrit ou à l'oral",1,1,1,1,{"$nulls":11},"",null,1]
[324,null,"Le ciel et la Terre",1,1,1,1,null,{"$f":"IF(COUNTIF(I325:I328,\"x\")>0,\"x\",0)","v":0},null,{"$f":"IF(COUNTIF(K325:K328,\"x\")>0,\"x\",0)","v":0},null,{"$f":"IF(COUNTIF(M325:M328,\"x\")>0,\"x\",0)","v":0},null,{"$f":"IF(COUNTIF(O325:O328,\"x\")>0,\"x\",0)","v":0},null,{"$f":"IF(COUNTIF(Q325:Q328,\"x\")>0,\"x\",0)","v":0},null,""]
[325,".ST04","Le mouvement de la Terre (et des planètes) autour du Soleil, la rotation de la Terre sur elle-même. La durée du jour et son changement au cours des saisons.",1,1,1,1,{"$nulls":11},"",null,1]
[326,".ST05","Le mouvement de la Lune autour de la Terre.",1,1,1,1,{"$nulls":11},"",null,1]
[327,".ST06","Lumières et ombres.",1,1,1,1,{"$nulls":11},"",null,1]
[328,".ST07","Volcans et séismes, les risques pour les sociétés humaines.",1,1,1,1,{"$nulls":11},"",null,1]
[329,null,"La matière",1,1,1,1,null,{"$f":"IF(COUNTIF(I330:I333,\"x\")>0,\"x\",0)","v":0},null,{"$f":"IF(COUNTIF(K330:K333,\"x\")>0,\"x\",0)","v":0},null,{"$f":"IF(COUNTIF(M330:M333,\"x\")>0,\"x\",0)","v":0},null,{"$f":"IF(COUNTIF(O330:O333,\"x\")>0,\"x\",0)","v":0},null,{"$f":"IF(COUNTIF(Q330:Q333,\"x\")>0,\"x\",0)","v":0},null,""]
[330,".ST08","L’eau : une ressource. Les états et changements d’état. Le trajet de l’eau dans la nature. Le maintien de sa qualité pour ses utilisations.",1,1,1,1,{"$nulls":11},"",null,1]
[331,".ST09","L’air et les pollutions de l’air.",1,1,1,1,{"$nulls":11},"",null,1]
[332,".ST10","Mélanges et solutions.",1,1,1,1,{"$nulls":11},"",null,1]
[333,".ST11","Les déchets : réduire, réutiliser, recycler.",1,1,1,1,{"$nulls":11},""]
[334,null,"L’énergie",1,1,1,1,null,{"$f":"IF(COUNTIF(I335:I336,\"x\")>0,\"x\",0)","v":0},null,{"$f":"IF(COUNTIF(K335:K336,\"x\")>0,\"x\",0)","v":0},null,{"$f":"IF(COUNTIF(M335:M336,\"x\")>0,\"x\",0)","v":0},null,{"$f":"IF(COUNTIF(O335:O336,\"x\")>0,\"x\",0)","v":0},null,{"$f":"IF(COUNTIF(Q335:Q336,\"x\")>0,\"x\",0)","v":0},null,""]
[335,".ST12","Exemples simples de sources d’énergies (fossiles ou renouvelables).",1,1,1,1,{"$nulls":11},"",null,1]
[336,".ST13","Besoins en énergie, consommation et économie d’énergie.",1,1,1,1,{"$nulls":11},"",null,1]
[337,null,"L’unité et la diversité du vivant",1,1,1,1,null,{"$f":"IF(COUNTIF(I338:I340,\"x\")>0,\"x\",0)","v":0},null,{"$f":"IF(COUNTIF(K338:K340,\"x\")>0,\"x\",0)","v":0},null,{"$f":"IF(COUNTIF(M338:M340,\"x\")>0,\"x\",0)","v":0},null,{"$f":"IF(COUNTIF(O338:O340,\"x\")>0,\"x\",0)","v":0},null,{"$f":"IF(COUNTIF(Q338:Q340,\"x\")>0,\"x\",0)","v":0},null,""]
[338,".ST14","Présentation de la biodiversité : recherche de différences entre espèces vivantes.",1,1,1,1,{"$nulls":11},"",null,1]
[339,".ST15","Présentation de l’unité du vivant : recherche de points communs entre espèces vivantes.",1,1,1,1,{"$nulls":11},"",null,1]
[340,".ST16","Présentation de la classification du vivant : interprétation de ressemblances et différences en termes de parenté.",1,1,1,1,{"$nulls":11},"",null,1]
[341,null,"Le fonctionnement du vivant",1,1,1,1,null,{"$f":"IF(COUNTIF(I342:I344,\"x\")>0,\"x\",0)","v":0},null,{"$f":"IF(COUNTIF(K342:K344,\"x\")>0,\"x\",0)","v":0},null,{"$f":"IF(COUNTIF(M342:M344,\"x\")>0,\"x\",0)","v":0},null,{"$f":"IF(COUNTIF(O342:O344,\"x\")>0,\"x\",0)","v":0},null,{"$f":"IF(COUNTIF(Q342:Q344,\"x\")>0,\"x\",0)","v":0},null,""]
[342,".ST17","Les stades du développement d’un être vivant (végétal ou animal).",1,1,1,1,{"$nulls":11},"",null,1]
[343,".ST18","Les conditions de développement des végétaux et des animaux.",1,1,1,1,{"$nulls":11},""]
[344,".ST19","Les modes de reproduction des êtres vivants.",1,1,1,1,{"$nulls":11},"",null,1]
[345,null,"Le fonctionnement du corps humain et la santé",1,1,1,1,null,{"$f":"IF(COUNTIF(I346:I349,\"x\")>0,\"x\",0)","v":0},null,{"$f":"IF(COUNTIF(K346:K349,\"x\")>0,\"x\",0)","v":0},null,{"$f":"IF(COUNTIF(M346:M349,\"x\")>0,\"x\",0)","v":0},null,{"$f":"IF(COUNTIF(O346:O349,\"x\")>0,\"x\",0)","v":0},null,{"$f":"IF(COUNTIF(Q346:Q349,\"x\")>0,\"x\",0)","v":0},null,""]
[346,".ST20","Les mouvements corporels (les muscles, les os du squelette, les articulations).",1,1,1,1,{"$nulls":11},"",null,1]
[347,".ST21","Première approche des fonctions de nutrition : digestion, respiration et circulation sanguine.",1,1,1,1,{"$nulls":11},"",null,1]
[348,".ST22","Reproduction de l’Homme et éducation à la sexualité.",1,1,1,1,{"$nulls":11},"",null,1]
[349,".ST23","Hygiène et santé : actions bénéfiques ou nocives de nos comportements, notamment dans le domaine du sport, de l’alimentation, du sommeil.",1,1,1,1,{"$nulls":11},"",null,1]
[350,null,"Les êtres vivants dans leur environnement",1,1,1,1,null,{"$f":"IF(COUNTIF(I351:I353,\"x\")>0,\"x\",0)","v":0},null,{"$f":"IF(COUNTIF(K351:K353,\"x\")>0,\"x\",0)","v":0},null,{"$f":"IF(COUNTIF(M351:M353,\"x\")>0,\"x\",0)","v":0},null,{"$f":"IF(COUNTIF(O351:O353,\"x\")>0,\"x\",0)","v":0},null,{"$f":"IF(COUNTIF(Q351:Q353,\"x\")>0,\"x\",0)","v":0},null,""]
[351,".ST24","L’adaptation des êtres vivants aux conditions du milieu.",1,1,1,1,{"$nulls":11},"",null,1]
[352,".ST25","Places et rôles des êtres vivants ; notions de chaînes et de réseaux alimentaires.",1,1,1,1,{"$nulls":11},"",null,1]
[353,".ST26","L’évolution d’un environnement géré par l’Homme : la forêt ; importance de la biodiversité.",1,1,1,1,{"$nulls":11},"",null,1]
[354,null,"Les objets techniques",1,1,1,1,null,{"$f":"IF(COUNTIF(I355:I358,\"x\")>0,\"x\",0)","v":0},null,{"$f":"IF(COUNTIF(K355:K358,\"x\")>0,\"x\",0)","v":0},null,{"$f":"IF(COUNTIF(M355:M358,\"x\")>0,\"x\",0)","v":0},null,{"$f":"IF(COUNTIF(O355:O358,\"x\")>0,\"x\",0)","v":0},null,{"$f":"IF(COUNTIF(Q355:Q358,\"x\")>0,\"x\",0)","v":0},null,""]
[355,".ST27","Circuits électriques alimentés par des piles.",1,1,1,1,{"$nulls":11},"",null,1]
[356,".ST28","Règles de sécurité, dangers de l’électricité.",1,1,1,1,{"$nulls":11},"",null,1]
[357,".ST29","Leviers et balances, équilibres.",1,1,1,1,{"$nulls":11},"",null,1]
[358,".ST30","Objets mécaniques, transmission de mouvements.",1,1,1,1,{"$nulls":11},"",null,1]
[359,null,"CULTURE HUMANISTE",1,1,1,1,null,{"$f":"IF(COUNTIF(I360:I415,\"x\")>0,\"x\",0)","v":0},null,{"$f":"IF(COUNTIF(K360:K415,\"x\")>0,\"x\",0)","v":0},null,{"$f":"IF(COUNTIF(M360:M415,\"x\")>0,\"x\",0)","v":0},null,{"$f":"IF(COUNTIF(O360:O415,\"x\")>0,\"x\",0)","v":0},null,{"$f":"IF(COUNTIF(Q360:Q415,\"x\")>0,\"x\",0)","v":0},null,""]
[360,null,"HISTOIRE",1,1,{"$nulls":3},{"$f":"IF(COUNTIF(I361:I390,\"x\")>0,\"x\",0)","v":0},null,{"$f":"IF(COUNTIF(K361:K390,\"x\")>0,\"x\",0)","v":0},null,{"$f":"IF(COUNTIF(M361:M390,\"x\")>0,\"x\",0)","v":0},null,{"$f":"IF(COUNTIF(O361:O390,\"x\")>0,\"x\",0)","v":0},null,{"$f":"IF(COUNTIF(Q361:Q390,\"x\")>0,\"x\",0)","v":0},null,""]
[361,null,"La Préhistoire",1,1,{"$nulls":3},{"$f":"IF(COUNTIF(I362:I363,\"x\")>0,\"x\",0)","v":0},null,{"$f":"IF(COUNTIF(K362:K363,\"x\")>0,\"x\",0)","v":0},null,{"$f":"IF(COUNTIF(M362:M363,\"x\")>0,\"x\",0)","v":0},null,{"$f":"IF(COUNTIF(O362:O363,\"x\")>0,\"x\",0)","v":0},null,{"$f":"IF(COUNTIF(Q362:Q363,\"x\")>0,\"x\",0)","v":0},null,""]
[362,".HIS01","Les premières traces de vie humaine, la maîtrise du fer et les débuts de l’agriculture, l’apparition de l’art.",1,1,{"$nulls":13},"",null,1]
[363,".HIS02","L’homme de Tautavel il y a près de 500 000 ans ; Lascaux il y a 17 000 ans.",1,1,{"$nulls":13},"",null,1]
[364,null,"L’Antiquité",1,1,{"$nulls":3},{"$f":"IF(COUNTIF(I365:I366,\"x\")>0,\"x\",0)","v":0},null,{"$f":"IF(COUNTIF(K365:K366,\"x\")>0,\"x\",0)","v":0},null,{"$f":"IF(COUNTIF(M365:M366,\"x\")>0,\"x\",0)","v":0},null,{"$f":"IF(COUNTIF(O365:O366,\"x\")>0,\"x\",0)","v":0},null,{"$f":"IF(COUNTIF(Q365:Q366,\"x\")>0,\"x\",0)","v":0},null,""]
[365,".HIS03","Les Gaulois, la romanisation de la Gaule et la christianisation du monde gallo-romain.",1,1,{"$nulls":13},"",null,1]
[366,".HIS04","Jules César et Vercingétorix ; 52 avant notre ère : Alésia.",1,null,1,{"$nulls":12},"",null,1]
[367,null,"Le Moyen Âge",1,null,1,null,null,{"$f":"IF(COUNTIF(I368:I372,\"x\")>0,\"x\",0)","v":0},null,{"$f":"IF(COUNTIF(K368:K372,\"x\")>0,\"x\",0)","v":0},null,{"$f":"IF(COUNTIF(M368:M372,\"x\")>0,\"x\",0)","v":0},null,{"$f":"IF(COUNTIF(O368:O372,\"x\")>0,\"x\",0)","v":0},null,{"$f":"IF(COUNTIF(Q368:Q372,\"x\")>0,\"x\",0)","v":0},null,""]
[368,"HIS05","Après les invasions, la naissance et le développement du royaume de France. ",1,null,1,{"$nulls":12},""]
[369,"HIS06","Les relations entre seigneurs et paysans, le rôle de l’Église.",1,null,1,{"$nulls":12},""]
[370,"HIS07","Conflits et échanges en Méditerranée : les Croisades, la découverte d’une autre civilisation, l’Islam.",1,null,1,{"$nulls":12},""]
[371,".HIS08","La guerre de Cent Ans.",1,null,1,{"$nulls":12},"",null,1]
[372,".HIS09","Connaître des grandes dates et personnages:496 : baptême de Clovis ; 800 : couronnement de Charlemagne ; 987 : Hugues Capet, roi de France ; Saint Louis ; Jeanne d’Arc.",1,null,1,{"$nulls":12},"",null,1]
[373,null,"Les Temps modernes",1,null,1,null,null,{"$f":"IF(COUNTIF(I374:I378,\"x\")>0,\"x\",0)","v":0},null,{"$f":"IF(COUNTIF(K374:K378,\"x\")>0,\"x\",0)","v":0},null,{"$f":"IF(COUNTIF(M374:M378,\"x\")>0,\"x\",0)","v":0},null,{"$f":"IF(COUNTIF(O374:O378,\"x\")>0,\"x\",0)","v":0},null,{"$f":"IF(COUNTIF(Q374:Q378,\"x\")>0,\"x\",0)","v":0},null,""]
[374,".HIS10","Le temps des Découvertes et des premiers empires coloniaux, la traite des Noirs et l’esclavage. ",1,null,1,{"$nulls":12},"",null,1]
[375,"HIS11","La Renaissance : les arts, quelques découvertes scientifiques, catholiques et protestants.",1,null,1,{"$nulls":12},""]
[376,".HIS12","Louis XIV un monarque absolu.",1,null,1,{"$nulls":12},"",null,1]
[377,".HIS13","Les Lumières.",1,null,1,{"$nulls":12},"",null,1]
[378,".HIS14","Connaître les grandes dates  et personnage de Gutenberg; 1492 : Christophe Colomb en Amérique ; François Ier ; Copernic ; Galilée ; Henri IV et l’édit de Nantes ; Richelieu ; Louis XIV, Voltaire, Rousseau.",1,null,1,{"$nulls":12},"",null,1]
[379,null,"La Révolution française et le XIXème siècle",1,null,null,1,null,{"$f":"IF(COUNTIF(I380:I383,\"x\")>0,\"x\",0)","v":0},null,{"$f":"IF(COUNTIF(K380:K383,\"x\")>0,\"x\",0)","v":0},null,{"$f":"IF(COUNTIF(M380:M383,\"x\")>0,\"x\",0)","v":0},null,{"$f":"IF(COUNTIF(O380:O383,\"x\")>0,\"x\",0)","v":0},null,{"$f":"IF(COUNTIF(Q380:Q383,\"x\")>0,\"x\",0)","v":0},null,""]
[380,".HIS15","La Révolution française et le Premier empire : l’aspiration à la liberté et à l’égalité, la Terreur, les grandes réformes de Napoléon Bonaparte.",1,null,null,1,{"$nulls":11},"",null,1]
[381,"HIS16","La France dans une Europe en expansion industrielle et urbaine : le temps du travail en usine, des progrès techniques, des colonies et de l’émigration. ",1,null,null,1,{"$nulls":11},""]
[382,".HIS17","L’installation de la démocratie et de la République.",1,null,null,1,{"$nulls":11},"",null,1]
[383,".HIS18","Connaître les grandes dates du 14 juillet 1789 : prise de la Bastille à 1905 : loi de séparation des Églises et de l’État.",1,null,null,1,{"$nulls":11},"",null,1]
[384,null,"Le XXème siècle et notre époque",1,null,null,1,null,{"$f":"IF(COUNTIF(I385:I390,\"x\")>0,\"x\",0)","v":0},null,{"$f":"IF(COUNTIF(K385:K390,\"x\")>0,\"x\",0)","v":0},null,{"$f":"IF(COUNTIF(M385:M390,\"x\")>0,\"x\",0)","v":0},null,{"$f":"IF(COUNTIF(O385:O390,\"x\")>0,\"x\",0)","v":0},null,{"$f":"IF(COUNTIF(Q385:Q390,\"x\")>0,\"x\",0)","v":0},null,""]
[385,"HIS19","Les deux conflits mondiaux ;",1,null,null,1,{"$nulls":11},""]
[386,"HIS20","l’extermination des Juifs et des Tziganes par les nazis : un crime contre l’humanité.",1,null,null,1,{"$nulls":11},{"$f":"IF(COUNTIF(I386:Q386,\"X\"),\"X\",\"\")","v":""}]
[387,"HIS21","La révolution scientifique et technologique, la société de consommation.",1,null,null,1,{"$nulls":11},""]
[388,"HIS22","La Vème République.",1,null,null,1,{"$nulls":11},""]
[389,".HIS23","La construction européenne.",1,null,null,1,{"$nulls":11},"",null,1]
[390,".HIS24","Connaître les grandes dates du XX ème siècle, de Verdun à l'Euro ",1,null,null,1,{"$nulls":11},"",null,1]
[391,null,"GEOGRAPHIE",1,1,1,1,null,{"$f":"IF(COUNTIF(I392:I415,\"x\")>0,\"x\",0)","v":0},null,{"$f":"IF(COUNTIF(K392:K415,\"x\")>0,\"x\",0)","v":0},null,{"$f":"IF(COUNTIF(M392:M415,\"x\")>0,\"x\",0)","v":0},null,{"$f":"IF(COUNTIF(O392:O415,\"x\")>0,\"x\",0)","v":0},null,{"$f":"IF(COUNTIF(Q392:Q415,\"x\")>0,\"x\",0)","v":0},null,""]
[392,null,"Des réalités géographiques locales à la région où vivent les élèves",1,1,1,1,null,{"$f":"IF(COUNTIF(I393:I395,\"x\")>0,\"x\",0)","v":0},null,{"$f":"IF(COUNTIF(K393:K395,\"x\")>0,\"x\",0)","v":0},null,{"$f":"IF(COUNTIF(M393:M395,\"x\")>0,\"x\",0)","v":0},null,{"$f":"IF(COUNTIF(O393:O395,\"x\")>0,\"x\",0)","v":0},null,{"$f":"IF(COUNTIF(Q393:Q395,\"x\")>0,\"x\",0)","v":0},null,""]
[393,"GE01","Les paysages de village, de ville ou de quartier, la circulation des hommes et des biens, les principales activités économiques ; ",1,1,1,1,{"$nulls":11},""]
[394,".GE02","Un sujet d’étude au choix permettant une première approche du développement durable (en relation avec le programme de sciences expérimentales et de technologie) : l’eau dans la commune (besoins et traitement) ou les déchets (réduction et recyclage) ;",1,1,1,1,{"$nulls":11},"",null,1]
[395,"GE03","Le département et la région.",1,1,1,1,{"$nulls":11},""]
[396,null,"Étude de cartes.",1,1,1,1,null,{"$f":"IF(COUNTIF(I397:I400,\"x\")>0,\"x\",0)","v":0},null,{"$f":"IF(COUNTIF(K397:K400,\"x\")>0,\"x\",0)","v":0},null,{"$f":"IF(COUNTIF(M397:M400,\"x\")>0,\"x\",0)","v":0},null,{"$f":"IF(COUNTIF(O397:O400,\"x\")>0,\"x\",0)","v":0},null,{"$f":"IF(COUNTIF(Q397:Q400,\"x\")>0,\"x\",0)","v":0},null,""]
[397,null,"Le territoire français dans l’Union européenne",1,1,1,1,null,{"$f":"IF(COUNTIF(I398:I403,\"x\")>0,\"x\",0)","v":0},null,{"$f":"IF(COUNTIF(K398:K403,\"x\")>0,\"x\",0)","v":0},null,{"$f":"IF(COUNTIF(M398:M403,\"x\")>0,\"x\",0)","v":0},null,{"$f":"IF(COUNTIF(O398:O403,\"x\")>0,\"x\",0)","v":0},null,{"$f":"IF(COUNTIF(Q398:Q403,\"x\")>0,\"x\",0)","v":0},null,""]
[398,"GE04","les grands types de paysages ; ",1,{"$nulls":14},""]
[399,".GE05","La diversité des régions françaises ;",1,1,1,1,{"$nulls":11},"",null,1]
[400,".GE06","les frontières de la France et les pays de l’Union européenne.",1,1,1,1,{"$nulls":11},"",null,1]
[401,".GE07","Principaux caractères du relief, de l’hydrographie et du climat en France et en Europe : étude de cartes.",1,1,1,1,{"$nulls":11},"",null,1]
[402,".GE08","Le découpage administratif de la France (départements, régions) : étude de cartes.",1,1,1,1,{"$nulls":11},"",null,1]
[403,".GE09","Les pays de l’Union européenne : étude de cartes.",1,1,1,1,{"$nulls":11},"",null,1]
[404,null,"Les Français dans le contexte européen",1,{"$nulls":4},{"$f":"IF(COUNTIF(I405:I407,\"x\")>0,\"x\",0)","v":0},null,{"$f":"IF(COUNTIF(K405:K407,\"x\")>0,\"x\",0)","v":0},null,{"$f":"IF(COUNTIF(M405:M407,\"x\")>0,\"x\",0)","v":0},null,{"$f":"IF(COUNTIF(O405:O407,\"x\")>0,\"x\",0)","v":0},null,{"$f":"IF(COUNTIF(Q405:Q407,\"x\")>0,\"x\",0)","v":0},null,""]
[405,"GE10","La répartition de la population sur le territoire national et en Europe ;",1,1,1,1,{"$nulls":11},""]
[406,"GE11","Les principales villes en France et en Europe.",1,1,1,1,{"$nulls":11},""]
[407,".GE12","Répartition de la population et localisation des principales villes : étude de cartes.",1,1,1,1,{"$nulls":11},"",null,1]
[408,null,"Se déplacer en France et en Europe",1,1,1,1,null,{"$f":"IF(COUNTIF(I409:I412,\"x\")>0,\"x\",0)","v":0},null,{"$f":"IF(COUNTIF(K409:K412,\"x\")>0,\"x\",0)","v":0},null,{"$f":"IF(COUNTIF(M409:M412,\"x\")>0,\"x\",0)","v":0},null,{"$f":"IF(COUNTIF(O409:O412,\"x\")>0,\"x\",0)","v":0},null,{"$f":"IF(COUNTIF(Q409:Q412,\"x\")>0,\"x\",0)","v":0},null,""]
[409,"GE13","Un aéroport ;",1,{"$nulls":14},""]
[410,"GE14","Le réseau autoroutier et le réseau TGV.",1,1,1,1,{"$nulls":11},""]
[411,".GE15","Le réseau ferré à grande vitesse en Europe : étude de cartes.",1,1,1,1,{"$nulls":11},"",null,1]
[412,"GE16","Produire en France : Quatre types d’espaces d’activités : une zone industrialo-portuaire, un centre tertiaire, un espace agricole et une zone de tourisme.",1,1,1,1,{"$nulls":11},""]
[413,null,"La France dans le monde",1,{"$nulls":4},{"$f":"IF(COUNTIF(I414:I415,\"x\")>0,\"x\",0)","v":0},null,{"$f":"IF(COUNTIF(K414:K415,\"x\")>0,\"x\",0)","v":0},null,{"$f":"IF(COUNTIF(M414:M415,\"x\")>0,\"x\",0)","v":0},null,{"$f":"IF(COUNTIF(O414:O415,\"x\")>0,\"x\",0)","v":0},null,{"$f":"IF(COUNTIF(Q414:Q415,\"x\")>0,\"x\",0)","v":0},null,""]
[414,"GE17","Les territoires français dans le monde ;",1,1,1,1,{"$nulls":11},""]
[415,"GE18","La langue française dans le monde (en relation avec le programme d’instruction civique et morale).",1,1,1,1,{"$nulls":11},""]
[416,null,"PRATIQUES ARTISTIQUES ET HISTOIRE DE L'ART",1,1,1,1,null,{"$f":"IF(COUNTIF(I417:I465,\"x\")>0,\"x\",0)","v":0},null,{"$f":"IF(COUNTIF(K417:K465,\"x\")>0,\"x\",0)","v":0},null,{"$f":"IF(COUNTIF(M417:M465,\"x\")>0,\"x\",0)","v":0},null,{"$f":"IF(COUNTIF(O417:O465,\"x\")>0,\"x\",0)","v":0},null,{"$f":"IF(COUNTIF(Q417:Q465,\"x\")>0,\"x\",0)","v":0},null,""]
[417,null,"Arts visuels",1,1,1,1,null,{"$f":"IF(COUNTIF(I418:I420,\"x\")>0,\"x\",0)","v":0},null,{"$f":"IF(COUNTIF(K418:K420,\"x\")>0,\"x\",0)","v":0},null,{"$f":"IF(COUNTIF(M418:M420,\"x\")>0,\"x\",0)","v":0},null,{"$f":"IF(COUNTIF(O418:O420,\"x\")>0,\"x\",0)","v":0},null,{"$f":"IF(COUNTIF(Q418:Q420,\"x\")>0,\"x\",0)","v":0},null,""]
[418,"AV01","Acquérir des savoirs et des techniques spécifiques.",1,1,1,1,{"$nulls":11},""]
[419,".AV02","Distinguer les grandes catégories de la création artistique (littérature, musique, danse, théâtre, cinéma, dessin, peinture, sculpture, architecture)",1,1,1,1,{"$nulls":11},"",null,1]
[420,"AV03","Distinguer la valeur d’usage de la valeur esthétique des objets étudiés.",1,1,1,1,{"$nulls":11},""]
[421,".AV04","Pratiquer le dessin et diverses formes d’expressions visuelles et plastiques",1,1,1,1,{"$nulls":11},"",null,1]
[422,".AV05","Inventer et réaliser des textes, des œuvres plastiques, des chorégraphies ou des enchaînements, à visée artistique ou expressive",1,1,1,1,{"$nulls":11},"",null,1]
[423,null,"Éducation musicale",1,1,1,1,null,{"$f":"IF(COUNTIF(I424:I429,\"x\")>0,\"x\",0)","v":0},null,{"$f":"IF(COUNTIF(K424:K429,\"x\")>0,\"x\",0)","v":0},null,{"$f":"IF(COUNTIF(M424:M429,\"x\")>0,\"x\",0)","v":0},null,{"$f":"IF(COUNTIF(O424:O429,\"x\")>0,\"x\",0)","v":0},null,{"$f":"IF(COUNTIF(Q424:Q429,\"x\")>0,\"x\",0)","v":0},null,""]
[424,"EM01","S’exercer à comparer des œuvres musicales.",1,1,1,1,{"$nulls":11},""]
[425,"EM02","Découvrir la variété des genres et des styles selon les époques et les cultures.",1,1,1,1,{"$nulls":11},""]
[426,"EM03","Percevoir et identifier des éléments musicaux caractéristiques de la musique écoutée.",1,1,1,1,{"$nulls":11},""]
[427,".EM04","Interpréter de mémoire une chanson, participer à un jeu rythmique ; repérer des éléments musicaux caractéristiques, simples",1,1,1,1,{"$nulls":11},"",null,1]
[428,null,"Histoire de l'art",1,1,1,1,null,{"$f":"IF(COUNTIF(I429:I465,\"x\")>0,\"x\",0)","v":0},null,{"$f":"IF(COUNTIF(K429:K465,\"x\")>0,\"x\",0)","v":0},null,{"$f":"IF(COUNTIF(M429:M465,\"x\")>0,\"x\",0)","v":0},null,{"$f":"IF(COUNTIF(O429:O465,\"x\")>0,\"x\",0)","v":0},null,{"$f":"IF(COUNTIF(Q429:Q465,\"x\")>0,\"x\",0)","v":0},null,""]
[429,".HA01","Se situer parmi les productions artistiques de l’humanité et les différentes cultures considérées dans le temps et dans l’espace.",1,1,1,1,{"$nulls":11},"",null,1]
[430,"HA02","Découvrir les richesses, la permanence et l’universalité de la création artistique.",1,1,1,1,{"$nulls":11},""]
[431,"HA03","Éveiller sa curiosité pour les chefs-d’œuvre ou les activités artistiques de leur ville ou de leur région.",1,1,1,1,{"$nulls":11},""]
[432,null,"La Préhistoire et l’Antiquité gallo-romaine",1,1,1,1,null,{"$f":"IF(COUNTIF(I433:I435,\"x\")>0,\"x\",0)","v":0},null,{"$f":"IF(COUNTIF(K433:K435,\"x\")>0,\"x\",0)","v":0},null,{"$f":"IF(COUNTIF(M433:M435,\"x\")>0,\"x\",0)","v":0},null,{"$f":"IF(COUNTIF(O433:O435,\"x\")>0,\"x\",0)","v":0},null,{"$f":"IF(COUNTIF(Q433:Q435,\"x\")>0,\"x\",0)","v":0},null,""]
[433,"HA04","Architecture préhistorique (un ensemble mégalithique) et antique (des monuments gallo-romains).",1,1,1,1,{"$nulls":11},""]
[434,"HA05","Une mosaïque gallo-romaine.",1,1,1,1,{"$nulls":11},""]
[435,"HA06","Peintures de Lascaux ; une sculpture antique.",1,1,1,1,{"$nulls":11},""]
[436,null,"Le Moyen Âge",1,1,1,1,null,{"$f":"IF(COUNTIF(I437:I442,\"x\")>0,\"x\",0)","v":0},null,{"$f":"IF(COUNTIF(K437:K442,\"x\")>0,\"x\",0)","v":0},null,{"$f":"IF(COUNTIF(M437:M442,\"x\")>0,\"x\",0)","v":0},null,{"$f":"IF(COUNTIF(O437:O442,\"x\")>0,\"x\",0)","v":0},null,{"$f":"IF(COUNTIF(Q437:Q442,\"x\")>0,\"x\",0)","v":0},null,""]
[437,".HA07","Architecture religieuse (une église romane ; une église gothique ; une mosquée ; une abbaye) ; bâtiments et sites militaires et civils (un château fort ; une cité fortifiée ; une maison à colombage).",1,1,1,1,{"$nulls":11},"",null,1]
[438,"HA08","Un extrait d’un roman de chevalerie.",1,1,1,1,{"$nulls":11},""]
[439,"HA09","Un costume, un vitrail, une tapisserie.",1,1,1,1,{"$nulls":11},""]
[440,"HA10","Musique religieuse (un chant grégorien) et musique profane (une chanson de troubadour).",1,1,1,1,{"$nulls":11},""]
[441,"HA11","Une fête et un spectacle de la culture populaire et nobiliaire (le carnaval, le tournoi).",1,1,1,1,{"$nulls":11},""]
[442,".HA12","Une fresque ; une sculpture romane ; une sculpture gothique ; un manuscrit enluminé.",1,1,1,1,{"$nulls":11},"",null,1]
[443,null,"Les temps modernes",1,1,1,1,null,{"$f":"IF(COUNTIF(I444:I450,\"x\")>0,\"x\",0)","v":0},null,{"$f":"IF(COUNTIF(K444:K450,\"x\")>0,\"x\",0)","v":0},null,{"$f":"IF(COUNTIF(M444:M450,\"x\")>0,\"x\",0)","v":0},null,{"$f":"IF(COUNTIF(O444:O450,\"x\")>0,\"x\",0)","v":0},null,{"$f":"IF(COUNTIF(Q444:Q450,\"x\")>0,\"x\",0)","v":0},null,""]
[444,"HA13","Une architecture royale (un château de la Loire, Versailles), une architecture militaire (une fortification) ; une place urbaine ; un jardin à la française.",1,1,1,1,{"$nulls":11},""]
[445,"HA14","Des poésies de la Renaissance ; un conte ou une fable de l’époque classique.",1,1,1,1,{"$nulls":11},""]
[446,"HA15","Une pièce de mobilier et de costume ; un moyen de transport ; une tapisserie.",1,1,1,1,{"$nulls":11},""]
[447,"HA16","Musique instrumentale et vocale du répertoire baroque et classique (une symphonie ; une œuvre vocale religieuse).",1,1,1,1,{"$nulls":11},""]
[448,"HA17","Une chanson du répertoire populaire.",1,1,1,1,{"$nulls":11},""]
[449,"HA18","Un extrait de pièce de théâtre.",1,1,1,1,{"$nulls":11},""]
[450,".HA19","Des peintures et sculptures de la Renaissance, des XVIIème et XVIIIème siècles (Italie, Flandres, France).",1,1,1,1,{"$nulls":11},{"$f":"IF(COUNTIF(I450:Q450,\"X\"),\"X\",\"\")","v":""},null,1]
[451,null,"Le XIXème siècle",1,1,1,1,null,{"$f":"IF(COUNTIF(I452:I458,\"x\")>0,\"x\",0)","v":0},null,{"$f":"IF(COUNTIF(K452:K458,\"x\")>0,\"x\",0)","v":0},null,{"$f":"IF(COUNTIF(M452:M458,\"x\")>0,\"x\",0)","v":0},null,{"$f":"IF(COUNTIF(O452:O458,\"x\")>0,\"x\",0)","v":0},null,{"$f":"IF(COUNTIF(Q452:Q458,\"x\")>0,\"x\",0)","v":0},null,""]
[452,"HA20","Une architecture industrielle (une gare).",1,1,1,1,{"$nulls":11},""]
[453,"HA21","Urbanisme : un plan de ville.",1,1,1,1,{"$nulls":11},""]
[454,"HA22","Des récits, des poésies.",1,1,1,1,{"$nulls":11},""]
[455,"HA23","Des éléments de mobilier et de décoration et d’arts de la table (Sèvres, Limoges).",1,1,1,1,{"$nulls":11},""]
[456,"HA24","Extraits musicaux de l’époque romantique (symphonie, opéra).",1,1,1,1,{"$nulls":11},""]
[457,"HA25","Un extrait de pièce de théâtre, de ballet.",1,1,1,1,{"$nulls":11},""]
[458,".HA26","Quelques œuvres illustrant les principaux mouvements picturaux (romantisme, réalisme, impressionnisme) ; un maître de la sculpture ; un court-métrage des débuts du cinématographe ; des photographies d’époque.",1,1,1,1,{"$nulls":11},"",null,1]
[459,null,"Le XXème siècle et notre époque",1,1,1,1,null,{"$f":"IF(COUNTIF(I460:I465,\"x\")>0,\"x\",0)","v":0},null,{"$f":"IF(COUNTIF(K460:K465,\"x\")>0,\"x\",0)","v":0},null,{"$f":"IF(COUNTIF(M460:M465,\"x\")>0,\"x\",0)","v":0},null,{"$f":"IF(COUNTIF(O460:O465,\"x\")>0,\"x\",0)","v":0},null,{"$f":"IF(COUNTIF(Q460:Q465,\"x\")>0,\"x\",0)","v":0},null,""]
[460,"HA27","Architecture : ouvrages d’art et habitat.",1,1,1,1,{"$nulls":11},""]
[461,"HA28","Des récits, nouvelles, récits illustrés, poésies.",1,1,1,1,{"$nulls":11},""]
[462,"HA29","Design graphique (une affiche) ; design de transport (un train).",1,1,1,1,{"$nulls":11},""]
[463,"HA30","Des musiques du XXème siècle (dont jazz, musiques de films, chansons).",1,1,1,1,{"$nulls":11},""]
[464,"HA31","Spectacle de mime, de cirque, de théâtre ; un extrait d’un spectacle de danse moderne ou contemporaine.",1,1,1,1,{"$nulls":11},""]
[465,".HA32","Quelques œuvres illustrant les principaux mouvements picturaux contemporains ; une sculpture ; des œuvres cinématographiques (dont le cinéma muet) et photographiques ; des œuvres cinématographiques illustrant les différentes périodes historiques.",1,1,1,1,{"$nulls":11},"",null,1]
[466,null,"LVE",1,1,1,1,null,{"$f":"IF(COUNTIF(I467:I488,\"x\")>0,\"x\",0)","v":0},null,{"$f":"IF(COUNTIF(K467:K488,\"x\")>0,\"x\",0)","v":0},null,{"$f":"IF(COUNTIF(M467:M488,\"x\")>0,\"x\",0)","v":0},null,{"$f":"IF(COUNTIF(O467:O488,\"x\")>0,\"x\",0)","v":0},null,{"$f":"IF(COUNTIF(Q467:Q488,\"x\")>0,\"x\",0)","v":0},null,""]
[467,null,"Réagir et dialoguer",1,1,1,1,null,{"$f":"IF(COUNTIF(I468:I471,\"x\")>0,\"x\",0)","v":0},null,{"$f":"IF(COUNTIF(K468:K471,\"x\")>0,\"x\",0)","v":0},null,{"$f":"IF(COUNTIF(M468:M471,\"x\")>0,\"x\",0)","v":0},null,{"$f":"IF(COUNTIF(O468:O471,\"x\")>0,\"x\",0)","v":0},null,{"$f":"IF(COUNTIF(Q468:Q471,\"x\")>0,\"x\",0)","v":0},null,""]
[468,".LVE1","Communiquer, au besoin avec des pauses pour chercher ses mots",1,1,1,1,{"$nulls":11},"",null,1]
[469,".LVE2","Se présenter ; présenter quelqu’un ; demander à quelqu’un de ses nouvelles en utilisant les formes de politesse les plus élémentaires ; accueil et prise de congé",1,1,1,1,{"$nulls":11},"",null,1]
[470,".LVE3","Répondre à des questions et en poser (sujets familiers ou besoins immédiats)",1,1,1,1,{"$nulls":11},"",null,1]
[471,".LVE4","Épeler des mots familiers",1,1,1,1,{"$nulls":11},"",null,1]
[472,null,"Comprendre à l'oral",1,1,1,1,null,{"$f":"IF(COUNTIF(I473:I475,\"x\")>0,\"x\",0)","v":0},null,{"$f":"IF(COUNTIF(K473:K475,\"x\")>0,\"x\",0)","v":0},null,{"$f":"IF(COUNTIF(M473:M475,\"x\")>0,\"x\",0)","v":0},null,{"$f":"IF(COUNTIF(O473:O475,\"x\")>0,\"x\",0)","v":0},null,{"$f":"IF(COUNTIF(Q473:Q475,\"x\")>0,\"x\",0)","v":0},null,""]
[473,".LVE5","Comprendre les consignes de classe",1,1,1,1,{"$nulls":11},"",null,1]
[474,".LVE6","Comprendre des mots familiers et des expressions très courantes",1,1,1,1,{"$nulls":11},"",null,1]
[475,".LVE7","Suivre des instructions courtes et simples",1,1,1,1,{"$nulls":11},"",null,1]
[476,null,"Parler en continu",1,1,1,1,null,{"$f":"IF(COUNTIF(I477:I479,\"x\")>0,\"x\",0)","v":0},null,{"$f":"IF(COUNTIF(K477:K479,\"x\")>0,\"x\",0)","v":0},null,{"$f":"IF(COUNTIF(M477:M479,\"x\")>0,\"x\",0)","v":0},null,{"$f":"IF(COUNTIF(O477:O479,\"x\")>0,\"x\",0)","v":0},null,{"$f":"IF(COUNTIF(Q477:Q479,\"x\")>0,\"x\",0)","v":0},null,""]
[477,".LVE8","Reproduire un modèle oral",1,1,1,1,{"$nulls":11},"",null,1]
[478,".LVE9","Utiliser des expressions et des phrases proches des modèles rencontrés lors des apprentissages",1,1,1,1,{"$nulls":11},"",null,1]
[479,".LVE10","Lire à haute voix et de manière expressive un texte bref après répétition",1,1,1,1,{"$nulls":11},"",null,1]
[480,null,"Lire",1,1,1,1,null,{"$f":"IF(COUNTIF(I481:I482,\"x\")>0,\"x\",0)","v":0},null,{"$f":"IF(COUNTIF(K481:K482,\"x\")>0,\"x\",0)","v":0},null,{"$f":"IF(COUNTIF(M481:M482,\"x\")>0,\"x\",0)","v":0},null,{"$f":"IF(COUNTIF(O481:O482,\"x\")>0,\"x\",0)","v":0},null,{"$f":"IF(COUNTIF(Q481:Q482,\"x\")>0,\"x\",0)","v":0},null,""]
[481,".LVE11","Comprendre des textes courts et simples en s’appuyant sur des éléments connus (indications, informations)",1,1,1,1,{"$nulls":11},"",null,1]
[482,".LVE12","Se faire une idée du contenu d’un texte informatif simple, accompagné éventuellement d’un document visuel",1,1,1,1,{"$nulls":11},"",null,1]
[483,null,"Ecrire",1,1,1,1,null,{"$f":"IF(COUNTIF(I484:I488,\"x\")>0,\"x\",0)","v":0},null,{"$f":"IF(COUNTIF(K484:K488,\"x\")>0,\"x\",0)","v":0},null,{"$f":"IF(COUNTIF(M484:M488,\"x\")>0,\"x\",0)","v":0},null,{"$f":"IF(COUNTIF(O484:O488,\"x\")>0,\"x\",0)","v":0},null,{"$f":"IF(COUNTIF(Q484:Q488,\"x\")>0,\"x\",0)","v":0},null,""]
[484,".LVE13","Copier des mots isolés et des textes courts",1,1,1,1,{"$nulls":11},"",null,1]
[485,".LVE14","Écrire un message électronique simple ou une courte carte postale en référence à des modèles",1,1,1,1,{"$nulls":11},"",null,1]
[486,".LVE15","Renseigner un questionnaire",1,1,1,1,{"$nulls":11},"",null,1]
[487,".LVE16","Produire de manière autonome quelques phrases",1,1,1,1,{"$nulls":11},"",null,1]
[488,".LVE17","Écrire sous la dictée des expressions connues",1,1,1,1,{"$nulls":11},"",null,1]
[489,null,"TECHNIQUES USUELLES DE L'INFORMATION ET DE LA COMMUNICATION",1,1,1,1,null,{"$f":"IF(COUNTIF(I491:I503,\"x\")>0,\"x\",0)","v":0},null,{"$f":"IF(COUNTIF(K491:K503,\"x\")>0,\"x\",0)","v":0},null,{"$f":"IF(COUNTIF(M491:M503,\"x\")>0,\"x\",0)","v":0},null,{"$f":"IF(COUNTIF(O491:O503,\"x\")>0,\"x\",0)","v":0},null,{"$f":"IF(COUNTIF(Q491:Q503,\"x\")>0,\"x\",0)","v":0},null,""]
[490,null,"Brevet informatique et internet : niveau école",1,1,1,1,{"$nulls":11},""]
[491,null,"S\"approprier un environnement informatique",1,1,1,1,null,{"$f":"IF(COUNTIF(I492,\"x\")>0,\"x\",0)","v":0},null,{"$f":"IF(COUNTIF(K492,\"x\")>0,\"x\",0)","v":0},null,{"$f":"IF(COUNTIF(M492,\"x\")>0,\"x\",0)","v":0},null,{"$f":"IF(COUNTIF(O492,\"x\")>0,\"x\",0)","v":0},null,{"$f":"IF(COUNTIF(Q492,\"x\")>0,\"x\",0)","v":0},null,""]
[492,".B2I1","Connaitre et maîtriser les fonctions de base d’un ordinateur et de ses périphériques : fonction des différents éléments, utilisation de la souris",1,1,1,1,{"$nulls":11},"",null,1]
[493,null,"Adopter une attitude responsable",1,1,1,1,null,{"$f":"IF(COUNTIF(I494,\"x\")>0,\"x\",0)","v":0},null,{"$f":"IF(COUNTIF(K494,\"x\")>0,\"x\",0)","v":0},null,{"$f":"IF(COUNTIF(M494,\"x\")>0,\"x\",0)","v":0},null,{"$f":"IF(COUNTIF(O494,\"x\")>0,\"x\",0)","v":0},null,{"$f":"IF(COUNTIF(Q494,\"x\")>0,\"x\",0)","v":0},null,""]
[494,".B2I2","Prendre conscience des enjeux citoyens de l’usage de l’informatique et de l’internet et adopter une attitude critique face aux résultats obtenus",1,1,1,1,{"$nulls":11},"",null,1]
[495,"","Créer, produire, traiter, exploiter des données",1,1,1,1,null,{"$f":"IF(COUNTIF(I496:I497,\"x\")>0,\"x\",0)","v":0},null,{"$f":"IF(COUNTIF(K496:K497,\"x\")>0,\"x\",0)","v":0},null,{"$f":"IF(COUNTIF(M496:M497,\"x\")>0,\"x\",0)","v":0},null,{"$f":"IF(COUNTIF(O496:O497,\"x\")>0,\"x\",0)","v":0},null,{"$f":"IF(COUNTIF(Q496:Q497,\"x\")>0,\"x\",0)","v":0},null,""]
[496,".B2I3","Produire un document numérique : texte, image, son",1,1,1,1,{"$nulls":11},"",null,1]
[497,".B2I4","Utiliser l’outil informatique pour présenter un travail",1,1,1,1,{"$nulls":11},"",null,1]
[498,"","S'informer, se documenter",1,1,1,1,null,{"$f":"IF(COUNTIF(I499:I501,\"x\")>0,\"x\",0)","v":0},null,{"$f":"IF(COUNTIF(K499:K501,\"x\")>0,\"x\",0)","v":0},null,{"$f":"IF(COUNTIF(M499:M501,\"x\")>0,\"x\",0)","v":0},null,{"$f":"IF(COUNTIF(O499:O501,\"x\")>0,\"x\",0)","v":0},null,{"$f":"IF(COUNTIF(Q499:Q501,\"x\")>0,\"x\",0)","v":0},null,""]
[499,".B2I5","Lire un document numérique",1,1,1,1,{"$nulls":11},"",null,1]
[500,".B2I6","Chercher des informations par voie électronique",1,1,1,1,{"$nulls":11},"",null,1]
[501,".B2I7","Découvrir les richesses et les limites des ressources de l'internet",1,1,1,1,{"$nulls":11},"",null,1]
[502,null,"Communiquer, échanger",1,1,1,1,null,{"$f":"IF(COUNTIF(I503:I503,\"x\")>0,\"x\",0)","v":0},null,{"$f":"IF(COUNTIF(K503:K503,\"x\")>0,\"x\",0)","v":0},null,{"$f":"IF(COUNTIF(M503:M503,\"x\")>0,\"x\",0)","v":0},null,{"$f":"IF(COUNTIF(O503:O503,\"x\")>0,\"x\",0)","v":0},null,{"$f":"IF(COUNTIF(Q503:Q503,\"x\")>0,\"x\",0)","v":0},null,""]
[503,".B218","Échanger avec les technologies de l’information et de la communication",1,1,1,1,{"$nulls":11},"",null,1]
[504,null,"EDUCATION PHYSIQUE ET SPORTIVE",1,1,1,1,null,{"$f":"IF(COUNTIF(I505:I519,\"x\")>0,\"x\",0)","v":0},null,{"$f":"IF(COUNTIF(K505:K519,\"x\")>0,\"x\",0)","v":0},null,{"$f":"IF(COUNTIF(M505:M519,\"x\")>0,\"x\",0)","v":0},null,{"$f":"IF(COUNTIF(O505:O519,\"x\")>0,\"x\",0)","v":0},null,{"$f":"IF(COUNTIF(Q505:Q519,\"x\")>0,\"x\",0)","v":0},null,""]
[505,null,"Réaliser une performance mesurée (en distance, en temps)",1,1,1,1,null,{"$f":"IF(COUNTIF(I506:I507,\"x\")>0,\"x\",0)","v":0},null,{"$f":"IF(COUNTIF(K506:K507,\"x\")>0,\"x\",0)","v":0},null,{"$f":"IF(COUNTIF(M506:M507,\"x\")>0,\"x\",0)","v":0},null,{"$f":"IF(COUNTIF(O506:O507,\"x\")>0,\"x\",0)","v":0},null,{"$f":"IF(COUNTIF(Q506:Q507,\"x\")>0,\"x\",0)","v":0},null,""]
[506,".EPS1","Activités athlétiques : courir vite, courir longtemps, courir en franchissant des obstacles, courir en relais, sauter loin, sauter haut, lancer loin.",1,1,1,1,{"$nulls":11},"",null,1]
[507,".EPS2","Natation : se déplacer sur une trentaine de mètres.",1,1,1,1,{"$nulls":11},"",null,1]
[508,null,"Adapter ses déplacements à différents types d’environnement",1,1,1,1,null,{"$f":"IF(COUNTIF(I509:I512,\"x\")>0,\"x\",0)","v":0},null,{"$f":"IF(COUNTIF(K509:K512,\"x\")>0,\"x\",0)","v":0},null,{"$f":"IF(COUNTIF(M509:M512,\"x\")>0,\"x\",0)","v":0},null,{"$f":"IF(COUNTIF(O509:O512,\"x\")>0,\"x\",0)","v":0},null,{"$f":"IF(COUNTIF(Q509:Q512,\"x\")>0,\"x\",0)","v":0},null,""]
[509,".EPS3","Activités d’escalade : grimper et redescendre sur un trajet annoncé (mur équipé).",1,1,1,1,{"$nulls":11},"",null,1]
[510,".EPS4","Activités aquatiques et nautiques : plonger, s’immerger, se déplacer.",1,1,1,1,{"$nulls":11},"",null,1]
[511,".EPS5","Activités de roule et glisse : réaliser un parcours d’actions diverses en roller, en vélo, en ski.",1,1,1,1,{"$nulls":11},"",null,1]
[512,".EPS6","Activités d’orientation : retrouver plusieurs balises dans un espace semi-naturel en s’aidant d’une carte.",1,1,1,1,{"$nulls":11},"",null,1]
[513,null,"Coopérer ou s’opposer individuellement et collectivement",1,1,1,1,null,{"$f":"IF(COUNTIF(I514:I516,\"x\")>0,\"x\",0)","v":0},null,{"$f":"IF(COUNTIF(K514:K516,\"x\")>0,\"x\",0)","v":0},null,{"$f":"IF(COUNTIF(M514:M516,\"x\")>0,\"x\",0)","v":0},null,{"$f":"IF(COUNTIF(O514:O516,\"x\")>0,\"x\",0)","v":0},null,{"$f":"IF(COUNTIF(Q514:Q516,\"x\")>0,\"x\",0)","v":0},null,""]
[514,"EPS7","Jeux de lutte : amener son adversaire au sol pour l’immobiliser.",1,1,1,1,{"$nulls":11},{"$f":"IF(COUNTIF(I514:Q514,\"X\"),\"X\",\"\")","v":""}]
[515,"EPS8","Jeux de raquettes : marquer des points dans un match à deux.",1,1,1,1,{"$nulls":11},""]
[516,".EPS9","Jeux sportifs collectifs (type handball, basket-ball, football, rugby, volley-ball...) : coopérer avec ses partenaires pour affronter collectivement des adversaires, en respectant des règles, en assurant des rôles différents (attaquant, défenseur, arbitre).",1,1,1,1,{"$nulls":11},"",null,1]
[517,null,"Concevoir et réaliser des actions à visées expressive, artistique, esthétique",1,1,1,1,null,{"$f":"IF(COUNTIF(I518:I519,\"x\")>0,\"x\",0)","v":0},null,{"$f":"IF(COUNTIF(K518:K519,\"x\")>0,\"x\",0)","v":0},null,{"$f":"IF(COUNTIF(M518:M519,\"x\")>0,\"x\",0)","v":0},null,{"$f":"IF(COUNTIF(O518:O519,\"x\")>0,\"x\",0)","v":0},null,{"$f":"IF(COUNTIF(Q518:Q519,\"x\")>0,\"x\",0)","v":0},null,""]
[518,"EPS10","Danse : construire à plusieurs une phrase dansée (chorégraphie de 5 éléments au moins) pour exprimer corporellement des personnages, des images, des sentiments et pour communiquer des émotions, sur des supports sonores divers.",1,1,1,1,{"$nulls":11},""]
[519,"EPS11","Activités gymniques : construire et réaliser un enchaînement de 4 ou 5 éléments “acrobatiques” sur divers engins (barres, moutons, poutres, tapis).",1,1,1,1,{"$nulls":11},""]
[520,null,"LES COMPETENCES SOCIALES ET CIVIQUES",1,1,1,1,null,{"$f":"IF(COUNTIF(I521:I527,\"x\")>0,\"x\",0)","v":0},null,{"$f":"IF(COUNTIF(K521:K527,\"x\")>0,\"x\",0)","v":0},null,{"$f":"IF(COUNTIF(M521:M527,\"x\")>0,\"x\",0)","v":0},null,{"$f":"IF(COUNTIF(O521:O527,\"x\")>0,\"x\",0)","v":0},null,{"$f":"IF(COUNTIF(Q521:Q527,\"x\")>0,\"x\",0)","v":0},null,""]
[521,null,"Connaître les principes et fondements de la vie civique et sociale",1,1,1,1,null,{"$f":"IF(COUNTIF(I522:I524,\"x\")>0,\"x\",0)","v":0},null,{"$f":"IF(COUNTIF(K522:K524,\"x\")>0,\"x\",0)","v":0},null,{"$f":"IF(COUNTIF(M522:M524,\"x\")>0,\"x\",0)","v":0},null,{"$f":"IF(COUNTIF(O522:O524,\"x\")>0,\"x\",0)","v":0},null,{"$f":"IF(COUNTIF(Q522:Q524,\"x\")>0,\"x\",0)","v":0},null,""]
[522,".SC1","Reconnaître les symboles de la république et de l’Union européenne",1,1,1,1,{"$nulls":11},"",null,1]
[523,".SC2","Comprendre les notions de droits et de devoirs, les accepter et les mettre en application",1,1,1,1,{"$nulls":11},"",null,1]
[524,".SC3","Avoir conscience de la dignité de la personne humaine et en tirer les conséquences au quotidien",1,1,1,1,{"$nulls":11},"",null,1]
[525,null,"Avoir un comportement responsable",1,1,1,1,null,{"$f":"IF(COUNTIF(I526:I527,\"x\")>0,\"x\",0)","v":0},null,{"$f":"IF(COUNTIF(K526:K527,\"x\")>0,\"x\",0)","v":0},null,{"$f":"IF(COUNTIF(M526:M527,\"x\")>0,\"x\",0)","v":0},null,{"$f":"IF(COUNTIF(O526:O527,\"x\")>0,\"x\",0)","v":0},null,{"$f":"IF(COUNTIF(Q526:Q527,\"x\")>0,\"x\",0)","v":0},null,""]
[526,".SC4","Respecter les règles de la vie collective, notamment dans les pratiques sportives",1,1,1,1,{"$nulls":11},"",null,1]
[527,".SC5","Respecter tous les autres, et notamment appliquer les principes de l’égalité des filles et des garçons",1,1,1,1,{"$nulls":11},"",null,1]
[528,null,"L'AUTONOMIE ET L'INITIATIVE",1,1,1,1,null,{"$f":"IF(COUNTIF(I529:I535,\"x\")>0,\"x\",0)","v":0},null,{"$f":"IF(COUNTIF(K529:K535,\"x\")>0,\"x\",0)","v":0},null,{"$f":"IF(COUNTIF(M529:M535,\"x\")>0,\"x\",0)","v":0},null,{"$f":"IF(COUNTIF(O529:O535,\"x\")>0,\"x\",0)","v":0},null,{"$f":"IF(COUNTIF(Q529:Q535,\"x\")>0,\"x\",0)","v":0},null,""]
[529,null,"S'appuyer sur des méthodes de travail pour être autonome",1,1,1,1,null,{"$f":"IF(COUNTIF(I530:I533,\"x\")>0,\"x\",0)","v":0},null,{"$f":"IF(COUNTIF(K530:K533,\"x\")>0,\"x\",0)","v":0},null,{"$f":"IF(COUNTIF(M530:M533,\"x\")>0,\"x\",0)","v":0},null,{"$f":"IF(COUNTIF(O530:O533,\"x\")>0,\"x\",0)","v":0},null,{"$f":"IF(COUNTIF(Q530:Q533,\"x\")>0,\"x\",0)","v":0},null,""]
[530,".AI1","Respecter des consignes simples, en autonomie",1,1,1,1,{"$nulls":11},"",null,1]
[531,".AI2","Etre persévérant dans toutes les activités",1,1,1,1,{"$nulls":11},"",null,1]
[532,".AI3","Commencer à savoir s’auto-évaluer dans des situations simples",1,1,1,1,{"$nulls":11},"",null,1]
[533,".AI4","Soutenir une écoute prolongée (lecture, musique, spectacle, etc.)",1,1,1,1,{"$nulls":11},"",null,1]
[534,null,"Faire preuve d'initiative",1,1,1,1,null,{"$f":"IF(COUNTIF(I535,\"x\")>0,\"x\",0)","v":0},null,{"$f":"IF(COUNTIF(K535,\"x\")>0,\"x\",0)","v":0},null,{"$f":"IF(COUNTIF(M535,\"x\")>0,\"x\",0)","v":0},null,{"$f":"IF(COUNTIF(O535,\"x\")>0,\"x\",0)","v":0},null,{"$f":"IF(COUNTIF(Q535,\"x\")>0,\"x\",0)","v":0},null,""]
[535,".AI7","S’impliquer dans un projet individuel ou collectif",1,1,1,1,{"$nulls":11},"",null,1]

{"sheet":"Période","index":4,"n_rows":535,"n_cols":48,"rows_kept":535,"hidden":true}
[{"$nulls":3},1,2,3,4,5,6,7,8,9,10,11,12,13,14,15,16,17,18,19,20,21,22,23,24,25,26,27,28,29,30,31,32,33,{"$nulls":10},"A",{"$f":"Renseignements!C49","v":5}]
[{"$nulls":46},"B"]
[{"$nulls":3},{"$f":"IF(ISBLANK(INDEX(nom,noligne,1)),\"\",(INDEX(prenom,noligne,1))&\" \" &(INDEX(nom,noligne,1)))","v":"Marc Aurèle"},"Jérôme Lenoir","Fabien Léglise","Aicha Samarahoui","Karim Maha","","","","","","","","","","","","","","","","","","","","","","","","","","","","",{"$nulls":10},"C"]
[null,{"$f":"Programmation!D5","v":535},{"$nulls":44},"D"]
[null,null,"LANGAGE ORAL",{"$f":"D6+D9+D15","v":0},0,0,0,0,0,0,0,0,0,0,0,0,0,0,0,0,0,0,0,0,0,0,0,0,0,0,0,0,0,0,0,0,{"$nulls":3},{"$f":"AU1","v":"A"},{"$f":"AU2","v":"B"},{"$f":"AU3","v":"C"},{"$f":"AU4","v":"D"},"NE","Total"]
[null,null,"Raconter, décrire, exposer",{"$f":"COUNTA(D7:D8)*10","v":0},0,0,0,0,0,0,0,0,0,0,0,0,0,0,0,0,0,0,0,0,0,0,0,0,0,0,0,0,0,0,0,0,{"$nulls":3},{"$f":"COUNTIF($B6:$AJ6,$AU$1)/$AV$1","v":{"v":0,"d":"0%"}},{"$f":"COUNTIF($B6:$AJ6,$AU$2)/$AV$1","v":{"v":0,"d":"0%"}},{"$f":"COUNTIF($B6:$AJ6,$AU$3)/$AV$1","v":{"v":0,"d":"0%"}},{"$f":"COUNTIF($B6:$AJ6,$AU$4)/$AV$1","v":{"v":0,"d":"0%"}},{"$f":"COUNTIF(D6:$AJ6,\"NE\")/$AV$1","v":{"v":0,"d":"0%"}},{"$f":"AN6+(AO6*0.66)+(AP6*0.33)/$AV$1","v":{"v":0,"d":"0%"}}]
[null,"LO1","Faire un récit structuré et compréhensible pour un tiers ignorant des faits rapportés ou de l’histoire racontée, inventer et modifier des histoires, décrire une image, exprimer des senti­ments, en s’exprimant en phrases correctes et dans un vocabulaire approprié.",{"$nulls":36},{"$f":"COUNTIF($D7:$AL7,$AU$1)/$AV$1","v":{"v":0,"d":"0%"}},{"$f":"COUNTIF($D7:$AL7,$AU$2)/$AV$1","v":{"v":0,"d":"0%"}},{"$f":"COUNTIF($D7:$AL7,$AU$3)/$AV$1","v":{"v":0,"d":"0%"}},{"$f":"COUNTIF($D7:$AL7,$AU$4)/$AV$1","v":{"v":0,"d":"0%"}},{"$f":"COUNTIF(D7:$AL7,\"NE\")/$AV$1","v":{"v":0,"d":"0%"}},{"$f":"AN7+(AO7*0.66)+(AP7*0.33)","v":{"v":0,"d":"0%"}}]
[null,".LO2","Décrire un objet, présenter un travail à la classe en s’exprimant en phrases correctes et dans un vocabulaire approprié.",{"$nulls":36},{"v":0,"d":"0%"},{"v":0,"d":"0%"},{"v":0,"d":"0%"},{"v":0,"d":"0%"},{"$f":"COUNTIF(D8:$AL8,\"NE\")/$AV$1","v":{"v":0,"d":"0%"}},{"$f":"AN8+(AO8*0.66)+(AP8*0.33)","v":{"v":0,"d":"0%"}}]
[null,null,"Echanger, débattre",{"$f":"COUNTA(D10:D14)*10","v":0},0,0,0,0,0,0,0,0,0,0,0,0,0,0,0,0,0,0,0,0,0,0,0,0,0,0,0,0,0,0,0,0,{"$nulls":3},{"v":0,"d":"0%"},{"v":0,"d":"0%"},{"v":0,"d":"0%"},{"v":0,"d":"0%"},{"$f":"COUNTIF(D9:$AL9,\"NE\")/$AV$1","v":{"v":0,"d":"0%"}},{"v":0,"d":"0%"}]
[null,"LO6","Demander et prendre la parole à bon escient.",{"$nulls":36},{"v":0,"d":"0%"},{"v":0,"d":"0%"},{"v":0,"d":"0%"},{"v":0,"d":"0%"},{"$f":"COUNTIF(D10:$AL10,\"NE\")/$AV$1","v":{"v":0,"d":"0%"}},{"v":0,"d":"0%"}]
[null,".LO7","Réagir à l’exposé d’un autre élève en apportant un point de vue motivé.",{"$nulls":36},{"v":0,"d":"0%"},{"v":0,"d":"0%"},{"v":0,"d":"0%"},{"v":0,"d":"0%"},{"$f":"COUNTIF(D11:$AL11,\"NE\")/$AV$1","v":{"v":0,"d":"0%"}},{"v":0,"d":"0%"}]
[null,".LO8","Participer à un débat en respectant les tours de parole et les règles de la politesse.",{"$nulls":36},{"v":0,"d":"0%"},{"v":0,"d":"0%"},{"v":0,"d":"0%"},{"v":0,"d":"0%"},{"$f":"COUNTIF(D12:$AL12,\"NE\")/$AV$1","v":{"v":0,"d":"0%"}},{"v":0,"d":"0%"}]
[null,".LO9","Présenter à la classe un travail collectif.",{"$nulls":36},{"v":0,"d":"0%"},{"v":0,"d":"0%"},{"v":0,"d":"0%"},{"v":0,"d":"0%"},{"$f":"COUNTIF(D13:$AL13,\"NE\")/$AV$1","v":{"v":0,"d":"0%"}},{"v":0,"d":"0%"}]
[null,".LO10","Participer aux échanges de manière constructive : rester dans le sujet, situer son propos par rapport aux autres, apporter des arguments, mobiliser des connaissances, respecter les règles habituelles de la communication.",{"$nulls":36},{"v":0,"d":"0%"},{"v":0,"d":"0%"},{"v":0,"d":"0%"},{"v":0,"d":"0%"},{"$f":"COUNTIF(D14:$AL14,\"NE\")/$AV$1","v":{"v":0,"d":"0%"}},{"v":0,"d":"0%"}]
[null,null,"Réciter",{"$f":"COUNTA(D16:D16)*10","v":0},0,0,0,0,0,0,0,0,0,0,0,0,0,0,0,0,0,0,0,0,0,0,0,0,0,0,0,0,0,0,0,0,{"$nulls":3},{"v":0,"d":"0%"},{"v":0,"d":"0%"},{"v":0,"d":"0%"},{"v":0,"d":"0%"},{"$f":"COUNTIF(D15:$AL15,\"NE\")/$AV$1","v":{"v":0,"d":"0%"}},{"v":0,"d":"0%"}]
[null,".LO11","Dire sans erreur et de manière expressive des textes en prose ou des poèmes (une dizaine).",{"$nulls":36},{"v":0,"d":"0%"},{"v":0,"d":"0%"},{"v":0,"d":"0%"},{"v":0,"d":"0%"},{"$f":"COUNTIF(D16:$AL16,\"NE\")/$AV$1","v":{"v":0,"d":"0%"}},{"v":0,"d":"0%"}]
[null,"","LECTURE",{"$f":"COUNTA(D18:D22)*10+D23","v":0},0,0,0,0,0,0,0,0,0,0,0,0,0,0,0,0,0,0,0,0,0,0,0,0,0,0,0,0,0,0,0,0,{"$nulls":3},{"v":0,"d":"0%"},{"v":0,"d":"0%"},{"v":0,"d":"0%"},{"v":0,"d":"0%"},{"$f":"COUNTIF(D17:$AL17,\"NE\")/$AV$1","v":{"v":0,"d":"0%"}},{"v":0,"d":"0%"}]
[null,"LE1","Lire les consignes de travail, les énoncés de problèmes dont le vocabulaire difficile ou nouveau a été élucidé par le maître.",{"$nulls":36},{"v":0,"d":"0%"},{"v":0,"d":"0%"},{"v":0,"d":"0%"},{"v":0,"d":"0%"},{"$f":"COUNTIF(D18:$AL18,\"NE\")/$AV$1","v":{"v":0,"d":"0%"}},{"v":0,"d":"0%"}]
[null,"LE2","Lire à haute voix avec fluidité et de manière expressive un extrait de texte, après préparation.",{"$nulls":36},{"v":0,"d":"0%"},{"v":0,"d":"0%"},{"v":0,"d":"0%"},{"v":0,"d":"0%"},{"$f":"COUNTIF(D19:$AL19,\"NE\")/$AV$1","v":{"v":0,"d":"0%"}},{"v":0,"d":"0%"}]
[null,"LE3","Lire silencieusement un texte littéraire ou documentaire et le comprendre (reformuler, répondre à des questions sur ce texte).",{"$nulls":36},{"v":0,"d":"0%"},{"v":0,"d":"0%"},{"v":0,"d":"0%"},{"v":0,"d":"0%"},{"$f":"COUNTIF(D20:$AL20,\"NE\")/$AV$1","v":{"v":0,"d":"0%"}},{"v":0,"d":"0%"}]
[null,"LE4","Repérer dans un texte des informations explicites en s’appuyant en particulier sur le titre, l’organisation (phrases, paragraphes), le vocabulaire. ",{"$nulls":36},{"v":0,"d":"0%"},{"v":0,"d":"0%"},{"v":0,"d":"0%"},{"v":0,"d":"0%"},{"$f":"COUNTIF(D21:$AL21,\"NE\")/$AV$1","v":{"v":0,"d":"0%"}},{"v":0,"d":"0%"}]
[null,"LE5","Reconnaître les marques de ponctuation. ",{"$nulls":36},{"v":0,"d":"0%"},{"v":0,"d":"0%"},{"v":0,"d":"0%"},{"v":0,"d":"0%"},{"$f":"COUNTIF(D22:$AL22,\"NE\")/$AV$1","v":{"v":0,"d":"0%"}},{"v":0,"d":"0%"}]
[null,null,"Dans un récit",{"$f":"COUNTA(D24:D46)*10","v":0},{"$f":"COUNTA(E24:E46)*10","v":0},0,0,0,0,0,0,0,0,0,0,0,0,0,0,0,0,0,0,0,0,0,0,0,0,0,0,0,0,0,0,0,{"$nulls":3},{"v":0,"d":"0%"},{"v":0,"d":"0%"},{"v":0,"d":"0%"},{"v":0,"d":"0%"},{"$f":"COUNTIF(D23:$AL23,\"NE\")/$AV$1","v":{"v":0,"d":"0%"}},{"v":0,"d":"0%"}]
[null,"LE6","Dans un récit d'appuyer sur le repérage des différents termes désignant un personnage,",{"$nulls":36},{"v":0,"d":"0%"},{"v":0,"d":"0%"},{"v":0,"d":"0%"},{"v":0,"d":"0%"},{"$f":"COUNTIF(D24:$AL24,\"NE\")/$AV$1","v":{"v":0,"d":"0%"}},{"v":0,"d":"0%"}]
[null,"LE7","Dans un récit s'appuyer sur les temps des verbes et sur les mots de liaison exprimant les relations temporelles pour comprendre avec précision la chronologie des événements,",{"$nulls":36},{"v":0,"d":"0%"},{"v":0,"d":"0%"},{"v":0,"d":"0%"},{"v":0,"d":"0%"},{"$f":"COUNTIF(D25:$AL25,\"NE\")/$AV$1","v":{"v":0,"d":"0%"}},{"v":0,"d":"0%"}]
[null,"LE8","Dans un récit s'appuyer sur les deux-points et guillemets pour repérer les paroles des personnages.",{"$nulls":36},{"v":0,"d":"0%"},{"v":0,"d":"0%"},{"v":0,"d":"0%"},{"v":0,"d":"0%"},{"$f":"COUNTIF(D26:$AL26,\"NE\")/$AV$1","v":{"v":0,"d":"0%"}},{"v":0,"d":"0%"}]
[null,"LE9","Lire un texte documentaire, descriptif ou narratif, et restituer à l’oral ou par écrit l’essentiel du texte (sujet du texte, objet de la description, trame de l’histoire, relations entre les personnages…).",{"$nulls":36},{"v":0,"d":"0%"},{"v":0,"d":"0%"},{"v":0,"d":"0%"},{"v":0,"d":"0%"},{"$f":"COUNTIF(D27:$AL27,\"NE\")/$AV$1","v":{"v":0,"d":"0%"}},{"v":0,"d":"0%"}]
[null,"LE10","Adopter une stratégie pour parvenir à comprendre : repérer des mots inconnus et incompris, relire, questionner, recourir au dictionnaire, etc.",{"$nulls":36},{"v":0,"d":"0%"},{"v":0,"d":"0%"},{"v":0,"d":"0%"},{"v":0,"d":"0%"},{"$f":"COUNTIF(D28:$AL28,\"NE\")/$AV$1","v":{"v":0,"d":"0%"}},{"v":0,"d":"0%"}]
[null,"LE11","Se repérer dans une bibliothèque habituellement fréquentée pour choisir et emprunter un livre.",{"$nulls":36},{"v":0,"d":"0%"},{"v":0,"d":"0%"},{"v":0,"d":"0%"},{"v":0,"d":"0%"},{"$f":"COUNTIF(D29:$AL29,\"NE\")/$AV$1","v":{"v":0,"d":"0%"}},{"v":0,"d":"0%"}]
[null,".LE12","Lire sans aide les consignes du travail scolaire, les énoncés de problèmes.",{"$nulls":36},{"v":0,"d":"0%"},{"v":0,"d":"0%"},{"v":0,"d":"0%"},{"v":0,"d":"0%"},{"$f":"COUNTIF(D30:$AL30,\"NE\")/$AV$1","v":{"v":0,"d":"0%"}},{"v":0,"d":"0%"}]
[null,"LE13","Lire à haute voix avec fluidité et de manière expressive un texte d’une dizaine de lignes, après préparation.",{"$nulls":36},{"v":0,"d":"0%"},{"v":0,"d":"0%"},{"v":0,"d":"0%"},{"v":0,"d":"0%"},{"$f":"COUNTIF(D31:$AL31,\"NE\")/$AV$1","v":{"v":0,"d":"0%"}},{"v":0,"d":"0%"}]
[null,"LE14","Lire silencieusement un texte littéraire ou documentaire et le comprendre (reformuler, résumer, répondre à des questions sur ce texte).",{"$nulls":36},{"v":0,"d":"0%"},{"v":0,"d":"0%"},{"v":0,"d":"0%"},{"v":0,"d":"0%"},{"$f":"COUNTIF(D32:$AL32,\"NE\")/$AV$1","v":{"v":0,"d":"0%"}},{"v":0,"d":"0%"}]
[null,".LE15","Repérer dans un texte des informations explicites et en inférer des informations nouvelles (implicites). ",{"$nulls":36},{"v":0,"d":"0%"},{"v":0,"d":"0%"},{"v":0,"d":"0%"},{"v":0,"d":"0%"},{"$f":"COUNTIF(D33:$AL33,\"NE\")/$AV$1","v":{"v":0,"d":"0%"}},{"v":0,"d":"0%"}]
[null,"LE16","Dans un récit ou une description, s’appuyer sur les mots de liaison qui marquent les relations spatiales et sur les compléments de lieu pour comprendre avec précision la confi­guration du lieu de l’action ou du lieu décrit.",{"$nulls":36},{"v":0,"d":"0%"},{"v":0,"d":"0%"},{"v":0,"d":"0%"},{"v":0,"d":"0%"},{"$f":"COUNTIF(D34:$AL34,\"NE\")/$AV$1","v":{"v":0,"d":"0%"}},{"v":0,"d":"0%"}]
[null,"LE17","Comprendre l’usage de l’imparfait et du passé simple dans un récit, du présent dans un texte scientifique ou documentaire.",{"$nulls":36},{"v":0,"d":"0%"},{"v":0,"d":"0%"},{"v":0,"d":"0%"},{"v":0,"d":"0%"},{"$f":"COUNTIF(D35:$AL35,\"NE\")/$AV$1","v":{"v":0,"d":"0%"}},{"v":0,"d":"0%"}]
[null,"LE18","Saisir l’atmosphère ou le ton d’un texte descriptif,narratif ou poétique, en s’appuyant en particulier sur son vocabulaire.",{"$nulls":36},{"v":0,"d":"0%"},{"v":0,"d":"0%"},{"v":0,"d":"0%"},{"v":0,"d":"0%"},{"$f":"COUNTIF(D36:$AL36,\"NE\")/$AV$1","v":{"v":0,"d":"0%"}},{"v":0,"d":"0%"}]
[null,"LE19","Participer à un débat sur un texte en confrontant son interprétation à d’autres de manière argumentée.",{"$nulls":36},{"v":0,"d":"0%"},{"v":0,"d":"0%"},{"v":0,"d":"0%"},{"v":0,"d":"0%"},{"$f":"COUNTIF(D37:$AL37,\"NE\")/$AV$1","v":{"v":0,"d":"0%"}},{"v":0,"d":"0%"}]
[null,"LE20","Utiliser les outils usuels de la classe (manuels, affichages, etc.) pour rechercher une information, surmonter une difficulté.",{"$nulls":36},{"v":0,"d":"0%"},{"v":0,"d":"0%"},{"v":0,"d":"0%"},{"v":0,"d":"0%"},{"$f":"COUNTIF(D38:$AL38,\"NE\")/$AV$1","v":{"v":0,"d":"0%"}},{"v":0,"d":"0%"}]
[null,"LE21","Effectuer des recherches, avec l’aide de l’adulte, dans des ouvrages documentaires (livres ou produits multimédia).",{"$nulls":36},{"v":0,"d":"0%"},{"v":0,"d":"0%"},{"v":0,"d":"0%"},{"v":0,"d":"0%"},{"$f":"COUNTIF(D39:$AL39,\"NE\")/$AV$1","v":{"v":0,"d":"0%"}},{"v":0,"d":"0%"}]
[null,"LE22","Lire sans aide une leçon dans un manuel après un travail en classe sur le sujet.",{"$nulls":36},{"v":0,"d":"0%"},{"v":0,"d":"0%"},{"v":0,"d":"0%"},{"v":0,"d":"0%"},{"$f":"COUNTIF(D40:$AL40,\"NE\")/$AV$1","v":{"v":0,"d":"0%"}},{"v":0,"d":"0%"}]
[null,"LE23","Lire à haute voix avec fluidité et de manière expressive un texte de plus de dix lignes, après préparation.",{"$nulls":36},{"v":0,"d":"0%"},{"v":0,"d":"0%"},{"v":0,"d":"0%"},{"v":0,"d":"0%"},{"$f":"COUNTIF(D41:$AL41,\"NE\")/$AV$1","v":{"v":0,"d":"0%"}},{"v":0,"d":"0%"}]
[null,".LE24","S’appuyer sur les mots de liaisons et les expressions qui marquent les relations logiques pour comprendre avec précision l’enchaînement d’une action ou d’un raisonnement.",{"$nulls":36},{"v":0,"d":"0%"},{"v":0,"d":"0%"},{"v":0,"d":"0%"},{"v":0,"d":"0%"},{"$f":"COUNTIF(D42:$AL42,\"NE\")/$AV$1","v":{"v":0,"d":"0%"}},{"v":0,"d":"0%"}]
[null,".LE25","Repérer les effets de choix formels (emplois de certains mots, utilisation d’un niveau de langue bien caractérisé, etc.).",{"$nulls":36},{"v":0,"d":"0%"},{"v":0,"d":"0%"},{"v":0,"d":"0%"},{"v":0,"d":"0%"},{"$f":"COUNTIF(D43:$AL43,\"NE\")/$AV$1","v":{"v":0,"d":"0%"}},{"v":0,"d":"0%"}]
[null,".LE26","Effectuer, seul, des recherches dans des ouvrages documentaires (livres, produits multimédia).",{"$nulls":36},{"v":0,"d":"0%"},{"v":0,"d":"0%"},{"v":0,"d":"0%"},{"v":0,"d":"0%"},{"$f":"COUNTIF(D44:$AL44,\"NE\")/$AV$1","v":{"v":0,"d":"0%"}},{"v":0,"d":"0%"}]
[null,".LE27","Se repérer dans une bibliothèque, une médiathèque.",{"$nulls":36},{"v":0,"d":"0%"},{"v":0,"d":"0%"},{"v":0,"d":"0%"},{"v":0,"d":"0%"},{"$f":"COUNTIF(D45:$AL45,\"NE\")/$AV$1","v":{"v":0,"d":"0%"}},{"v":0,"d":"0%"}]
[null,"LE28","Utiliser ses connaissances pour réfléchir sur un texte, mieux le comprendre",{"$nulls":36},{"v":0,"d":"0%"},{"v":0,"d":"0%"},{"v":0,"d":"0%"},{"v":0,"d":"0%"},{"$f":"COUNTIF(D46:$AL46,\"NE\")/$AV$1","v":{"v":0,"d":"0%"}},{"v":0,"d":"0%"}]
[null,""," ECRIRE",{"$f":"COUNTA(D48:D50)*10","v":0},{"$f":"COUNTA(E48:E50)*10","v":0},0,0,0,0,0,0,0,0,0,0,0,0,0,0,0,0,0,0,0,0,0,0,0,0,0,0,0,0,0,0,0,{"$nulls":3},{"v":0,"d":"0%"},{"v":0,"d":"0%"},{"v":0,"d":"0%"},{"v":0,"d":"0%"},{"$f":"COUNTIF(D47:$AL47,\"NE\")/$AV$1","v":{"v":0,"d":"0%"}},{"v":0,"d":"0%"}]
[null,".EC1","Copier sans erreur un texte en lui donnant une présentation adaptée. (au moins 5 lignes CE2; 10 C61lignes CM1 15 lignes CM2",{"$nulls":36},{"v":0,"d":"0%"},{"v":0,"d":"0%"},{"v":0,"d":"0%"},{"v":0,"d":"0%"},{"$f":"COUNTIF(D48:$AL48,\"NE\")/$AV$1","v":{"v":0,"d":"0%"}},{"v":0,"d":"0%"}]
[null,".EC2","Copier avec soin, en respectant la mise en page, un texte en prose ou poème appris en récitation. ",{"$nulls":36},{"v":0,"d":"0%"},{"v":0,"d":"0%"},{"v":0,"d":"0%"},{"v":0,"d":"0%"},{"$f":"COUNTIF(D49:$AL49,\"NE\")/$AV$1","v":{"v":0,"d":"0%"}},{"v":0,"d":"0%"}]
[null,"EC3","Répondre à une question par une phrase complète à l’écrit",{"$nulls":36},{"v":0,"d":"0%"},{"v":0,"d":"0%"},{"v":0,"d":"0%"},{"v":0,"d":"0%"},{"$f":"COUNTIF(D50:$AL50,\"NE\")/$AV$1","v":{"v":0,"d":"0%"}},{"v":0,"d":"0%"}]
[null,"","REDACTION",{"$f":"COUNTA(D52:D63)*10","v":0},{"$f":"COUNTA(E52:E63)*10","v":0},0,0,0,0,0,0,0,0,0,0,0,0,0,0,0,0,0,0,0,0,0,0,0,0,0,0,0,0,0,0,0,{"$nulls":3},{"v":0,"d":"0%"},{"v":0,"d":"0%"},{"v":0,"d":"0%"},{"v":0,"d":"0%"},{"$f":"COUNTIF(D51:$AL51,\"NE\")/$AV$1","v":{"v":0,"d":"0%"}},{"v":0,"d":"0%"}]
[null,"RE1","Dans les diverses activités scolaires, proposer une réponse écrite, explicite et énoncée dans une forme correcte.",{"$nulls":36},{"v":0,"d":"0%"},{"v":0,"d":"0%"},{"v":0,"d":"0%"},{"v":0,"d":"0%"},{"$f":"COUNTIF(D52:$AL52,\"NE\")/$AV$1","v":{"v":0,"d":"0%"}},{"v":0,"d":"0%"}]
[null,"RE2","Rédiger un court texte narratif en veillant à sa cohérence temporelle (temps des verbes) et à sa précision (dans la nomination des personnages et par l’usage d’adjectifs qualificatifs), en évitant les répétitions par l’usage de synonymes, et en respectant les contraintes syntaxiques et orthographiques ainsi que la ponctuation.",{"$nulls":36},{"v":0,"d":"0%"},{"v":0,"d":"0%"},{"v":0,"d":"0%"},{"v":0,"d":"0%"},{"$f":"COUNTIF(D53:$AL53,\"NE\")/$AV$1","v":{"v":0,"d":"0%"}},{"v":0,"d":"0%"}]
[null,"RE3","Rédiger un court dialogue (formulation des questions et des ordres).",{"$nulls":36},{"v":0,"d":"0%"},{"v":0,"d":"0%"},{"v":0,"d":"0%"},{"v":0,"d":"0%"},{"$f":"COUNTIF(D54:$AL54,\"NE\")/$AV$1","v":{"v":0,"d":"0%"}},{"v":0,"d":"0%"}]
[null,"RE4","Savoir amplifier une phrase en ajoutant des mots : en coordonnant par et un nom à un autre, un adjectif à un autre, un verbe à un autre.",{"$nulls":36},{"v":0,"d":"0%"},{"v":0,"d":"0%"},{"v":0,"d":"0%"},{"v":0,"d":"0%"},{"$f":"COUNTIF(D55:$AL55,\"NE\")/$AV$1","v":{"v":0,"d":"0%"}},{"v":0,"d":"0%"}]
[null,"RE5","Améliorer (corriger et enrichir) un texte en fonction des remarques et aides du maître.",{"$nulls":36},{"v":0,"d":"0%"},{"v":0,"d":"0%"},{"v":0,"d":"0%"},{"v":0,"d":"0%"},{"$f":"COUNTIF(D56:$AL56,\"NE\")/$AV$1","v":{"v":0,"d":"0%"}},{"v":0,"d":"0%"}]
[null,"RE6","Dans les diverses activités scolaires, noter des idées, des hypothèses, des informations utiles au travail scolaire",{"$nulls":36},{"v":0,"d":"0%"},{"v":0,"d":"0%"},{"v":0,"d":"0%"},{"v":0,"d":"0%"},{"$f":"COUNTIF(D57:$AL57,\"NE\")/$AV$1","v":{"v":0,"d":"0%"}},{"v":0,"d":"0%"}]
[null,"RE7","Rédiger des textes courts de différents types (récits, descriptions, portraits) en veillant à leur cohérence, à leur précision, (pronoms, mots de liaison, relations temporelles en particulier) et en évitant les répétitions. ",{"$nulls":36},{"v":0,"d":"0%"},{"v":0,"d":"0%"},{"v":0,"d":"0%"},{"v":0,"d":"0%"},{"$f":"COUNTIF(D58:$AL58,\"NE\")/$AV$1","v":{"v":0,"d":"0%"}},{"v":0,"d":"0%"}]
[null,"RE8","Savoir amplifier une phrase simple par l’ajout d’éléments coordonnés (et, ni, ou, mais entre des mots ou des phrases simples ; car, donc entre des phrases simples), d’adverbes, de compléments circonstanciels  et par l’enrichissement des groupes nominaux",{"$nulls":36},{"v":0,"d":"0%"},{"v":0,"d":"0%"},{"v":0,"d":"0%"},{"v":0,"d":"0%"},{"$f":"COUNTIF(D59:$AL59,\"NE\")/$AV$1","v":{"v":0,"d":"0%"}},{"v":0,"d":"0%"}]
[null,".RE9","Dans les diverses activités scolaires, prendre des notes utiles au travail scolaire.",{"$nulls":36},{"v":0,"d":"0%"},{"v":0,"d":"0%"},{"v":0,"d":"0%"},{"v":0,"d":"0%"},{"$f":"COUNTIF(D60:$AL60,\"NE\")/$AV$1","v":{"v":0,"d":"0%"}},{"v":0,"d":"0%"}]
[null,".RE10","Maîtriser la cohérence des temps dans un récit d’une dizaine de lignes.",{"$nulls":36},{"v":0,"d":"0%"},{"v":0,"d":"0%"},{"v":0,"d":"0%"},{"v":0,"d":"0%"},{"$f":"COUNTIF(D61:$AL61,\"NE\")/$AV$1","v":{"v":0,"d":"0%"}},{"v":0,"d":"0%"}]
[null,".RE11","Rédiger différents types de textes d’au moins deux paragraphes en veillant à leur cohérence, en évitant les répétitions, et en respectant les contraintes syntaxiques et orthographiques ainsi que la ponctuation.",{"$nulls":36},{"v":0,"d":"0%"},{"v":0,"d":"0%"},{"v":0,"d":"0%"},{"v":0,"d":"0%"},{"$f":"COUNTIF(D62:$AL62,\"NE\")/$AV$1","v":{"v":0,"d":"0%"}},{"v":0,"d":"0%"}]
[null,"RE12","Ecrire un texte de type poétique en obéissant à une ou plusieurs consignes précises.",{"$nulls":36},{"v":0,"d":"0%"},{"v":0,"d":"0%"},{"v":0,"d":"0%"},{"v":0,"d":"0%"},{"$f":"COUNTIF(D63:$AL63,\"NE\")/$AV$1","v":{"v":0,"d":"0%"}},{"v":0,"d":"0%"}]
[null,"","LITTERATURE",{"$f":"COUNTA(D65:D76)*10","v":0},{"$f":"COUNTA(E65:E76)*10","v":0},0,0,0,0,0,0,0,0,0,0,0,0,0,0,0,0,0,0,0,0,0,0,0,0,0,0,0,0,0,0,0,{"$nulls":3},{"v":0,"d":"0%"},{"v":0,"d":"0%"},{"v":0,"d":"0%"},{"v":0,"d":"0%"},{"$f":"COUNTIF(D64:$AL64,\"NE\")/$AV$1","v":{"v":0,"d":"0%"}},{"v":0,"d":"0%"}]
[null,"LI1","Lire une œuvre intégrale ou de larges extraits d’une œuvre longue. ",{"$nulls":36},{"v":0,"d":"0%"},{"v":0,"d":"0%"},{"v":0,"d":"0%"},{"v":0,"d":"0%"},{"$f":"COUNTIF(D65:$AL65,\"NE\")/$AV$1","v":{"v":0,"d":"0%"}},{"v":0,"d":"0%"}]
[null,"LI2","Rendre compte des œuvres lues, donner son point de vue à leur propos.",{"$nulls":36},{"v":0,"d":"0%"},{"v":0,"d":"0%"},{"v":0,"d":"0%"},{"v":0,"d":"0%"},{"$f":"COUNTIF(D66:$AL66,\"NE\")/$AV$1","v":{"v":0,"d":"0%"}},{"v":0,"d":"0%"}]
[null,"LI3","Raconter de mémoire, ou en s’aidant de quelques images des histoires lues dans les années ou les mois antérieurs ; connaître leur titre.",{"$nulls":36},{"v":0,"d":"0%"},{"v":0,"d":"0%"},{"v":0,"d":"0%"},{"v":0,"d":"0%"},{"$f":"COUNTIF(D67:$AL67,\"NE\")/$AV$1","v":{"v":0,"d":"0%"}},{"v":0,"d":"0%"}]
[null,"LI4","Etablir des relations entre des textes ou des œuvres : même auteur, même thème, même personnage, etc.",{"$nulls":36},{"v":0,"d":"0%"},{"v":0,"d":"0%"},{"v":0,"d":"0%"},{"v":0,"d":"0%"},{"$f":"COUNTIF(D68:$AL68,\"NE\")/$AV$1","v":{"v":0,"d":"0%"}},{"v":0,"d":"0%"}]
[null,".LI5","Lire au moins un ouvrage par trimestre et en rendre compte ; choisir un extrait caractéristique et le lire à haute voix.",{"$nulls":36},{"v":0,"d":"0%"},{"v":0,"d":"0%"},{"v":0,"d":"0%"},{"v":0,"d":"0%"},{"$f":"COUNTIF(D69:$AL69,\"NE\")/$AV$1","v":{"v":0,"d":"0%"}},{"v":0,"d":"0%"}]
[null,".LI6","Adapter son comportement de lecteur aux difficultés rencontrées : notes pour mémoriser, relecture, demande d’aide, etc.",{"$nulls":36},{"v":0,"d":"0%"},{"v":0,"d":"0%"},{"v":0,"d":"0%"},{"v":0,"d":"0%"},{"$f":"COUNTIF(D70:$AL70,\"NE\")/$AV$1","v":{"v":0,"d":"0%"}},{"v":0,"d":"0%"}]
[null,"LI7","Se rappeler le titre et l’auteur des œuvres lues. ",{"$nulls":36},{"$f":"COUNTIF($D71:$AL71,$AU$1)/$AV$1","v":{"v":0,"d":"0%"}},{"$f":"COUNTIF($D71:$AL71,$AU$2)/$AV$1","v":{"v":0,"d":"0%"}},{"$f":"COUNTIF($D71:$AL71,$AU$3)/$AV$1","v":{"v":0,"d":"0%"}},{"$f":"COUNTIF($D71:$AL71,$AU$4)/$AV$1","v":{"v":0,"d":"0%"}},{"$f":"COUNTIF(D71:$AL71,\"NE\")/$AV$1","v":{"v":0,"d":"0%"}},{"v":0,"d":"0%"}]
[null,"LI8","Participer à un débat sur une œuvre en confrontant son point de vue à d’autres de manière argumentée.",{"$nulls":36},{"v":0,"d":"0%"},{"v":0,"d":"0%"},{"v":0,"d":"0%"},{"v":0,"d":"0%"},{"$f":"COUNTIF(D72:$AL72,\"NE\")/$AV$1","v":{"v":0,"d":"0%"}},{"$f":"AN72+(AO72*0.66)+(AP72*0.33)","v":{"v":0,"d":"0%"}}]
[null,".LI9","Lire au moins cinq ouvrages dans l’année scolaire et en rendre compte ; choisir un extrait caractéristique et le lire à haute voix.",{"$nulls":36},{"v":0,"d":"0%"},{"v":0,"d":"0%"},{"v":0,"d":"0%"},{"v":0,"d":"0%"},{"$f":"COUNTIF(D73:$AL73,\"NE\")/$AV$1","v":{"v":0,"d":"0%"}},{"v":0,"d":"0%"}]
[null,".LI10","Expliciter des choix de lecture, des préférences",{"$nulls":36},{"v":0,"d":"0%"},{"v":0,"d":"0%"},{"v":0,"d":"0%"},{"v":0,"d":"0%"},{"$f":"COUNTIF(D74:$AL74,\"NE\")/$AV$1","v":{"v":0,"d":"0%"}},{"v":0,"d":"0%"}]
[null,".LI11","Raconter de mémoire une œuvre lue ; citer de mémoire un court extrait caractéristique.",{"$nulls":36},{"v":0,"d":"0%"},{"v":0,"d":"0%"},{"v":0,"d":"0%"},{"v":0,"d":"0%"},{"$f":"COUNTIF(D75:$AL75,\"NE\")/$AV$1","v":{"v":0,"d":"0%"}},{"v":0,"d":"0%"}]
[null,"LI12","Rapprocher des œuvres littéraires, à l’oral et à l'écrit",{"$nulls":36},{"v":0,"d":"0%"},{"v":0,"d":"0%"},{"v":0,"d":"0%"},{"v":0,"d":"0%"},{"$f":"COUNTIF(D76:$AL76,\"NE\")/$AV$1","v":{"v":0,"d":"0%"}},{"v":0,"d":"0%"}]
[null,"","VOCABULAIRE",{"$f":"D78+D85+D96+D106","v":0},{"$f":"E78+E85+E96+E106","v":0},0,0,0,0,0,0,0,0,0,0,0,0,0,0,0,0,0,0,0,0,0,0,0,0,0,0,0,0,0,0,0,{"$nulls":3},{"v":0,"d":"0%"},{"v":0,"d":"0%"},{"v":0,"d":"0%"},{"v":0,"d":"0%"},{"$f":"COUNTIF(D77:$AL77,\"NE\")/$AV$1","v":{"v":0,"d":"0%"}},{"v":0,"d":"0%"}]
[null,null,"Acquisition du vocabulaire",{"$f":"COUNTA(D79:D84)*10","v":0},{"$f":"COUNTA(E79:E84)*10","v":0},0,0,0,0,0,0,0,0,0,0,0,0,0,0,0,0,0,0,0,0,0,0,0,0,0,0,0,0,0,0,0,{"$nulls":3},{"v":0,"d":"0%"},{"v":0,"d":"0%"},{"v":0,"d":"0%"},{"v":0,"d":"0%"},{"$f":"COUNTIF(D78:$AL78,\"NE\")/$AV$1","v":{"v":0,"d":"0%"}},{"v":0,"d":"0%"}]
[null,"VO1","Utiliser à bon escient des termes appartenant aux lexiques des repères temporels, de la vie quotidienne et du travail scolaire. ",{"$nulls":36},{"v":0,"d":"0%"},{"v":0,"d":"0%"},{"v":0,"d":"0%"},{"v":0,"d":"0%"},{"$f":"COUNTIF(D79:$AL79,\"NE\")/$AV$1","v":{"v":0,"d":"0%"}},{"v":0,"d":"0%"}]
[null,"VO2","Utiliser les termes exacts qui correspondent aux notions étudiées dans les divers domaines scolaires.",{"$nulls":36},{"v":0,"d":"0%"},{"v":0,"d":"0%"},{"v":0,"d":"0%"},{"v":0,"d":"0%"},{"$f":"COUNTIF(D80:$AL80,\"NE\")/$AV$1","v":{"v":0,"d":"0%"}},{"v":0,"d":"0%"}]
[null,"VO3","Savoir ce qu’est une abréviation (ex. « adj. » dans un article de dictionnaire).",{"$nulls":36},{"v":0,"d":"0%"},{"v":0,"d":"0%"},{"v":0,"d":"0%"},{"v":0,"d":"0%"},{"$f":"COUNTIF(D81:$AL81,\"NE\")/$AV$1","v":{"v":0,"d":"0%"}},{"v":0,"d":"0%"}]
[null,".VO4","Utiliser à bon escient des termes afférents aux actions, sensations et jugements.",{"$nulls":36},{"v":0,"d":"0%"},{"v":0,"d":"0%"},{"v":0,"d":"0%"},{"v":0,"d":"0%"},{"$f":"COUNTIF(D82:$AL82,\"NE\")/$AV$1","v":{"v":0,"d":"0%"}},{"v":0,"d":"0%"}]
[null,".VO5","Commencer à utiliser des termes renvoyant à des notions abstraites (émotions, sentiments, devoirs, droits).",{"$nulls":36},{"v":0,"d":"0%"},{"v":0,"d":"0%"},{"v":0,"d":"0%"},{"v":0,"d":"0%"},{"$f":"COUNTIF(D83:$AL83,\"NE\")/$AV$1","v":{"v":0,"d":"0%"}},{"v":0,"d":"0%"}]
[null,".VO6","Comprendre des sigles.",{"$nulls":36},{"v":0,"d":"0%"},{"v":0,"d":"0%"},{"v":0,"d":"0%"},{"v":0,"d":"0%"},{"$f":"COUNTIF(D84:$AL84,\"NE\")/$AV$1","v":{"v":0,"d":"0%"}},{"v":0,"d":"0%"}]
[null,null,"Maîtrise du sens des mots",{"$f":"COUNTA(D86:D95)*10","v":0},{"$f":"COUNTA(E86:E95)*10","v":0},0,0,0,0,0,0,0,0,0,0,0,0,0,0,0,0,0,0,0,0,0,0,0,0,0,0,0,0,0,0,0,{"$nulls":3},{"v":0,"d":"0%"},{"v":0,"d":"0%"},{"v":0,"d":"0%"},{"v":0,"d":"0%"},{"$f":"COUNTIF(D85:$AL85,\"NE\")/$AV$1","v":{"v":0,"d":"0%"}},{"v":0,"d":"0%"}]
[null,"VO7","Dans un texte, relever les mots d’un même domaine (ex. le vocabulaire de la mer). ",{"$nulls":36},{"v":0,"d":"0%"},{"v":0,"d":"0%"},{"v":0,"d":"0%"},{"v":0,"d":"0%"},{"$f":"COUNTIF(D86:$AL86,\"NE\")/$AV$1","v":{"v":0,"d":"0%"}},{"v":0,"d":"0%"}]
[null,"VO8","Utiliser des synonymes et des mots de sens contraire dans les activités d’expression orale et écrite.",{"$nulls":36},{"v":0,"d":"0%"},{"v":0,"d":"0%"},{"v":0,"d":"0%"},{"v":0,"d":"0%"},{"$f":"COUNTIF(D87:$AL87,\"NE\")/$AV$1","v":{"v":0,"d":"0%"}},{"v":0,"d":"0%"}]
[null,"VO9","Préciser, dans son contexte, le sens d’un mot connu ; le distinguer d’autres sens possibles.",{"$nulls":36},{"v":0,"d":"0%"},{"v":0,"d":"0%"},{"v":0,"d":"0%"},{"v":0,"d":"0%"},{"$f":"COUNTIF(D88:$AL88,\"NE\")/$AV$1","v":{"v":0,"d":"0%"}},{"v":0,"d":"0%"}]
[null,"VO10","Utiliser le contexte pour comprendre un mot inconnu ; vérifier son sens dans le dictionnaire.",{"$nulls":36},{"v":0,"d":"0%"},{"v":0,"d":"0%"},{"v":0,"d":"0%"},{"v":0,"d":"0%"},{"$f":"COUNTIF(D89:$AL89,\"NE\")/$AV$1","v":{"v":0,"d":"0%"}},{"v":0,"d":"0%"}]
[null,"VO11","Définir un mot connu en utilisant un terme générique adéquat (mots concrets : ex. un pommier est un arbre fruitier).",{"$nulls":36},{"v":0,"d":"0%"},{"v":0,"d":"0%"},{"v":0,"d":"0%"},{"v":0,"d":"0%"},{"$f":"COUNTIF(D90:$AL90,\"NE\")/$AV$1","v":{"v":0,"d":"0%"}},{"v":0,"d":"0%"}]
[null,"VO12","Commencer à identifier les différents niveaux de langue.",{"$nulls":36},{"v":0,"d":"0%"},{"v":0,"d":"0%"},{"v":0,"d":"0%"},{"v":0,"d":"0%"},{"$f":"COUNTIF(D91:$AL91,\"NE\")/$AV$1","v":{"v":0,"d":"0%"}},{"v":0,"d":"0%"}]
[null,"VO13","Distinguer les différents sens d’un verbe selon sa construction  (ex. jouer, jouer quelque chose, jouer à, jouer de, jouer sur).",{"$nulls":36},{"v":0,"d":"0%"},{"v":0,"d":"0%"},{"v":0,"d":"0%"},{"v":0,"d":"0%"},{"$f":"COUNTIF(D92:$AL92,\"NE\")/$AV$1","v":{"v":0,"d":"0%"}},{"v":0,"d":"0%"}]
[null,".VO14","Identifier l’utilisation d’un mot ou d’une expression au sens figuré. ",{"$nulls":36},{"v":0,"d":"0%"},{"v":0,"d":"0%"},{"v":0,"d":"0%"},{"v":0,"d":"0%"},{"$f":"COUNTIF(D93:$AL93,\"NE\")/$AV$1","v":{"v":0,"d":"0%"}},{"v":0,"d":"0%"}]
[null,".VO15","Classer des mots de sens voisin en repérant les variations d’intensité (ex. bon, délicieux, succulent).",{"$nulls":36},{"v":0,"d":"0%"},{"v":0,"d":"0%"},{"v":0,"d":"0%"},{"v":0,"d":"0%"},{"$f":"COUNTIF(D94:$AL94,\"NE\")/$AV$1","v":{"v":0,"d":"0%"}},{"v":0,"d":"0%"}]
[null,"VO16","Définir un mot connu en utilisant un terme générique adéquat et en y ajoutant les précisions spécifiques à l’objet défini.",{"$nulls":36},{"v":0,"d":"0%"},{"v":0,"d":"0%"},{"v":0,"d":"0%"},{"v":0,"d":"0%"},{"$f":"COUNTIF(D95:$AL95,\"NE\")/$AV$1","v":{"v":0,"d":"0%"}},{"v":0,"d":"0%"}]
[null,null,"Les familles de mots",{"$f":"COUNTA(D97:D105)*10","v":0},{"$f":"COUNTA(E97:E105)*10","v":0},0,0,0,0,0,0,0,0,0,0,0,0,0,0,0,0,0,0,0,0,0,0,0,0,0,0,0,0,0,0,0,{"$nulls":3},{"v":0,"d":"0%"},{"v":0,"d":"0%"},{"v":0,"d":"0%"},{"v":0,"d":"0%"},{"$f":"COUNTIF(D96:$AL96,\"NE\")/$AV$1","v":{"v":0,"d":"0%"}},{"v":0,"d":"0%"}]
[null,"VO17","Construire ou compléter des familles de mots. ",{"$nulls":36},{"v":0,"d":"0%"},{"v":0,"d":"0%"},{"v":0,"d":"0%"},{"v":0,"d":"0%"},{"$f":"COUNTIF(D97:$AL97,\"NE\")/$AV$1","v":{"v":0,"d":"0%"}},{"v":0,"d":"0%"}]
[null,"VO18","Regrouper des mots selon le sens de leur préfixe, ",{"$nulls":36},{"v":0,"d":"0%"},{"v":0,"d":"0%"},{"v":0,"d":"0%"},{"v":0,"d":"0%"},{"$f":"COUNTIF(D98:$AL98,\"NE\")/$AV$1","v":{"v":0,"d":"0%"}},{"v":0,"d":"0%"}]
[null,"VO19","Regrouper des mots selon le sens de leur suffixe, ",{"$nulls":36},{"v":0,"d":"0%"},{"v":0,"d":"0%"},{"v":0,"d":"0%"},{"v":0,"d":"0%"},{"$f":"COUNTIF(D99:$AL99,\"NE\")/$AV$1","v":{"v":0,"d":"0%"}},{"v":0,"d":"0%"}]
[null,"VO20","Connaître et utiliser oralement le vocabulaire concernant la construction des mots (radical, préfixe, suffixe, famille).",{"$nulls":36},{"v":0,"d":"0%"},{"v":0,"d":"0%"},{"v":0,"d":"0%"},{"v":0,"d":"0%"},{"$f":"COUNTIF(D100:$AL100,\"NE\")/$AV$1","v":{"v":0,"d":"0%"}},{"v":0,"d":"0%"}]
[null,"VO21","Utiliser la construction d’un mot inconnu pour le comprendre.",{"$nulls":36},{"v":0,"d":"0%"},{"v":0,"d":"0%"},{"v":0,"d":"0%"},{"v":0,"d":"0%"},{"$f":"COUNTIF(D101:$AL101,\"NE\")/$AV$1","v":{"v":0,"d":"0%"}},{"v":0,"d":"0%"}]
[null,"VO22","Regrouper des mots selon leur radical.",{"$nulls":36},{"v":0,"d":"0%"},{"v":0,"d":"0%"},{"v":0,"d":"0%"},{"v":0,"d":"0%"},{"$f":"COUNTIF(D102:$AL102,\"NE\")/$AV$1","v":{"v":0,"d":"0%"}},{"v":0,"d":"0%"}]
[null,"VO23","Regrouper des mots selon le sens de leur préfixe et connaître ce sens ; en particulier celui des principaux préfixes exprimant des idées de lieu ou de mouvement.   ",{"$nulls":36},{"v":0,"d":"0%"},{"v":0,"d":"0%"},{"v":0,"d":"0%"},{"v":0,"d":"0%"},{"$f":"COUNTIF(D103:$AL103,\"NE\")/$AV$1","v":{"v":0,"d":"0%"}},{"v":0,"d":"0%"}]
[null,".VO24","Regrouper des mots selon le sens de  leur suffixe et connaître ce sens. ",{"$nulls":36},{"v":0,"d":"0%"},{"v":0,"d":"0%"},{"v":0,"d":"0%"},{"v":0,"d":"0%"},{"$f":"COUNTIF(D104:$AL104,\"NE\")/$AV$1","v":{"v":0,"d":"0%"}},{"v":0,"d":"0%"}]
[null,"VO25","Pour un mot donné, fournir un ou plusieurs mots de la même famille en vérifiant qu’il(s) existe(nt).",{"$nulls":36},{"v":0,"d":"0%"},{"v":0,"d":"0%"},{"v":0,"d":"0%"},{"v":0,"d":"0%"},{"$f":"COUNTIF(D105:$AL105,\"NE\")/$AV$1","v":{"v":0,"d":"0%"}},{"v":0,"d":"0%"}]
[null,null,"Utilisation du dictionnaire",{"$f":"COUNTA(D107:D112)*10","v":0},{"$f":"COUNTA(E107:E112)*10","v":0},0,0,0,0,0,0,0,0,0,0,0,0,0,0,0,0,0,0,0,0,0,0,0,0,0,0,0,0,0,0,0,{"$nulls":3},{"v":0,"d":"0%"},{"v":0,"d":"0%"},{"v":0,"d":"0%"},{"v":0,"d":"0%"},{"$f":"COUNTIF(D106:$AL106,\"NE\")/$AV$1","v":{"v":0,"d":"0%"}},{"v":0,"d":"0%"}]
[null,"VO26","Savoir épeler un mot ; connaître l’ordre alphabétique ; savoir classer des mots par ordre alphabétique.",{"$nulls":36},{"v":0,"d":"0%"},{"v":0,"d":"0%"},{"v":0,"d":"0%"},{"v":0,"d":"0%"},{"$f":"COUNTIF(D107:$AL107,\"NE\")/$AV$1","v":{"v":0,"d":"0%"}},{"v":0,"d":"0%"}]
[null,"VO27","Utiliser le dictionnaire pour rechercher le sens d’un mot.",{"$nulls":36},{"v":0,"d":"0%"},{"v":0,"d":"0%"},{"v":0,"d":"0%"},{"v":0,"d":"0%"},{"$f":"COUNTIF(D108:$AL108,\"NE\")/$AV$1","v":{"v":0,"d":"0%"}},{"v":0,"d":"0%"}]
[null,"VO28","Dans une définition de dictionnaire, identifier le terme générique. ",{"$nulls":36},{"v":0,"d":"0%"},{"v":0,"d":"0%"},{"v":0,"d":"0%"},{"v":0,"d":"0%"},{"$f":"COUNTIF(D109:$AL109,\"NE\")/$AV$1","v":{"v":0,"d":"0%"}},{"v":0,"d":"0%"}]
[null,"VO29","Utiliser le dictionnaire pour vérifier le sens d’un mot (en particulier quand il en a plusieurs), ou sa classe, ou son orthographe, ou son niveau de langue.",{"$nulls":36},{"v":0,"d":"0%"},{"v":0,"d":"0%"},{"v":0,"d":"0%"},{"v":0,"d":"0%"},{"$f":"COUNTIF(D110:$AL110,\"NE\")/$AV$1","v":{"v":0,"d":"0%"}},{"v":0,"d":"0%"}]
[null,".VO30","Se servir des codes utilisés dans les articles de dictionnaire",{"$nulls":36},{"v":0,"d":"0%"},{"v":0,"d":"0%"},{"v":0,"d":"0%"},{"v":0,"d":"0%"},{"$f":"COUNTIF(D111:$AL111,\"NE\")/$AV$1","v":{"v":0,"d":"0%"}},{"v":0,"d":"0%"}]
[null,".VO31","Utiliser avec aisance un dictionnaire",{"$nulls":36},{"v":0,"d":"0%"},{"v":0,"d":"0%"},{"v":0,"d":"0%"},{"v":0,"d":"0%"},{"$f":"COUNTIF(D112:$AL112,\"NE\")/$AV$1","v":{"v":0,"d":"0%"}},{"v":0,"d":"0%"}]
[null,""," GRAMMAIRE",{"$f":"D114+D123+D130+D133+D146+D149+D159","v":0},{"$f":"E114+E123+E130+E133+E146+E149+E159","v":0},0,0,0,0,0,0,0,0,0,0,0,0,0,0,0,0,0,0,0,0,0,0,0,0,0,0,0,0,0,0,0,{"$nulls":3},{"v":0,"d":"0%"},{"v":0,"d":"0%"},{"v":0,"d":"0%"},{"v":0,"d":"0%"},{"$f":"COUNTIF(D113:$AL113,\"NE\")/$AV$1","v":{"v":0,"d":"0%"}},{"v":0,"d":"0%"}]
[null,"","La phrase",{"$f":"COUNTA(D115:D122)*10","v":0},{"$f":"COUNTA(E115:E122)*10","v":0},0,0,0,0,0,0,0,0,0,0,0,0,0,0,0,0,0,0,0,0,0,0,0,0,0,0,0,0,0,0,0,{"$nulls":3},{"v":0,"d":"0%"},{"v":0,"d":"0%"},{"v":0,"d":"0%"},{"v":0,"d":"0%"},{"$f":"COUNTIF(D114:$AL114,\"NE\")/$AV$1","v":{"v":0,"d":"0%"}},{"v":0,"d":"0%"}]
[null,"GR1","Transformer une phrase simple affirmative en phrase négative ou interrogative, ou inversement. ",{"$nulls":36},{"v":0,"d":"0%"},{"v":0,"d":"0%"},{"v":0,"d":"0%"},{"v":0,"d":"0%"},{"$f":"COUNTIF(D115:$AL115,\"NE\")/$AV$1","v":{"v":0,"d":"0%"}},{"v":0,"d":"0%"}]
[null,"GR2","Identifier le verbe conjugué dans une phrase simple et fournir son infinitif. ",{"$nulls":36},{"v":0,"d":"0%"},{"v":0,"d":"0%"},{"v":0,"d":"0%"},{"v":0,"d":"0%"},{"$f":"COUNTIF(D116:$AL116,\"NE\")/$AV$1","v":{"v":0,"d":"0%"}},{"v":0,"d":"0%"}]
[null,"GR3","Construire correctement des phrases négatives, interrogatives, injonctives. ",{"$nulls":36},{"v":0,"d":"0%"},{"v":0,"d":"0%"},{"v":0,"d":"0%"},{"v":0,"d":"0%"},{"$f":"COUNTIF(D117:$AL117,\"NE\")/$AV$1","v":{"v":0,"d":"0%"}},{"v":0,"d":"0%"}]
[null,"GR4","Identifier les verbes conjugués dans des phrases complexes et fournir leurs infinitifs",{"$nulls":36},{"v":0,"d":"0%"},{"v":0,"d":"0%"},{"v":0,"d":"0%"},{"v":0,"d":"0%"},{"$f":"COUNTIF(D118:$AL118,\"NE\")/$AV$1","v":{"v":0,"d":"0%"}},{"v":0,"d":"0%"}]
[null,"GR5","Construire correctement des phrases exclamatives. ",{"$nulls":36},{"v":0,"d":"0%"},{"v":0,"d":"0%"},{"v":0,"d":"0%"},{"v":0,"d":"0%"},{"$f":"COUNTIF(D119:$AL119,\"NE\")/$AV$1","v":{"v":0,"d":"0%"}},{"v":0,"d":"0%"}]
[null,"GR6","Comprendre la distinction entre phrase simple et phrase complexe.",{"$nulls":36},{"v":0,"d":"0%"},{"v":0,"d":"0%"},{"v":0,"d":"0%"},{"v":0,"d":"0%"},{"$f":"COUNTIF(D120:$AL120,\"NE\")/$AV$1","v":{"v":0,"d":"0%"}},{"v":0,"d":"0%"}]
[null,"GR7","Reconnaître des propositions indépendantes coordonnées, juxtaposées ;",{"$nulls":36},{"v":0,"d":"0%"},{"v":0,"d":"0%"},{"v":0,"d":"0%"},{"v":0,"d":"0%"},{"$f":"COUNTIF(D121:$AL121,\"NE\")/$AV$1","v":{"v":0,"d":"0%"}},{"v":0,"d":"0%"}]
[null,"GR8","Reconnaître la proposition relative (seulement la relative complément de nom).",{"$nulls":36},{"v":0,"d":"0%"},{"v":0,"d":"0%"},{"v":0,"d":"0%"},{"v":0,"d":"0%"},{"$f":"COUNTIF(D122:$AL122,\"NE\")/$AV$1","v":{"v":0,"d":"0%"}},{"v":0,"d":"0%"}]
[null,"","Les classes de mots",{"$f":"COUNTA(D124:D129)*10","v":0},{"$f":"COUNTA(E124:E129)*10","v":0},0,0,0,0,0,0,0,0,0,0,0,0,0,0,0,0,0,0,0,0,0,0,0,0,0,0,0,0,0,0,0,{"$nulls":3},{"v":0,"d":"0%"},{"v":0,"d":"0%"},{"v":0,"d":"0%"},{"v":0,"d":"0%"},{"$f":"COUNTIF(D123:$AL123,\"NE\")/$AV$1","v":{"v":0,"d":"0%"}},{"v":0,"d":"0%"}]
[null,"GR9","Distinguer selon leur nature le verbe, le nom (propre / commun), les articles, les déterminants possessifs, les pronoms personnels (formes sujet), les adjectifs qualificatifs.",{"$nulls":36},{"v":0,"d":"0%"},{"v":0,"d":"0%"},{"v":0,"d":"0%"},{"v":0,"d":"0%"},{"$f":"COUNTIF(D124:$AL124,\"NE\")/$AV$1","v":{"v":0,"d":"0%"}},{"v":0,"d":"0%"}]
[null,"GR10","Approche de l’adverbe : modifier le sens d’un verbe en lui ajoutant un adverbe, relier des phrases simples par des mots de liaison temporelle (ex. les adverbes puis, alors…).",{"$nulls":36},{"v":0,"d":"0%"},{"v":0,"d":"0%"},{"v":0,"d":"0%"},{"v":0,"d":"0%"},{"$f":"COUNTIF(D125:$AL125,\"NE\")/$AV$1","v":{"v":0,"d":"0%"}},{"v":0,"d":"0%"}]
[null,"GR11"," Distinguer selon leur nature les mots des classes déjà connues, ainsi que les déterminants démonstratifs et interrogatifs, les pronoms personnels (sauf en, y), les pronoms relatifs (qui, que), les adverbes (de lieu, de temps, de manière), les négations",{"$nulls":36},{"v":0,"d":"0%"},{"v":0,"d":"0%"},{"v":0,"d":"0%"},{"v":0,"d":"0%"},{"$f":"COUNTIF(D126:$AL126,\"NE\")/$AV$1","v":{"v":0,"d":"0%"}},{"v":0,"d":"0%"}]
[null,".GR12","Distinguer selon leur nature les mots des classes déjà connues, ainsi que les pronoms possessifs, démonstratifs , interrogatifs et relatifs, les mots de liaison ( conjonctions de coordination, adverbes ou locutions adverbiales exprimant le temps, le lieu, la cause et la conséquence), les prépositions (lieu, temps).",{"$nulls":36},{"v":0,"d":"0%"},{"v":0,"d":"0%"},{"v":0,"d":"0%"},{"v":0,"d":"0%"},{"$f":"COUNTIF(D127:$AL127,\"NE\")/$AV$1","v":{"v":0,"d":"0%"}},{"v":0,"d":"0%"}]
[null,"GR13","Connaître la distinction entre article défini et article indéfini et en comprendre le sens ; reconnaître la forme élidée et les formes contractées de l’article défini.",{"$nulls":36},{"v":0,"d":"0%"},{"v":0,"d":"0%"},{"v":0,"d":"0%"},{"v":0,"d":"0%"},{"$f":"COUNTIF(D128:$AL128,\"NE\")/$AV$1","v":{"v":0,"d":"0%"}},{"v":0,"d":"0%"}]
[null,"GR14","Reconnaître et utiliser les degrés de l’adjectif et de l’adverbe (comparatif, superlatif).",{"$nulls":36},{"v":0,"d":"0%"},{"v":0,"d":"0%"},{"v":0,"d":"0%"},{"v":0,"d":"0%"},{"$f":"COUNTIF(D129:$AL129,\"NE\")/$AV$1","v":{"v":0,"d":"0%"}},{"v":0,"d":"0%"}]
[null,"","Les fonctions",{"$f":"COUNTA(D131:D132)*10","v":0},{"$f":"COUNTA(E131:E132)*10","v":0},0,0,0,0,0,0,0,0,0,0,0,0,0,0,0,0,0,0,0,0,0,0,0,0,0,0,0,0,0,0,0,{"$nulls":3},{"v":0,"d":"0%"},{"v":0,"d":"0%"},{"v":0,"d":"0%"},{"v":0,"d":"0%"},{"$f":"COUNTIF(D130:$AL130,\"NE\")/$AV$1","v":{"v":0,"d":"0%"}},{"v":0,"d":"0%"}]
[null,"GR15","Comprendre la différence entre la nature d’un mot et sa fonction.",{"$nulls":36},{"v":0,"d":"0%"},{"v":0,"d":"0%"},{"v":0,"d":"0%"},{"v":0,"d":"0%"},{"$f":"COUNTIF(D131:$AL131,\"NE\")/$AV$1","v":{"v":0,"d":"0%"}},{"v":0,"d":"0%"}]
[null,"GR16","Connaître la distinction entre compléments du verbe et compléments du nom. ",{"$nulls":36},{"v":0,"d":"0%"},{"v":0,"d":"0%"},{"v":0,"d":"0%"},{"v":0,"d":"0%"},{"$f":"COUNTIF(D132:$AL132,\"NE\")/$AV$1","v":{"v":0,"d":"0%"}},{"v":0,"d":"0%"}]
[null,"","Dans une phrase simple où l’ordre sujet-verbe est respecté,",{"$nulls":36},{"v":0,"d":"0%"},{"v":0,"d":"0%"},{"v":0,"d":"0%"},{"v":0,"d":"0%"},{"$f":"COUNTIF(D133:$AL133,\"NE\")/$AV$1","v":{"v":0,"d":"0%"}},{"v":0,"d":"0%"}]
[null,"GR17","Reconnaître le complément d’objet (direct et indirect) du verbe ;",{"$nulls":36},{"v":0,"d":"0%"},{"v":0,"d":"0%"},{"v":0,"d":"0%"},{"v":0,"d":"0%"},{"$f":"COUNTIF(D134:$AL134,\"NE\")/$AV$1","v":{"v":0,"d":"0%"}},{"v":0,"d":"0%"}]
[null,"GR18","Reconnaître le complément du nom. ",{"$nulls":36},{"$f":"COUNTIF($D135:$AL135,$AU$1)/$AV$1","v":{"v":0,"d":"0%"}},{"$f":"COUNTIF($D135:$AL135,$AU$2)/$AV$1","v":{"v":0,"d":"0%"}},{"$f":"COUNTIF($D135:$AL135,$AU$3)/$AV$1","v":{"v":0,"d":"0%"}},{"$f":"COUNTIF($D135:$AL135,$AU$4)/$AV$1","v":{"v":0,"d":"0%"}},{"$f":"COUNTIF(D135:$AL135,\"NE\")/$AV$1","v":{"v":0,"d":"0%"}},{"v":0,"d":"0%"}]
[null,"GR19","Approche de la circonstance : savoir répondre oralement aux questions où ?, quand ?, com­ment ?, pourquoi ? ",{"$nulls":36},{"v":0,"d":"0%"},{"v":0,"d":"0%"},{"v":0,"d":"0%"},{"v":0,"d":"0%"},{"$f":"COUNTIF(D136:$AL136,\"NE\")/$AV$1","v":{"v":0,"d":"0%"}},{"$f":"AN136+(AO136*0.66)+(AP136*0.33)","v":{"v":0,"d":"0%"}}]
[null,"GR20","Identifier le verbe et le sujet ",{"$nulls":36},{"v":0,"d":"0%"},{"v":0,"d":"0%"},{"v":0,"d":"0%"},{"v":0,"d":"0%"},{"$f":"COUNTIF(D137:$AL137,\"NE\")/$AV$1","v":{"v":0,"d":"0%"}},{"v":0,"d":"0%"}]
[null,"GR21","Reconnaître le complément d’objet second",{"$nulls":36},{"v":0,"d":"0%"},{"v":0,"d":"0%"},{"v":0,"d":"0%"},{"v":0,"d":"0%"},{"$f":"COUNTIF(D138:$AL138,\"NE\")/$AV$1","v":{"v":0,"d":"0%"}},{"v":0,"d":"0%"}]
[null,"GR22","Reconnaître les compléments circonstanciels de lieu, de temps, ",{"$nulls":36},{"v":0,"d":"0%"},{"v":0,"d":"0%"},{"v":0,"d":"0%"},{"v":0,"d":"0%"},{"$f":"COUNTIF(D139:$AL139,\"NE\")/$AV$1","v":{"v":0,"d":"0%"}},{"v":0,"d":"0%"}]
[null,"GR23","Reconnaître l’attribut du sujet.",{"$nulls":36},{"v":0,"d":"0%"},{"v":0,"d":"0%"},{"v":0,"d":"0%"},{"v":0,"d":"0%"},{"$f":"COUNTIF(D140:$AL140,\"NE\")/$AV$1","v":{"v":0,"d":"0%"}},{"v":0,"d":"0%"}]
[null,"GR24","Comprendre la notion de circonstance : la différence entre complément d’objet et complément circonstanciel (manipulations).",{"$nulls":36},{"v":0,"d":"0%"},{"v":0,"d":"0%"},{"v":0,"d":"0%"},{"v":0,"d":"0%"},{"$f":"COUNTIF(D141:$AL141,\"NE\")/$AV$1","v":{"v":0,"d":"0%"}},{"v":0,"d":"0%"}]
[null,"GR25","Manipuler la proposition relative (ajout, suppression, substitution à l’adjectif ou au complément de nom et inversement).",{"$nulls":36},{"v":0,"d":"0%"},{"v":0,"d":"0%"},{"v":0,"d":"0%"},{"v":0,"d":"0%"},{"$f":"COUNTIF(D142:$AL142,\"NE\")/$AV$1","v":{"v":0,"d":"0%"}},{"v":0,"d":"0%"}]
[null,"GR26","Connaître les fonctions de l’adjectif qualificatif : épithète, attribut du sujet. ",{"$nulls":36},{"v":0,"d":"0%"},{"v":0,"d":"0%"},{"v":0,"d":"0%"},{"v":0,"d":"0%"},{"$f":"COUNTIF(D143:$AL143,\"NE\")/$AV$1","v":{"v":0,"d":"0%"}},{"v":0,"d":"0%"}]
[null,".GR27","Comprendre la distinction entre compléments essentiels (compléments d’objet), et compléments circonstanciels (manipulations).",{"$nulls":36},{"v":0,"d":"0%"},{"v":0,"d":"0%"},{"v":0,"d":"0%"},{"v":0,"d":"0%"},{"$f":"COUNTIF(D144:$AL144,\"NE\")/$AV$1","v":{"v":0,"d":"0%"}},{"v":0,"d":"0%"}]
[null,".GR28","Comprendre la notion de groupe nominal : l’adjectif qualificatif épithète, le complément de nom et la proposition relative comme enrichissements du nom.",{"$nulls":36},{"v":0,"d":"0%"},{"v":0,"d":"0%"},{"v":0,"d":"0%"},{"v":0,"d":"0%"},{"$f":"COUNTIF(D145:$AL145,\"NE\")/$AV$1","v":{"v":0,"d":"0%"}},{"v":0,"d":"0%"}]
[null,"","Le groupe nominal ",{"$f":"COUNTA(D147:D148)*10","v":0},{"$f":"COUNTA(E147:E148)*10","v":0},0,0,0,0,0,0,0,0,0,0,0,0,0,0,0,0,0,0,0,0,0,0,0,0,0,0,0,0,0,0,0,{"$nulls":3},{"v":0,"d":"0%"},{"v":0,"d":"0%"},{"v":0,"d":"0%"},{"v":0,"d":"0%"},{"$f":"COUNTIF(D146:$AL146,\"NE\")/$AV$1","v":{"v":0,"d":"0%"}},{"v":0,"d":"0%"}]
[null,"GR30","Comprendre la fonction de ses éléments : le nom (noyau du groupe nominal), le déterminant (article, déterminant possessif) qui le détermine, l’adjectif qualificatif qui le qualifie, le nom qui le complète ; ",{"$nulls":36},{"v":0,"d":"0%"},{"v":0,"d":"0%"},{"v":0,"d":"0%"},{"v":0,"d":"0%"},{"$f":"COUNTIF(D147:$AL147,\"NE\")/$AV$1","v":{"v":0,"d":"0%"}},{"v":0,"d":"0%"}]
[null,"GR31","Manipuler l’adjectif et le complément de nom (ajout, suppression, substitution de l’un à l’autre…).",{"$nulls":36},{"v":0,"d":"0%"},{"v":0,"d":"0%"},{"v":0,"d":"0%"},{"v":0,"d":"0%"},{"$f":"COUNTIF(D148:$AL148,\"NE\")/$AV$1","v":{"v":0,"d":"0%"}},{"v":0,"d":"0%"}]
[null,"","Le verbe",{"$f":"COUNTA(D150:D158)*10","v":0},{"$f":"COUNTA(E150:E158)*10","v":0},0,0,0,0,0,0,0,0,0,0,0,0,0,0,0,0,0,0,0,0,0,0,0,0,0,0,0,0,0,0,0,{"$nulls":3},{"v":0,"d":"0%"},{"v":0,"d":"0%"},{"v":0,"d":"0%"},{"v":0,"d":"0%"},{"$f":"COUNTIF(D149:$AL149,\"NE\")/$AV$1","v":{"v":0,"d":"0%"}},{"v":0,"d":"0%"}]
[null,"GR33","Comprendre les notions d’action passée, présente, future.",{"$nulls":36},{"v":0,"d":"0%"},{"v":0,"d":"0%"},{"v":0,"d":"0%"},{"v":0,"d":"0%"},{"$f":"COUNTIF(D150:$AL150,\"NE\")/$AV$1","v":{"v":0,"d":"0%"}},{"v":0,"d":"0%"}]
[null,"GR34","Connaître les personnes, les règles de formation et les terminaisons des temps simples étudiés(présent, futur, imparfait).",{"$nulls":36},{"v":0,"d":"0%"},{"v":0,"d":"0%"},{"v":0,"d":"0%"},{"v":0,"d":"0%"},{"$f":"COUNTIF(D151:$AL151,\"NE\")/$AV$1","v":{"v":0,"d":"0%"}},{"v":0,"d":"0%"}]
[null,"GR35","Conjuguer à l’indicatif présent, futur et  imparfait les verbes des premier et deuxième groupes, ainsi qu’être, avoir, aller,, dire, faire, pouvoir,partir, prendre, venir, voir, vouloir. ",{"$nulls":36},{"v":0,"d":"0%"},{"v":0,"d":"0%"},{"v":0,"d":"0%"},{"v":0,"d":"0%"},{"$f":"COUNTIF(D152:$AL152,\"NE\")/$AV$1","v":{"v":0,"d":"0%"}},{"v":0,"d":"0%"}]
[null,"GR36","Repérer dans un texte l’infinitif d’un verbe étudié.",{"$nulls":36},{"v":0,"d":"0%"},{"v":0,"d":"0%"},{"v":0,"d":"0%"},{"v":0,"d":"0%"},{"$f":"COUNTIF(D153:$AL153,\"NE\")/$AV$1","v":{"v":0,"d":"0%"}},{"v":0,"d":"0%"}]
[null,"GR37","Comprendre la notion d’antériorité d’un fait passé par rapport à un fait présent.",{"$nulls":36},{"v":0,"d":"0%"},{"v":0,"d":"0%"},{"v":0,"d":"0%"},{"v":0,"d":"0%"},{"$f":"COUNTIF(D154:$AL154,\"NE\")/$AV$1","v":{"v":0,"d":"0%"}},{"v":0,"d":"0%"}]
[null,"GR38","Connaître la distinction entre temps simple et temps composé, la règle de formation des temps composés (passé composé), la notion d’auxiliaire.",{"$nulls":36},{"v":0,"d":"0%"},{"v":0,"d":"0%"},{"v":0,"d":"0%"},{"v":0,"d":"0%"},{"$f":"COUNTIF(D155:$AL155,\"NE\")/$AV$1","v":{"v":0,"d":"0%"}},{"v":0,"d":"0%"}]
[null,"GR39","Conjuguer aux temps déjà étudiés, ainsi qu’à l’indicatif passé simple, au passé composé et à l’impératif présent, les verbes déjà étudiés ; conjuguer des verbes non étudiés en appliquant les règles apprises.",{"$nulls":36},{"v":0,"d":"0%"},{"v":0,"d":"0%"},{"v":0,"d":"0%"},{"v":0,"d":"0%"},{"$f":"COUNTIF(D156:$AL156,\"NE\")/$AV$1","v":{"v":0,"d":"0%"}},{"v":0,"d":"0%"}]
[null,".GR40","Comprendre la notion d’antériorité relative d’un fait passé par rapport à un autre, d’un fait futur par rapport à un autre.",{"$nulls":36},{"v":0,"d":"0%"},{"v":0,"d":"0%"},{"v":0,"d":"0%"},{"v":0,"d":"0%"},{"$f":"COUNTIF(D157:$AL157,\"NE\")/$AV$1","v":{"v":0,"d":"0%"}},{"v":0,"d":"0%"}]
[null,".GR41","Conjuguer aux temps et modes  déjà étudiés, ainsi qu’à l’indicatif futur antérieur, plus-que-parfait,  conditionnel présent, au participe présent et passé, les verbes  déjà étudiés ;  conjuguer des verbes non étudiés en appliquant les règles apprises.",{"$nulls":36},{"v":0,"d":"0%"},{"v":0,"d":"0%"},{"v":0,"d":"0%"},{"v":0,"d":"0%"},{"$f":"COUNTIF(D158:$AL158,\"NE\")/$AV$1","v":{"v":0,"d":"0%"}},{"v":0,"d":"0%"}]
[null,"","Les accords",{"$f":"COUNTA(D160:D163)*10","v":0},{"$f":"COUNTA(E160:E163)*10","v":0},0,0,0,0,0,0,0,0,0,0,0,0,0,0,0,0,0,0,0,0,0,0,0,0,0,0,0,0,0,0,0,{"$nulls":3},{"v":0,"d":"0%"},{"v":0,"d":"0%"},{"v":0,"d":"0%"},{"v":0,"d":"0%"},{"$f":"COUNTIF(D159:$AL159,\"NE\")/$AV$1","v":{"v":0,"d":"0%"}},{"v":0,"d":"0%"}]
[null,"GR42","Connaître les règles de l’accord du verbe avec son sujet ; de l’accord entre déterminant et nom, nom et adjectif. ",{"$nulls":36},{"v":0,"d":"0%"},{"v":0,"d":"0%"},{"v":0,"d":"0%"},{"v":0,"d":"0%"},{"$f":"COUNTIF(D160:$AL160,\"NE\")/$AV$1","v":{"v":0,"d":"0%"}},{"v":0,"d":"0%"}]
[null,"GR43","Connaître la règle de l’accord du participe passé dans les verbes construits avec être (non compris les verbes pronominaux).",{"$nulls":36},{"v":0,"d":"0%"},{"v":0,"d":"0%"},{"v":0,"d":"0%"},{"v":0,"d":"0%"},{"$f":"COUNTIF(D161:$AL161,\"NE\")/$AV$1","v":{"v":0,"d":"0%"}},{"v":0,"d":"0%"}]
[null,"GR44","Connaître la règle de l’accord de l’adjectif (épithète, ou attribut) avec le nom. ",{"$nulls":36},{"v":0,"d":"0%"},{"v":0,"d":"0%"},{"v":0,"d":"0%"},{"v":0,"d":"0%"},{"$f":"COUNTIF(D162:$AL162,\"NE\")/$AV$1","v":{"v":0,"d":"0%"}},{"v":0,"d":"0%"}]
[null,".GR45","Connaître la règle de l’accord du participe passé dans les verbes construits avec être et avoir (cas du complément d’objet posé après le verbe).",{"$nulls":36},{"v":0,"d":"0%"},{"v":0,"d":"0%"},{"v":0,"d":"0%"},{"v":0,"d":"0%"},{"$f":"COUNTIF(D163:$AL163,\"NE\")/$AV$1","v":{"v":0,"d":"0%"}},{"v":0,"d":"0%"}]
[null,"","ORTHOGRAPHE",{"$f":"COUNTA(D165:D165)*10+D166+D178+D192","v":0},{"$f":"COUNTA(E165:E165)*10+E166+E178+E192","v":0},0,0,0,0,0,0,0,0,0,0,0,0,0,0,0,0,0,0,0,0,0,0,0,0,0,0,0,0,0,0,0,{"$nulls":3},{"v":0,"d":"0%"},{"v":0,"d":"0%"},{"v":0,"d":"0%"},{"v":0,"d":"0%"},{"$f":"COUNTIF(D164:$AL164,\"NE\")/$AV$1","v":{"v":0,"d":"0%"}},{"v":0,"d":"0%"}]
[null,".OR1","Ecrire sans erreur sous la dictée un texte  en mobilisant les connaissances acquises (au moins 5 ligne CE2,10 lignes CM1 CM2).",{"$nulls":36},{"v":0,"d":"0%"},{"v":0,"d":"0%"},{"v":0,"d":"0%"},{"v":0,"d":"0%"},{"$f":"COUNTIF(D165:$AL165,\"NE\")/$AV$1","v":{"v":0,"d":"0%"}},{"v":0,"d":"0%"}]
[null,"","Compétences grapho-phoniques",{"$f":"COUNTA(D167:D177)*10","v":0},{"$f":"COUNTA(E167:E177)*10","v":0},0,0,0,0,0,0,0,0,0,0,0,0,0,0,0,0,0,0,0,0,0,0,0,0,0,0,0,0,0,0,0,{"$nulls":3},{"v":0,"d":"0%"},{"v":0,"d":"0%"},{"v":0,"d":"0%"},{"v":0,"d":"0%"},{"$f":"COUNTIF(D166:$AL166,\"NE\")/$AV$1","v":{"v":0,"d":"0%"}},{"v":0,"d":"0%"}]
[null,"OR2","Respecter les correspondances entre lettres et sons.",{"$nulls":36},{"v":0,"d":"0%"},{"v":0,"d":"0%"},{"v":0,"d":"0%"},{"v":0,"d":"0%"},{"$f":"COUNTIF(D167:$AL167,\"NE\")/$AV$1","v":{"v":0,"d":"0%"}},{"v":0,"d":"0%"}]
[null,"OR3","Respecter la valeur des lettres en fonction des voyelles placées à proximité (s/ss, c/ç, c/qu, g/gu/ge.)",{"$nulls":36},{"v":0,"d":"0%"},{"v":0,"d":"0%"},{"v":0,"d":"0%"},{"v":0,"d":"0%"},{"$f":"COUNTIF(D168:$AL168,\"NE\")/$AV$1","v":{"v":0,"d":"0%"}},{"v":0,"d":"0%"}]
[null,"OR4","Respecter la valeur des lettres en fonction de la consonne suivante (n devenant m devant b, m p).",{"$nulls":36},{"v":0,"d":"0%"},{"v":0,"d":"0%"},{"v":0,"d":"0%"},{"v":0,"d":"0%"},{"$f":"COUNTIF(D169:$AL169,\"NE\")/$AV$1","v":{"v":0,"d":"0%"}},{"v":0,"d":"0%"}]
[null,"OR5"," Utiliser sans erreur les accents (é,è,ê).",{"$nulls":36},{"v":0,"d":"0%"},{"v":0,"d":"0%"},{"v":0,"d":"0%"},{"v":0,"d":"0%"},{"$f":"COUNTIF(D170:$AL170,\"NE\")/$AV$1","v":{"v":0,"d":"0%"}},{"v":0,"d":"0%"}]
[null,"OR6","Ecrire sans erreur le pluriel des noms se terminant par –eu, par –eau. Le pluriel des noms en –au, -ail est en cours d’acquisition.",{"$nulls":36},{"v":0,"d":"0%"},{"v":0,"d":"0%"},{"v":0,"d":"0%"},{"v":0,"d":"0%"},{"$f":"COUNTIF(D171:$AL171,\"NE\")/$AV$1","v":{"v":0,"d":"0%"}},{"v":0,"d":"0%"}]
[null,"OR7","Ecrire sans erreur les formes des verbes étudiés aux temps étudiés, dont les verbes du premier groupe en -cer, -ger, -guer,. ",{"$nulls":36},{"v":0,"d":"0%"},{"v":0,"d":"0%"},{"v":0,"d":"0%"},{"v":0,"d":"0%"},{"$f":"COUNTIF(D172:$AL172,\"NE\")/$AV$1","v":{"v":0,"d":"0%"}},{"v":0,"d":"0%"}]
[null,"OR8","Appliquer la règle de l’accord du verbe avec son sujet, y compris pour les verbes à un temps composé, et pour les sujets inversés.",{"$nulls":36},{"v":0,"d":"0%"},{"v":0,"d":"0%"},{"v":0,"d":"0%"},{"v":0,"d":"0%"},{"$f":"COUNTIF(D173:$AL173,\"NE\")/$AV$1","v":{"v":0,"d":"0%"}},{"v":0,"d":"0%"}]
[null,"OR9","Appliquer la règle de l’accord du participe passé avec être et avoir (cas du complément d’objet direct postposé).",{"$nulls":36},{"v":0,"d":"0%"},{"v":0,"d":"0%"},{"v":0,"d":"0%"},{"v":0,"d":"0%"},{"$f":"COUNTIF(D174:$AL174,\"NE\")/$AV$1","v":{"v":0,"d":"0%"}},{"v":0,"d":"0%"}]
[null,"OR10","Accorder sans erreur l’adjectif (épithète, apposé et attribut du sujet) avec le nom.",{"$nulls":36},{"v":0,"d":"0%"},{"v":0,"d":"0%"},{"v":0,"d":"0%"},{"v":0,"d":"0%"},{"$f":"COUNTIF(D175:$AL175,\"NE\")/$AV$1","v":{"v":0,"d":"0%"}},{"v":0,"d":"0%"}]
[null,"OR11","Ecrire sans erreur les homophones grammaticaux déjà étudiés, ainsi que ses/ces, mes/mais, on/on n’, ce/se, c’/s’ (c’est/s’est, c’était/s’était), ou/où, la/l’a/l’as/là.",{"$nulls":36},{"v":0,"d":"0%"},{"v":0,"d":"0%"},{"v":0,"d":"0%"},{"v":0,"d":"0%"},{"$f":"COUNTIF(D176:$AL176,\"NE\")/$AV$1","v":{"v":0,"d":"0%"}},{"v":0,"d":"0%"}]
[null,"OR12","Ecrire sans erreur les infinitifs de verbes du premier groupe après préposition (il me dit d’aller). ",{"$nulls":36},{"v":0,"d":"0%"},{"v":0,"d":"0%"},{"v":0,"d":"0%"},{"v":0,"d":"0%"},{"$f":"COUNTIF(D177:$AL177,\"NE\")/$AV$1","v":{"v":0,"d":"0%"}},{"v":0,"d":"0%"}]
[null,"","Orthographe grammaticale",{"$f":"COUNTA(D179:D191)*10","v":0},{"$f":"COUNTA(E179:E191)*10","v":0},0,0,0,0,0,0,0,0,0,0,0,0,0,0,0,0,0,0,0,0,0,0,0,0,0,0,0,0,0,0,0,{"$nulls":3},{"v":0,"d":"0%"},{"v":0,"d":"0%"},{"v":0,"d":"0%"},{"v":0,"d":"0%"},{"$f":"COUNTIF(D178:$AL178,\"NE\")/$AV$1","v":{"v":0,"d":"0%"}},{"v":0,"d":"0%"}]
[null,"ORG1","Ecrire sans erreur les pluriels des noms se terminant par s, x, z ; par –al, par -ou. ",{"$nulls":36},{"v":0,"d":"0%"},{"v":0,"d":"0%"},{"v":0,"d":"0%"},{"v":0,"d":"0%"},{"$f":"COUNTIF(D179:$AL179,\"NE\")/$AV$1","v":{"v":0,"d":"0%"}},{"v":0,"d":"0%"}]
[null,"ORG2","Utiliser sans erreur les marques du pluriel et du féminin des adjectifs.",{"$nulls":36},{"v":0,"d":"0%"},{"v":0,"d":"0%"},{"v":0,"d":"0%"},{"v":0,"d":"0%"},{"$f":"COUNTIF(D180:$AL180,\"NE\")/$AV$1","v":{"v":0,"d":"0%"}},{"v":0,"d":"0%"}]
[null,"ORG3","Ecrire sans erreur les formes des verbes étudiés aux temps étudiés, sans confondre, en particulier, les terminaisons (-e, -es, -ent ;-ons et -ont ; -ez, -ais, -ait et -aient ; -ras, -ra). ",{"$nulls":36},{"v":0,"d":"0%"},{"v":0,"d":"0%"},{"v":0,"d":"0%"},{"v":0,"d":"0%"},{"$f":"COUNTIF(D181:$AL181,\"NE\")/$AV$1","v":{"v":0,"d":"0%"}},{"v":0,"d":"0%"}]
[null,"ORG4","Appliquer la règle de l’accord du verbe avec le sujet (y compris pronom personnel) dans les phrases où l’ordre sujet-verbe est respecté, et où le verbe est à un temps simple.",{"$nulls":36},{"v":0,"d":"0%"},{"v":0,"d":"0%"},{"v":0,"d":"0%"},{"v":0,"d":"0%"},{"$f":"COUNTIF(D182:$AL182,\"NE\")/$AV$1","v":{"v":0,"d":"0%"}},{"v":0,"d":"0%"}]
[null,"ORG5","Accorder sans erreur le déterminant et le nom, le nom et l’adjectif (épithète).",{"$nulls":36},{"v":0,"d":"0%"},{"v":0,"d":"0%"},{"v":0,"d":"0%"},{"v":0,"d":"0%"},{"$f":"COUNTIF(D183:$AL183,\"NE\")/$AV$1","v":{"v":0,"d":"0%"}},{"v":0,"d":"0%"}]
[null,"ORG6","Ecrire sans erreur des homophones grammaticaux en liaison avec le programme de grammaire (a/à, ont/on, est/et, sont/son).",{"$nulls":36},{"v":0,"d":"0%"},{"v":0,"d":"0%"},{"v":0,"d":"0%"},{"v":0,"d":"0%"},{"$f":"COUNTIF(D184:$AL184,\"NE\")/$AV$1","v":{"v":0,"d":"0%"}},{"v":0,"d":"0%"}]
[null,"ORG7","Ecrire sans erreur le pluriel des noms se terminant par –eu, par –eau. Le pluriel des noms en –au, -ail est en cours d’acquisition.",{"$nulls":36},{"v":0,"d":"0%"},{"v":0,"d":"0%"},{"v":0,"d":"0%"},{"v":0,"d":"0%"},{"$f":"COUNTIF(D185:$AL185,\"NE\")/$AV$1","v":{"v":0,"d":"0%"}},{"v":0,"d":"0%"}]
[null,"ORG8","Ecrire sans erreur les formes des verbes étudiés aux temps étudiés, dont les verbes du premier groupe en -cer, -ger, -guer,. ",{"$nulls":36},{"v":0,"d":"0%"},{"v":0,"d":"0%"},{"v":0,"d":"0%"},{"v":0,"d":"0%"},{"$f":"COUNTIF(D186:$AL186,\"NE\")/$AV$1","v":{"v":0,"d":"0%"}},{"v":0,"d":"0%"}]
[null,"ORG9","Appliquer la règle de l’accord du verbe avec son sujet, y compris pour les verbes à un temps composé, et pour les sujets inversés.",{"$nulls":36},{"v":0,"d":"0%"},{"v":0,"d":"0%"},{"v":0,"d":"0%"},{"v":0,"d":"0%"},{"$f":"COUNTIF(D187:$AL187,\"NE\")/$AV$1","v":{"v":0,"d":"0%"}},{"v":0,"d":"0%"}]
[null,".ORG10","Orthographier correctement les verbes étudiés aux temps étudiés, dont les verbes du premier groupe en -yer, -eter, -eler.",{"$nulls":36},{"v":0,"d":"0%"},{"v":0,"d":"0%"},{"v":0,"d":"0%"},{"v":0,"d":"0%"},{"$f":"COUNTIF(D188:$AL188,\"NE\")/$AV$1","v":{"v":0,"d":"0%"}},{"v":0,"d":"0%"}]
[null,".ORG11","Appliquer la règle de l’accord du verbe avec son sujet, y compris avec le sujet qui de 3e personne.",{"$nulls":36},{"v":0,"d":"0%"},{"v":0,"d":"0%"},{"v":0,"d":"0%"},{"v":0,"d":"0%"},{"$f":"COUNTIF(D189:$AL189,\"NE\")/$AV$1","v":{"v":0,"d":"0%"}},{"v":0,"d":"0%"}]
[null,".ORG12","Ecrire sans erreur les homophones grammaticaux déjà étudiés, ainsi que on/ on n’ d’on/dont/donc, quel(s)/quelle(s)/qu’elle(s), sans/s’en ; la distinc­tion entre leur et leurs est en cours d’acquisition en fin de cycle.",{"$nulls":36},{"v":0,"d":"0%"},{"v":0,"d":"0%"},{"v":0,"d":"0%"},{"v":0,"d":"0%"},{"$f":"COUNTIF(D190:$AL190,\"NE\")/$AV$1","v":{"v":0,"d":"0%"}},{"v":0,"d":"0%"}]
[null,".ORG13","Distinguer par le sens les formes verbales homophones de l’imparfait et du passé composé. .",{"$nulls":36},{"v":0,"d":"0%"},{"v":0,"d":"0%"},{"v":0,"d":"0%"},{"v":0,"d":"0%"},{"$f":"COUNTIF(D191:$AL191,\"NE\")/$AV$1","v":{"v":0,"d":"0%"}},{"v":0,"d":"0%"}]
[null,"","Orthographe lexicale",{"$f":"COUNTA(D193:D201)*10","v":0},{"$f":"COUNTA(E193:E201)*10","v":0},0,0,0,0,0,0,0,0,0,0,0,0,0,0,0,0,0,0,0,0,0,0,0,0,0,0,0,0,0,0,0,{"$nulls":3},{"v":0,"d":"0%"},{"v":0,"d":"0%"},{"v":0,"d":"0%"},{"v":0,"d":"0%"},{"$f":"COUNTIF(D192:$AL192,\"NE\")/$AV$1","v":{"v":0,"d":"0%"}},{"v":0,"d":"0%"}]
[null,"ORL1","Ecrire sans erreur des noms et des adjectifs se terminant par une consonne muette (ex. chant, cf. chanteur ; blond, cf. blonde…).",{"$nulls":36},{"v":0,"d":"0%"},{"v":0,"d":"0%"},{"v":0,"d":"0%"},{"v":0,"d":"0%"},{"$f":"COUNTIF(D193:$AL193,\"NE\")/$AV$1","v":{"v":0,"d":"0%"}},{"v":0,"d":"0%"}]
[null,"ORL2","Ecrire sans erreur les mots mémorisés et régulièrement révisés, en particulier les mots invariables acquis aux CP et CE 1, des mots fréquents, des mots référents pour des sons. ",{"$nulls":36},{"v":0,"d":"0%"},{"v":0,"d":"0%"},{"v":0,"d":"0%"},{"v":0,"d":"0%"},{"$f":"COUNTIF(D194:$AL194,\"NE\")/$AV$1","v":{"v":0,"d":"0%"}},{"v":0,"d":"0%"}]
[null,"ORL3","Connaître la notion d’homonyme et écrire sans erreur un nombre croissant d’homonymes jusqu’à la fin du cycle. ",{"$nulls":36},{"v":0,"d":"0%"},{"v":0,"d":"0%"},{"v":0,"d":"0%"},{"v":0,"d":"0%"},{"$f":"COUNTIF(D195:$AL195,\"NE\")/$AV$1","v":{"v":0,"d":"0%"}},{"v":0,"d":"0%"}]
[null,"ORL4","Ecrire sans erreur des mots invariables, en particulier les plus fréquents de ceux étudiés en grammaire.",{"$nulls":36},{"v":0,"d":"0%"},{"v":0,"d":"0%"},{"v":0,"d":"0%"},{"v":0,"d":"0%"},{"$f":"COUNTIF(D196:$AL196,\"NE\")/$AV$1","v":{"v":0,"d":"0%"}},{"v":0,"d":"0%"}]
[null,"ORL5","S’appuyer sur sa connaissance des familles de mots pour écrire sans erreur des mots nouveaux (préfixe in-, im-, ilou ir-, suffixe -tion…).",{"$nulls":36},{"v":0,"d":"0%"},{"v":0,"d":"0%"},{"v":0,"d":"0%"},{"v":0,"d":"0%"},{"$f":"COUNTIF(D197:$AL197,\"NE\")/$AV$1","v":{"v":0,"d":"0%"}},{"v":0,"d":"0%"}]
[null,"ORL6","Mémoriser la graphie de la syllabe finale des noms terminés par -ail, -eil, -euil . ",{"$nulls":36},{"v":0,"d":"0%"},{"v":0,"d":"0%"},{"v":0,"d":"0%"},{"v":0,"d":"0%"},{"$f":"COUNTIF(D198:$AL198,\"NE\")/$AV$1","v":{"v":0,"d":"0%"}},{"v":0,"d":"0%"}]
[null,".ORL7","Ecrire correctement (doublement de la consonne) le début des mots commençant par ap-, ac-, af-, efet of-.",{"$nulls":36},{"$f":"COUNTIF($D199:$AL199,$AU$1)/$AV$1","v":{"v":0,"d":"0%"}},{"$f":"COUNTIF($D199:$AL199,$AU$2)/$AV$1","v":{"v":0,"d":"0%"}},{"$f":"COUNTIF($D199:$AL199,$AU$3)/$AV$1","v":{"v":0,"d":"0%"}},{"$f":"COUNTIF($D199:$AL199,$AU$4)/$AV$1","v":{"v":0,"d":"0%"}},{"$f":"COUNTIF(D199:$AL199,\"NE\")/$AV$1","v":{"v":0,"d":"0%"}},{"v":0,"d":"0%"}]
[null,".ORL8","Ecrire correctement la syllabe finale des noms terminés par -ée ; par -té ou -tié ; par un e muet.",{"$nulls":36},{"v":0,"d":"0%"},{"v":0,"d":"0%"},{"v":0,"d":"0%"},{"v":0,"d":"0%"},{"$f":"COUNTIF(D200:$AL200,\"NE\")/$AV$1","v":{"v":0,"d":"0%"}},{"$f":"AN200+(AO200*0.66)+(AP200*0.33)","v":{"v":0,"d":"0%"}}]
[null,".ORL9","Respecter la convention de la coupe syllabique à la ligne.",{"$nulls":36},{"v":0,"d":"0%"},{"v":0,"d":"0%"},{"v":0,"d":"0%"},{"v":0,"d":"0%"},{"$f":"COUNTIF(D201:$AL201,\"NE\")/$AV$1","v":{"v":0,"d":"0%"}},{"v":0,"d":"0%"}]
[null,""," NOMBRE ET CALCUL",{"$f":"D203+D209+D215+D223","v":0},{"$f":"E203+E209+E215+E223","v":0},0,0,0,0,0,0,0,0,0,0,0,0,0,0,0,0,0,0,0,0,0,0,0,0,0,0,0,0,0,0,0,{"$nulls":3},{"v":0,"d":"0%"},{"v":0,"d":"0%"},{"v":0,"d":"0%"},{"v":0,"d":"0%"},{"$f":"COUNTIF(D202:$AL202,\"NE\")/$AV$1","v":{"v":0,"d":"0%"}},{"v":0,"d":"0%"}]
[null,"","Les nombres entiers ",{"$f":"COUNTA(D204:D208)*10","v":0},{"$f":"COUNTA(E204:E208)*10","v":0},0,0,0,0,0,0,0,0,0,0,0,0,0,0,0,0,0,0,0,0,0,0,0,0,0,0,0,0,0,0,0,{"$nulls":3},{"v":0,"d":"0%"},{"v":0,"d":"0%"},{"v":0,"d":"0%"},{"v":0,"d":"0%"},{"$f":"COUNTIF(D203:$AL203,\"NE\")/$AV$1","v":{"v":0,"d":"0%"}},{"v":0,"d":"0%"}]
[null,".NE1"," Connaître, savoir écrire et nommer les nombres entiers (jusqu'au million CE2, jusqu’au milliard CM1 CM2).",{"$nulls":36},{"v":0,"d":"0%"},{"v":0,"d":"0%"},{"v":0,"d":"0%"},{"v":0,"d":"0%"},{"$f":"COUNTIF(D204:$AL204,\"NE\")/$AV$1","v":{"v":0,"d":"0%"}},{"v":0,"d":"0%"}]
[null,"NE2","Comparer, ranger, encadrer ces nombres.",{"$nulls":36},{"v":0,"d":"0%"},{"v":0,"d":"0%"},{"v":0,"d":"0%"},{"v":0,"d":"0%"},{"$f":"COUNTIF(D205:$AL205,\"NE\")/$AV$1","v":{"v":0,"d":"0%"}},{"v":0,"d":"0%"}]
[null,"NE3","Connaître et utiliser des expressions telles que: double, moitié ou demi, triple, quart; d’un nombre entier.",{"$nulls":36},{"v":0,"d":"0%"},{"v":0,"d":"0%"},{"v":0,"d":"0%"},{"v":0,"d":"0%"},{"$f":"COUNTIF(D206:$AL206,\"NE\")/$AV$1","v":{"v":0,"d":"0%"}},{"v":0,"d":"0%"}]
[null,"NE4","Connaître et utiliser certaines relations entre des nombres d’usage courant : entre 5, 10, 25, 50, 100, entre 15, 30 et 60.",{"$nulls":36},{"v":0,"d":"0%"},{"v":0,"d":"0%"},{"v":0,"d":"0%"},{"v":0,"d":"0%"},{"$f":"COUNTIF(D207:$AL207,\"NE\")/$AV$1","v":{"v":0,"d":"0%"}},{"v":0,"d":"0%"}]
[null,"NE5","La notion de multiple : reconnaître les multiples des nombres d’usage courant : 5, 10, 15, 20, 25, 50.",{"$nulls":36},{"v":0,"d":"0%"},{"v":0,"d":"0%"},{"v":0,"d":"0%"},{"v":0,"d":"0%"},{"$f":"COUNTIF(D208:$AL208,\"NE\")/$AV$1","v":{"v":0,"d":"0%"}},{"v":0,"d":"0%"}]
[null,"","Fractions ",{"$f":"COUNTA(D210:D214)*10","v":0},{"$f":"COUNTA(E210:E214)*10","v":0},0,0,0,0,0,0,0,0,0,0,0,0,0,0,0,0,0,0,0,0,0,0,0,0,0,0,0,0,0,0,0,{"$nulls":3},{"v":0,"d":"0%"},{"v":0,"d":"0%"},{"v":0,"d":"0%"},{"v":0,"d":"0%"},{"$f":"COUNTIF(D209:$AL209,\"NE\")/$AV$1","v":{"v":0,"d":"0%"}},{"v":0,"d":"0%"}]
[null,"NF6","Nommer les fractions simples et décimales en utilisant le vocabulaire: demi, tiers, quart, dixième, centième.",{"$nulls":36},{"v":0,"d":"0%"},{"v":0,"d":"0%"},{"v":0,"d":"0%"},{"v":0,"d":"0%"},{"$f":"COUNTIF(D210:$AL210,\"NE\")/$AV$1","v":{"v":0,"d":"0%"}},{"v":0,"d":"0%"}]
[null,"NF7","Utiliser, ces fractions dans des cas simples de partage, ou de codage de mesures de grandeurs.",{"$nulls":36},{"v":0,"d":"0%"},{"v":0,"d":"0%"},{"v":0,"d":"0%"},{"v":0,"d":"0%"},{"$f":"COUNTIF(D211:$AL211,\"NE\")/$AV$1","v":{"v":0,"d":"0%"}},{"v":0,"d":"0%"}]
[null,"NF8","Encadrer une fraction simple par deux entiers consécutifs.",{"$nulls":36},{"v":0,"d":"0%"},{"v":0,"d":"0%"},{"v":0,"d":"0%"},{"v":0,"d":"0%"},{"$f":"COUNTIF(D212:$AL212,\"NE\")/$AV$1","v":{"v":0,"d":"0%"}},{"v":0,"d":"0%"}]
[null,".NF9","Écrire une fraction sous forme de somme d’un entier et d’une fraction inférieure à 1.",{"$nulls":36},{"v":0,"d":"0%"},{"v":0,"d":"0%"},{"v":0,"d":"0%"},{"v":0,"d":"0%"},{"$f":"COUNTIF(D213:$AL213,\"NE\")/$AV$1","v":{"v":0,"d":"0%"}},{"v":0,"d":"0%"}]
[null,".NF10","Ajouter 2 fractions décimales, ou deux fractions simples de même dénominateur.",{"$nulls":36},{"v":0,"d":"0%"},{"v":0,"d":"0%"},{"v":0,"d":"0%"},{"v":0,"d":"0%"},{"$f":"COUNTIF(D214:$AL214,\"NE\")/$AV$1","v":{"v":0,"d":"0%"}},{"v":0,"d":"0%"}]
[null,"","Nombres décimaux ",{"$f":"COUNTA(D216:D222)*10","v":0},{"$f":"COUNTA(E216:E222)*10","v":0},0,0,0,0,0,0,0,0,0,0,0,0,0,0,0,0,0,0,0,0,0,0,0,0,0,0,0,0,0,0,0,{"$nulls":3},{"v":0,"d":"0%"},{"v":0,"d":"0%"},{"v":0,"d":"0%"},{"v":0,"d":"0%"},{"$f":"COUNTIF(D215:$AL215,\"NE\")/$AV$1","v":{"v":0,"d":"0%"}},{"v":0,"d":"0%"}]
[null,"ND11","Connaître la valeur de chacun des chiffres de la partie décimale en fonction de sa position (jusqu’au 1/10 000e)",{"$nulls":36},{"v":0,"d":"0%"},{"v":0,"d":"0%"},{"v":0,"d":"0%"},{"v":0,"d":"0%"},{"$f":"COUNTIF(D216:$AL216,\"NE\")/$AV$1","v":{"v":0,"d":"0%"}},{"v":0,"d":"0%"}]
[null,"ND12","Repérer, placer les nombres décimaux sur une droite graduée,",{"$nulls":36},{"v":0,"d":"0%"},{"v":0,"d":"0%"},{"v":0,"d":"0%"},{"v":0,"d":"0%"},{"$f":"COUNTIF(D217:$AL217,\"NE\")/$AV$1","v":{"v":0,"d":"0%"}},{"v":0,"d":"0%"}]
[null,"ND13","Comparer, ranger les nombres décimaux,",{"$nulls":36},{"v":0,"d":"0%"},{"v":0,"d":"0%"},{"v":0,"d":"0%"},{"v":0,"d":"0%"},{"$f":"COUNTIF(D218:$AL218,\"NE\")/$AV$1","v":{"v":0,"d":"0%"}},{"v":0,"d":"0%"}]
[null,"ND14","Encadrer les nombres décimaux par deux nombres entiers consécutifs,",{"$nulls":36},{"v":0,"d":"0%"},{"v":0,"d":"0%"},{"v":0,"d":"0%"},{"v":0,"d":"0%"},{"$f":"COUNTIF(D219:$AL219,\"NE\")/$AV$1","v":{"v":0,"d":"0%"}},{"v":0,"d":"0%"}]
[null,"ND15","Passer d’une écriture fractionnaire à une écriture à virgule et réciproquement.",{"$nulls":36},{"v":0,"d":"0%"},{"v":0,"d":"0%"},{"v":0,"d":"0%"},{"v":0,"d":"0%"},{"$f":"COUNTIF(D220:$AL220,\"NE\")/$AV$1","v":{"v":0,"d":"0%"}},{"v":0,"d":"0%"}]
[null,"ND16","Produire des décompositions liées à une écriture à virgule, en utilisant 10; 100; 1000... et 0,1; 0,001... ",{"$nulls":36},{"v":0,"d":"0%"},{"v":0,"d":"0%"},{"v":0,"d":"0%"},{"v":0,"d":"0%"},{"$f":"COUNTIF(D221:$AL221,\"NE\")/$AV$1","v":{"v":0,"d":"0%"}},{"v":0,"d":"0%"}]
[null,".ND17","Donner une valeur approchée à l’unité près, au dixième ou au centième près.",{"$nulls":36},{"v":0,"d":"0%"},{"v":0,"d":"0%"},{"v":0,"d":"0%"},{"v":0,"d":"0%"},{"$f":"COUNTIF(D222:$AL222,\"NE\")/$AV$1","v":{"v":0,"d":"0%"}},{"v":0,"d":"0%"}]
[null,"","Calcul ",{"$f":"D224+D231+D248","v":0},{"$f":"E224+E231+E248","v":0},0,0,0,0,0,0,0,0,0,0,0,0,0,0,0,0,0,0,0,0,0,0,0,0,0,0,0,0,0,0,0,{"$nulls":3},{"v":0,"d":"0%"},{"v":0,"d":"0%"},{"v":0,"d":"0%"},{"v":0,"d":"0%"},{"$f":"COUNTIF(D223:$AL223,\"NE\")/$AV$1","v":{"v":0,"d":"0%"}},{"v":0,"d":"0%"}]
[null,"","Calculer mentalement ",{"$f":"COUNTA(D225:D230)*10","v":0},{"$f":"COUNTA(E225:E230)*10","v":0},0,0,0,0,0,0,0,0,0,0,0,0,0,0,0,0,0,0,0,0,0,0,0,0,0,0,0,0,0,0,0,{"$nulls":3},{"v":0,"d":"0%"},{"v":0,"d":"0%"},{"v":0,"d":"0%"},{"v":0,"d":"0%"},{"$f":"COUNTIF(D224:$AL224,\"NE\")/$AV$1","v":{"v":0,"d":"0%"}},{"v":0,"d":"0%"}]
[null,".CAL1","Mémoriser et mobiliser les résultats des tables d’addition et de multiplication ",{"$nulls":36},{"v":0,"d":"0%"},{"v":0,"d":"0%"},{"v":0,"d":"0%"},{"v":0,"d":"0%"},{"$f":"COUNTIF(D225:$AL225,\"NE\")/$AV$1","v":{"v":0,"d":"0%"}},{"v":0,"d":"0%"}]
[null,".CAL2","Calculer mentalement des sommes, des différences, des produits. ",{"$nulls":36},{"v":0,"d":"0%"},{"v":0,"d":"0%"},{"v":0,"d":"0%"},{"v":0,"d":"0%"},{"$f":"COUNTIF(D226:$AL226,\"NE\")/$AV$1","v":{"v":0,"d":"0%"}},{"v":0,"d":"0%"}]
[null,".CAL3","Multiplier mentalement un nombre entier ou décimal par 10, 100, 1000 ;",{"$nulls":36},{"v":0,"d":"0%"},{"v":0,"d":"0%"},{"v":0,"d":"0%"},{"v":0,"d":"0%"},{"$f":"COUNTIF(D227:$AL227,\"NE\")/$AV$1","v":{"v":0,"d":"0%"}},{"v":0,"d":"0%"}]
[null,"CAL4","Estimer mentalement un ordre de grandeur du résultat.",{"$nulls":36},{"v":0,"d":"0%"},{"v":0,"d":"0%"},{"v":0,"d":"0%"},{"v":0,"d":"0%"},{"$f":"COUNTIF(D228:$AL228,\"NE\")/$AV$1","v":{"v":0,"d":"0%"}},{"v":0,"d":"0%"}]
[null,".CAL5","Consolider les connaissances et capacités en calcul mental sur les nombres entiers et décimaux;",{"$nulls":36},{"v":0,"d":"0%"},{"v":0,"d":"0%"},{"v":0,"d":"0%"},{"v":0,"d":"0%"},{"$f":"COUNTIF(D229:$AL229,\"NE\")/$AV$1","v":{"v":0,"d":"0%"}},{"v":0,"d":"0%"}]
[null,".CAL6","Diviser un nombre entier ou décimal par 10, 100, 1000. ",{"$nulls":36},{"v":0,"d":"0%"},{"v":0,"d":"0%"},{"v":0,"d":"0%"},{"v":0,"d":"0%"},{"$f":"COUNTIF(D230:$AL230,\"NE\")/$AV$1","v":{"v":0,"d":"0%"}},{"v":0,"d":"0%"}]
[null,"","Effectuer un calcul posé ",{"$f":"COUNTA(D232:D247)*10","v":0},{"$f":"COUNTA(E232:E247)*10","v":0},0,0,0,0,0,0,0,0,0,0,0,0,0,0,0,0,0,0,0,0,0,0,0,0,0,0,0,0,0,0,0,{"$nulls":3},{"v":0,"d":"0%"},{"v":0,"d":"0%"},{"v":0,"d":"0%"},{"v":0,"d":"0%"},{"$f":"COUNTIF(D231:$AL231,\"NE\")/$AV$1","v":{"v":0,"d":"0%"}},{"v":0,"d":"0%"}]
[null,"CAL7","Addition des nombres entiers",{"$nulls":36},{"v":0,"d":"0%"},{"v":0,"d":"0%"},{"v":0,"d":"0%"},{"v":0,"d":"0%"},{"$f":"COUNTIF(D232:$AL232,\"NE\")/$AV$1","v":{"v":0,"d":"0%"}},{"v":0,"d":"0%"}]
[null,"CAL8","Soustraction des nombres entiers",{"$nulls":36},{"v":0,"d":"0%"},{"v":0,"d":"0%"},{"v":0,"d":"0%"},{"v":0,"d":"0%"},{"$f":"COUNTIF(D233:$AL233,\"NE\")/$AV$1","v":{"v":0,"d":"0%"}},{"v":0,"d":"0%"}]
[null,"CAL9","Multiplication des nombres entiers",{"$nulls":36},{"v":0,"d":"0%"},{"v":0,"d":"0%"},{"v":0,"d":"0%"},{"v":0,"d":"0%"},{"$f":"COUNTIF(D234:$AL234,\"NE\")/$AV$1","v":{"v":0,"d":"0%"}},{"v":0,"d":"0%"}]
[null,"CAL10","Connaître une technique opératoire de la division et la mettre en œuvre avec un diviseur à un chiffre.",{"$nulls":36},{"v":0,"d":"0%"},{"v":0,"d":"0%"},{"v":0,"d":"0%"},{"v":0,"d":"0%"},{"$f":"COUNTIF(D235:$AL235,\"NE\")/$AV$1","v":{"v":0,"d":"0%"}},{"v":0,"d":"0%"}]
[null,"CAL11","Organiser ses calculs pour trouver un résultat par calcul mental, posé, où à l’aide de la calculatrice.",{"$nulls":36},{"v":0,"d":"0%"},{"v":0,"d":"0%"},{"v":0,"d":"0%"},{"v":0,"d":"0%"},{"$f":"COUNTIF(D236:$AL236,\"NE\")/$AV$1","v":{"v":0,"d":"0%"}},{"v":0,"d":"0%"}]
[null,"CAL12","Utiliser les touches des opérations de la calculatrice.",{"$nulls":36},{"v":0,"d":"0%"},{"v":0,"d":"0%"},{"v":0,"d":"0%"},{"v":0,"d":"0%"},{"$f":"COUNTIF(D237:$AL237,\"NE\")/$AV$1","v":{"v":0,"d":"0%"}},{"v":0,"d":"0%"}]
[null,"CAL13","Addition et soustraction de deux nombres décimaux.",{"$nulls":36},{"v":0,"d":"0%"},{"v":0,"d":"0%"},{"v":0,"d":"0%"},{"v":0,"d":"0%"},{"$f":"COUNTIF(D238:$AL238,\"NE\")/$AV$1","v":{"v":0,"d":"0%"}},{"v":0,"d":"0%"}]
[null,"CAL14","Multiplication d’un nombre décimal par un nombre entier.",{"$nulls":36},{"v":0,"d":"0%"},{"v":0,"d":"0%"},{"v":0,"d":"0%"},{"v":0,"d":"0%"},{"$f":"COUNTIF(D239:$AL239,\"NE\")/$AV$1","v":{"v":0,"d":"0%"}},{"v":0,"d":"0%"}]
[null,"CAL15","Division euclidienne de deux entiers.",{"$nulls":36},{"v":0,"d":"0%"},{"v":0,"d":"0%"},{"v":0,"d":"0%"},{"v":0,"d":"0%"},{"$f":"COUNTIF(D240:$AL240,\"NE\")/$AV$1","v":{"v":0,"d":"0%"}},{"v":0,"d":"0%"}]
[null,"CAL16","Division décimale de deux entiers",{"$nulls":36},{"v":0,"d":"0%"},{"v":0,"d":"0%"},{"v":0,"d":"0%"},{"v":0,"d":"0%"},{"$f":"COUNTIF(D241:$AL241,\"NE\")/$AV$1","v":{"v":0,"d":"0%"}},{"v":0,"d":"0%"}]
[null,"CAL17","Connaître quelques fonctionnalités de la calculatrice utiles pour effectuer une suite de calculs.",{"$nulls":36},{"v":0,"d":"0%"},{"v":0,"d":"0%"},{"v":0,"d":"0%"},{"v":0,"d":"0%"},{"$f":"COUNTIF(D242:$AL242,\"NE\")/$AV$1","v":{"v":0,"d":"0%"}},{"v":0,"d":"0%"}]
[null,".CAL18","Addition de deux nombres décimaux",{"$nulls":36},{"v":0,"d":"0%"},{"v":0,"d":"0%"},{"v":0,"d":"0%"},{"v":0,"d":"0%"},{"$f":"COUNTIF(D243:$AL243,\"NE\")/$AV$1","v":{"v":0,"d":"0%"}},{"v":0,"d":"0%"}]
[null,".CAL19","Soustraction de deux nombres décimaux",{"$nulls":36},{"v":0,"d":"0%"},{"v":0,"d":"0%"},{"v":0,"d":"0%"},{"v":0,"d":"0%"},{"$f":"COUNTIF(D244:$AL244,\"NE\")/$AV$1","v":{"v":0,"d":"0%"}},{"v":0,"d":"0%"}]
[null,".CAL20","Multiplication de deux nombres décimaux",{"$nulls":36},{"v":0,"d":"0%"},{"v":0,"d":"0%"},{"v":0,"d":"0%"},{"v":0,"d":"0%"},{"$f":"COUNTIF(D245:$AL245,\"NE\")/$AV$1","v":{"v":0,"d":"0%"}},{"v":0,"d":"0%"}]
[null,".CAL21","Division d’un nombre décimal par un nombre entier.",{"$nulls":36},{"v":0,"d":"0%"},{"v":0,"d":"0%"},{"v":0,"d":"0%"},{"v":0,"d":"0%"},{"$f":"COUNTIF(D246:$AL246,\"NE\")/$AV$1","v":{"v":0,"d":"0%"}},{"v":0,"d":"0%"}]
[null,".CAL22","Utiliser sa calculatrice à bon escient.",{"$nulls":36},{"v":0,"d":"0%"},{"v":0,"d":"0%"},{"v":0,"d":"0%"},{"v":0,"d":"0%"},{"$f":"COUNTIF(D247:$AL247,\"NE\")/$AV$1","v":{"v":0,"d":"0%"}},{"v":0,"d":"0%"}]
[null,"","Problèmes ",{"$f":"COUNTA(D249:D251)*10","v":0},{"$f":"COUNTA(E249:E251)*10","v":0},0,0,0,0,0,0,0,0,0,0,0,0,0,0,0,0,0,0,0,0,0,0,0,0,0,0,0,0,0,0,0,{"$nulls":3},{"v":0,"d":"0%"},{"v":0,"d":"0%"},{"v":0,"d":"0%"},{"v":0,"d":"0%"},{"$f":"COUNTIF(D248:$AL248,\"NE\")/$AV$1","v":{"v":0,"d":"0%"}},{"v":0,"d":"0%"}]
[null,".PB1","Résoudre des problèmes relevant des quatre opérations.",{"$nulls":36},{"v":0,"d":"0%"},{"v":0,"d":"0%"},{"v":0,"d":"0%"},{"v":0,"d":"0%"},{"$f":"COUNTIF(D249:$AL249,\"NE\")/$AV$1","v":{"v":0,"d":"0%"}},{"v":0,"d":"0%"}]
[null,".PB2","Résoudre des problèmes engageant une démarche à une ou plusieurs étapes.",{"$nulls":36},{"v":0,"d":"0%"},{"v":0,"d":"0%"},{"v":0,"d":"0%"},{"v":0,"d":"0%"},{"$f":"COUNTIF(D250:$AL250,\"NE\")/$AV$1","v":{"v":0,"d":"0%"}},{"v":0,"d":"0%"}]
[null,".PB3","Résoudre des problèmes de plus en plus complexes.",{"$nulls":36},{"v":0,"d":"0%"},{"v":0,"d":"0%"},{"v":0,"d":"0%"},{"v":0,"d":"0%"},{"$f":"COUNTIF(D251:$AL251,\"NE\")/$AV$1","v":{"v":0,"d":"0%"}},{"v":0,"d":"0%"}]
[null,null,"GEOMETRIE",{"$f":"D253+D268+D275","v":0},{"$f":"E253+E268+E275","v":0},0,0,0,0,0,0,0,0,0,0,0,0,0,0,0,0,0,0,0,0,0,0,0,0,0,0,0,0,0,0,0,{"$nulls":3},{"v":0,"d":"0%"},{"v":0,"d":"0%"},{"v":0,"d":"0%"},{"v":0,"d":"0%"},{"$f":"COUNTIF(D252:$AL252,\"NE\")/$AV$1","v":{"v":0,"d":"0%"}},{"v":0,"d":"0%"}]
[null,null,"Dans le plan",{"$f":"COUNTA(D254:D267)*10","v":0},{"$f":"COUNTA(E254:E267)*10","v":0},0,0,0,0,0,0,0,0,0,0,0,0,0,0,0,0,0,0,0,0,0,0,0,0,0,0,0,0,0,0,0,{"$nulls":3},{"v":0,"d":"0%"},{"v":0,"d":"0%"},{"v":0,"d":"0%"},{"v":0,"d":"0%"},{"$f":"COUNTIF(D253:$AL253,\"NE\")/$AV$1","v":{"v":0,"d":"0%"}},{"v":0,"d":"0%"}]
[null,".GE1","Reconnaître, décrire, nommer et reproduire, tracer des figures géométriques:  carré, rectangle, losange, triangle rectangle;",{"$nulls":36},{"v":0,"d":"0%"},{"v":0,"d":"0%"},{"v":0,"d":"0%"},{"v":0,"d":"0%"},{"$f":"COUNTIF(D254:$AL254,\"NE\")/$AV$1","v":{"v":0,"d":"0%"}},{"v":0,"d":"0%"}]
[null,"GE2","Vérifier la nature d’une figure plane en utilisant la règle graduée et l’équerre. ",{"$nulls":36},{"v":0,"d":"0%"},{"v":0,"d":"0%"},{"v":0,"d":"0%"},{"v":0,"d":"0%"},{"$f":"COUNTIF(D255:$AL255,\"NE\")/$AV$1","v":{"v":0,"d":"0%"}},{"v":0,"d":"0%"}]
[null,"GE3","Construire un cercle avec un compas.",{"$nulls":36},{"v":0,"d":"0%"},{"v":0,"d":"0%"},{"v":0,"d":"0%"},{"v":0,"d":"0%"},{"$f":"COUNTIF(D256:$AL256,\"NE\")/$AV$1","v":{"v":0,"d":"0%"}},{"v":0,"d":"0%"}]
[null,"GE4","Utiliser en situation le vocabulaire : côté, sommet, angle, milieu.",{"$nulls":36},{"v":0,"d":"0%"},{"v":0,"d":"0%"},{"v":0,"d":"0%"},{"v":0,"d":"0%"},{"$f":"COUNTIF(D257:$AL257,\"NE\")/$AV$1","v":{"v":0,"d":"0%"}},{"v":0,"d":"0%"}]
[null,"GE5","Reconnaître qu’une figure possède un ou plusieurs axes de symétrie, par pliage ou à l’aide du papier calque.",{"$nulls":36},{"v":0,"d":"0%"},{"v":0,"d":"0%"},{"v":0,"d":"0%"},{"v":0,"d":"0%"},{"$f":"COUNTIF(D258:$AL258,\"NE\")/$AV$1","v":{"v":0,"d":"0%"}},{"v":0,"d":"0%"}]
[null,"GE6","Tracer, sur papier quadrillé, la figure symétrique d’une figure donnée par rapport à une droite donnée. ",{"$nulls":36},{"v":0,"d":"0%"},{"v":0,"d":"0%"},{"v":0,"d":"0%"},{"v":0,"d":"0%"},{"$f":"COUNTIF(D259:$AL259,\"NE\")/$AV$1","v":{"v":0,"d":"0%"}},{"v":0,"d":"0%"}]
[null,"GE7","Reconnaître que des droites sont parallèles.",{"$nulls":36},{"v":0,"d":"0%"},{"v":0,"d":"0%"},{"v":0,"d":"0%"},{"v":0,"d":"0%"},{"$f":"COUNTIF(D260:$AL260,\"NE\")/$AV$1","v":{"v":0,"d":"0%"}},{"v":0,"d":"0%"}]
[null,"GE8","Utiliser en situation le vocabulaire géométrique : points alignés, droite, droites perpendiculaires, droites parallèles, segment, milieu, angle, axe de symétrie, centre d’un cercle, rayon, diamètre. ",{"$nulls":36},{"v":0,"d":"0%"},{"v":0,"d":"0%"},{"v":0,"d":"0%"},{"v":0,"d":"0%"},{"$f":"COUNTIF(D261:$AL261,\"NE\")/$AV$1","v":{"v":0,"d":"0%"}},{"v":0,"d":"0%"}]
[null,"GE9","Vérifier la nature d’une figure plane simple  en utilisant la règle graduée, l’équerre, le compas.",{"$nulls":36},{"v":0,"d":"0%"},{"v":0,"d":"0%"},{"v":0,"d":"0%"},{"v":0,"d":"0%"},{"$f":"COUNTIF(D262:$AL262,\"NE\")/$AV$1","v":{"v":0,"d":"0%"}},{"v":0,"d":"0%"}]
[null,".GE10","Décrire une figure en vue de l’identifier parmi d’autres figures ou de la faire reproduire. ",{"$nulls":36},{"$f":"COUNTIF($D263:$AL263,$AU$1)/$AV$1","v":{"v":0,"d":"0%"}},{"$f":"COUNTIF($D263:$AL263,$AU$2)/$AV$1","v":{"v":0,"d":"0%"}},{"$f":"COUNTIF($D263:$AL263,$AU$3)/$AV$1","v":{"v":0,"d":"0%"}},{"$f":"COUNTIF($D263:$AL263,$AU$4)/$AV$1","v":{"v":0,"d":"0%"}},{"$f":"COUNTIF(D263:$AL263,\"NE\")/$AV$1","v":{"v":0,"d":"0%"}},{"v":0,"d":"0%"}]
[null,"GE11","Utiliser les instruments pour vérifier le parallélisme de deux droites (règle et équerre) et pour tracer des droites parallèles.",{"$nulls":36},{"v":0,"d":"0%"},{"v":0,"d":"0%"},{"v":0,"d":"0%"},{"v":0,"d":"0%"},{"$f":"COUNTIF(D264:$AL264,\"NE\")/$AV$1","v":{"v":0,"d":"0%"}},{"$f":"AN264+(AO264*0.66)+(AP264*0.33)","v":{"v":0,"d":"0%"}}]
[null,"GE12","Vérifier la nature d’une figure en ayant recours aux instruments.",{"$nulls":36},{"v":0,"d":"0%"},{"v":0,"d":"0%"},{"v":0,"d":"0%"},{"v":0,"d":"0%"},{"$f":"COUNTIF(D265:$AL265,\"NE\")/$AV$1","v":{"v":0,"d":"0%"}},{"v":0,"d":"0%"}]
[null,"GE13","Construire une hauteur d’un triangle.",{"$nulls":36},{"v":0,"d":"0%"},{"v":0,"d":"0%"},{"v":0,"d":"0%"},{"v":0,"d":"0%"},{"$f":"COUNTIF(D266:$AL266,\"NE\")/$AV$1","v":{"v":0,"d":"0%"}},{"v":0,"d":"0%"}]
[null,"GE14","Reproduire un triangle à l’aide d’instruments.",{"$nulls":36},{"v":0,"d":"0%"},{"v":0,"d":"0%"},{"v":0,"d":"0%"},{"v":0,"d":"0%"},{"$f":"COUNTIF(D267:$AL267,\"NE\")/$AV$1","v":{"v":0,"d":"0%"}},{"v":0,"d":"0%"}]
[null,"","Dans l’espace",{"$f":"COUNTA(D269:D274)*10","v":0},{"$f":"COUNTA(E269:E274)*10","v":0},0,0,0,0,0,0,0,0,0,0,0,0,0,0,0,0,0,0,0,0,0,0,0,0,0,0,0,0,0,0,0,{"$nulls":3},{"v":0,"d":"0%"},{"v":0,"d":"0%"},{"v":0,"d":"0%"},{"v":0,"d":"0%"},{"$f":"COUNTIF(D268:$AL268,\"NE\")/$AV$1","v":{"v":0,"d":"0%"}},{"v":0,"d":"0%"}]
[null,"GE15","Reconnaître, décrire et nommer : un cube, un pavé droit.",{"$nulls":36},{"v":0,"d":"0%"},{"v":0,"d":"0%"},{"v":0,"d":"0%"},{"v":0,"d":"0%"},{"$f":"COUNTIF(D269:$AL269,\"NE\")/$AV$1","v":{"v":0,"d":"0%"}},{"v":0,"d":"0%"}]
[null,"GE16","Utiliser en situation le vocabulaire : face, arête, sommet.",{"$nulls":36},{"v":0,"d":"0%"},{"v":0,"d":"0%"},{"v":0,"d":"0%"},{"v":0,"d":"0%"},{"$f":"COUNTIF(D270:$AL270,\"NE\")/$AV$1","v":{"v":0,"d":"0%"}},{"v":0,"d":"0%"}]
[null,"GE17","Reconnaître, décrire et nommer les solides droits : cube, pavé,  prisme.",{"$nulls":36},{"v":0,"d":"0%"},{"v":0,"d":"0%"},{"v":0,"d":"0%"},{"v":0,"d":"0%"},{"$f":"COUNTIF(D271:$AL271,\"NE\")/$AV$1","v":{"v":0,"d":"0%"}},{"v":0,"d":"0%"}]
[null,"GE18","Reconnaître ou compléter un patron de cube ou de pavé.",{"$nulls":36},{"v":0,"d":"0%"},{"v":0,"d":"0%"},{"v":0,"d":"0%"},{"v":0,"d":"0%"},{"$f":"COUNTIF(D272:$AL272,\"NE\")/$AV$1","v":{"v":0,"d":"0%"}},{"v":0,"d":"0%"}]
[null,"GE19","Reconnaître, décrire et nommer les solides droits : cube, pavé, cylindre, prisme.",{"$nulls":36},{"v":0,"d":"0%"},{"v":0,"d":"0%"},{"v":0,"d":"0%"},{"v":0,"d":"0%"},{"$f":"COUNTIF(D273:$AL273,\"NE\")/$AV$1","v":{"v":0,"d":"0%"}},{"v":0,"d":"0%"}]
[null,"GE20","Reconnaître ou compléter un patron de solide droit.",{"$nulls":36},{"v":0,"d":"0%"},{"v":0,"d":"0%"},{"v":0,"d":"0%"},{"v":0,"d":"0%"},{"$f":"COUNTIF(D274:$AL274,\"NE\")/$AV$1","v":{"v":0,"d":"0%"}},{"v":0,"d":"0%"}]
[null,"","Problèmes de reproduction, de construction. ",{"$f":"COUNTA(D276:D280)*10","v":0},{"$f":"COUNTA(E276:E280)*10","v":0},0,0,0,0,0,0,0,0,0,0,0,0,0,0,0,0,0,0,0,0,0,0,0,0,0,0,0,0,0,0,0,{"$nulls":3},{"v":0,"d":"0%"},{"v":0,"d":"0%"},{"v":0,"d":"0%"},{"v":0,"d":"0%"},{"$f":"COUNTIF(D275:$AL275,\"NE\")/$AV$1","v":{"v":0,"d":"0%"}},{"v":0,"d":"0%"}]
[null,"GE21","Reproduire des figures (sur papier uni, quadrillé ou pointé) à partir d’un modèle.",{"$nulls":36},{"v":0,"d":"0%"},{"v":0,"d":"0%"},{"v":0,"d":"0%"},{"v":0,"d":"0%"},{"$f":"COUNTIF(D276:$AL276,\"NE\")/$AV$1","v":{"v":0,"d":"0%"}},{"v":0,"d":"0%"}]
[null,"GE22","Construire un carré ou un rectangle de dimensions données.",{"$nulls":36},{"v":0,"d":"0%"},{"v":0,"d":"0%"},{"v":0,"d":"0%"},{"v":0,"d":"0%"},{"$f":"COUNTIF(D277:$AL277,\"NE\")/$AV$1","v":{"v":0,"d":"0%"}},{"v":0,"d":"0%"}]
[null,"GE23","Compléter une figure par symétrie axiale.",{"$nulls":36},{"v":0,"d":"0%"},{"v":0,"d":"0%"},{"v":0,"d":"0%"},{"v":0,"d":"0%"},{"$f":"COUNTIF(D278:$AL278,\"NE\")/$AV$1","v":{"v":0,"d":"0%"}},{"v":0,"d":"0%"}]
[null,"GE24","Tracer une figure simple à partir d’un programme de construction ou en suivant des consignes.",{"$nulls":36},{"v":0,"d":"0%"},{"v":0,"d":"0%"},{"v":0,"d":"0%"},{"v":0,"d":"0%"},{"$f":"COUNTIF(D279:$AL279,\"NE\")/$AV$1","v":{"v":0,"d":"0%"}},{"v":0,"d":"0%"}]
[null,"GE25","Tracer une figure (sur papier uni, quadrillé ou pointé), à partir, d’un programme de construction ou d’un dessin à main levée (avec des indications relatives aux propriétés et aux dimensions).",{"$nulls":36},{"v":0,"d":"0%"},{"v":0,"d":"0%"},{"v":0,"d":"0%"},{"v":0,"d":"0%"},{"$f":"COUNTIF(D280:$AL280,\"NE\")/$AV$1","v":{"v":0,"d":"0%"}},{"v":0,"d":"0%"}]
[null,""," GRANDEURS ET MESURE",{"$f":"COUNTA(D282:D297)*10+D298+D303+D307","v":0},{"$f":"COUNTA(E282:E297)*10+E298+E303+E307","v":0},0,0,0,0,0,0,0,0,0,0,0,0,0,0,0,0,0,0,0,0,0,0,0,0,0,0,0,0,0,0,0,{"$nulls":3},{"v":0,"d":"0%"},{"v":0,"d":"0%"},{"v":0,"d":"0%"},{"v":0,"d":"0%"},{"$f":"COUNTIF(D281:$AL281,\"NE\")/$AV$1","v":{"v":0,"d":"0%"}},{"v":0,"d":"0%"}]
[null,"GM1","Connaître les unités de mesure suivantes et les relations qui les lient:",{"$nulls":36},{"v":0,"d":"0%"},{"v":0,"d":"0%"},{"v":0,"d":"0%"},{"v":0,"d":"0%"},{"$f":"COUNTIF(D282:$AL282,\"NE\")/$AV$1","v":{"v":0,"d":"0%"}},{"v":0,"d":"0%"}]
[null,"GM2","Longueur : le mètre, le km, le cm, le mm ;",{"$nulls":36},{"v":0,"d":"0%"},{"v":0,"d":"0%"},{"v":0,"d":"0%"},{"v":0,"d":"0%"},{"$f":"COUNTIF(D283:$AL283,\"NE\")/$AV$1","v":{"v":0,"d":"0%"}},{"v":0,"d":"0%"}]
[null,"GM3","Masse : le kilogramme, le gramme ;",{"$nulls":36},{"v":0,"d":"0%"},{"v":0,"d":"0%"},{"v":0,"d":"0%"},{"v":0,"d":"0%"},{"$f":"COUNTIF(D284:$AL284,\"NE\")/$AV$1","v":{"v":0,"d":"0%"}},{"v":0,"d":"0%"}]
[null,"GM4","Capacité : le litre, le centilitre ;",{"$nulls":36},{"v":0,"d":"0%"},{"v":0,"d":"0%"},{"v":0,"d":"0%"},{"v":0,"d":"0%"},{"$f":"COUNTIF(D285:$AL285,\"NE\")/$AV$1","v":{"v":0,"d":"0%"}},{"v":0,"d":"0%"}]
[null,"GM5","Monnaie : l’euro et le centime ;",{"$nulls":36},{"v":0,"d":"0%"},{"v":0,"d":"0%"},{"v":0,"d":"0%"},{"v":0,"d":"0%"},{"$f":"COUNTIF(D286:$AL286,\"NE\")/$AV$1","v":{"v":0,"d":"0%"}},{"v":0,"d":"0%"}]
[null,"GM6","Temps : l’heure, la minute, la seconde, le mois, l’année.",{"$nulls":36},{"v":0,"d":"0%"},{"v":0,"d":"0%"},{"v":0,"d":"0%"},{"v":0,"d":"0%"},{"$f":"COUNTIF(D287:$AL287,\"NE\")/$AV$1","v":{"v":0,"d":"0%"}},{"v":0,"d":"0%"}]
[null,".GM7","Utiliser des instruments pour mesurer des longueurs, des masses, des capacités, puis exprimer cette mesure par un nombre entier ou un encadrement par deux nombres entiers. ",{"$nulls":36},{"v":0,"d":"0%"},{"v":0,"d":"0%"},{"v":0,"d":"0%"},{"v":0,"d":"0%"},{"$f":"COUNTIF(D288:$AL288,\"NE\")/$AV$1","v":{"v":0,"d":"0%"}},{"v":0,"d":"0%"}]
[null,".GM8","Vérifier qu’un angle est droit en utilisant l’équerre ou un gabarit.",{"$nulls":36},{"v":0,"d":"0%"},{"v":0,"d":"0%"},{"v":0,"d":"0%"},{"v":0,"d":"0%"},{"$f":"COUNTIF(D289:$AL289,\"NE\")/$AV$1","v":{"v":0,"d":"0%"}},{"v":0,"d":"0%"}]
[null,".GM9","Calculer le périmètre d’un polygone.",{"$nulls":36},{"v":0,"d":"0%"},{"v":0,"d":"0%"},{"v":0,"d":"0%"},{"v":0,"d":"0%"},{"$f":"COUNTIF(D290:$AL290,\"NE\")/$AV$1","v":{"v":0,"d":"0%"}},{"v":0,"d":"0%"}]
[null,"GM10","Lire l’heure sur une montre à aiguilles ou une horloge.",{"$nulls":36},{"v":0,"d":"0%"},{"v":0,"d":"0%"},{"v":0,"d":"0%"},{"v":0,"d":"0%"},{"$f":"COUNTIF(D291:$AL291,\"NE\")/$AV$1","v":{"v":0,"d":"0%"}},{"v":0,"d":"0%"}]
[null,".GM11","Connaître et utiliser les unités usuelles de mesure des durées, ainsi que les unités du système métrique pour les longueurs, les masses et les contenances, et leurs relations ;",{"$nulls":36},{"v":0,"d":"0%"},{"v":0,"d":"0%"},{"v":0,"d":"0%"},{"v":0,"d":"0%"},{"$f":"COUNTIF(D292:$AL292,\"NE\")/$AV$1","v":{"v":0,"d":"0%"}},{"v":0,"d":"0%"}]
[null,".GM12","Reporter des longueurs à l’aide du compas.",{"$nulls":36},{"v":0,"d":"0%"},{"v":0,"d":"0%"},{"v":0,"d":"0%"},{"v":0,"d":"0%"},{"$f":"COUNTIF(D293:$AL293,\"NE\")/$AV$1","v":{"v":0,"d":"0%"}},{"v":0,"d":"0%"}]
[null,".GM13","Formules du périmètre du carré et du rectangle ;",{"$nulls":36},{"v":0,"d":"0%"},{"v":0,"d":"0%"},{"v":0,"d":"0%"},{"v":0,"d":"0%"},{"$f":"COUNTIF(D294:$AL294,\"NE\")/$AV$1","v":{"v":0,"d":"0%"}},{"v":0,"d":"0%"}]
[null,"GM14","Calculer une durée à partir de la donnée de l’instant initial et de l’instant final ;",{"$nulls":36},{"v":0,"d":"0%"},{"v":0,"d":"0%"},{"v":0,"d":"0%"},{"v":0,"d":"0%"},{"$f":"COUNTIF(D295:$AL295,\"NE\")/$AV$1","v":{"v":0,"d":"0%"}},{"v":0,"d":"0%"}]
[null,"GM15","Formule de la longueur d’un cercle.",{"$nulls":36},{"v":0,"d":"0%"},{"v":0,"d":"0%"},{"v":0,"d":"0%"},{"v":0,"d":"0%"},{"$f":"COUNTIF(D296:$AL296,\"NE\")/$AV$1","v":{"v":0,"d":"0%"}},{"v":0,"d":"0%"}]
[null,"GM16","Formule du volume du pavé droit (initiation à l’utilisation d’unités métriques de volume).",{"$nulls":36},{"v":0,"d":"0%"},{"v":0,"d":"0%"},{"v":0,"d":"0%"},{"v":0,"d":"0%"},{"$f":"COUNTIF(D297:$AL297,\"NE\")/$AV$1","v":{"v":0,"d":"0%"}},{"v":0,"d":"0%"}]
[null,"","Aires",{"$f":"COUNTA(D299:D302)*10","v":0},{"$f":"COUNTA(E299:E302)*10","v":0},0,0,0,0,0,0,0,0,0,0,0,0,0,0,0,0,0,0,0,0,0,0,0,0,0,0,0,0,0,0,0,{"$nulls":3},{"v":0,"d":"0%"},{"v":0,"d":"0%"},{"v":0,"d":"0%"},{"v":0,"d":"0%"},{"$f":"COUNTIF(D298:$AL298,\"NE\")/$AV$1","v":{"v":0,"d":"0%"}},{"v":0,"d":"0%"}]
[null,"GM17","Mesurer ou estimer l’aire d’une surface grâce à un pavage effectif à l’aide d’une surface de référence (d’aire une unité) ou grâce à l’utilisation d’un réseau quadrillé.",{"$nulls":36},{"v":0,"d":"0%"},{"v":0,"d":"0%"},{"v":0,"d":"0%"},{"v":0,"d":"0%"},{"$f":"COUNTIF(D299:$AL299,\"NE\")/$AV$1","v":{"v":0,"d":"0%"}},{"v":0,"d":"0%"}]
[null,"GM18","Classer et ranger des surfaces selon leur aire.",{"$nulls":36},{"v":0,"d":"0%"},{"v":0,"d":"0%"},{"v":0,"d":"0%"},{"v":0,"d":"0%"},{"$f":"COUNTIF(D300:$AL300,\"NE\")/$AV$1","v":{"v":0,"d":"0%"}},{"v":0,"d":"0%"}]
[null,"GM19","Calculer l’aire d’un carré, d’un rectangle, d’un triangle en utilisant la formule appropriée.",{"$nulls":36},{"v":0,"d":"0%"},{"v":0,"d":"0%"},{"v":0,"d":"0%"},{"v":0,"d":"0%"},{"$f":"COUNTIF(D301:$AL301,\"NE\")/$AV$1","v":{"v":0,"d":"0%"}},{"v":0,"d":"0%"}]
[null,"GM20","Connaître et utiliser les unités d’aire usuelles (cm2, m2 et km2).",{"$nulls":36},{"v":0,"d":"0%"},{"v":0,"d":"0%"},{"v":0,"d":"0%"},{"v":0,"d":"0%"},{"$f":"COUNTIF(D302:$AL302,\"NE\")/$AV$1","v":{"v":0,"d":"0%"}},{"v":0,"d":"0%"}]
[null,"","Angles ",{"$f":"COUNTA(D304:D306)*10","v":0},{"$f":"COUNTA(E304:E306)*10","v":0},0,0,0,0,0,0,0,0,0,0,0,0,0,0,0,0,0,0,0,0,0,0,0,0,0,0,0,0,0,0,0,{"$nulls":3},{"v":0,"d":"0%"},{"v":0,"d":"0%"},{"v":0,"d":"0%"},{"v":0,"d":"0%"},{"$f":"COUNTIF(D303:$AL303,\"NE\")/$AV$1","v":{"v":0,"d":"0%"}},{"v":0,"d":"0%"}]
[null,".GM21","Comparer les angles d’une figure en utilisant un gabarit.",{"$nulls":36},{"v":0,"d":"0%"},{"v":0,"d":"0%"},{"v":0,"d":"0%"},{"v":0,"d":"0%"},{"$f":"COUNTIF(D304:$AL304,\"NE\")/$AV$1","v":{"v":0,"d":"0%"}},{"v":0,"d":"0%"}]
[null,".GM22","Estimer, et vérifier en utilisant l’équerre, qu’un angle est droit, aigu, ou obtus.",{"$nulls":36},{"v":0,"d":"0%"},{"v":0,"d":"0%"},{"v":0,"d":"0%"},{"v":0,"d":"0%"},{"$f":"COUNTIF(D305:$AL305,\"NE\")/$AV$1","v":{"v":0,"d":"0%"}},{"v":0,"d":"0%"}]
[null,"GM23","Reproduire un angle donné en utilisant un gabarit. ",{"$nulls":36},{"v":0,"d":"0%"},{"v":0,"d":"0%"},{"v":0,"d":"0%"},{"v":0,"d":"0%"},{"$f":"COUNTIF(D306:$AL306,\"NE\")/$AV$1","v":{"v":0,"d":"0%"}},{"v":0,"d":"0%"}]
[null,"","Problèmes ",{"$f":"COUNTA(D308:D310)*10","v":0},{"$f":"COUNTA(E308:E310)*10","v":0},0,0,0,0,0,0,0,0,0,0,0,0,0,0,0,0,0,0,0,0,0,0,0,0,0,0,0,0,0,0,0,{"$nulls":3},{"v":0,"d":"0%"},{"v":0,"d":"0%"},{"v":0,"d":"0%"},{"v":0,"d":"0%"},{"$f":"COUNTIF(D307:$AL307,\"NE\")/$AV$1","v":{"v":0,"d":"0%"}},{"v":0,"d":"0%"}]
[null,"GM24","Résoudre des problèmes dont la résolution implique les grandeurs ci-dessus. ",{"$nulls":36},{"v":0,"d":"0%"},{"v":0,"d":"0%"},{"v":0,"d":"0%"},{"v":0,"d":"0%"},{"$f":"COUNTIF(D308:$AL308,\"NE\")/$AV$1","v":{"v":0,"d":"0%"}},{"v":0,"d":"0%"}]
[null,".GM25","Résoudre des problèmes dont la résolution implique des conversions.",{"$nulls":36},{"v":0,"d":"0%"},{"v":0,"d":"0%"},{"v":0,"d":"0%"},{"v":0,"d":"0%"},{"$f":"COUNTIF(D309:$AL309,\"NE\")/$AV$1","v":{"v":0,"d":"0%"}},{"v":0,"d":"0%"}]
[null,"GM26","Résoudre des problèmes dont la résolution implique simultanément des unités différentes de mesure",{"$nulls":36},{"v":0,"d":"0%"},{"v":0,"d":"0%"},{"v":0,"d":"0%"},{"v":0,"d":"0%"},{"$f":"COUNTIF(D310:$AL310,\"NE\")/$AV$1","v":{"v":0,"d":"0%"}},{"v":0,"d":"0%"}]
[null,null," ORGANISATION ET GESTION DES DONNEES",{"$f":"COUNTA(D312:D319)*10","v":0},{"$f":"COUNTA(E312:E319)*10","v":0},0,0,0,0,0,0,0,0,0,0,0,0,0,0,0,0,0,0,0,0,0,0,0,0,0,0,0,0,0,0,0,{"$nulls":3},{"v":0,"d":"0%"},{"v":0,"d":"0%"},{"v":0,"d":"0%"},{"v":0,"d":"0%"},{"$f":"COUNTIF(D311:$AL311,\"NE\")/$AV$1","v":{"v":0,"d":"0%"}},{"v":0,"d":"0%"}]
[null,".OG1","Savoir organiser les données d’un problème en vue de sa résolution.",{"$nulls":36},{"v":0,"d":"0%"},{"v":0,"d":"0%"},{"v":0,"d":"0%"},{"v":0,"d":"0%"},{"$f":"COUNTIF(D312:$AL312,\"NE\")/$AV$1","v":{"v":0,"d":"0%"}},{"v":0,"d":"0%"}]
[null,".OG2","Utiliser un tableau ou un graphique en vue d’un traitement des données.",{"$nulls":36},{"v":0,"d":"0%"},{"v":0,"d":"0%"},{"v":0,"d":"0%"},{"v":0,"d":"0%"},{"$f":"COUNTIF(D313:$AL313,\"NE\")/$AV$1","v":{"v":0,"d":"0%"}},{"v":0,"d":"0%"}]
[null,".OG3","Construire un tableau ou un graphique.",{"$nulls":36},{"v":0,"d":"0%"},{"v":0,"d":"0%"},{"v":0,"d":"0%"},{"v":0,"d":"0%"},{"$f":"COUNTIF(D314:$AL314,\"NE\")/$AV$1","v":{"v":0,"d":"0%"}},{"v":0,"d":"0%"}]
[null,".OG4","Interpréter un tableau ou un graphique.",{"$nulls":36},{"v":0,"d":"0%"},{"v":0,"d":"0%"},{"v":0,"d":"0%"},{"v":0,"d":"0%"},{"$f":"COUNTIF(D315:$AL315,\"NE\")/$AV$1","v":{"v":0,"d":"0%"}},{"v":0,"d":"0%"}]
[null,"OG5","Lire les coordonnées d’un point.",{"$nulls":36},{"v":0,"d":"0%"},{"v":0,"d":"0%"},{"v":0,"d":"0%"},{"v":0,"d":"0%"},{"$f":"COUNTIF(D316:$AL316,\"NE\")/$AV$1","v":{"v":0,"d":"0%"}},{"v":0,"d":"0%"}]
[null,"OG6","Placer un point dont on connaît les coordonnées.",{"$nulls":36},{"v":0,"d":"0%"},{"v":0,"d":"0%"},{"v":0,"d":"0%"},{"v":0,"d":"0%"},{"$f":"COUNTIF(D317:$AL317,\"NE\")/$AV$1","v":{"v":0,"d":"0%"}},{"v":0,"d":"0%"}]
[null,"OG7","Utiliser un tableau ou la « règle de trois » dans des situations très simples de proportionnalité.",{"$nulls":36},{"v":0,"d":"0%"},{"v":0,"d":"0%"},{"v":0,"d":"0%"},{"v":0,"d":"0%"},{"$f":"COUNTIF(D318:$AL318,\"NE\")/$AV$1","v":{"v":0,"d":"0%"}},{"v":0,"d":"0%"}]
[null,".OG8","Résoudre des problèmes relevant de la proportionnalité et notamment des problèmes relatifs aux pourcentages, aux échelles, aux vitesses moyennes ou aux conversions d’unité, en utilisant des procédures variées (dont la « règle de trois »).",{"$nulls":36},{"v":0,"d":"0%"},{"v":0,"d":"0%"},{"v":0,"d":"0%"},{"v":0,"d":"0%"},{"$f":"COUNTIF(D319:$AL319,\"NE\")/$AV$1","v":{"v":0,"d":"0%"}},{"v":0,"d":"0%"}]
[null,null,"SCIENCES EXPERIMENTALES ET TECNOLOGIE",{"$f":"COUNTA(D321:D323)*10+D324+D329+D334+D337+D341+D345+D350+D354","v":0},{"$f":"COUNTA(E321:E323)*10+E324+E329+E334+E337+E341+E345+E350+E354","v":0},0,0,0,0,0,0,0,0,0,0,0,0,0,0,0,0,0,0,0,0,0,0,0,0,0,0,0,0,0,0,0,{"$nulls":3},{"v":0,"d":"0%"},{"v":0,"d":"0%"},{"v":0,"d":"0%"},{"v":0,"d":"0%"},{"$f":"COUNTIF(D320:$AL320,\"NE\")/$AV$1","v":{"v":0,"d":"0%"}},{"v":0,"d":"0%"}]
[null,".ST01","Pratiquer une démarche d'investigation : savoir observer, questionner",{"$nulls":36},{"v":0,"d":"0%"},{"v":0,"d":"0%"},{"v":0,"d":"0%"},{"v":0,"d":"0%"},{"$f":"COUNTIF(D321:$AL321,\"NE\")/$AV$1","v":{"v":0,"d":"0%"}},{"v":0,"d":"0%"}]
[null,".ST02","Manipuler et expérimenter, formuler une hypothèse et la tester, argumenter, mettre à l'essai plusieurs pistes de solutions",{"$nulls":36},{"v":0,"d":"0%"},{"v":0,"d":"0%"},{"v":0,"d":"0%"},{"v":0,"d":"0%"},{"$f":"COUNTIF(D322:$AL322,\"NE\")/$AV$1","v":{"v":0,"d":"0%"}},{"v":0,"d":"0%"}]
[null,".ST03","Exprimer et exploiter les résultats d'une mesure et d'une recherche en utilisant un vocabulaire scientifique à l'écrit ou à l'oral",{"$nulls":36},{"v":0,"d":"0%"},{"v":0,"d":"0%"},{"v":0,"d":"0%"},{"v":0,"d":"0%"},{"$f":"COUNTIF(D323:$AL323,\"NE\")/$AV$1","v":{"v":0,"d":"0%"}},{"v":0,"d":"0%"}]
[null,null,"Le ciel et la Terre",{"$f":"COUNTA(D325:D328)*10","v":0},{"$f":"COUNTA(E325:E328)*10","v":0},0,0,0,0,0,0,0,0,0,0,0,0,0,0,0,0,0,0,0,0,0,0,0,0,0,0,0,0,0,0,0,{"$nulls":3},{"v":0,"d":"0%"},{"v":0,"d":"0%"},{"v":0,"d":"0%"},{"v":0,"d":"0%"},{"$f":"COUNTIF(D324:$AL324,\"NE\")/$AV$1","v":{"v":0,"d":"0%"}},{"v":0,"d":"0%"}]
[null,".ST04","Le mouvement de la Terre (et des planètes) autour du Soleil, la rotation de la Terre sur elle-même. La durée du jour et son changement au cours des saisons.",{"$nulls":36},{"v":0,"d":"0%"},{"v":0,"d":"0%"},{"v":0,"d":"0%"},{"v":0,"d":"0%"},{"$f":"COUNTIF(D325:$AL325,\"NE\")/$AV$1","v":{"v":0,"d":"0%"}},{"v":0,"d":"0%"}]
[null,".ST05","Le mouvement de la Lune autour de la Terre.",{"$nulls":36},{"v":0,"d":"0%"},{"v":0,"d":"0%"},{"v":0,"d":"0%"},{"v":0,"d":"0%"},{"$f":"COUNTIF(D326:$AL326,\"NE\")/$AV$1","v":{"v":0,"d":"0%"}},{"v":0,"d":"0%"}]
[null,".ST06","Lumières et ombres.",{"$nulls":36},{"$f":"COUNTIF($D327:$AL327,$AU$1)/$AV$1","v":{"v":0,"d":"0%"}},{"$f":"COUNTIF($D327:$AL327,$AU$2)/$AV$1","v":{"v":0,"d":"0%"}},{"$f":"COUNTIF($D327:$AL327,$AU$3)/$AV$1","v":{"v":0,"d":"0%"}},{"$f":"COUNTIF($D327:$AL327,$AU$4)/$AV$1","v":{"v":0,"d":"0%"}},{"$f":"COUNTIF(D327:$AL327,\"NE\")/$AV$1","v":{"v":0,"d":"0%"}},{"v":0,"d":"0%"}]
[null,".ST07","Volcans et séismes, les risques pour les sociétés humaines.",{"$nulls":36},{"v":0,"d":"0%"},{"v":0,"d":"0%"},{"v":0,"d":"0%"},{"v":0,"d":"0%"},{"$f":"COUNTIF(D328:$AL328,\"NE\")/$AV$1","v":{"v":0,"d":"0%"}},{"$f":"AN328+(AO328*0.66)+(AP328*0.33)","v":{"v":0,"d":"0%"}}]
[null,null,"La matière",{"$f":"COUNTA(D330:D333)*10","v":0},{"$f":"COUNTA(E330:E333)*10","v":0},0,0,0,0,0,0,0,0,0,0,0,0,0,0,0,0,0,0,0,0,0,0,0,0,0,0,0,0,0,0,0,{"$nulls":3},{"v":0,"d":"0%"},{"v":0,"d":"0%"},{"v":0,"d":"0%"},{"v":0,"d":"0%"},{"$f":"COUNTIF(D329:$AL329,\"NE\")/$AV$1","v":{"v":0,"d":"0%"}},{"v":0,"d":"0%"}]
[null,".ST08","L’eau : une ressource. Les états et changements d’état. Le trajet de l’eau dans la nature. Le maintien de sa qualité pour ses utilisations.",{"$nulls":36},{"v":0,"d":"0%"},{"v":0,"d":"0%"},{"v":0,"d":"0%"},{"v":0,"d":"0%"},{"$f":"COUNTIF(D330:$AL330,\"NE\")/$AV$1","v":{"v":0,"d":"0%"}},{"v":0,"d":"0%"}]
[null,".ST09","L’air et les pollutions de l’air.",{"$nulls":36},{"v":0,"d":"0%"},{"v":0,"d":"0%"},{"v":0,"d":"0%"},{"v":0,"d":"0%"},{"$f":"COUNTIF(D331:$AL331,\"NE\")/$AV$1","v":{"v":0,"d":"0%"}},{"v":0,"d":"0%"}]
[null,".ST10","Mélanges et solutions.",{"$nulls":36},{"v":0,"d":"0%"},{"v":0,"d":"0%"},{"v":0,"d":"0%"},{"v":0,"d":"0%"},{"$f":"COUNTIF(D332:$AL332,\"NE\")/$AV$1","v":{"v":0,"d":"0%"}},{"v":0,"d":"0%"}]
[null,".ST11","Les déchets : réduire, réutiliser, recycler.",{"$nulls":36},{"v":0,"d":"0%"},{"v":0,"d":"0%"},{"v":0,"d":"0%"},{"v":0,"d":"0%"},{"$f":"COUNTIF(D333:$AL333,\"NE\")/$AV$1","v":{"v":0,"d":"0%"}},{"v":0,"d":"0%"}]
[null,null,"L’énergie",{"$f":"COUNTA(D335:D336)*10","v":0},{"$f":"COUNTA(E335:E336)*10","v":0},0,0,0,0,0,0,0,0,0,0,0,0,0,0,0,0,0,0,0,0,0,0,0,0,0,0,0,0,0,0,0,{"$nulls":3},{"v":0,"d":"0%"},{"v":0,"d":"0%"},{"v":0,"d":"0%"},{"v":0,"d":"0%"},{"$f":"COUNTIF(D334:$AL334,\"NE\")/$AV$1","v":{"v":0,"d":"0%"}},{"v":0,"d":"0%"}]
[null,".ST12","Exemples simples de sources d’énergies (fossiles ou renouvelables).",{"$nulls":36},{"v":0,"d":"0%"},{"v":0,"d":"0%"},{"v":0,"d":"0%"},{"v":0,"d":"0%"},{"$f":"COUNTIF(D335:$AL335,\"NE\")/$AV$1","v":{"v":0,"d":"0%"}},{"v":0,"d":"0%"}]
[null,".ST13","Besoins en énergie, consommation et économie d’énergie.",{"$nulls":36},{"v":0,"d":"0%"},{"v":0,"d":"0%"},{"v":0,"d":"0%"},{"v":0,"d":"0%"},{"$f":"COUNTIF(D336:$AL336,\"NE\")/$AV$1","v":{"v":0,"d":"0%"}},{"v":0,"d":"0%"}]
[null,null,"L’unité et la diversité du vivant",{"$f":"COUNTA(D338:D340)*10","v":0},{"$f":"COUNTA(E338:E340)*10","v":0},0,0,0,0,0,0,0,0,0,0,0,0,0,0,0,0,0,0,0,0,0,0,0,0,0,0,0,0,0,0,0,{"$nulls":3},{"v":0,"d":"0%"},{"v":0,"d":"0%"},{"v":0,"d":"0%"},{"v":0,"d":"0%"},{"$f":"COUNTIF(D337:$AL337,\"NE\")/$AV$1","v":{"v":0,"d":"0%"}},{"v":0,"d":"0%"}]
[null,".ST14","Présentation de la biodiversité : recherche de différences entre espèces vivantes.",{"$nulls":36},{"v":0,"d":"0%"},{"v":0,"d":"0%"},{"v":0,"d":"0%"},{"v":0,"d":"0%"},{"$f":"COUNTIF(D338:$AL338,\"NE\")/$AV$1","v":{"v":0,"d":"0%"}},{"v":0,"d":"0%"}]
[null,".ST15","Présentation de l’unité du vivant : recherche de points communs entre espèces vivantes.",{"$nulls":36},{"v":0,"d":"0%"},{"v":0,"d":"0%"},{"v":0,"d":"0%"},{"v":0,"d":"0%"},{"$f":"COUNTIF(D339:$AL339,\"NE\")/$AV$1","v":{"v":0,"d":"0%"}},{"v":0,"d":"0%"}]
[null,".ST16","Présentation de la classification du vivant : interprétation de ressemblances et différences en termes de parenté.",{"$nulls":36},{"v":0,"d":"0%"},{"v":0,"d":"0%"},{"v":0,"d":"0%"},{"v":0,"d":"0%"},{"$f":"COUNTIF(D340:$AL340,\"NE\")/$AV$1","v":{"v":0,"d":"0%"}},{"v":0,"d":"0%"}]
[null,null,"Le fonctionnement du vivant",{"$f":"COUNTA(D342:D344)*10","v":0},{"$f":"COUNTA(E342:E344)*10","v":0},0,0,0,0,0,0,0,0,0,0,0,0,0,0,0,0,0,0,0,0,0,0,0,0,0,0,0,0,0,0,0,{"$nulls":3},{"v":0,"d":"0%"},{"v":0,"d":"0%"},{"v":0,"d":"0%"},{"v":0,"d":"0%"},{"$f":"COUNTIF(D341:$AL341,\"NE\")/$AV$1","v":{"v":0,"d":"0%"}},{"v":0,"d":"0%"}]
[null,".ST17","Les stades du développement d’un être vivant (végétal ou animal).",{"$nulls":36},{"v":0,"d":"0%"},{"v":0,"d":"0%"},{"v":0,"d":"0%"},{"v":0,"d":"0%"},{"$f":"COUNTIF(D342:$AL342,\"NE\")/$AV$1","v":{"v":0,"d":"0%"}},{"v":0,"d":"0%"}]
[null,".ST18","Les conditions de développement des végétaux et des animaux.",{"$nulls":36},{"v":0,"d":"0%"},{"v":0,"d":"0%"},{"v":0,"d":"0%"},{"v":0,"d":"0%"},{"$f":"COUNTIF(D343:$AL343,\"NE\")/$AV$1","v":{"v":0,"d":"0%"}},{"v":0,"d":"0%"}]
[null,".ST19","Les modes de reproduction des êtres vivants.",{"$nulls":36},{"v":0,"d":"0%"},{"v":0,"d":"0%"},{"v":0,"d":"0%"},{"v":0,"d":"0%"},{"$f":"COUNTIF(D344:$AL344,\"NE\")/$AV$1","v":{"v":0,"d":"0%"}},{"v":0,"d":"0%"}]
[null,null,"Le fonctionnement du corps humain et la santé",{"$f":"COUNTA(D346:D349)*10","v":0},{"$f":"COUNTA(E346:E349)*10","v":0},0,0,0,0,0,0,0,0,0,0,0,0,0,0,0,0,0,0,0,0,0,0,0,0,0,0,0,0,0,0,0,{"$nulls":3},{"v":0,"d":"0%"},{"v":0,"d":"0%"},{"v":0,"d":"0%"},{"v":0,"d":"0%"},{"$f":"COUNTIF(D345:$AL345,\"NE\")/$AV$1","v":{"v":0,"d":"0%"}},{"v":0,"d":"0%"}]
[null,".ST20","Les mouvements corporels (les muscles, les os du squelette, les articulations).",{"$nulls":36},{"v":0,"d":"0%"},{"v":0,"d":"0%"},{"v":0,"d":"0%"},{"v":0,"d":"0%"},{"$f":"COUNTIF(D346:$AL346,\"NE\")/$AV$1","v":{"v":0,"d":"0%"}},{"v":0,"d":"0%"}]
[null,".ST21","Première approche des fonctions de nutrition : digestion, respiration et circulation sanguine.",{"$nulls":36},{"v":0,"d":"0%"},{"v":0,"d":"0%"},{"v":0,"d":"0%"},{"v":0,"d":"0%"},{"$f":"COUNTIF(D347:$AL347,\"NE\")/$AV$1","v":{"v":0,"d":"0%"}},{"v":0,"d":"0%"}]
[null,".ST22","Reproduction de l’Homme et éducation à la sexualité.",{"$nulls":36},{"v":0,"d":"0%"},{"v":0,"d":"0%"},{"v":0,"d":"0%"},{"v":0,"d":"0%"},{"$f":"COUNTIF(D348:$AL348,\"NE\")/$AV$1","v":{"v":0,"d":"0%"}},{"v":0,"d":"0%"}]
[null,".ST23","Hygiène et santé : actions bénéfiques ou nocives de nos comportements, notamment dans le domaine du sport, de l’alimentation, du sommeil.",{"$nulls":36},{"v":0,"d":"0%"},{"v":0,"d":"0%"},{"v":0,"d":"0%"},{"v":0,"d":"0%"},{"$f":"COUNTIF(D349:$AL349,\"NE\")/$AV$1","v":{"v":0,"d":"0%"}},{"v":0,"d":"0%"}]
[null,null,"Les êtres vivants dans leur environnement",{"$f":"COUNTA(D351:D353)*10","v":0},{"$f":"COUNTA(E351:E353)*10","v":0},0,0,0,0,0,0,0,0,0,0,0,0,0,0,0,0,0,0,0,0,0,0,0,0,0,0,0,0,0,0,0,{"$nulls":3},{"v":0,"d":"0%"},{"v":0,"d":"0%"},{"v":0,"d":"0%"},{"v":0,"d":"0%"},{"$f":"COUNTIF(D350:$AL350,\"NE\")/$AV$1","v":{"v":0,"d":"0%"}},{"v":0,"d":"0%"}]
[null,".ST24","L’adaptation des êtres vivants aux conditions du milieu.",{"$nulls":36},{"v":0,"d":"0%"},{"v":0,"d":"0%"},{"v":0,"d":"0%"},{"v":0,"d":"0%"},{"$f":"COUNTIF(D351:$AL351,\"NE\")/$AV$1","v":{"v":0,"d":"0%"}},{"v":0,"d":"0%"}]
[null,".ST25","Places et rôles des êtres vivants ; notions de chaînes et de réseaux alimentaires.",{"$nulls":36},{"v":0,"d":"0%"},{"v":0,"d":"0%"},{"v":0,"d":"0%"},{"v":0,"d":"0%"},{"$f":"COUNTIF(D352:$AL352,\"NE\")/$AV$1","v":{"v":0,"d":"0%"}},{"v":0,"d":"0%"}]
[null,".ST26","L’évolution d’un environnement géré par l’Homme : la forêt ; importance de la biodiversité.",{"$nulls":36},{"v":0,"d":"0%"},{"v":0,"d":"0%"},{"v":0,"d":"0%"},{"v":0,"d":"0%"},{"$f":"COUNTIF(D353:$AL353,\"NE\")/$AV$1","v":{"v":0,"d":"0%"}},{"v":0,"d":"0%"}]
[null,null,"Les objets techniques",{"$f":"COUNTA(D355:D358)*10","v":0},{"$f":"COUNTA(E355:E358)*10","v":0},0,0,0,0,0,0,0,0,0,0,0,0,0,0,0,0,0,0,0,0,0,0,0,0,0,0,0,0,0,0,0,{"$nulls":3},{"v":0,"d":"0%"},{"v":0,"d":"0%"},{"v":0,"d":"0%"},{"v":0,"d":"0%"},{"$f":"COUNTIF(D354:$AL354,\"NE\")/$AV$1","v":{"v":0,"d":"0%"}},{"v":0,"d":"0%"}]
[null,".ST27","Circuits électriques alimentés par des piles.",{"$nulls":36},{"v":0,"d":"0%"},{"v":0,"d":"0%"},{"v":0,"d":"0%"},{"v":0,"d":"0%"},{"$f":"COUNTIF(D355:$AL355,\"NE\")/$AV$1","v":{"v":0,"d":"0%"}},{"v":0,"d":"0%"}]
[null,".ST28","Règles de sécurité, dangers de l’électricité.",{"$nulls":36},{"v":0,"d":"0%"},{"v":0,"d":"0%"},{"v":0,"d":"0%"},{"v":0,"d":"0%"},{"$f":"COUNTIF(D356:$AL356,\"NE\")/$AV$1","v":{"v":0,"d":"0%"}},{"v":0,"d":"0%"}]
[null,".ST29","Leviers et balances, équilibres.",{"$nulls":36},{"v":0,"d":"0%"},{"v":0,"d":"0%"},{"v":0,"d":"0%"},{"v":0,"d":"0%"},{"$f":"COUNTIF(D357:$AL357,\"NE\")/$AV$1","v":{"v":0,"d":"0%"}},{"v":0,"d":"0%"}]
[null,".ST30","Objets mécaniques, transmission de mouvements.",{"$nulls":36},{"v":0,"d":"0%"},{"v":0,"d":"0%"},{"v":0,"d":"0%"},{"v":0,"d":"0%"},{"$f":"COUNTIF(D358:$AL358,\"NE\")/$AV$1","v":{"v":0,"d":"0%"}},{"v":0,"d":"0%"}]
[null,null,"CULTURE HUMANISTE",{"$f":"D360+D391","v":0},{"$f":"E360+E391","v":0},0,0,0,0,0,0,0,0,0,0,0,0,0,0,0,0,0,0,0,0,0,0,0,0,0,0,0,0,0,0,0,{"$nulls":3},{"v":0,"d":"0%"},{"v":0,"d":"0%"},{"v":0,"d":"0%"},{"v":0,"d":"0%"},{"$f":"COUNTIF(D359:$AL359,\"NE\")/$AV$1","v":{"v":0,"d":"0%"}},{"v":0,"d":"0%"}]
[null,null,"HISTOIRE",{"$f":"D361+D364+D367+D373+D379+D384","v":0},{"$f":"E361+E364+E367+E373+E379+E384","v":0},0,0,0,0,0,0,0,0,0,0,0,0,0,0,0,0,0,0,0,0,0,0,0,0,0,0,0,0,0,0,0,{"$nulls":3},{"v":0,"d":"0%"},{"v":0,"d":"0%"},{"v":0,"d":"0%"},{"v":0,"d":"0%"},{"$f":"COUNTIF(D360:$AL360,\"NE\")/$AV$1","v":{"v":0,"d":"0%"}},{"v":0,"d":"0%"}]
[null,null,"La Préhistoire",{"$f":"COUNTA(D362:D363)*10","v":0},{"$f":"COUNTA(E362:E363)*10","v":0},0,0,0,0,0,0,0,0,0,0,0,0,0,0,0,0,0,0,0,0,0,0,0,0,0,0,0,0,0,0,0,{"$nulls":3},{"v":0,"d":"0%"},{"v":0,"d":"0%"},{"v":0,"d":"0%"},{"v":0,"d":"0%"},{"$f":"COUNTIF(D361:$AL361,\"NE\")/$AV$1","v":{"v":0,"d":"0%"}},{"v":0,"d":"0%"}]
[null,".HIS01","Les premières traces de vie humaine, la maîtrise du fer et les débuts de l’agriculture, l’apparition de l’art.",{"$nulls":36},{"v":0,"d":"0%"},{"v":0,"d":"0%"},{"v":0,"d":"0%"},{"v":0,"d":"0%"},{"$f":"COUNTIF(D362:$AL362,\"NE\")/$AV$1","v":{"v":0,"d":"0%"}},{"v":0,"d":"0%"}]
[null,".HIS02","L’homme de Tautavel il y a près de 500 000 ans ; Lascaux il y a 17 000 ans.",{"$nulls":36},{"v":0,"d":"0%"},{"v":0,"d":"0%"},{"v":0,"d":"0%"},{"v":0,"d":"0%"},{"$f":"COUNTIF(D363:$AL363,\"NE\")/$AV$1","v":{"v":0,"d":"0%"}},{"v":0,"d":"0%"}]
[null,null,"L’Antiquité",{"$f":"COUNTA(D365:D366)*10","v":0},{"$f":"COUNTA(E365:E366)*10","v":0},0,0,0,0,0,0,0,0,0,0,0,0,0,0,0,0,0,0,0,0,0,0,0,0,0,0,0,0,0,0,0,{"$nulls":3},{"v":0,"d":"0%"},{"v":0,"d":"0%"},{"v":0,"d":"0%"},{"v":0,"d":"0%"},{"$f":"COUNTIF(D364:$AL364,\"NE\")/$AV$1","v":{"v":0,"d":"0%"}},{"v":0,"d":"0%"}]
[null,".HIS03","Les Gaulois, la romanisation de la Gaule et la christianisation du monde gallo-romain.",{"$nulls":36},{"v":0,"d":"0%"},{"v":0,"d":"0%"},{"v":0,"d":"0%"},{"v":0,"d":"0%"},{"$f":"COUNTIF(D365:$AL365,\"NE\")/$AV$1","v":{"v":0,"d":"0%"}},{"v":0,"d":"0%"}]
[null,".HIS04","Jules César et Vercingétorix ; 52 avant notre ère : Alésia.",{"$nulls":36},{"v":0,"d":"0%"},{"v":0,"d":"0%"},{"v":0,"d":"0%"},{"v":0,"d":"0%"},{"$f":"COUNTIF(D366:$AL366,\"NE\")/$AV$1","v":{"v":0,"d":"0%"}},{"v":0,"d":"0%"}]
[null,null,"Le Moyen Âge",{"$f":"COUNTA(D368:D372)*10","v":0},{"$f":"COUNTA(E368:E372)*10","v":0},0,0,0,0,0,0,0,0,0,0,0,0,0,0,0,0,0,0,0,0,0,0,0,0,0,0,0,0,0,0,0,{"$nulls":3},{"v":0,"d":"0%"},{"v":0,"d":"0%"},{"v":0,"d":"0%"},{"v":0,"d":"0%"},{"$f":"COUNTIF(D367:$AL367,\"NE\")/$AV$1","v":{"v":0,"d":"0%"}},{"v":0,"d":"0%"}]
[null,"HIS05","Après les invasions, la naissance et le développement du royaume de France. ",{"$nulls":36},{"v":0,"d":"0%"},{"v":0,"d":"0%"},{"v":0,"d":"0%"},{"v":0,"d":"0%"},{"$f":"COUNTIF(D368:$AL368,\"NE\")/$AV$1","v":{"v":0,"d":"0%"}},{"v":0,"d":"0%"}]
[null,"HIS06","Les relations entre seigneurs et paysans, le rôle de l’Église.",{"$nulls":36},{"v":0,"d":"0%"},{"v":0,"d":"0%"},{"v":0,"d":"0%"},{"v":0,"d":"0%"},{"$f":"COUNTIF(D369:$AL369,\"NE\")/$AV$1","v":{"v":0,"d":"0%"}},{"v":0,"d":"0%"}]
[null,"HIS07","Conflits et échanges en Méditerranée : les Croisades, la découverte d’une autre civilisation, l’Islam.",{"$nulls":36},{"v":0,"d":"0%"},{"v":0,"d":"0%"},{"v":0,"d":"0%"},{"v":0,"d":"0%"},{"$f":"COUNTIF(D370:$AL370,\"NE\")/$AV$1","v":{"v":0,"d":"0%"}},{"v":0,"d":"0%"}]
[null,".HIS08","La guerre de Cent Ans.",{"$nulls":36},{"v":0,"d":"0%"},{"v":0,"d":"0%"},{"v":0,"d":"0%"},{"v":0,"d":"0%"},{"$f":"COUNTIF(D371:$AL371,\"NE\")/$AV$1","v":{"v":0,"d":"0%"}},{"v":0,"d":"0%"}]
[null,".HIS09","Connaître des grandes dates et personnages:496 : baptême de Clovis ; 800 : couronnement de Charlemagne ; 987 : Hugues Capet, roi de France ; Saint Louis ; Jeanne d’Arc.",{"$nulls":36},{"v":0,"d":"0%"},{"v":0,"d":"0%"},{"v":0,"d":"0%"},{"v":0,"d":"0%"},{"$f":"COUNTIF(D372:$AL372,\"NE\")/$AV$1","v":{"v":0,"d":"0%"}},{"v":0,"d":"0%"}]
[null,null,"Les Temps modernes",{"$f":"COUNTA(D374:D378)*10","v":0},{"$f":"COUNTA(E374:E378)*10","v":0},0,0,0,0,0,0,0,0,0,0,0,0,0,0,0,0,0,0,0,0,0,0,0,0,0,0,0,0,0,0,0,{"$nulls":3},{"v":0,"d":"0%"},{"v":0,"d":"0%"},{"v":0,"d":"0%"},{"v":0,"d":"0%"},{"$f":"COUNTIF(D373:$AL373,\"NE\")/$AV$1","v":{"v":0,"d":"0%"}},{"v":0,"d":"0%"}]
[null,".HIS10","Le temps des Découvertes et des premiers empires coloniaux, la traite des Noirs et l’esclavage. ",{"$nulls":36},{"v":0,"d":"0%"},{"v":0,"d":"0%"},{"v":0,"d":"0%"},{"v":0,"d":"0%"},{"$f":"COUNTIF(D374:$AL374,\"NE\")/$AV$1","v":{"v":0,"d":"0%"}},{"v":0,"d":"0%"}]
[null,"HIS11","La Renaissance : les arts, quelques découvertes scientifiques, catholiques et protestants.",{"$nulls":36},{"v":0,"d":"0%"},{"v":0,"d":"0%"},{"v":0,"d":"0%"},{"v":0,"d":"0%"},{"$f":"COUNTIF(D375:$AL375,\"NE\")/$AV$1","v":{"v":0,"d":"0%"}},{"v":0,"d":"0%"}]
[null,".HIS12","Louis XIV un monarque absolu.",{"$nulls":36},{"v":0,"d":"0%"},{"v":0,"d":"0%"},{"v":0,"d":"0%"},{"v":0,"d":"0%"},{"$f":"COUNTIF(D376:$AL376,\"NE\")/$AV$1","v":{"v":0,"d":"0%"}},{"v":0,"d":"0%"}]
[null,".HIS13","Les Lumières.",{"$nulls":36},{"v":0,"d":"0%"},{"v":0,"d":"0%"},{"v":0,"d":"0%"},{"v":0,"d":"0%"},{"$f":"COUNTIF(D377:$AL377,\"NE\")/$AV$1","v":{"v":0,"d":"0%"}},{"v":0,"d":"0%"}]
[null,".HIS14","Connaître les grandes dates  et personnage de Gutenberg; 1492 : Christophe Colomb en Amérique ; François Ier ; Copernic ; Galilée ; Henri IV et l’édit de Nantes ; Richelieu ; Louis XIV, Voltaire, Rousseau.",{"$nulls":36},{"v":0,"d":"0%"},{"v":0,"d":"0%"},{"v":0,"d":"0%"},{"v":0,"d":"0%"},{"$f":"COUNTIF(D378:$AL378,\"NE\")/$AV$1","v":{"v":0,"d":"0%"}},{"v":0,"d":"0%"}]
[null,null,"La Révolution française et le XIXème siècle",{"$f":"COUNTA(D380:D383)*10","v":0},{"$f":"COUNTA(E380:E383)*10","v":0},0,0,0,0,0,0,0,0,0,0,0,0,0,0,0,0,0,0,0,0,0,0,0,0,0,0,0,0,0,0,0,{"$nulls":3},{"v":0,"d":"0%"},{"v":0,"d":"0%"},{"v":0,"d":"0%"},{"v":0,"d":"0%"},{"$f":"COUNTIF(D379:$AL379,\"NE\")/$AV$1","v":{"v":0,"d":"0%"}},{"v":0,"d":"0%"}]
[null,".HIS15","La Révolution française et le Premier empire : l’aspiration à la liberté et à l’égalité, la Terreur, les grandes réformes de Napoléon Bonaparte.",{"$nulls":36},{"v":0,"d":"0%"},{"v":0,"d":"0%"},{"v":0,"d":"0%"},{"v":0,"d":"0%"},{"$f":"COUNTIF(D380:$AL380,\"NE\")/$AV$1","v":{"v":0,"d":"0%"}},{"v":0,"d":"0%"}]
[null,"HIS16","La France dans une Europe en expansion industrielle et urbaine : le temps du travail en usine, des progrès techniques, des colonies et de l’émigration. ",{"$nulls":36},{"v":0,"d":"0%"},{"v":0,"d":"0%"},{"v":0,"d":"0%"},{"v":0,"d":"0%"},{"$f":"COUNTIF(D381:$AL381,\"NE\")/$AV$1","v":{"v":0,"d":"0%"}},{"v":0,"d":"0%"}]
[null,".HIS17","L’installation de la démocratie et de la République.",{"$nulls":36},{"v":0,"d":"0%"},{"v":0,"d":"0%"},{"v":0,"d":"0%"},{"v":0,"d":"0%"},{"$f":"COUNTIF(D382:$AL382,\"NE\")/$AV$1","v":{"v":0,"d":"0%"}},{"v":0,"d":"0%"}]
[null,".HIS18","Connaître les grandes dates du 14 juillet 1789 : prise de la Bastille à 1905 : loi de séparation des Églises et de l’État.",{"$nulls":36},{"v":0,"d":"0%"},{"v":0,"d":"0%"},{"v":0,"d":"0%"},{"v":0,"d":"0%"},{"$f":"COUNTIF(D383:$AL383,\"NE\")/$AV$1","v":{"v":0,"d":"0%"}},{"v":0,"d":"0%"}]
[null,null,"Le XXème siècle et notre époque",{"$f":"COUNTA(D385:D390)*10","v":0},{"$f":"COUNTA(E385:E390)*10","v":0},0,0,0,0,0,0,0,0,0,0,0,0,0,0,0,0,0,0,0,0,0,0,0,0,0,0,0,0,0,0,0,{"$nulls":3},{"v":0,"d":"0%"},{"v":0,"d":"0%"},{"v":0,"d":"0%"},{"v":0,"d":"0%"},{"$f":"COUNTIF(D384:$AL384,\"NE\")/$AV$1","v":{"v":0,"d":"0%"}},{"v":0,"d":"0%"}]
[null,"HIS19","Les deux conflits mondiaux ;",{"$nulls":36},{"v":0,"d":"0%"},{"v":0,"d":"0%"},{"v":0,"d":"0%"},{"v":0,"d":"0%"},{"$f":"COUNTIF(D385:$AL385,\"NE\")/$AV$1","v":{"v":0,"d":"0%"}},{"v":0,"d":"0%"}]
[null,"HIS20","l’extermination des Juifs et des Tziganes par les nazis : un crime contre l’humanité.",{"$nulls":36},{"v":0,"d":"0%"},{"v":0,"d":"0%"},{"v":0,"d":"0%"},{"v":0,"d":"0%"},{"$f":"COUNTIF(D386:$AL386,\"NE\")/$AV$1","v":{"v":0,"d":"0%"}},{"v":0,"d":"0%"}]
[null,"HIS21","La révolution scientifique et technologique, la société de consommation.",{"$nulls":36},{"v":0,"d":"0%"},{"v":0,"d":"0%"},{"v":0,"d":"0%"},{"v":0,"d":"0%"},{"$f":"COUNTIF(D387:$AL387,\"NE\")/$AV$1","v":{"v":0,"d":"0%"}},{"v":0,"d":"0%"}]
[null,"HIS22","La Vème République.",{"$nulls":36},{"v":0,"d":"0%"},{"v":0,"d":"0%"},{"v":0,"d":"0%"},{"v":0,"d":"0%"},{"$f":"COUNTIF(D388:$AL388,\"NE\")/$AV$1","v":{"v":0,"d":"0%"}},{"v":0,"d":"0%"}]
[null,".HIS23","La construction européenne.",{"$nulls":36},{"v":0,"d":"0%"},{"v":0,"d":"0%"},{"v":0,"d":"0%"},{"v":0,"d":"0%"},{"$f":"COUNTIF(D389:$AL389,\"NE\")/$AV$1","v":{"v":0,"d":"0%"}},{"v":0,"d":"0%"}]
[null,".HIS24","Connaître les grandes dates du XX ème siècle, de Verdun à l'Euro ",{"$nulls":36},{"v":0,"d":"0%"},{"v":0,"d":"0%"},{"v":0,"d":"0%"},{"v":0,"d":"0%"},{"$f":"COUNTIF(D390:$AL390,\"NE\")/$AV$1","v":{"v":0,"d":"0%"}},{"v":0,"d":"0%"}]
[null,null,"GEOGRAPHIE",{"$f":"D392+D397+D404+D408+D413","v":0},{"$f":"E392+E397+E404+E408+E413","v":0},0,0,0,0,0,0,0,0,0,0,0,0,0,0,0,0,0,0,0,0,0,0,0,0,0,0,0,0,0,0,0,{"$nulls":3},{"$f":"COUNTIF($D391:$AL391,$AU$1)/$AV$1","v":{"v":0,"d":"0%"}},{"$f":"COUNTIF($D391:$AL391,$AU$2)/$AV$1","v":{"v":0,"d":"0%"}},{"$f":"COUNTIF($D391:$AL391,$AU$3)/$AV$1","v":{"v":0,"d":"0%"}},{"$f":"COUNTIF($D391:$AL391,$AU$4)/$AV$1","v":{"v":0,"d":"0%"}},{"$f":"COUNTIF(D391:$AL391,\"NE\")/$AV$1","v":{"v":0,"d":"0%"}},{"v":0,"d":"0%"}]
[null,null,"Des réalités géographiques locales à la région où vivent les élèves",{"$f":"COUNTA(D393:D395)*10","v":0},{"$f":"COUNTA(E393:E395)*10","v":0},0,0,0,0,0,0,0,0,0,0,0,0,0,0,0,0,0,0,0,0,0,0,0,0,0,0,0,0,0,0,0,{"$nulls":3},{"v":0,"d":"0%"},{"v":0,"d":"0%"},{"v":0,"d":"0%"},{"v":0,"d":"0%"},{"$f":"COUNTIF(D392:$AL392,\"NE\")/$AV$1","v":{"v":0,"d":"0%"}},{"$f":"AN392+(AO392*0.66)+(AP392*0.33)","v":{"v":0,"d":"0%"}}]
[null,"GE01","Les paysages de village, de ville ou de quartier, la circulation des hommes et des biens, les principales activités économiques ; ",{"$nulls":36},{"v":0,"d":"0%"},{"v":0,"d":"0%"},{"v":0,"d":"0%"},{"v":0,"d":"0%"},{"$f":"COUNTIF(D393:$AL393,\"NE\")/$AV$1","v":{"v":0,"d":"0%"}},{"v":0,"d":"0%"}]
[null,".GE02","Un sujet d’étude au choix permettant une première approche du développement durable (en relation avec le programme de sciences expérimentales et de technologie) : l’eau dans la commune (besoins et traitement) ou les déchets (réduction et recyclage) ;",{"$nulls":36},{"v":0,"d":"0%"},{"v":0,"d":"0%"},{"v":0,"d":"0%"},{"v":0,"d":"0%"},{"$f":"COUNTIF(D394:$AL394,\"NE\")/$AV$1","v":{"v":0,"d":"0%"}},{"v":0,"d":"0%"}]
[null,"GE03","Le département et la région.",{"$nulls":36},{"v":0,"d":"0%"},{"v":0,"d":"0%"},{"v":0,"d":"0%"},{"v":0,"d":"0%"},{"$f":"COUNTIF(D395:$AL395,\"NE\")/$AV$1","v":{"v":0,"d":"0%"}},{"v":0,"d":"0%"}]
[null,null,"Étude de cartes.",{"$f":"D397","v":0},0,0,0,0,0,0,0,0,0,0,0,0,0,0,0,0,0,0,0,0,0,0,0,0,0,0,0,0,0,0,0,0,{"$nulls":3},{"v":0,"d":"0%"},{"v":0,"d":"0%"},{"v":0,"d":"0%"},{"v":0,"d":"0%"},{"$f":"COUNTIF(D396:$AL396,\"NE\")/$AV$1","v":{"v":0,"d":"0%"}},{"v":0,"d":"0%"}]
[null,null,"Le territoire français dans l’Union européenne",{"$f":"COUNTA(D398:D403)*10","v":0},{"$f":"COUNTA(E398:E403)*10","v":0},0,0,0,0,0,0,0,0,0,0,0,0,0,0,0,0,0,0,0,0,0,0,0,0,0,0,0,0,0,0,0,{"$nulls":3},{"v":0,"d":"0%"},{"v":0,"d":"0%"},{"v":0,"d":"0%"},{"v":0,"d":"0%"},{"$f":"COUNTIF(D397:$AL397,\"NE\")/$AV$1","v":{"v":0,"d":"0%"}},{"v":0,"d":"0%"}]
[null,"GE04","les grands types de paysages ; ",{"$nulls":36},{"v":0,"d":"0%"},{"v":0,"d":"0%"},{"v":0,"d":"0%"},{"v":0,"d":"0%"},{"$f":"COUNTIF(D398:$AL398,\"NE\")/$AV$1","v":{"v":0,"d":"0%"}},{"v":0,"d":"0%"}]
[null,".GE05","La diversité des régions françaises ;",{"$nulls":36},{"v":0,"d":"0%"},{"v":0,"d":"0%"},{"v":0,"d":"0%"},{"v":0,"d":"0%"},{"$f":"COUNTIF(D399:$AL399,\"NE\")/$AV$1","v":{"v":0,"d":"0%"}},{"v":0,"d":"0%"}]
[null,".GE06","les frontières de la France et les pays de l’Union européenne.",{"$nulls":36},{"v":0,"d":"0%"},{"v":0,"d":"0%"},{"v":0,"d":"0%"},{"v":0,"d":"0%"},{"$f":"COUNTIF(D400:$AL400,\"NE\")/$AV$1","v":{"v":0,"d":"0%"}},{"v":0,"d":"0%"}]
[null,".GE07","Principaux caractères du relief, de l’hydrographie et du climat en France et en Europe : étude de cartes.",{"$nulls":36},{"v":0,"d":"0%"},{"v":0,"d":"0%"},{"v":0,"d":"0%"},{"v":0,"d":"0%"},{"$f":"COUNTIF(D401:$AL401,\"NE\")/$AV$1","v":{"v":0,"d":"0%"}},{"v":0,"d":"0%"}]
[null,".GE08","Le découpage administratif de la France (départements, régions) : étude de cartes.",{"$nulls":36},{"v":0,"d":"0%"},{"v":0,"d":"0%"},{"v":0,"d":"0%"},{"v":0,"d":"0%"},{"$f":"COUNTIF(D402:$AL402,\"NE\")/$AV$1","v":{"v":0,"d":"0%"}},{"v":0,"d":"0%"}]
[null,".GE09","Les pays de l’Union européenne : étude de cartes.",{"$nulls":36},{"v":0,"d":"0%"},{"v":0,"d":"0%"},{"v":0,"d":"0%"},{"v":0,"d":"0%"},{"$f":"COUNTIF(D403:$AL403,\"NE\")/$AV$1","v":{"v":0,"d":"0%"}},{"v":0,"d":"0%"}]
[null,null,"Les Français dans le contexte européen",{"$f":"COUNTA(D405:D407)*10","v":0},{"$f":"COUNTA(E405:E407)*10","v":0},0,0,0,0,0,0,0,0,0,0,0,0,0,0,0,0,0,0,0,0,0,0,0,0,0,0,0,0,0,0,0,{"$nulls":3},{"v":0,"d":"0%"},{"v":0,"d":"0%"},{"v":0,"d":"0%"},{"v":0,"d":"0%"},{"$f":"COUNTIF(D404:$AL404,\"NE\")/$AV$1","v":{"v":0,"d":"0%"}},{"v":0,"d":"0%"}]
[null,"GE10","La répartition de la population sur le territoire national et en Europe ;",{"$nulls":36},{"v":0,"d":"0%"},{"v":0,"d":"0%"},{"v":0,"d":"0%"},{"v":0,"d":"0%"},{"$f":"COUNTIF(D405:$AL405,\"NE\")/$AV$1","v":{"v":0,"d":"0%"}},{"v":0,"d":"0%"}]
[null,"GE11","Les principales villes en France et en Europe.",{"$nulls":36},{"v":0,"d":"0%"},{"v":0,"d":"0%"},{"v":0,"d":"0%"},{"v":0,"d":"0%"},{"$f":"COUNTIF(D406:$AL406,\"NE\")/$AV$1","v":{"v":0,"d":"0%"}},{"v":0,"d":"0%"}]
[null,".GE12","Répartition de la population et localisation des principales villes : étude de cartes.",{"$nulls":36},{"v":0,"d":"0%"},{"v":0,"d":"0%"},{"v":0,"d":"0%"},{"v":0,"d":"0%"},{"$f":"COUNTIF(D407:$AL407,\"NE\")/$AV$1","v":{"v":0,"d":"0%"}},{"v":0,"d":"0%"}]
[null,null,"Se déplacer en France et en Europe",{"$f":"COUNTA(D409:D412)*10","v":0},{"$f":"COUNTA(E409:E412)*10","v":0},0,0,0,0,0,0,0,0,0,0,0,0,0,0,0,0,0,0,0,0,0,0,0,0,0,0,0,0,0,0,0,{"$nulls":3},{"v":0,"d":"0%"},{"v":0,"d":"0%"},{"v":0,"d":"0%"},{"v":0,"d":"0%"},{"$f":"COUNTIF(D408:$AL408,\"NE\")/$AV$1","v":{"v":0,"d":"0%"}},{"v":0,"d":"0%"}]
[null,"GE13","Un aéroport ;",{"$nulls":36},{"v":0,"d":"0%"},{"v":0,"d":"0%"},{"v":0,"d":"0%"},{"v":0,"d":"0%"},{"$f":"COUNTIF(D409:$AL409,\"NE\")/$AV$1","v":{"v":0,"d":"0%"}},{"v":0,"d":"0%"}]
[null,"GE14","Le réseau autoroutier et le réseau TGV.",{"$nulls":36},{"v":0,"d":"0%"},{"v":0,"d":"0%"},{"v":0,"d":"0%"},{"v":0,"d":"0%"},{"$f":"COUNTIF(D410:$AL410,\"NE\")/$AV$1","v":{"v":0,"d":"0%"}},{"v":0,"d":"0%"}]
[null,".GE15","Le réseau ferré à grande vitesse en Europe : étude de cartes.",{"$nulls":36},{"v":0,"d":"0%"},{"v":0,"d":"0%"},{"v":0,"d":"0%"},{"v":0,"d":"0%"},{"$f":"COUNTIF(D411:$AL411,\"NE\")/$AV$1","v":{"v":0,"d":"0%"}},{"v":0,"d":"0%"}]
[null,"GE16","Produire en France : Quatre types d’espaces d’activités : une zone industrialo-portuaire, un centre tertiaire, un espace agricole et une zone de tourisme.",{"$nulls":36},{"v":0,"d":"0%"},{"v":0,"d":"0%"},{"v":0,"d":"0%"},{"v":0,"d":"0%"},{"$f":"COUNTIF(D412:$AL412,\"NE\")/$AV$1","v":{"v":0,"d":"0%"}},{"v":0,"d":"0%"}]
[null,null,"La France dans le monde",{"$f":"COUNTA(D414:D415)*10","v":0},{"$f":"COUNTA(E414:E415)*10","v":0},0,0,0,0,0,0,0,0,0,0,0,0,0,0,0,0,0,0,0,0,0,0,0,0,0,0,0,0,0,0,0,{"$nulls":3},{"v":0,"d":"0%"},{"v":0,"d":"0%"},{"v":0,"d":"0%"},{"v":0,"d":"0%"},{"$f":"COUNTIF(D413:$AL413,\"NE\")/$AV$1","v":{"v":0,"d":"0%"}},{"v":0,"d":"0%"}]
[null,"GE17","Les territoires français dans le monde ;",{"$nulls":36},{"v":0,"d":"0%"},{"v":0,"d":"0%"},{"v":0,"d":"0%"},{"v":0,"d":"0%"},{"$f":"COUNTIF(D414:$AL414,\"NE\")/$AV$1","v":{"v":0,"d":"0%"}},{"v":0,"d":"0%"}]
[null,"GE18","La langue française dans le monde (en relation avec le programme d’instruction civique et morale).",{"$nulls":36},{"v":0,"d":"0%"},{"v":0,"d":"0%"},{"v":0,"d":"0%"},{"v":0,"d":"0%"},{"$f":"COUNTIF(D415:$AL415,\"NE\")/$AV$1","v":{"v":0,"d":"0%"}},{"v":0,"d":"0%"}]
[null,null,"PRATIQUES ARTISTIQUES ET HISTOIRE DE L'ART",{"$f":"D417+D423+D432+D436+D443+D451+D459","v":0},{"$f":"E417+E423+E432+E436+E443+E451+E459","v":0},0,0,0,0,0,0,0,0,0,0,0,0,0,0,0,0,0,0,0,0,0,0,0,0,0,0,0,0,0,0,0,{"$nulls":3},{"v":0,"d":"0%"},{"v":0,"d":"0%"},{"v":0,"d":"0%"},{"v":0,"d":"0%"},{"$f":"COUNTIF(D416:$AL416,\"NE\")/$AV$1","v":{"v":0,"d":"0%"}},{"v":0,"d":"0%"}]
[null,null,"Arts visuels",{"$f":"COUNTA(D418:D420)*10","v":0},{"$f":"COUNTA(E418:E420)*10","v":0},0,0,0,0,0,0,0,0,0,0,0,0,0,0,0,0,0,0,0,0,0,0,0,0,0,0,0,0,0,0,0,{"$nulls":3},{"v":0,"d":"0%"},{"v":0,"d":"0%"},{"v":0,"d":"0%"},{"v":0,"d":"0%"},{"$f":"COUNTIF(D417:$AL417,\"NE\")/$AV$1","v":{"v":0,"d":"0%"}},{"v":0,"d":"0%"}]
[null,"AV01","Acquérir des savoirs et des techniques spécifiques.",{"$nulls":36},{"v":0,"d":"0%"},{"v":0,"d":"0%"},{"v":0,"d":"0%"},{"v":0,"d":"0%"},{"$f":"COUNTIF(D418:$AL418,\"NE\")/$AV$1","v":{"v":0,"d":"0%"}},{"v":0,"d":"0%"}]
[null,".AV02","Distinguer les grandes catégories de la création artistique (littérature, musique, danse, théâtre, cinéma, dessin, peinture, sculpture, architecture)",{"$nulls":36},{"v":0,"d":"0%"},{"v":0,"d":"0%"},{"v":0,"d":"0%"},{"v":0,"d":"0%"},{"$f":"COUNTIF(D419:$AL419,\"NE\")/$AV$1","v":{"v":0,"d":"0%"}},{"v":0,"d":"0%"}]
[null,"AV03","Distinguer la valeur d’usage de la valeur esthétique des objets étudiés.",{"$nulls":36},{"v":0,"d":"0%"},{"v":0,"d":"0%"},{"v":0,"d":"0%"},{"v":0,"d":"0%"},{"$f":"COUNTIF(D420:$AL420,\"NE\")/$AV$1","v":{"v":0,"d":"0%"}},{"v":0,"d":"0%"}]
[null,".AV04","Pratiquer le dessin et diverses formes d’expressions visuelles et plastiques",{"$nulls":36},{"v":0,"d":"0%"},{"v":0,"d":"0%"},{"v":0,"d":"0%"},{"v":0,"d":"0%"},{"$f":"COUNTIF(D421:$AL421,\"NE\")/$AV$1","v":{"v":0,"d":"0%"}},{"v":0,"d":"0%"}]
[null,".AV05","Inventer et réaliser des textes, des œuvres plastiques, des chorégraphies ou des enchaînements, à visée artistique ou expressive",{"$nulls":36},{"v":0,"d":"0%"},{"v":0,"d":"0%"},{"v":0,"d":"0%"},{"v":0,"d":"0%"},{"$f":"COUNTIF(D422:$AL422,\"NE\")/$AV$1","v":{"v":0,"d":"0%"}},{"v":0,"d":"0%"}]
[null,null,"Éducation musicale",{"$f":"COUNTA(D424:D427)*10","v":0},{"$f":"COUNTA(E424:E427)*10","v":0},0,0,0,0,0,0,0,0,0,0,0,0,0,0,0,0,0,0,0,0,0,0,0,0,0,0,0,0,0,0,0,{"$nulls":3},{"v":0,"d":"0%"},{"v":0,"d":"0%"},{"v":0,"d":"0%"},{"v":0,"d":"0%"},{"$f":"COUNTIF(D423:$AL423,\"NE\")/$AV$1","v":{"v":0,"d":"0%"}},{"v":0,"d":"0%"}]
[null,"EM01","S’exercer à comparer des œuvres musicales.",{"$nulls":36},{"v":0,"d":"0%"},{"v":0,"d":"0%"},{"v":0,"d":"0%"},{"v":0,"d":"0%"},{"$f":"COUNTIF(D424:$AL424,\"NE\")/$AV$1","v":{"v":0,"d":"0%"}},{"v":0,"d":"0%"}]
[null,"EM02","Découvrir la variété des genres et des styles selon les époques et les cultures.",{"$nulls":36},{"v":0,"d":"0%"},{"v":0,"d":"0%"},{"v":0,"d":"0%"},{"v":0,"d":"0%"},{"$f":"COUNTIF(D425:$AL425,\"NE\")/$AV$1","v":{"v":0,"d":"0%"}},{"v":0,"d":"0%"}]
[null,"EM03","Percevoir et identifier des éléments musicaux caractéristiques de la musique écoutée.",{"$nulls":36},{"v":0,"d":"0%"},{"v":0,"d":"0%"},{"v":0,"d":"0%"},{"v":0,"d":"0%"},{"$f":"COUNTIF(D426:$AL426,\"NE\")/$AV$1","v":{"v":0,"d":"0%"}},{"v":0,"d":"0%"}]
[null,".EM04","Interpréter de mémoire une chanson, participer à un jeu rythmique ; repérer des éléments musicaux caractéristiques, simples",{"$nulls":36},{"v":0,"d":"0%"},{"v":0,"d":"0%"},{"v":0,"d":"0%"},{"v":0,"d":"0%"},{"$f":"COUNTIF(D427:$AL427,\"NE\")/$AV$1","v":{"v":0,"d":"0%"}},{"v":0,"d":"0%"}]
[null,null,"Histoire de l'art",{"$f":"D432+D436+D443+D451+D459","v":0},{"$f":"E432+E436+E443+E451+E459","v":0},0,0,0,0,0,0,0,0,0,0,0,0,0,0,0,0,0,0,0,0,0,0,0,0,0,0,0,0,0,0,0,{"$nulls":3},{"v":0,"d":"0%"},{"v":0,"d":"0%"},{"v":0,"d":"0%"},{"v":0,"d":"0%"},{"$f":"COUNTIF(D428:$AL428,\"NE\")/$AV$1","v":{"v":0,"d":"0%"}},{"v":0,"d":"0%"}]
[null,".HA01","Se situer parmi les productions artistiques de l’humanité et les différentes cultures considérées dans le temps et dans l’espace.",{"$nulls":36},{"v":0,"d":"0%"},{"v":0,"d":"0%"},{"v":0,"d":"0%"},{"v":0,"d":"0%"},{"$f":"COUNTIF(D429:$AL429,\"NE\")/$AV$1","v":{"v":0,"d":"0%"}},{"v":0,"d":"0%"}]
[null,"HA02","Découvrir les richesses, la permanence et l’universalité de la création artistique.",{"$nulls":36},{"v":0,"d":"0%"},{"v":0,"d":"0%"},{"v":0,"d":"0%"},{"v":0,"d":"0%"},{"$f":"COUNTIF(D430:$AL430,\"NE\")/$AV$1","v":{"v":0,"d":"0%"}},{"v":0,"d":"0%"}]
[null,"HA03","Éveiller sa curiosité pour les chefs-d’œuvre ou les activités artistiques de leur ville ou de leur région.",{"$nulls":36},{"v":0,"d":"0%"},{"v":0,"d":"0%"},{"v":0,"d":"0%"},{"v":0,"d":"0%"},{"$f":"COUNTIF(D431:$AL431,\"NE\")/$AV$1","v":{"v":0,"d":"0%"}},{"v":0,"d":"0%"}]
[null,null,"La Préhistoire et l’Antiquité gallo-romaine",{"$f":"COUNTA(D433:D435)*10","v":0},{"$f":"COUNTA(E433:E435)*10","v":0},0,0,0,0,0,0,0,0,0,0,0,0,0,0,0,0,0,0,0,0,0,0,0,0,0,0,0,0,0,0,0,{"$nulls":3},{"v":0,"d":"0%"},{"v":0,"d":"0%"},{"v":0,"d":"0%"},{"v":0,"d":"0%"},{"$f":"COUNTIF(D432:$AL432,\"NE\")/$AV$1","v":{"v":0,"d":"0%"}},{"v":0,"d":"0%"}]
[null,"HA04","Architecture préhistorique (un ensemble mégalithique) et antique (des monuments gallo-romains).",{"$nulls":36},{"v":0,"d":"0%"},{"v":0,"d":"0%"},{"v":0,"d":"0%"},{"v":0,"d":"0%"},{"$f":"COUNTIF(D433:$AL433,\"NE\")/$AV$1","v":{"v":0,"d":"0%"}},{"v":0,"d":"0%"}]
[null,"HA05","Une mosaïque gallo-romaine.",{"$nulls":36},{"v":0,"d":"0%"},{"v":0,"d":"0%"},{"v":0,"d":"0%"},{"v":0,"d":"0%"},{"$f":"COUNTIF(D434:$AL434,\"NE\")/$AV$1","v":{"v":0,"d":"0%"}},{"v":0,"d":"0%"}]
[null,"HA06","Peintures de Lascaux ; une sculpture antique.",{"$nulls":36},{"v":0,"d":"0%"},{"v":0,"d":"0%"},{"v":0,"d":"0%"},{"v":0,"d":"0%"},{"$f":"COUNTIF(D435:$AL435,\"NE\")/$AV$1","v":{"v":0,"d":"0%"}},{"v":0,"d":"0%"}]
[null,null,"Le Moyen Âge",{"$f":"COUNTA(D437:D442)*10","v":0},{"$f":"COUNTA(E437:E442)*10","v":0},0,0,0,0,0,0,0,0,0,0,0,0,0,0,0,0,0,0,0,0,0,0,0,0,0,0,0,0,0,0,0,{"$nulls":3},{"v":0,"d":"0%"},{"v":0,"d":"0%"},{"v":0,"d":"0%"},{"v":0,"d":"0%"},{"$f":"COUNTIF(D436:$AL436,\"NE\")/$AV$1","v":{"v":0,"d":"0%"}},{"v":0,"d":"0%"}]
[null,".HA07","Architecture religieuse (une église romane ; une église gothique ; une mosquée ; une abbaye) ; bâtiments et sites militaires et civils (un château fort ; une cité fortifiée ; une maison à colombage).",{"$nulls":36},{"v":0,"d":"0%"},{"v":0,"d":"0%"},{"v":0,"d":"0%"},{"v":0,"d":"0%"},{"$f":"COUNTIF(D437:$AL437,\"NE\")/$AV$1","v":{"v":0,"d":"0%"}},{"v":0,"d":"0%"}]
[null,"HA08","Un extrait d’un roman de chevalerie.",{"$nulls":36},{"v":0,"d":"0%"},{"v":0,"d":"0%"},{"v":0,"d":"0%"},{"v":0,"d":"0%"},{"$f":"COUNTIF(D438:$AL438,\"NE\")/$AV$1","v":{"v":0,"d":"0%"}},{"v":0,"d":"0%"}]
[null,"HA09","Un costume, un vitrail, une tapisserie.",{"$nulls":36},{"v":0,"d":"0%"},{"v":0,"d":"0%"},{"v":0,"d":"0%"},{"v":0,"d":"0%"},{"$f":"COUNTIF(D439:$AL439,\"NE\")/$AV$1","v":{"v":0,"d":"0%"}},{"v":0,"d":"0%"}]
[null,"HA10","Musique religieuse (un chant grégorien) et musique profane (une chanson de troubadour).",{"$nulls":36},{"v":0,"d":"0%"},{"v":0,"d":"0%"},{"v":0,"d":"0%"},{"v":0,"d":"0%"},{"$f":"COUNTIF(D440:$AL440,\"NE\")/$AV$1","v":{"v":0,"d":"0%"}},{"v":0,"d":"0%"}]
[null,"HA11","Une fête et un spectacle de la culture populaire et nobiliaire (le carnaval, le tournoi).",{"$nulls":36},{"v":0,"d":"0%"},{"v":0,"d":"0%"},{"v":0,"d":"0%"},{"v":0,"d":"0%"},{"$f":"COUNTIF(D441:$AL441,\"NE\")/$AV$1","v":{"v":0,"d":"0%"}},{"v":0,"d":"0%"}]
[null,".HA12","Une fresque ; une sculpture romane ; une sculpture gothique ; un manuscrit enluminé.",{"$nulls":36},{"v":0,"d":"0%"},{"v":0,"d":"0%"},{"v":0,"d":"0%"},{"v":0,"d":"0%"},{"$f":"COUNTIF(D442:$AL442,\"NE\")/$AV$1","v":{"v":0,"d":"0%"}},{"v":0,"d":"0%"}]
[null,null,"Les temps modernes",{"$f":"COUNTA(D444:D450)*10","v":0},{"$f":"COUNTA(E444:E450)*10","v":0},0,0,0,0,0,0,0,0,0,0,0,0,0,0,0,0,0,0,0,0,0,0,0,0,0,0,0,0,0,0,0,{"$nulls":3},{"v":0,"d":"0%"},{"v":0,"d":"0%"},{"v":0,"d":"0%"},{"v":0,"d":"0%"},{"$f":"COUNTIF(D443:$AL443,\"NE\")/$AV$1","v":{"v":0,"d":"0%"}},{"v":0,"d":"0%"}]
[null,"HA13","Une architecture royale (un château de la Loire, Versailles), une architecture militaire (une fortification) ; une place urbaine ; un jardin à la française.",{"$nulls":36},{"v":0,"d":"0%"},{"v":0,"d":"0%"},{"v":0,"d":"0%"},{"v":0,"d":"0%"},{"$f":"COUNTIF(D444:$AL444,\"NE\")/$AV$1","v":{"v":0,"d":"0%"}},{"v":0,"d":"0%"}]
[null,"HA14","Des poésies de la Renaissance ; un conte ou une fable de l’époque classique.",{"$nulls":36},{"v":0,"d":"0%"},{"v":0,"d":"0%"},{"v":0,"d":"0%"},{"v":0,"d":"0%"},{"$f":"COUNTIF(D445:$AL445,\"NE\")/$AV$1","v":{"v":0,"d":"0%"}},{"v":0,"d":"0%"}]
[null,"HA15","Une pièce de mobilier et de costume ; un moyen de transport ; une tapisserie.",{"$nulls":36},{"v":0,"d":"0%"},{"v":0,"d":"0%"},{"v":0,"d":"0%"},{"v":0,"d":"0%"},{"$f":"COUNTIF(D446:$AL446,\"NE\")/$AV$1","v":{"v":0,"d":"0%"}},{"v":0,"d":"0%"}]
[null,"HA16","Musique instrumentale et vocale du répertoire baroque et classique (une symphonie ; une œuvre vocale religieuse).",{"$nulls":36},{"v":0,"d":"0%"},{"v":0,"d":"0%"},{"v":0,"d":"0%"},{"v":0,"d":"0%"},{"$f":"COUNTIF(D447:$AL447,\"NE\")/$AV$1","v":{"v":0,"d":"0%"}},{"v":0,"d":"0%"}]
[null,"HA17","Une chanson du répertoire populaire.",{"$nulls":36},{"v":0,"d":"0%"},{"v":0,"d":"0%"},{"v":0,"d":"0%"},{"v":0,"d":"0%"},{"$f":"COUNTIF(D448:$AL448,\"NE\")/$AV$1","v":{"v":0,"d":"0%"}},{"v":0,"d":"0%"}]
[null,"HA18","Un extrait de pièce de théâtre.",{"$nulls":36},{"v":0,"d":"0%"},{"v":0,"d":"0%"},{"v":0,"d":"0%"},{"v":0,"d":"0%"},{"$f":"COUNTIF(D449:$AL449,\"NE\")/$AV$1","v":{"v":0,"d":"0%"}},{"v":0,"d":"0%"}]
[null,".HA19","Des peintures et sculptures de la Renaissance, des XVIIème et XVIIIème siècles (Italie, Flandres, France).",{"$nulls":36},{"v":0,"d":"0%"},{"v":0,"d":"0%"},{"v":0,"d":"0%"},{"v":0,"d":"0%"},{"$f":"COUNTIF(D450:$AL450,\"NE\")/$AV$1","v":{"v":0,"d":"0%"}},{"v":0,"d":"0%"}]
[null,null,"Le XIXème siècle",{"$f":"COUNTA(D452:D458)*10","v":0},{"$f":"COUNTA(E452:E458)*10","v":0},0,0,0,0,0,0,0,0,0,0,0,0,0,0,0,0,0,0,0,0,0,0,0,0,0,0,0,0,0,0,0,{"$nulls":3},{"v":0,"d":"0%"},{"v":0,"d":"0%"},{"v":0,"d":"0%"},{"v":0,"d":"0%"},{"$f":"COUNTIF(D451:$AL451,\"NE\")/$AV$1","v":{"v":0,"d":"0%"}},{"v":0,"d":"0%"}]
[null,"HA20","Une architecture industrielle (une gare).",{"$nulls":36},{"v":0,"d":"0%"},{"v":0,"d":"0%"},{"v":0,"d":"0%"},{"v":0,"d":"0%"},{"$f":"COUNTIF(D452:$AL452,\"NE\")/$AV$1","v":{"v":0,"d":"0%"}},{"v":0,"d":"0%"}]
[null,"HA21","Urbanisme : un plan de ville.",{"$nulls":36},{"v":0,"d":"0%"},{"v":0,"d":"0%"},{"v":0,"d":"0%"},{"v":0,"d":"0%"},{"$f":"COUNTIF(D453:$AL453,\"NE\")/$AV$1","v":{"v":0,"d":"0%"}},{"v":0,"d":"0%"}]
[null,"HA22","Des récits, des poésies.",{"$nulls":36},{"v":0,"d":"0%"},{"v":0,"d":"0%"},{"v":0,"d":"0%"},{"v":0,"d":"0%"},{"$f":"COUNTIF(D454:$AL454,\"NE\")/$AV$1","v":{"v":0,"d":"0%"}},{"v":0,"d":"0%"}]
[null,"HA23","Des éléments de mobilier et de décoration et d’arts de la table (Sèvres, Limoges).",{"$nulls":36},{"$f":"COUNTIF($D455:$AL455,$AU$1)/$AV$1","v":{"v":0,"d":"0%"}},{"$f":"COUNTIF($D455:$AL455,$AU$2)/$AV$1","v":{"v":0,"d":"0%"}},{"$f":"COUNTIF($D455:$AL455,$AU$3)/$AV$1","v":{"v":0,"d":"0%"}},{"$f":"COUNTIF($D455:$AL455,$AU$4)/$AV$1","v":{"v":0,"d":"0%"}},{"$f":"COUNTIF(D455:$AL455,\"NE\")/$AV$1","v":{"v":0,"d":"0%"}},{"v":0,"d":"0%"}]
[null,"HA24","Extraits musicaux de l’époque romantique (symphonie, opéra).",{"$nulls":36},{"v":0,"d":"0%"},{"v":0,"d":"0%"},{"v":0,"d":"0%"},{"v":0,"d":"0%"},{"$f":"COUNTIF(D456:$AL456,\"NE\")/$AV$1","v":{"v":0,"d":"0%"}},{"$f":"AN456+(AO456*0.66)+(AP456*0.33)","v":{"v":0,"d":"0%"}}]
[null,"HA25","Un extrait de pièce de théâtre, de ballet.",{"$nulls":36},{"v":0,"d":"0%"},{"v":0,"d":"0%"},{"v":0,"d":"0%"},{"v":0,"d":"0%"},{"$f":"COUNTIF(D457:$AL457,\"NE\")/$AV$1","v":{"v":0,"d":"0%"}},{"v":0,"d":"0%"}]
[null,".HA26","Quelques œuvres illustrant les principaux mouvements picturaux (romantisme, réalisme, impressionnisme) ; un maître de la sculpture ; un court-métrage des débuts du cinématographe ; des photographies d’époque.",{"$nulls":36},{"v":0,"d":"0%"},{"v":0,"d":"0%"},{"v":0,"d":"0%"},{"v":0,"d":"0%"},{"$f":"COUNTIF(D458:$AL458,\"NE\")/$AV$1","v":{"v":0,"d":"0%"}},{"v":0,"d":"0%"}]
[null,null,"Le XXème siècle et notre époque",{"$f":"COUNTA(D460:D465)*10","v":0},{"$f":"COUNTA(E460:E465)*10","v":0},0,0,0,0,0,0,0,0,0,0,0,0,0,0,0,0,0,0,0,0,0,0,0,0,0,0,0,0,0,0,0,{"$nulls":3},{"v":0,"d":"0%"},{"v":0,"d":"0%"},{"v":0,"d":"0%"},{"v":0,"d":"0%"},{"$f":"COUNTIF(D459:$AL459,\"NE\")/$AV$1","v":{"v":0,"d":"0%"}},{"v":0,"d":"0%"}]
[null,"HA27","Architecture : ouvrages d’art et habitat.",{"$nulls":36},{"v":0,"d":"0%"},{"v":0,"d":"0%"},{"v":0,"d":"0%"},{"v":0,"d":"0%"},{"$f":"COUNTIF(D460:$AL460,\"NE\")/$AV$1","v":{"v":0,"d":"0%"}},{"v":0,"d":"0%"}]
[null,"HA28","Des récits, nouvelles, récits illustrés, poésies.",{"$nulls":36},{"v":0,"d":"0%"},{"v":0,"d":"0%"},{"v":0,"d":"0%"},{"v":0,"d":"0%"},{"$f":"COUNTIF(D461:$AL461,\"NE\")/$AV$1","v":{"v":0,"d":"0%"}},{"v":0,"d":"0%"}]
[null,"HA29","Design graphique (une affiche) ; design de transport (un train).",{"$nulls":36},{"v":0,"d":"0%"},{"v":0,"d":"0%"},{"v":0,"d":"0%"},{"v":0,"d":"0%"},{"$f":"COUNTIF(D462:$AL462,\"NE\")/$AV$1","v":{"v":0,"d":"0%"}},{"v":0,"d":"0%"}]
[null,"HA30","Des musiques du XXème siècle (dont jazz, musiques de films, chansons).",{"$nulls":36},{"v":0,"d":"0%"},{"v":0,"d":"0%"},{"v":0,"d":"0%"},{"v":0,"d":"0%"},{"$f":"COUNTIF(D463:$AL463,\"NE\")/$AV$1","v":{"v":0,"d":"0%"}},{"v":0,"d":"0%"}]
[null,"HA31","Spectacle de mime, de cirque, de théâtre ; un extrait d’un spectacle de danse moderne ou contemporaine.",{"$nulls":36},{"v":0,"d":"0%"},{"v":0,"d":"0%"},{"v":0,"d":"0%"},{"v":0,"d":"0%"},{"$f":"COUNTIF(D464:$AL464,\"NE\")/$AV$1","v":{"v":0,"d":"0%"}},{"v":0,"d":"0%"}]
[null,".HA32","Quelques œuvres illustrant les principaux mouvements picturaux contemporains ; une sculpture ; des œuvres cinématographiques (dont le cinéma muet) et photographiques ; des œuvres cinématographiques illustrant les différentes périodes historiques.",{"$nulls":36},{"v":0,"d":"0%"},{"v":0,"d":"0%"},{"v":0,"d":"0%"},{"v":0,"d":"0%"},{"$f":"COUNTIF(D465:$AL465,\"NE\")/$AV$1","v":{"v":0,"d":"0%"}},{"v":0,"d":"0%"}]
[null,null,"LVE",{"$f":"D467+D472+D476+D480+D483","v":0},{"$f":"E467+E472+E476+E480+E483","v":0},0,0,0,0,0,0,0,0,0,0,0,0,0,0,0,0,0,0,0,0,0,0,0,0,0,0,0,0,0,0,0,{"$nulls":3},{"v":0,"d":"0%"},{"v":0,"d":"0%"},{"v":0,"d":"0%"},{"v":0,"d":"0%"},{"$f":"COUNTIF(D466:$AL466,\"NE\")/$AV$1","v":{"v":0,"d":"0%"}},{"v":0,"d":"0%"}]
[null,null,"Réagir et dialoguer",{"$f":"COUNTA(D468:D471)*10","v":0},{"$f":"COUNTA(E468:E471)*10","v":0},0,0,0,0,0,0,0,0,0,0,0,0,0,0,0,0,0,0,0,0,0,0,0,0,0,0,0,0,0,0,0,{"$nulls":3},{"v":0,"d":"0%"},{"v":0,"d":"0%"},{"v":0,"d":"0%"},{"v":0,"d":"0%"},{"$f":"COUNTIF(D467:$AL467,\"NE\")/$AV$1","v":{"v":0,"d":"0%"}},{"v":0,"d":"0%"}]
[null,".LVE1","Communiquer, au besoin avec des pauses pour chercher ses mots",{"$nulls":36},{"v":0,"d":"0%"},{"v":0,"d":"0%"},{"v":0,"d":"0%"},{"v":0,"d":"0%"},{"$f":"COUNTIF(D468:$AL468,\"NE\")/$AV$1","v":{"v":0,"d":"0%"}},{"v":0,"d":"0%"}]
[null,".LVE2","Se présenter ; présenter quelqu’un ; demander à quelqu’un de ses nouvelles en utilisant les formes de politesse les plus élémentaires ; accueil et prise de congé",{"$nulls":36},{"v":0,"d":"0%"},{"v":0,"d":"0%"},{"v":0,"d":"0%"},{"v":0,"d":"0%"},{"$f":"COUNTIF(D469:$AL469,\"NE\")/$AV$1","v":{"v":0,"d":"0%"}},{"v":0,"d":"0%"}]
[null,".LVE3","Répondre à des questions et en poser (sujets familiers ou besoins immédiats)",{"$nulls":36},{"v":0,"d":"0%"},{"v":0,"d":"0%"},{"v":0,"d":"0%"},{"v":0,"d":"0%"},{"$f":"COUNTIF(D470:$AL470,\"NE\")/$AV$1","v":{"v":0,"d":"0%"}},{"v":0,"d":"0%"}]
[null,".LVE4","Épeler des mots familiers",{"$nulls":36},{"v":0,"d":"0%"},{"v":0,"d":"0%"},{"v":0,"d":"0%"},{"v":0,"d":"0%"},{"$f":"COUNTIF(D471:$AL471,\"NE\")/$AV$1","v":{"v":0,"d":"0%"}},{"v":0,"d":"0%"}]
[null,null,"Comprendre à l'oral",{"$f":"COUNTA(D473:D475)*10","v":0},{"$f":"COUNTA(E473:E475)*10","v":0},0,0,0,0,0,0,0,0,0,0,0,0,0,0,0,0,0,0,0,0,0,0,0,0,0,0,0,0,0,0,0,{"$nulls":3},{"v":0,"d":"0%"},{"v":0,"d":"0%"},{"v":0,"d":"0%"},{"v":0,"d":"0%"},{"$f":"COUNTIF(D472:$AL472,\"NE\")/$AV$1","v":{"v":0,"d":"0%"}},{"v":0,"d":"0%"}]
[null,".LVE5","Comprendre les consignes de classe",{"$nulls":36},{"v":0,"d":"0%"},{"v":0,"d":"0%"},{"v":0,"d":"0%"},{"v":0,"d":"0%"},{"$f":"COUNTIF(D473:$AL473,\"NE\")/$AV$1","v":{"v":0,"d":"0%"}},{"v":0,"d":"0%"}]
[null,".LVE6","Comprendre des mots familiers et des expressions très courantes",{"$nulls":36},{"v":0,"d":"0%"},{"v":0,"d":"0%"},{"v":0,"d":"0%"},{"v":0,"d":"0%"},{"$f":"COUNTIF(D474:$AL474,\"NE\")/$AV$1","v":{"v":0,"d":"0%"}},{"v":0,"d":"0%"}]
[null,".LVE7","Suivre des instructions courtes et simples",{"$nulls":36},{"v":0,"d":"0%"},{"v":0,"d":"0%"},{"v":0,"d":"0%"},{"v":0,"d":"0%"},{"$f":"COUNTIF(D475:$AL475,\"NE\")/$AV$1","v":{"v":0,"d":"0%"}},{"v":0,"d":"0%"}]
[null,null,"Parler en continu",{"$f":"COUNTA(D477:D479)*10","v":0},{"$f":"COUNTA(E477:E479)*10","v":0},0,0,0,0,0,0,0,0,0,0,0,0,0,0,0,0,0,0,0,0,0,0,0,0,0,0,0,0,0,0,0,{"$nulls":3},{"v":0,"d":"0%"},{"v":0,"d":"0%"},{"v":0,"d":"0%"},{"v":0,"d":"0%"},{"$f":"COUNTIF(D476:$AL476,\"NE\")/$AV$1","v":{"v":0,"d":"0%"}},{"v":0,"d":"0%"}]
[null,".LVE8","Reproduire un modèle oral",{"$nulls":36},{"v":0,"d":"0%"},{"v":0,"d":"0%"},{"v":0,"d":"0%"},{"v":0,"d":"0%"},{"$f":"COUNTIF(D477:$AL477,\"NE\")/$AV$1","v":{"v":0,"d":"0%"}},{"v":0,"d":"0%"}]
[null,".LVE9","Utiliser des expressions et des phrases proches des modèles rencontrés lors des apprentissages",{"$nulls":36},{"v":0,"d":"0%"},{"v":0,"d":"0%"},{"v":0,"d":"0%"},{"v":0,"d":"0%"},{"$f":"COUNTIF(D478:$AL478,\"NE\")/$AV$1","v":{"v":0,"d":"0%"}},{"v":0,"d":"0%"}]
[null,".LVE10","Lire à haute voix et de manière expressive un texte bref après répétition",{"$nulls":36},{"v":0,"d":"0%"},{"v":0,"d":"0%"},{"v":0,"d":"0%"},{"v":0,"d":"0%"},{"$f":"COUNTIF(D479:$AL479,\"NE\")/$AV$1","v":{"v":0,"d":"0%"}},{"v":0,"d":"0%"}]
[null,null,"Lire",{"$f":"COUNTA(D481:D482)*10","v":0},{"$f":"COUNTA(E481:E482)*10","v":0},0,0,0,0,0,0,0,0,0,0,0,0,0,0,0,0,0,0,0,0,0,0,0,0,0,0,0,0,0,0,0,{"$nulls":3},{"v":0,"d":"0%"},{"v":0,"d":"0%"},{"v":0,"d":"0%"},{"v":0,"d":"0%"},{"$f":"COUNTIF(D480:$AL480,\"NE\")/$AV$1","v":{"v":0,"d":"0%"}},{"v":0,"d":"0%"}]
[null,".LVE11","Comprendre des textes courts et simples en s’appuyant sur des éléments connus (indications, informations)",{"$nulls":36},{"v":0,"d":"0%"},{"v":0,"d":"0%"},{"v":0,"d":"0%"},{"v":0,"d":"0%"},{"$f":"COUNTIF(D481:$AL481,\"NE\")/$AV$1","v":{"v":0,"d":"0%"}},{"v":0,"d":"0%"}]
[null,".LVE12","Se faire une idée du contenu d’un texte informatif simple, accompagné éventuellement d’un document visuel",{"$nulls":36},{"v":0,"d":"0%"},{"v":0,"d":"0%"},{"v":0,"d":"0%"},{"v":0,"d":"0%"},{"$f":"COUNTIF(D482:$AL482,\"NE\")/$AV$1","v":{"v":0,"d":"0%"}},{"v":0,"d":"0%"}]
[null,null,"Ecrire",{"$f":"COUNTA(D484:D488)*10","v":0},{"$f":"COUNTA(E484:E488)*10","v":0},0,0,0,0,0,0,0,0,0,0,0,0,0,0,0,0,0,0,0,0,0,0,0,0,0,0,0,0,0,0,0,{"$nulls":3},{"v":0,"d":"0%"},{"v":0,"d":"0%"},{"v":0,"d":"0%"},{"v":0,"d":"0%"},{"$f":"COUNTIF(D483:$AL483,\"NE\")/$AV$1","v":{"v":0,"d":"0%"}},{"v":0,"d":"0%"}]
[null,".LVE13","Copier des mots isolés et des textes courts",{"$nulls":36},{"v":0,"d":"0%"},{"v":0,"d":"0%"},{"v":0,"d":"0%"},{"v":0,"d":"0%"},{"$f":"COUNTIF(D484:$AL484,\"NE\")/$AV$1","v":{"v":0,"d":"0%"}},{"v":0,"d":"0%"}]
[null,".LVE14","Écrire un message électronique simple ou une courte carte postale en référence à des modèles",{"$nulls":36},{"v":0,"d":"0%"},{"v":0,"d":"0%"},{"v":0,"d":"0%"},{"v":0,"d":"0%"},{"$f":"COUNTIF(D485:$AL485,\"NE\")/$AV$1","v":{"v":0,"d":"0%"}},{"v":0,"d":"0%"}]
[null,".LVE15","Renseigner un questionnaire",{"$nulls":36},{"v":0,"d":"0%"},{"v":0,"d":"0%"},{"v":0,"d":"0%"},{"v":0,"d":"0%"},{"$f":"COUNTIF(D486:$AL486,\"NE\")/$AV$1","v":{"v":0,"d":"0%"}},{"v":0,"d":"0%"}]
[null,".LVE16","Produire de manière autonome quelques phrases",{"$nulls":36},{"v":0,"d":"0%"},{"v":0,"d":"0%"},{"v":0,"d":"0%"},{"v":0,"d":"0%"},{"$f":"COUNTIF(D487:$AL487,\"NE\")/$AV$1","v":{"v":0,"d":"0%"}},{"v":0,"d":"0%"}]
[null,".LVE17","Écrire sous la dictée des expressions connues",{"$nulls":36},{"v":0,"d":"0%"},{"v":0,"d":"0%"},{"v":0,"d":"0%"},{"v":0,"d":"0%"},{"$f":"COUNTIF(D488:$AL488,\"NE\")/$AV$1","v":{"v":0,"d":"0%"}},{"v":0,"d":"0%"}]
[null,null,"TECHNIQUES USUELLES DE L'INFORMATION ET DE LA COMMUNICATION",{"$f":"D491+D493+D495+D498+D502","v":0},{"$f":"E491+E493+E495+E498+E502","v":0},0,0,0,0,0,0,0,0,0,0,0,0,0,0,0,0,0,0,0,0,0,0,0,0,0,0,0,0,0,0,0,{"$nulls":3},{"v":0,"d":"0%"},{"v":0,"d":"0%"},{"v":0,"d":"0%"},{"v":0,"d":"0%"},{"$f":"COUNTIF(D489:$AL489,\"NE\")/$AV$1","v":{"v":0,"d":"0%"}},{"v":0,"d":"0%"}]
[null,null,"Brevet informatique et internet : niveau école",{"$f":"D491+D493+D495+D498+D502","v":0},{"$f":"E491+E493+E495+E498+E502","v":0},0,0,0,0,0,0,0,0,0,0,0,0,0,0,0,0,0,0,0,0,0,0,0,0,0,0,0,0,0,0,0,{"$nulls":3},{"v":0,"d":"0%"},{"v":0,"d":"0%"},{"v":0,"d":"0%"},{"v":0,"d":"0%"},{"$f":"COUNTIF(D490:$AL490,\"NE\")/$AV$1","v":{"v":0,"d":"0%"}},{"v":0,"d":"0%"}]
[null,null,"S\"approprier un environnement informatique",{"$f":"COUNTA(D492)*10","v":0},0,0,0,0,0,0,0,0,0,0,0,0,0,0,0,0,0,0,0,0,0,0,0,0,0,0,0,0,0,0,0,0,{"$nulls":3},{"v":0,"d":"0%"},{"v":0,"d":"0%"},{"v":0,"d":"0%"},{"v":0,"d":"0%"},{"$f":"COUNTIF(D491:$AL491,\"NE\")/$AV$1","v":{"v":0,"d":"0%"}},{"v":0,"d":"0%"}]
[null,".B2I1","Connaitre et maîtriser les fonctions de base d’un ordinateur et de ses périphériques : fonction des différents éléments, utilisation de la souris",{"$nulls":36},{"v":0,"d":"0%"},{"v":0,"d":"0%"},{"v":0,"d":"0%"},{"v":0,"d":"0%"},{"$f":"COUNTIF(D492:$AL492,\"NE\")/$AV$1","v":{"v":0,"d":"0%"}},{"v":0,"d":"0%"}]
[null,null,"Adopter une attitude responsable",{"$f":"COUNTA(D494)*10","v":0},0,0,0,0,0,0,0,0,0,0,0,0,0,0,0,0,0,0,0,0,0,0,0,0,0,0,0,0,0,0,0,0,{"$nulls":3},{"v":0,"d":"0%"},{"v":0,"d":"0%"},{"v":0,"d":"0%"},{"v":0,"d":"0%"},{"$f":"COUNTIF(D493:$AL493,\"NE\")/$AV$1","v":{"v":0,"d":"0%"}},{"v":0,"d":"0%"}]
[null,".B2I2","Prendre conscience des enjeux citoyens de l’usage de l’informatique et de l’internet et adopter une attitude critique face aux résultats obtenus",{"$nulls":36},{"v":0,"d":"0%"},{"v":0,"d":"0%"},{"v":0,"d":"0%"},{"v":0,"d":"0%"},{"$f":"COUNTIF(D494:$AL494,\"NE\")/$AV$1","v":{"v":0,"d":"0%"}},{"v":0,"d":"0%"}]
[null,"","Créer, produire, traiter, exploiter des données",{"$f":"COUNTA(D496:D497)*10","v":0},{"$f":"COUNTA(E496:E497)*10","v":0},0,0,0,0,0,0,0,0,0,0,0,0,0,0,0,0,0,0,0,0,0,0,0,0,0,0,0,0,0,0,0,{"$nulls":3},{"v":0,"d":"0%"},{"v":0,"d":"0%"},{"v":0,"d":"0%"},{"v":0,"d":"0%"},{"$f":"COUNTIF(D495:$AL495,\"NE\")/$AV$1","v":{"v":0,"d":"0%"}},{"v":0,"d":"0%"}]
[null,".B2I3","Produire un document numérique : texte, image, son",{"$nulls":36},{"v":0,"d":"0%"},{"v":0,"d":"0%"},{"v":0,"d":"0%"},{"v":0,"d":"0%"},{"$f":"COUNTIF(D496:$AL496,\"NE\")/$AV$1","v":{"v":0,"d":"0%"}},{"v":0,"d":"0%"}]
[null,".B2I4","Utiliser l’outil informatique pour présenter un travail",{"$nulls":36},{"v":0,"d":"0%"},{"v":0,"d":"0%"},{"v":0,"d":"0%"},{"v":0,"d":"0%"},{"$f":"COUNTIF(D497:$AL497,\"NE\")/$AV$1","v":{"v":0,"d":"0%"}},{"v":0,"d":"0%"}]
[null,"","S'informer, se documenter",{"$f":"COUNTA(D499:D501)*10","v":0},{"$f":"COUNTA(E499:E501)*10","v":0},0,0,0,0,0,0,0,0,0,0,0,0,0,0,0,0,0,0,0,0,0,0,0,0,0,0,0,0,0,0,0,{"$nulls":3},{"v":0,"d":"0%"},{"v":0,"d":"0%"},{"v":0,"d":"0%"},{"v":0,"d":"0%"},{"$f":"COUNTIF(D498:$AL498,\"NE\")/$AV$1","v":{"v":0,"d":"0%"}},{"v":0,"d":"0%"}]
[null,".B2I5","Lire un document numérique",{"$nulls":36},{"v":0,"d":"0%"},{"v":0,"d":"0%"},{"v":0,"d":"0%"},{"v":0,"d":"0%"},{"$f":"COUNTIF(D499:$AL499,\"NE\")/$AV$1","v":{"v":0,"d":"0%"}},{"v":0,"d":"0%"}]
[null,".B2I6","Chercher des informations par voie électronique",{"$nulls":36},{"v":0,"d":"0%"},{"v":0,"d":"0%"},{"v":0,"d":"0%"},{"v":0,"d":"0%"},{"$f":"COUNTIF(D500:$AL500,\"NE\")/$AV$1","v":{"v":0,"d":"0%"}},{"v":0,"d":"0%"}]
[null,".B2I7","Découvrir les richesses et les limites des ressources de l'internet",{"$nulls":36},{"v":0,"d":"0%"},{"v":0,"d":"0%"},{"v":0,"d":"0%"},{"v":0,"d":"0%"},{"$f":"COUNTIF(D501:$AL501,\"NE\")/$AV$1","v":{"v":0,"d":"0%"}},{"v":0,"d":"0%"}]
[null,null,"Communiquer, échanger",{"$f":"COUNTA(D503:D503)*10","v":0},0,0,0,0,0,0,0,0,0,0,0,0,0,0,0,0,0,0,0,0,0,0,0,0,0,0,0,0,0,0,0,0,{"$nulls":3},{"v":0,"d":"0%"},{"v":0,"d":"0%"},{"v":0,"d":"0%"},{"v":0,"d":"0%"},{"$f":"COUNTIF(D502:$AL502,\"NE\")/$AV$1","v":{"v":0,"d":"0%"}},{"v":0,"d":"0%"}]
[null,".B218","Échanger avec les technologies de l’information et de la communication",{"$nulls":36},{"v":0,"d":"0%"},{"v":0,"d":"0%"},{"v":0,"d":"0%"},{"v":0,"d":"0%"},{"$f":"COUNTIF(D503:$AL503,\"NE\")/$AV$1","v":{"v":0,"d":"0%"}},{"v":0,"d":"0%"}]
[null,null,"EDUCATION PHYSIQUE ET SPORTIVE",{"$f":"D505+D508+D513+D517","v":0},{"$f":"E505+E508+E513+E517","v":0},0,0,0,0,0,0,0,0,0,0,0,0,0,0,0,0,0,0,0,0,0,0,0,0,0,0,0,0,0,0,0,{"$nulls":3},{"v":0,"d":"0%"},{"v":0,"d":"0%"},{"v":0,"d":"0%"},{"v":0,"d":"0%"},{"$f":"COUNTIF(D504:$AL504,\"NE\")/$AV$1","v":{"v":0,"d":"0%"}},{"v":0,"d":"0%"}]
[null,null,"Réaliser une performance mesurée (en distance, en temps)",{"$f":"COUNTA(D506:D507)*10","v":0},{"$f":"COUNTA(E506:E507)*10","v":0},0,0,0,0,0,0,0,0,0,0,0,0,0,0,0,0,0,0,0,0,0,0,0,0,0,0,0,0,0,0,0,{"$nulls":3},{"v":0,"d":"0%"},{"v":0,"d":"0%"},{"v":0,"d":"0%"},{"v":0,"d":"0%"},{"$f":"COUNTIF(D505:$AL505,\"NE\")/$AV$1","v":{"v":0,"d":"0%"}},{"v":0,"d":"0%"}]
[null,".EPS1","Activités athlétiques : courir vite, courir longtemps, courir en franchissant des obstacles, courir en relais, sauter loin, sauter haut, lancer loin.",{"$nulls":36},{"v":0,"d":"0%"},{"v":0,"d":"0%"},{"v":0,"d":"0%"},{"v":0,"d":"0%"},{"$f":"COUNTIF(D506:$AL506,\"NE\")/$AV$1","v":{"v":0,"d":"0%"}},{"v":0,"d":"0%"}]
[null,".EPS2","Natation : se déplacer sur une trentaine de mètres.",{"$nulls":36},{"v":0,"d":"0%"},{"v":0,"d":"0%"},{"v":0,"d":"0%"},{"v":0,"d":"0%"},{"$f":"COUNTIF(D507:$AL507,\"NE\")/$AV$1","v":{"v":0,"d":"0%"}},{"v":0,"d":"0%"}]
[null,null,"Adapter ses déplacements à différents types d’environnement",{"$f":"COUNTA(D509:D512)*10","v":0},{"$f":"COUNTA(E509:E512)*10","v":0},0,0,0,0,0,0,0,0,0,0,0,0,0,0,0,0,0,0,0,0,0,0,0,0,0,0,0,0,0,0,0,{"$nulls":3},{"v":0,"d":"0%"},{"v":0,"d":"0%"},{"v":0,"d":"0%"},{"v":0,"d":"0%"},{"$f":"COUNTIF(D508:$AL508,\"NE\")/$AV$1","v":{"v":0,"d":"0%"}},{"v":0,"d":"0%"}]
[null,".EPS3","Activités d’escalade : grimper et redescendre sur un trajet annoncé (mur équipé).",{"$nulls":36},{"v":0,"d":"0%"},{"v":0,"d":"0%"},{"v":0,"d":"0%"},{"v":0,"d":"0%"},{"$f":"COUNTIF(D509:$AL509,\"NE\")/$AV$1","v":{"v":0,"d":"0%"}},{"v":0,"d":"0%"}]
[null,".EPS4","Activités aquatiques et nautiques : plonger, s’immerger, se déplacer.",{"$nulls":36},{"v":0,"d":"0%"},{"v":0,"d":"0%"},{"v":0,"d":"0%"},{"v":0,"d":"0%"},{"$f":"COUNTIF(D510:$AL510,\"NE\")/$AV$1","v":{"v":0,"d":"0%"}},{"v":0,"d":"0%"}]
[null,".EPS5","Activités de roule et glisse : réaliser un parcours d’actions diverses en roller, en vélo, en ski.",{"$nulls":36},{"v":0,"d":"0%"},{"v":0,"d":"0%"},{"v":0,"d":"0%"},{"v":0,"d":"0%"},{"$f":"COUNTIF(D511:$AL511,\"NE\")/$AV$1","v":{"v":0,"d":"0%"}},{"v":0,"d":"0%"}]
[null,".EPS6","Activités d’orientation : retrouver plusieurs balises dans un espace semi-naturel en s’aidant d’une carte.",{"$nulls":36},{"v":0,"d":"0%"},{"v":0,"d":"0%"},{"v":0,"d":"0%"},{"v":0,"d":"0%"},{"$f":"COUNTIF(D512:$AL512,\"NE\")/$AV$1","v":{"v":0,"d":"0%"}},{"v":0,"d":"0%"}]
[null,null,"Coopérer ou s’opposer individuellement et collectivement",{"$f":"COUNTA(D514:D516)*10","v":0},{"$f":"COUNTA(E514:E516)*10","v":0},0,0,0,0,0,0,0,0,0,0,0,0,0,0,0,0,0,0,0,0,0,0,0,0,0,0,0,0,0,0,0,{"$nulls":3},{"v":0,"d":"0%"},{"v":0,"d":"0%"},{"v":0,"d":"0%"},{"v":0,"d":"0%"},{"$f":"COUNTIF(D513:$AL513,\"NE\")/$AV$1","v":{"v":0,"d":"0%"}},{"v":0,"d":"0%"}]
[null,"EPS7","Jeux de lutte : amener son adversaire au sol pour l’immobiliser.",{"$nulls":36},{"v":0,"d":"0%"},{"v":0,"d":"0%"},{"v":0,"d":"0%"},{"v":0,"d":"0%"},{"$f":"COUNTIF(D514:$AL514,\"NE\")/$AV$1","v":{"v":0,"d":"0%"}},{"v":0,"d":"0%"}]
[null,"EPS8","Jeux de raquettes : marquer des points dans un match à deux.",{"$nulls":36},{"v":0,"d":"0%"},{"v":0,"d":"0%"},{"v":0,"d":"0%"},{"v":0,"d":"0%"},{"$f":"COUNTIF(D515:$AL515,\"NE\")/$AV$1","v":{"v":0,"d":"0%"}},{"v":0,"d":"0%"}]
[null,".EPS9","Jeux sportifs collectifs (type handball, basket-ball, football, rugby, volley-ball...) : coopérer avec ses partenaires pour affronter collectivement des adversaires, en respectant des règles, en assurant des rôles différents (attaquant, défenseur, arbitre).",{"$nulls":36},{"v":0,"d":"0%"},{"v":0,"d":"0%"},{"v":0,"d":"0%"},{"v":0,"d":"0%"},{"$f":"COUNTIF(D516:$AL516,\"NE\")/$AV$1","v":{"v":0,"d":"0%"}},{"v":0,"d":"0%"}]
[null,null,"Concevoir et réaliser des actions à visées expressive, artistique, esthétique",{"$f":"COUNTA(D518:D519)*10","v":0},{"$f":"COUNTA(E518:E519)*10","v":0},0,0,0,0,0,0,0,0,0,0,0,0,0,0,0,0,0,0,0,0,0,0,0,0,0,0,0,0,0,0,0,{"$nulls":3},{"v":0,"d":"0%"},{"v":0,"d":"0%"},{"v":0,"d":"0%"},{"v":0,"d":"0%"},{"$f":"COUNTIF(D517:$AL517,\"NE\")/$AV$1","v":{"v":0,"d":"0%"}},{"v":0,"d":"0%"}]
[null,"EPS10","Danse : construire à plusieurs une phrase dansée (chorégraphie de 5 éléments au moins) pour exprimer corporellement des personnages, des images, des sentiments et pour communiquer des émotions, sur des supports sonores divers.",{"$nulls":36},{"v":0,"d":"0%"},{"v":0,"d":"0%"},{"v":0,"d":"0%"},{"v":0,"d":"0%"},{"$f":"COUNTIF(D518:$AL518,\"NE\")/$AV$1","v":{"v":0,"d":"0%"}},{"v":0,"d":"0%"}]
[null,"EPS11","Activités gymniques : construire et réaliser un enchaînement de 4 ou 5 éléments “acrobatiques” sur divers engins (barres, moutons, poutres, tapis).",{"$nulls":36},{"$f":"COUNTIF($D519:$AL519,$AU$1)/$AV$1","v":{"v":0,"d":"0%"}},{"$f":"COUNTIF($D519:$AL519,$AU$2)/$AV$1","v":{"v":0,"d":"0%"}},{"$f":"COUNTIF($D519:$AL519,$AU$3)/$AV$1","v":{"v":0,"d":"0%"}},{"$f":"COUNTIF($D519:$AL519,$AU$4)/$AV$1","v":{"v":0,"d":"0%"}},{"$f":"COUNTIF(D519:$AL519,\"NE\")/$AV$1","v":{"v":0,"d":"0%"}},{"v":0,"d":"0%"}]
[null,null,"LES COMPETENCES SOCIALES ET CIVIQUES",{"$f":"D521+D525","v":0},{"$f":"E521+E525","v":0},0,0,0,0,0,0,0,0,0,0,0,0,0,0,0,0,0,0,0,0,0,0,0,0,0,0,0,0,0,0,0,{"$nulls":3},{"v":0,"d":"0%"},{"v":0,"d":"0%"},{"v":0,"d":"0%"},{"v":0,"d":"0%"},{"$f":"COUNTIF(D520:$AL520,\"NE\")/$AV$1","v":{"v":0,"d":"0%"}},{"$f":"AN520+(AO520*0.66)+(AP520*0.33)","v":{"v":0,"d":"0%"}}]
[null,null,"Connaître les principes et fondements de la vie civique et sociale",{"$f":"COUNTA(D522:D524)*10","v":0},{"$f":"COUNTA(E522:E524)*10","v":0},0,0,0,0,0,0,0,0,0,0,0,0,0,0,0,0,0,0,0,0,0,0,0,0,0,0,0,0,0,0,0,{"$nulls":3},{"v":0,"d":"0%"},{"v":0,"d":"0%"},{"v":0,"d":"0%"},{"v":0,"d":"0%"},{"$f":"COUNTIF(D521:$AL521,\"NE\")/$AV$1","v":{"v":0,"d":"0%"}},{"v":0,"d":"0%"}]
[null,".SC1","Reconnaître les symboles de la république et de l’Union européenne",{"$nulls":36},{"v":0,"d":"0%"},{"v":0,"d":"0%"},{"v":0,"d":"0%"},{"v":0,"d":"0%"},{"$f":"COUNTIF(D522:$AL522,\"NE\")/$AV$1","v":{"v":0,"d":"0%"}},{"v":0,"d":"0%"}]
[null,".SC2","Comprendre les notions de droits et de devoirs, les accepter et les mettre en application",{"$nulls":36},{"v":0,"d":"0%"},{"v":0,"d":"0%"},{"v":0,"d":"0%"},{"v":0,"d":"0%"},{"$f":"COUNTIF(D523:$AL523,\"NE\")/$AV$1","v":{"v":0,"d":"0%"}},{"v":0,"d":"0%"}]
[null,".SC3","Avoir conscience de la dignité de la personne humaine et en tirer les conséquences au quotidien",{"$nulls":36},{"v":0,"d":"0%"},{"v":0,"d":"0%"},{"v":0,"d":"0%"},{"v":0,"d":"0%"},{"$f":"COUNTIF(D524:$AL524,\"NE\")/$AV$1","v":{"v":0,"d":"0%"}},{"v":0,"d":"0%"}]
[null,null,"Avoir un comportement responsable",{"$f":"COUNTA(D526:D527)*10","v":0},{"$f":"COUNTA(E526:E527)*10","v":0},0,0,0,0,0,0,0,0,0,0,0,0,0,0,0,0,0,0,0,0,0,0,0,0,0,0,0,0,0,0,0,{"$nulls":3},{"v":0,"d":"0%"},{"v":0,"d":"0%"},{"v":0,"d":"0%"},{"v":0,"d":"0%"},{"$f":"COUNTIF(D525:$AL525,\"NE\")/$AV$1","v":{"v":0,"d":"0%"}},{"v":0,"d":"0%"}]
[null,".SC4","Respecter les règles de la vie collective, notamment dans les pratiques sportives",{"$nulls":36},{"v":0,"d":"0%"},{"v":0,"d":"0%"},{"v":0,"d":"0%"},{"v":0,"d":"0%"},{"$f":"COUNTIF(D526:$AL526,\"NE\")/$AV$1","v":{"v":0,"d":"0%"}},{"v":0,"d":"0%"}]
[null,".SC5","Respecter tous les autres, et notamment appliquer les principes de l’égalité des filles et des garçons",{"$nulls":36},{"v":0,"d":"0%"},{"v":0,"d":"0%"},{"v":0,"d":"0%"},{"v":0,"d":"0%"},{"$f":"COUNTIF(D527:$AL527,\"NE\")/$AV$1","v":{"v":0,"d":"0%"}},{"v":0,"d":"0%"}]
[null,null,"L'AUTONOMIE ET L'INITIATIVE",{"$f":"D529+D534","v":0},{"$f":"E529+E534","v":0},0,0,0,0,0,0,0,0,0,0,0,0,0,0,0,0,0,0,0,0,0,0,0,0,0,0,0,0,0,0,0,{"$nulls":3},{"v":0,"d":"0%"},{"v":0,"d":"0%"},{"v":0,"d":"0%"},{"v":0,"d":"0%"},{"$f":"COUNTIF(D528:$AL528,\"NE\")/$AV$1","v":{"v":0,"d":"0%"}},{"v":0,"d":"0%"}]
[null,null,"S'appuyer sur des méthodes de travail pour être autonome",{"$f":"COUNTA(D530:D533)*10","v":0},{"$f":"COUNTA(E530:E533)*10","v":0},0,0,0,0,0,0,0,0,0,0,0,0,0,0,0,0,0,0,0,0,0,0,0,0,0,0,0,0,0,0,0,{"$nulls":3},{"v":0,"d":"0%"},{"v":0,"d":"0%"},{"v":0,"d":"0%"},{"v":0,"d":"0%"},{"$f":"COUNTIF(D529:$AL529,\"NE\")/$AV$1","v":{"v":0,"d":"0%"}},{"v":0,"d":"0%"}]
[null,".AI1","Respecter des consignes simples, en autonomie",{"$nulls":36},{"v":0,"d":"0%"},{"v":0,"d":"0%"},{"v":0,"d":"0%"},{"v":0,"d":"0%"},{"$f":"COUNTIF(D530:$AL530,\"NE\")/$AV$1","v":{"v":0,"d":"0%"}},{"v":0,"d":"0%"}]
[null,".AI2","Etre persévérant dans toutes les activités",{"$nulls":36},{"v":0,"d":"0%"},{"v":0,"d":"0%"},{"v":0,"d":"0%"},{"v":0,"d":"0%"},{"$f":"COUNTIF(D531:$AL531,\"NE\")/$AV$1","v":{"v":0,"d":"0%"}},{"v":0,"d":"0%"}]
[null,".AI3","Commencer à savoir s’auto-évaluer dans des situations simples",{"$nulls":36},{"v":0,"d":"0%"},{"v":0,"d":"0%"},{"v":0,"d":"0%"},{"v":0,"d":"0%"},{"$f":"COUNTIF(D532:$AL532,\"NE\")/$AV$1","v":{"v":0,"d":"0%"}},{"v":0,"d":"0%"}]
[null,".AI4","Soutenir une écoute prolongée (lecture, musique, spectacle, etc.)",{"$nulls":36},{"v":0,"d":"0%"},{"v":0,"d":"0%"},{"v":0,"d":"0%"},{"v":0,"d":"0%"},{"$f":"COUNTIF(D533:$AL533,\"NE\")/$AV$1","v":{"v":0,"d":"0%"}},{"v":0,"d":"0%"}]
[null,null,"Faire preuve d'initiative",{"$f":"COUNTA(D535)*10","v":0},0,0,0,0,0,0,0,0,0,0,0,0,0,0,0,0,0,0,0,0,0,0,0,0,0,0,0,0,0,0,0,0,{"$nulls":3},{"v":0,"d":"0%"},{"v":0,"d":"0%"},{"v":0,"d":"0%"},{"v":0,"d":"0%"},{"$f":"COUNTIF(D534:$AL534,\"NE\")/$AV$1","v":{"v":0,"d":"0%"}},{"v":0,"d":"0%"}]
[null,".AI7","S’impliquer dans un projet individuel ou collectif",{"$nulls":36},{"v":0,"d":"0%"},{"v":0,"d":"0%"},{"v":0,"d":"0%"},{"v":0,"d":"0%"},{"$f":"COUNTIF(D535:$AL535,\"NE\")/$AV$1","v":{"v":0,"d":"0%"}},{"v":0,"d":"0%"}]

{"sheet":"Bulletin2","index":5,"n_rows":555,"n_cols":7,"rows_kept":555,"hidden":true,"merged":[[5,2,5,3],[6,2,6,3],[7,2,7,3],[11,2,11,3],[553,2,553,4]]}
[{"$nulls":6},1]
[]
[]
[]
[]
[null,null,{"$f":"CONCATENATE(\"Classe \"&classe)","v":"Classe CM1"},{"$f":"CONCATENATE(\"Ville de \"&ville)","v":"Ville de "}]
[null,null,{"$f":"CONCATENATE(\"Ecole \"&ecole&\" \"  &\"- \" &adresse &\" -   \" &ville)","v":"Ecole Léonard de Vinci -  -   "},{"$f":"CONCATENATE(\"Ville de \"&ville)","v":"Ville de "}]
[null,null,{"$f":"CONCATENATE(\"Enseignant : \"&enseignant)","v":"Enseignant : M. DURANT"},{"$f":"CONCATENATE(\"Ville de \"&ville)","v":"Ville de "}]
[null,null,{"$f":"IF(INDEX(NOMS,Nenfant,1)=\"\",0,INDEX(NOMS,Nenfant,1))","v":"Marc  Aurèle"}]
[null,null,{"$f":"IF(E10=\"\",\"\",\"né(e)  le  \" & TEXT(E10,\"jj/mm/aaa\"))","v":"né(e)  le  12/11/1999"},null,{"$f":"IF(INDEX(date,Nenfant,1)=\"\",0,INDEX(date,Nenfant,1))","v":36476}]
[]
[null,null,{"$f":"CONCATENATE(\"Année scolaire: \"&annee)","v":"Année scolaire: 2013  2014"}]
[null,null,{"$f":"CONCATENATE(\"Circonscription  \"&IEN)","v":"Circonscription  "}]
[{"$nulls":4},{"$f":"IF(F11<>0,G11,(IF(F11<>0,G11,0)))","v":0},{"$f":"IF(INDEX(periode3,NEVAL,Nenfant)=\"\",0,INDEX(periode3,NEVAL,Nenfant))","v":{"$error":"#NAME?"}},{"$f":"IF(INDEX(periode4,NEVAL,Nenfant)=\"\",0,INDEX(periode4,NEVAL,Nenfant))","v":{"$error":"#NAME?"}}]
[5,null,"LANGAGE ORAL",null,{"$f":"IF(G15<>0,G15,(IF(F15<>0,F15,0)))","v":{"$error":"#NAME?"}},{"$f":"IF(INDEX(periode3,NEVAL,Nenfant)=\"\",0,INDEX(periode3,NEVAL,Nenfant))","v":{"$error":"#NAME?"}},{"$f":"IF(INDEX(periode4,NEVAL,Nenfant)=\"\",0,INDEX(periode4,NEVAL,Nenfant))","v":{"$error":"#NAME?"}}]
[6,null,"Raconter, décrire, exposer",null,{"$error":"#NAME?"},{"$f":"IF(INDEX(periode3,NEVAL,Nenfant)=\"\",0,INDEX(periode3,NEVAL,Nenfant))","v":{"$error":"#NAME?"}},{"$f":"IF(INDEX(periode4,NEVAL,Nenfant)=\"\",0,INDEX(periode4,NEVAL,Nenfant))","v":{"$error":"#NAME?"}}]
[7,null,"Faire un récit structuré et compréhensible pour un tiers ignorant des faits rapportés ou de l’histoire racontée, inventer et modifier des histoires, décrire une image, exprimer des senti­ments, en s’exprimant en phrases correctes et dans un vocabulaire approprié.",null,{"$error":"#NAME?"},{"$f":"IF(INDEX(periode3,NEVAL,Nenfant)=\"\",0,INDEX(periode3,NEVAL,Nenfant))","v":{"$error":"#NAME?"}},{"$f":"IF(INDEX(periode4,NEVAL,Nenfant)=\"\",0,INDEX(periode4,NEVAL,Nenfant))","v":{"$error":"#NAME?"}}]
[8,null,"Décrire un objet, présenter un travail à la classe en s’exprimant en phrases correctes et dans un vocabulaire approprié.",null,{"$error":"#NAME?"},{"$f":"IF(INDEX(periode3,NEVAL,Nenfant)=\"\",0,INDEX(periode3,NEVAL,Nenfant))","v":{"$error":"#NAME?"}},{"$f":"IF(INDEX(periode4,NEVAL,Nenfant)=\"\",0,INDEX(periode4,NEVAL,Nenfant))","v":{"$error":"#NAME?"}}]
[9,null,"Echanger, débattre",null,{"$error":"#NAME?"},{"$f":"IF(INDEX(periode3,NEVAL,Nenfant)=\"\",0,INDEX(periode3,NEVAL,Nenfant))","v":{"$error":"#NAME?"}},{"$f":"IF(INDEX(periode4,NEVAL,Nenfant)=\"\",0,INDEX(periode4,NEVAL,Nenfant))","v":{"$error":"#NAME?"}}]
[10,null,"Demander et prendre la parole à bon escient.",null,{"$error":"#NAME?"},{"$f":"IF(INDEX(periode3,NEVAL,Nenfant)=\"\",0,INDEX(periode3,NEVAL,Nenfant))","v":{"$error":"#NAME?"}},{"$f":"IF(INDEX(periode4,NEVAL,Nenfant)=\"\",0,INDEX(periode4,NEVAL,Nenfant))","v":{"$error":"#NAME?"}}]
[11,null,"Réagir à l’exposé d’un autre élève en apportant un point de vue motivé.",null,{"$error":"#NAME?"},{"$f":"IF(INDEX(periode3,NEVAL,Nenfant)=\"\",0,INDEX(periode3,NEVAL,Nenfant))","v":{"$error":"#NAME?"}},{"$f":"IF(INDEX(periode4,NEVAL,Nenfant)=\"\",0,INDEX(periode4,NEVAL,Nenfant))","v":{"$error":"#NAME?"}}]
[12,null,"Participer à un débat en respectant les tours de parole et les règles de la politesse.",null,{"$error":"#NAME?"},{"$f":"IF(INDEX(periode3,NEVAL,Nenfant)=\"\",0,INDEX(periode3,NEVAL,Nenfant))","v":{"$error":"#NAME?"}},{"$f":"IF(INDEX(periode4,NEVAL,Nenfant)=\"\",0,INDEX(periode4,NEVAL,Nenfant))","v":{"$error":"#NAME?"}}]
[13,null,"Présenter à la classe un travail collectif.",null,{"$error":"#NAME?"},{"$f":"IF(INDEX(periode3,NEVAL,Nenfant)=\"\",0,INDEX(periode3,NEVAL,Nenfant))","v":{"$error":"#NAME?"}},{"$f":"IF(INDEX(periode4,NEVAL,Nenfant)=\"\",0,INDEX(periode4,NEVAL,Nenfant))","v":{"$error":"#NAME?"}}]
[14,null,"Participer aux échanges de manière constructive : rester dans le sujet, situer son propos par rapport aux autres, apporter des arguments, mobiliser des connaissances, respecter les règles habituelles de la communication.",null,{"$error":"#NAME?"},{"$f":"IF(INDEX(periode3,NEVAL,Nenfant)=\"\",0,INDEX(periode3,NEVAL,Nenfant))","v":{"$error":"#NAME?"}},{"$f":"IF(INDEX(periode4,NEVAL,Nenfant)=\"\",0,INDEX(periode4,NEVAL,Nenfant))","v":{"$error":"#NAME?"}}]
[15,null,"Réciter",null,{"$error":"#NAME?"},{"$f":"IF(INDEX(periode3,NEVAL,Nenfant)=\"\",0,INDEX(periode3,NEVAL,Nenfant))","v":{"$error":"#NAME?"}},{"$f":"IF(INDEX(periode4,NEVAL,Nenfant)=\"\",0,INDEX(periode4,NEVAL,Nenfant))","v":{"$error":"#NAME?"}}]
[16,null,"Dire sans erreur et de manière expressive des textes en prose ou des poèmes (une dizaine).",null,{"$error":"#NAME?"},{"$f":"IF(INDEX(periode3,NEVAL,Nenfant)=\"\",0,INDEX(periode3,NEVAL,Nenfant))","v":{"$error":"#NAME?"}},{"$f":"IF(INDEX(periode4,NEVAL,Nenfant)=\"\",0,INDEX(periode4,NEVAL,Nenfant))","v":{"$error":"#NAME?"}}]
[17,null,"LECTURE",null,{"$error":"#NAME?"},{"$f":"IF(INDEX(periode3,NEVAL,Nenfant)=\"\",0,INDEX(periode3,NEVAL,Nenfant))","v":{"$error":"#NAME?"}},{"$f":"IF(INDEX(periode4,NEVAL,Nenfant)=\"\",0,INDEX(periode4,NEVAL,Nenfant))","v":{"$error":"#NAME?"}}]
[18,null,"Lire les consignes de travail, les énoncés de problèmes dont le vocabulaire difficile ou nouveau a été élucidé par le maître.",null,{"$error":"#NAME?"},{"$f":"IF(INDEX(periode3,NEVAL,Nenfant)=\"\",0,INDEX(periode3,NEVAL,Nenfant))","v":{"$error":"#NAME?"}},{"$f":"IF(INDEX(periode4,NEVAL,Nenfant)=\"\",0,INDEX(periode4,NEVAL,Nenfant))","v":{"$error":"#NAME?"}}]
[19,null,"Lire à haute voix avec fluidité et de manière expressive un extrait de texte, après préparation.",null,{"$error":"#NAME?"},{"$f":"IF(INDEX(periode3,NEVAL,Nenfant)=\"\",0,INDEX(periode3,NEVAL,Nenfant))","v":{"$error":"#NAME?"}},{"$f":"IF(INDEX(periode4,NEVAL,Nenfant)=\"\",0,INDEX(periode4,NEVAL,Nenfant))","v":{"$error":"#NAME?"}}]
[20,null,"Lire silencieusement un texte littéraire ou documentaire et le comprendre (reformuler, répondre à des questions sur ce texte).",null,{"$error":"#NAME?"},{"$f":"IF(INDEX(periode3,NEVAL,Nenfant)=\"\",0,INDEX(periode3,NEVAL,Nenfant))","v":{"$error":"#NAME?"}},{"$f":"IF(INDEX(periode4,NEVAL,Nenfant)=\"\",0,INDEX(periode4,NEVAL,Nenfant))","v":{"$error":"#NAME?"}}]
[21,null,"Repérer dans un texte des informations explicites en s’appuyant en particulier sur le titre, l’organisation (phrases, paragraphes), le vocabulaire. ",null,{"$error":"#NAME?"},{"$f":"IF(INDEX(periode3,NEVAL,Nenfant)=\"\",0,INDEX(periode3,NEVAL,Nenfant))","v":{"$error":"#NAME?"}},{"$f":"IF(INDEX(periode4,NEVAL,Nenfant)=\"\",0,INDEX(periode4,NEVAL,Nenfant))","v":{"$error":"#NAME?"}}]
[22,null,"Reconnaître les marques de ponctuation. ",null,{"$error":"#NAME?"},{"$f":"IF(INDEX(periode3,NEVAL,Nenfant)=\"\",0,INDEX(periode3,NEVAL,Nenfant))","v":{"$error":"#NAME?"}},{"$f":"IF(INDEX(periode4,NEVAL,Nenfant)=\"\",0,INDEX(periode4,NEVAL,Nenfant))","v":{"$error":"#NAME?"}}]
[23,null,"Dans un récit",null,{"$error":"#NAME?"},{"$f":"IF(INDEX(periode3,NEVAL,Nenfant)=\"\",0,INDEX(periode3,NEVAL,Nenfant))","v":{"$error":"#NAME?"}},{"$f":"IF(INDEX(periode4,NEVAL,Nenfant)=\"\",0,INDEX(periode4,NEVAL,Nenfant))","v":{"$error":"#NAME?"}}]
[24,null,"Dans un récit d'appuyer sur le repérage des différents termes désignant un personnage,",null,{"$error":"#NAME?"},{"$f":"IF(INDEX(periode3,NEVAL,Nenfant)=\"\",0,INDEX(periode3,NEVAL,Nenfant))","v":{"$error":"#NAME?"}},{"$f":"IF(INDEX(periode4,NEVAL,Nenfant)=\"\",0,INDEX(periode4,NEVAL,Nenfant))","v":{"$error":"#NAME?"}}]
[25,null,"Dans un récit s'appuyer sur les temps des verbes et sur les mots de liaison exprimant les relations temporelles pour comprendre avec précision la chronologie des événements,",null,{"$error":"#NAME?"},{"$f":"IF(INDEX(periode3,NEVAL,Nenfant)=\"\",0,INDEX(periode3,NEVAL,Nenfant))","v":{"$error":"#NAME?"}},{"$f":"IF(INDEX(periode4,NEVAL,Nenfant)=\"\",0,INDEX(periode4,NEVAL,Nenfant))","v":{"$error":"#NAME?"}}]
[26,null,"Dans un récit s'appuyer sur les deux-points et guillemets pour repérer les paroles des personnages.",null,{"$error":"#NAME?"},{"$f":"IF(INDEX(periode3,NEVAL,Nenfant)=\"\",0,INDEX(periode3,NEVAL,Nenfant))","v":{"$error":"#NAME?"}},{"$f":"IF(INDEX(periode4,NEVAL,Nenfant)=\"\",0,INDEX(periode4,NEVAL,Nenfant))","v":{"$error":"#NAME?"}}]
[27,null,"Lire un texte documentaire, descriptif ou narratif, et restituer à l’oral ou par écrit l’essentiel du texte (sujet du texte, objet de la description, trame de l’histoire, relations entre les personnages…).",null,{"$error":"#NAME?"},{"$f":"IF(INDEX(periode3,NEVAL,Nenfant)=\"\",0,INDEX(periode3,NEVAL,Nenfant))","v":{"$error":"#NAME?"}},{"$f":"IF(INDEX(periode4,NEVAL,Nenfant)=\"\",0,INDEX(periode4,NEVAL,Nenfant))","v":{"$error":"#NAME?"}}]
[28,null,"Adopter une stratégie pour parvenir à comprendre : repérer des mots inconnus et incompris, relire, questionner, recourir au dictionnaire, etc.",null,{"$error":"#NAME?"},{"$f":"IF(INDEX(periode3,NEVAL,Nenfant)=\"\",0,INDEX(periode3,NEVAL,Nenfant))","v":{"$error":"#NAME?"}},{"$f":"IF(INDEX(periode4,NEVAL,Nenfant)=\"\",0,INDEX(periode4,NEVAL,Nenfant))","v":{"$error":"#NAME?"}}]
[29,null,"Se repérer dans une bibliothèque habituellement fréquentée pour choisir et emprunter un livre.",null,{"$error":"#NAME?"},{"$f":"IF(INDEX(periode3,NEVAL,Nenfant)=\"\",0,INDEX(periode3,NEVAL,Nenfant))","v":{"$error":"#NAME?"}},{"$f":"IF(INDEX(periode4,NEVAL,Nenfant)=\"\",0,INDEX(periode4,NEVAL,Nenfant))","v":{"$error":"#NAME?"}}]
[30,null,"Lire sans aide les consignes du travail scolaire, les énoncés de problèmes.",null,{"$error":"#NAME?"},{"$f":"IF(INDEX(periode3,NEVAL,Nenfant)=\"\",0,INDEX(periode3,NEVAL,Nenfant))","v":{"$error":"#NAME?"}},{"$f":"IF(INDEX(periode4,NEVAL,Nenfant)=\"\",0,INDEX(periode4,NEVAL,Nenfant))","v":{"$error":"#NAME?"}}]
[31,null,"Lire à haute voix avec fluidité et de manière expressive un texte d’une dizaine de lignes, après préparation.",null,{"$error":"#NAME?"},{"$f":"IF(INDEX(periode3,NEVAL,Nenfant)=\"\",0,INDEX(periode3,NEVAL,Nenfant))","v":{"$error":"#NAME?"}},{"$f":"IF(INDEX(periode4,NEVAL,Nenfant)=\"\",0,INDEX(periode4,NEVAL,Nenfant))","v":{"$error":"#NAME?"}}]
[32,null,"Lire silencieusement un texte littéraire ou documentaire et le comprendre (reformuler, résumer, répondre à des questions sur ce texte).",null,{"$error":"#NAME?"},{"$f":"IF(INDEX(periode3,NEVAL,Nenfant)=\"\",0,INDEX(periode3,NEVAL,Nenfant))","v":{"$error":"#NAME?"}},{"$f":"IF(INDEX(periode4,NEVAL,Nenfant)=\"\",0,INDEX(periode4,NEVAL,Nenfant))","v":{"$error":"#NAME?"}}]
[33,null,"Repérer dans un texte des informations explicites et en inférer des informations nouvelles (implicites). ",null,{"$error":"#NAME?"},{"$f":"IF(INDEX(periode3,NEVAL,Nenfant)=\"\",0,INDEX(periode3,NEVAL,Nenfant))","v":{"$error":"#NAME?"}},{"$f":"IF(INDEX(periode4,NEVAL,Nenfant)=\"\",0,INDEX(periode4,NEVAL,Nenfant))","v":{"$error":"#NAME?"}}]
[34,null,"Dans un récit ou une description, s’appuyer sur les mots de liaison qui marquent les relations spatiales et sur les compléments de lieu pour comprendre avec précision la confi­guration du lieu de l’action ou du lieu décrit.",null,{"$error":"#NAME?"},{"$f":"IF(INDEX(periode3,NEVAL,Nenfant)=\"\",0,INDEX(periode3,NEVAL,Nenfant))","v":{"$error":"#NAME?"}},{"$f":"IF(INDEX(periode4,NEVAL,Nenfant)=\"\",0,INDEX(periode4,NEVAL,Nenfant))","v":{"$error":"#NAME?"}}]
[35,null,"Comprendre l’usage de l’imparfait et du passé simple dans un récit, du présent dans un texte scientifique ou documentaire.",null,{"$error":"#NAME?"},{"$f":"IF(INDEX(periode3,NEVAL,Nenfant)=\"\",0,INDEX(periode3,NEVAL,Nenfant))","v":{"$error":"#NAME?"}},{"$f":"IF(INDEX(periode4,NEVAL,Nenfant)=\"\",0,INDEX(periode4,NEVAL,Nenfant))","v":{"$error":"#NAME?"}}]
[36,null,"Saisir l’atmosphère ou le ton d’un texte descriptif,narratif ou poétique, en s’appuyant en particulier sur son vocabulaire.",null,{"$error":"#NAME?"},{"$f":"IF(INDEX(periode3,NEVAL,Nenfant)=\"\",0,INDEX(periode3,NEVAL,Nenfant))","v":{"$error":"#NAME?"}},{"$f":"IF(INDEX(periode4,NEVAL,Nenfant)=\"\",0,INDEX(periode4,NEVAL,Nenfant))","v":{"$error":"#NAME?"}}]
[37,null,"Participer à un débat sur un texte en confrontant son interprétation à d’autres de manière argumentée.",null,{"$error":"#NAME?"},{"$f":"IF(INDEX(periode3,NEVAL,Nenfant)=\"\",0,INDEX(periode3,NEVAL,Nenfant))","v":{"$error":"#NAME?"}},{"$f":"IF(INDEX(periode4,NEVAL,Nenfant)=\"\",0,INDEX(periode4,NEVAL,Nenfant))","v":{"$error":"#NAME?"}}]
[38,null,"Utiliser les outils usuels de la classe (manuels, affichages, etc.) pour rechercher une information, surmonter une difficulté.",null,{"$error":"#NAME?"},{"$f":"IF(INDEX(periode3,NEVAL,Nenfant)=\"\",0,INDEX(periode3,NEVAL,Nenfant))","v":{"$error":"#NAME?"}},{"$f":"IF(INDEX(periode4,NEVAL,Nenfant)=\"\",0,INDEX(periode4,NEVAL,Nenfant))","v":{"$error":"#NAME?"}}]
[39,null,"Effectuer des recherches, avec l’aide de l’adulte, dans des ouvrages documentaires (livres ou produits multimédia).",null,{"$error":"#NAME?"},{"$f":"IF(INDEX(periode3,NEVAL,Nenfant)=\"\",0,INDEX(periode3,NEVAL,Nenfant))","v":{"$error":"#NAME?"}},{"$f":"IF(INDEX(periode4,NEVAL,Nenfant)=\"\",0,INDEX(periode4,NEVAL,Nenfant))","v":{"$error":"#NAME?"}}]
[40,null,"Lire sans aide une leçon dans un manuel après un travail en classe sur le sujet.",null,{"$error":"#NAME?"},{"$f":"IF(INDEX(periode3,NEVAL,Nenfant)=\"\",0,INDEX(periode3,NEVAL,Nenfant))","v":{"$error":"#NAME?"}},{"$f":"IF(INDEX(periode4,NEVAL,Nenfant)=\"\",0,INDEX(periode4,NEVAL,Nenfant))","v":{"$error":"#NAME?"}}]
[41,null,"Lire à haute voix avec fluidité et de manière expressive un texte de plus de dix lignes, après préparation.",null,{"$error":"#NAME?"},{"$f":"IF(INDEX(periode3,NEVAL,Nenfant)=\"\",0,INDEX(periode3,NEVAL,Nenfant))","v":{"$error":"#NAME?"}},{"$f":"IF(INDEX(periode4,NEVAL,Nenfant)=\"\",0,INDEX(periode4,NEVAL,Nenfant))","v":{"$error":"#NAME?"}}]
[42,null,"S’appuyer sur les mots de liaisons et les expressions qui marquent les relations logiques pour comprendre avec précision l’enchaînement d’une action ou d’un raisonnement.",null,{"$error":"#NAME?"},{"$f":"IF(INDEX(periode3,NEVAL,Nenfant)=\"\",0,INDEX(periode3,NEVAL,Nenfant))","v":{"$error":"#NAME?"}},{"$f":"IF(INDEX(periode4,NEVAL,Nenfant)=\"\",0,INDEX(periode4,NEVAL,Nenfant))","v":{"$error":"#NAME?"}}]
[43,null,"Repérer les effets de choix formels (emplois de certains mots, utilisation d’un niveau de langue bien caractérisé, etc.).",null,{"$error":"#NAME?"},{"$f":"IF(INDEX(periode3,NEVAL,Nenfant)=\"\",0,INDEX(periode3,NEVAL,Nenfant))","v":{"$error":"#NAME?"}},{"$f":"IF(INDEX(periode4,NEVAL,Nenfant)=\"\",0,INDEX(periode4,NEVAL,Nenfant))","v":{"$error":"#NAME?"}}]
[44,null,"Effectuer, seul, des recherches dans des ouvrages documentaires (livres, produits multimédia).",null,{"$error":"#NAME?"},{"$f":"IF(INDEX(periode3,NEVAL,Nenfant)=\"\",0,INDEX(periode3,NEVAL,Nenfant))","v":{"$error":"#NAME?"}},{"$f":"IF(INDEX(periode4,NEVAL,Nenfant)=\"\",0,INDEX(periode4,NEVAL,Nenfant))","v":{"$error":"#NAME?"}}]
[45,null,"Se repérer dans une bibliothèque, une médiathèque.",null,{"$error":"#NAME?"},{"$f":"IF(INDEX(periode3,NEVAL,Nenfant)=\"\",0,INDEX(periode3,NEVAL,Nenfant))","v":{"$error":"#NAME?"}},{"$f":"IF(INDEX(periode4,NEVAL,Nenfant)=\"\",0,INDEX(periode4,NEVAL,Nenfant))","v":{"$error":"#NAME?"}}]
[46,null,"Utiliser ses connaissances pour réfléchir sur un texte, mieux le comprendre",null,{"$error":"#NAME?"},{"$f":"IF(INDEX(periode3,NEVAL,Nenfant)=\"\",0,INDEX(periode3,NEVAL,Nenfant))","v":{"$error":"#NAME?"}},{"$f":"IF(INDEX(periode4,NEVAL,Nenfant)=\"\",0,INDEX(periode4,NEVAL,Nenfant))","v":{"$error":"#NAME?"}}]
[47,null," ECRIRE",null,{"$error":"#NAME?"},{"$f":"IF(INDEX(periode3,NEVAL,Nenfant)=\"\",0,INDEX(periode3,NEVAL,Nenfant))","v":{"$error":"#NAME?"}},{"$f":"IF(INDEX(periode4,NEVAL,Nenfant)=\"\",0,INDEX(periode4,NEVAL,Nenfant))","v":{"$error":"#NAME?"}}]
[48,null,"Copier sans erreur un texte en lui donnant une présentation adaptée. (au moins 5 lignes CE2; 10 C61lignes CM1 15 lignes CM2",null,{"$error":"#NAME?"},{"$f":"IF(INDEX(periode3,NEVAL,Nenfant)=\"\",0,INDEX(periode3,NEVAL,Nenfant))","v":{"$error":"#NAME?"}},{"$f":"IF(INDEX(periode4,NEVAL,Nenfant)=\"\",0,INDEX(periode4,NEVAL,Nenfant))","v":{"$error":"#NAME?"}}]
[49,null,"Copier avec soin, en respectant la mise en page, un texte en prose ou poème appris en récitation. ",null,{"$error":"#NAME?"},{"$f":"IF(INDEX(periode3,NEVAL,Nenfant)=\"\",0,INDEX(periode3,NEVAL,Nenfant))","v":{"$error":"#NAME?"}},{"$f":"IF(INDEX(periode4,NEVAL,Nenfant)=\"\",0,INDEX(periode4,NEVAL,Nenfant))","v":{"$error":"#NAME?"}}]
[50,null,"Répondre à une question par une phrase complète à l’écrit",null,{"$error":"#NAME?"},{"$f":"IF(INDEX(periode3,NEVAL,Nenfant)=\"\",0,INDEX(periode3,NEVAL,Nenfant))","v":{"$error":"#NAME?"}},{"$f":"IF(INDEX(periode4,NEVAL,Nenfant)=\"\",0,INDEX(periode4,NEVAL,Nenfant))","v":{"$error":"#NAME?"}}]
[51,null,"REDACTION",null,{"$error":"#NAME?"},{"$f":"IF(INDEX(periode3,NEVAL,Nenfant)=\"\",0,INDEX(periode3,NEVAL,Nenfant))","v":{"$error":"#NAME?"}},{"$f":"IF(INDEX(periode4,NEVAL,Nenfant)=\"\",0,INDEX(periode4,NEVAL,Nenfant))","v":{"$error":"#NAME?"}}]
[52,null,"Dans les diverses activités scolaires, proposer une réponse écrite, explicite et énoncée dans une forme correcte.",null,{"$error":"#NAME?"},{"$f":"IF(INDEX(periode3,NEVAL,Nenfant)=\"\",0,INDEX(periode3,NEVAL,Nenfant))","v":{"$error":"#NAME?"}},{"$f":"IF(INDEX(periode4,NEVAL,Nenfant)=\"\",0,INDEX(periode4,NEVAL,Nenfant))","v":{"$error":"#NAME?"}}]
[53,null,"Rédiger un court texte narratif en veillant à sa cohérence temporelle (temps des verbes) et à sa précision (dans la nomination des personnages et par l’usage d’adjectifs qualificatifs), en évitant les répétitions par l’usage de synonymes, et en respectant les contraintes syntaxiques et orthographiques ainsi que la ponctuation.",null,{"$error":"#NAME?"},{"$f":"IF(INDEX(periode3,NEVAL,Nenfant)=\"\",0,INDEX(periode3,NEVAL,Nenfant))","v":{"$error":"#NAME?"}},{"$f":"IF(INDEX(periode4,NEVAL,Nenfant)=\"\",0,INDEX(periode4,NEVAL,Nenfant))","v":{"$error":"#NAME?"}}]
[54,null,"Rédiger un court dialogue (formulation des questions et des ordres).",null,{"$error":"#NAME?"},{"$f":"IF(INDEX(periode3,NEVAL,Nenfant)=\"\",0,INDEX(periode3,NEVAL,Nenfant))","v":{"$error":"#NAME?"}},{"$f":"IF(INDEX(periode4,NEVAL,Nenfant)=\"\",0,INDEX(periode4,NEVAL,Nenfant))","v":{"$error":"#NAME?"}}]
[55,null,"Savoir amplifier une phrase en ajoutant des mots : en coordonnant par et un nom à un autre, un adjectif à un autre, un verbe à un autre.",null,{"$error":"#NAME?"},{"$f":"IF(INDEX(periode3,NEVAL,Nenfant)=\"\",0,INDEX(periode3,NEVAL,Nenfant))","v":{"$error":"#NAME?"}},{"$f":"IF(INDEX(periode4,NEVAL,Nenfant)=\"\",0,INDEX(periode4,NEVAL,Nenfant))","v":{"$error":"#NAME?"}}]
[56,null,"Améliorer (corriger et enrichir) un texte en fonction des remarques et aides du maître.",null,{"$error":"#NAME?"},{"$f":"IF(INDEX(periode3,NEVAL,Nenfant)=\"\",0,INDEX(periode3,NEVAL,Nenfant))","v":{"$error":"#NAME?"}},{"$f":"IF(INDEX(periode4,NEVAL,Nenfant)=\"\",0,INDEX(periode4,NEVAL,Nenfant))","v":{"$error":"#NAME?"}}]
[57,null,"Dans les diverses activités scolaires, noter des idées, des hypothèses, des informations utiles au travail scolaire",null,{"$error":"#NAME?"},{"$f":"IF(INDEX(periode3,NEVAL,Nenfant)=\"\",0,INDEX(periode3,NEVAL,Nenfant))","v":{"$error":"#NAME?"}},{"$f":"IF(INDEX(periode4,NEVAL,Nenfant)=\"\",0,INDEX(periode4,NEVAL,Nenfant))","v":{"$error":"#NAME?"}}]
[58,null,"Rédiger des textes courts de différents types (récits, descriptions, portraits) en veillant à leur cohérence, à leur précision, (pronoms, mots de liaison, relations temporelles en particulier) et en évitant les répétitions. ",null,{"$error":"#NAME?"},{"$f":"IF(INDEX(periode3,NEVAL,Nenfant)=\"\",0,INDEX(periode3,NEVAL,Nenfant))","v":{"$error":"#NAME?"}},{"$f":"IF(INDEX(periode4,NEVAL,Nenfant)=\"\",0,INDEX(periode4,NEVAL,Nenfant))","v":{"$error":"#NAME?"}}]
[59,null,"Savoir amplifier une phrase simple par l’ajout d’éléments coordonnés (et, ni, ou, mais entre des mots ou des phrases simples ; car, donc entre des phrases simples), d’adverbes, de compléments circonstanciels  et par l’enrichissement des groupes nominaux",null,{"$error":"#NAME?"},{"$f":"IF(INDEX(periode3,NEVAL,Nenfant)=\"\",0,INDEX(periode3,NEVAL,Nenfant))","v":{"$error":"#NAME?"}},{"$f":"IF(INDEX(periode4,NEVAL,Nenfant)=\"\",0,INDEX(periode4,NEVAL,Nenfant))","v":{"$error":"#NAME?"}}]
[60,null,"Dans les diverses activités scolaires, prendre des notes utiles au travail scolaire.",null,{"$error":"#NAME?"},{"$f":"IF(INDEX(periode3,NEVAL,Nenfant)=\"\",0,INDEX(periode3,NEVAL,Nenfant))","v":{"$error":"#NAME?"}},{"$f":"IF(INDEX(periode4,NEVAL,Nenfant)=\"\",0,INDEX(periode4,NEVAL,Nenfant))","v":{"$error":"#NAME?"}}]
[61,null,"Maîtriser la cohérence des temps dans un récit d’une dizaine de lignes.",null,{"$error":"#NAME?"},{"$f":"IF(INDEX(periode3,NEVAL,Nenfant)=\"\",0,INDEX(periode3,NEVAL,Nenfant))","v":{"$error":"#NAME?"}},{"$f":"IF(INDEX(periode4,NEVAL,Nenfant)=\"\",0,INDEX(periode4,NEVAL,Nenfant))","v":{"$error":"#NAME?"}}]
[62,null,"Rédiger différents types de textes d’au moins deux paragraphes en veillant à leur cohérence, en évitant les répétitions, et en respectant les contraintes syntaxiques et orthographiques ainsi que la ponctuation.",null,{"$error":"#NAME?"},{"$f":"IF(INDEX(periode3,NEVAL,Nenfant)=\"\",0,INDEX(periode3,NEVAL,Nenfant))","v":{"$error":"#NAME?"}},{"$f":"IF(INDEX(periode4,NEVAL,Nenfant)=\"\",0,INDEX(periode4,NEVAL,Nenfant))","v":{"$error":"#NAME?"}}]
[63,null,"Ecrire un texte de type poétique en obéissant à une ou plusieurs consignes précises.",null,{"$error":"#NAME?"},{"$f":"IF(INDEX(periode3,NEVAL,Nenfant)=\"\",0,INDEX(periode3,NEVAL,Nenfant))","v":{"$error":"#NAME?"}},{"$f":"IF(INDEX(periode4,NEVAL,Nenfant)=\"\",0,INDEX(periode4,NEVAL,Nenfant))","v":{"$error":"#NAME?"}}]
[64,null,"LITTERATURE",null,{"$error":"#NAME?"},{"$f":"IF(INDEX(periode3,NEVAL,Nenfant)=\"\",0,INDEX(periode3,NEVAL,Nenfant))","v":{"$error":"#NAME?"}},{"$f":"IF(INDEX(periode4,NEVAL,Nenfant)=\"\",0,INDEX(periode4,NEVAL,Nenfant))","v":{"$error":"#NAME?"}}]
[65,null,"Lire une œuvre intégrale ou de larges extraits d’une œuvre longue. ",null,{"$error":"#NAME?"},{"$f":"IF(INDEX(periode3,NEVAL,Nenfant)=\"\",0,INDEX(periode3,NEVAL,Nenfant))","v":{"$error":"#NAME?"}},{"$f":"IF(INDEX(periode4,NEVAL,Nenfant)=\"\",0,INDEX(periode4,NEVAL,Nenfant))","v":{"$error":"#NAME?"}}]
[66,null,"Rendre compte des œuvres lues, donner son point de vue à leur propos.",null,{"$error":"#NAME?"},{"$f":"IF(INDEX(periode3,NEVAL,Nenfant)=\"\",0,INDEX(periode3,NEVAL,Nenfant))","v":{"$error":"#NAME?"}},{"$f":"IF(INDEX(periode4,NEVAL,Nenfant)=\"\",0,INDEX(periode4,NEVAL,Nenfant))","v":{"$error":"#NAME?"}}]
[67,null,"Raconter de mémoire, ou en s’aidant de quelques images des histoires lues dans les années ou les mois antérieurs ; connaître leur titre.",null,{"$error":"#NAME?"},{"$f":"IF(INDEX(periode3,NEVAL,Nenfant)=\"\",0,INDEX(periode3,NEVAL,Nenfant))","v":{"$error":"#NAME?"}},{"$f":"IF(INDEX(periode4,NEVAL,Nenfant)=\"\",0,INDEX(periode4,NEVAL,Nenfant))","v":{"$error":"#NAME?"}}]
[68,null,"Etablir des relations entre des textes ou des œuvres : même auteur, même thème, même personnage, etc.",null,{"$f":"IF(G78<>0,G78,(IF(F78<>0,F78,0)))","v":{"$error":"#NAME?"}},{"$f":"IF(INDEX(periode3,NEVAL,Nenfant)=\"\",0,INDEX(periode3,NEVAL,Nenfant))","v":{"$error":"#NAME?"}},{"$f":"IF(INDEX(periode4,NEVAL,Nenfant)=\"\",0,INDEX(periode4,NEVAL,Nenfant))","v":{"$error":"#NAME?"}}]
[69,null,"Lire au moins un ouvrage par trimestre et en rendre compte ; choisir un extrait caractéristique et le lire à haute voix.",null,{"$error":"#NAME?"},{"$f":"IF(INDEX(periode3,NEVAL,Nenfant)=\"\",0,INDEX(periode3,NEVAL,Nenfant))","v":{"$error":"#NAME?"}},{"$f":"IF(INDEX(periode4,NEVAL,Nenfant)=\"\",0,INDEX(periode4,NEVAL,Nenfant))","v":{"$error":"#NAME?"}}]
[70,null,"Adapter son comportement de lecteur aux difficultés rencontrées : notes pour mémoriser, relecture, demande d’aide, etc.",null,{"$error":"#NAME?"},{"$f":"IF(INDEX(periode3,NEVAL,Nenfant)=\"\",0,INDEX(periode3,NEVAL,Nenfant))","v":{"$error":"#NAME?"}},{"$f":"IF(INDEX(periode4,NEVAL,Nenfant)=\"\",0,INDEX(periode4,NEVAL,Nenfant))","v":{"$error":"#NAME?"}}]
[71,null,"Se rappeler le titre et l’auteur des œuvres lues. ",null,{"$error":"#NAME?"},{"$f":"IF(INDEX(periode3,NEVAL,Nenfant)=\"\",0,INDEX(periode3,NEVAL,Nenfant))","v":{"$error":"#NAME?"}},{"$f":"IF(INDEX(periode4,NEVAL,Nenfant)=\"\",0,INDEX(periode4,NEVAL,Nenfant))","v":{"$error":"#NAME?"}}]
[72,null,"Participer à un débat sur une œuvre en confrontant son point de vue à d’autres de manière argumentée.",null,{"$error":"#NAME?"},{"$f":"IF(INDEX(periode3,NEVAL,Nenfant)=\"\",0,INDEX(periode3,NEVAL,Nenfant))","v":{"$error":"#NAME?"}},{"$f":"IF(INDEX(periode4,NEVAL,Nenfant)=\"\",0,INDEX(periode4,NEVAL,Nenfant))","v":{"$error":"#NAME?"}}]
[73,null,"Lire au moins cinq ouvrages dans l’année scolaire et en rendre compte ; choisir un extrait caractéristique et le lire à haute voix.",null,{"$error":"#NAME?"},{"$f":"IF(INDEX(periode3,NEVAL,Nenfant)=\"\",0,INDEX(periode3,NEVAL,Nenfant))","v":{"$error":"#NAME?"}},{"$f":"IF(INDEX(periode4,NEVAL,Nenfant)=\"\",0,INDEX(periode4,NEVAL,Nenfant))","v":{"$error":"#NAME?"}}]
[74,null,"Expliciter des choix de lecture, des préférences",null,{"$error":"#NAME?"},{"$f":"IF(INDEX(periode3,NEVAL,Nenfant)=\"\",0,INDEX(periode3,NEVAL,Nenfant))","v":{"$error":"#NAME?"}},{"$f":"IF(INDEX(periode4,NEVAL,Nenfant)=\"\",0,INDEX(periode4,NEVAL,Nenfant))","v":{"$error":"#NAME?"}}]
[75,null,"Raconter de mémoire une œuvre lue ; citer de mémoire un court extrait caractéristique.",null,{"$error":"#NAME?"},{"$f":"IF(INDEX(periode3,NEVAL,Nenfant)=\"\",0,INDEX(periode3,NEVAL,Nenfant))","v":{"$error":"#NAME?"}},{"$f":"IF(INDEX(periode4,NEVAL,Nenfant)=\"\",0,INDEX(periode4,NEVAL,Nenfant))","v":{"$error":"#NAME?"}}]
[76,null,"Rapprocher des œuvres littéraires, à l’oral et à l'écrit",null,{"$error":"#NAME?"},{"$f":"IF(INDEX(periode3,NEVAL,Nenfant)=\"\",0,INDEX(periode3,NEVAL,Nenfant))","v":{"$error":"#NAME?"}},{"$f":"IF(INDEX(periode4,NEVAL,Nenfant)=\"\",0,INDEX(periode4,NEVAL,Nenfant))","v":{"$error":"#NAME?"}}]
[77,null,"VOCABULAIRE",null,{"$error":"#NAME?"},{"$f":"IF(INDEX(periode3,NEVAL,Nenfant)=\"\",0,INDEX(periode3,NEVAL,Nenfant))","v":{"$error":"#NAME?"}},{"$f":"IF(INDEX(periode4,NEVAL,Nenfant)=\"\",0,INDEX(periode4,NEVAL,Nenfant))","v":{"$error":"#NAME?"}}]
[78,null,"Acquisition du vocabulaire",null,{"$error":"#NAME?"},{"$f":"IF(INDEX(periode3,NEVAL,Nenfant)=\"\",0,INDEX(periode3,NEVAL,Nenfant))","v":{"$error":"#NAME?"}},{"$f":"IF(INDEX(periode4,NEVAL,Nenfant)=\"\",0,INDEX(periode4,NEVAL,Nenfant))","v":{"$error":"#NAME?"}}]
[79,null,"Utiliser à bon escient des termes appartenant aux lexiques des repères temporels, de la vie quotidienne et du travail scolaire. ",null,{"$error":"#NAME?"},{"$f":"IF(INDEX(periode3,NEVAL,Nenfant)=\"\",0,INDEX(periode3,NEVAL,Nenfant))","v":{"$error":"#NAME?"}},{"$f":"IF(INDEX(periode4,NEVAL,Nenfant)=\"\",0,INDEX(periode4,NEVAL,Nenfant))","v":{"$error":"#NAME?"}}]
[80,null,"Utiliser les termes exacts qui correspondent aux notions étudiées dans les divers domaines scolaires.",null,{"$error":"#NAME?"},{"$f":"IF(INDEX(periode3,NEVAL,Nenfant)=\"\",0,INDEX(periode3,NEVAL,Nenfant))","v":{"$error":"#NAME?"}},{"$f":"IF(INDEX(periode4,NEVAL,Nenfant)=\"\",0,INDEX(periode4,NEVAL,Nenfant))","v":{"$error":"#NAME?"}}]
[81,null,"Savoir ce qu’est une abréviation (ex. « adj. » dans un article de dictionnaire).",null,{"$error":"#NAME?"},{"$f":"IF(INDEX(periode3,NEVAL,Nenfant)=\"\",0,INDEX(periode3,NEVAL,Nenfant))","v":{"$error":"#NAME?"}},{"$f":"IF(INDEX(periode4,NEVAL,Nenfant)=\"\",0,INDEX(periode4,NEVAL,Nenfant))","v":{"$error":"#NAME?"}}]
[82,null,"Utiliser à bon escient des termes afférents aux actions, sensations et jugements.",null,{"$error":"#NAME?"},{"$f":"IF(INDEX(periode3,NEVAL,Nenfant)=\"\",0,INDEX(periode3,NEVAL,Nenfant))","v":{"$error":"#NAME?"}},{"$f":"IF(INDEX(periode4,NEVAL,Nenfant)=\"\",0,INDEX(periode4,NEVAL,Nenfant))","v":{"$error":"#NAME?"}}]
[83,null,"Commencer à utiliser des termes renvoyant à des notions abstraites (émotions, sentiments, devoirs, droits).",null,{"$error":"#NAME?"},{"$f":"IF(INDEX(periode3,NEVAL,Nenfant)=\"\",0,INDEX(periode3,NEVAL,Nenfant))","v":{"$error":"#NAME?"}},{"$f":"IF(INDEX(periode4,NEVAL,Nenfant)=\"\",0,INDEX(periode4,NEVAL,Nenfant))","v":{"$error":"#NAME?"}}]
[84,null,"Comprendre des sigles.",null,{"$error":"#NAME?"},{"$f":"IF(INDEX(periode3,NEVAL,Nenfant)=\"\",0,INDEX(periode3,NEVAL,Nenfant))","v":{"$error":"#NAME?"}},{"$f":"IF(INDEX(periode4,NEVAL,Nenfant)=\"\",0,INDEX(periode4,NEVAL,Nenfant))","v":{"$error":"#NAME?"}}]
[85,null,"Maîtrise du sens des mots",null,{"$error":"#NAME?"},{"$f":"IF(INDEX(periode3,NEVAL,Nenfant)=\"\",0,INDEX(periode3,NEVAL,Nenfant))","v":{"$error":"#NAME?"}},{"$f":"IF(INDEX(periode4,NEVAL,Nenfant)=\"\",0,INDEX(periode4,NEVAL,Nenfant))","v":{"$error":"#NAME?"}}]
[86,null,"Dans un texte, relever les mots d’un même domaine (ex. le vocabulaire de la mer). ",null,{"$error":"#NAME?"},{"$f":"IF(INDEX(periode3,NEVAL,Nenfant)=\"\",0,INDEX(periode3,NEVAL,Nenfant))","v":{"$error":"#NAME?"}},{"$f":"IF(INDEX(periode4,NEVAL,Nenfant)=\"\",0,INDEX(periode4,NEVAL,Nenfant))","v":{"$error":"#NAME?"}}]
[87,null,"Utiliser des synonymes et des mots de sens contraire dans les activités d’expression orale et écrite.",null,{"$error":"#NAME?"},{"$f":"IF(INDEX(periode3,NEVAL,Nenfant)=\"\",0,INDEX(periode3,NEVAL,Nenfant))","v":{"$error":"#NAME?"}},{"$f":"IF(INDEX(periode4,NEVAL,Nenfant)=\"\",0,INDEX(periode4,NEVAL,Nenfant))","v":{"$error":"#NAME?"}}]
[88,null,"Préciser, dans son contexte, le sens d’un mot connu ; le distinguer d’autres sens possibles.",null,{"$error":"#NAME?"},{"$f":"IF(INDEX(periode3,NEVAL,Nenfant)=\"\",0,INDEX(periode3,NEVAL,Nenfant))","v":{"$error":"#NAME?"}},{"$f":"IF(INDEX(periode4,NEVAL,Nenfant)=\"\",0,INDEX(periode4,NEVAL,Nenfant))","v":{"$error":"#NAME?"}}]
[89,null,"Utiliser le contexte pour comprendre un mot inconnu ; vérifier son sens dans le dictionnaire.",null,{"$error":"#NAME?"},{"$f":"IF(INDEX(periode3,NEVAL,Nenfant)=\"\",0,INDEX(periode3,NEVAL,Nenfant))","v":{"$error":"#NAME?"}},{"$f":"IF(INDEX(periode4,NEVAL,Nenfant)=\"\",0,INDEX(periode4,NEVAL,Nenfant))","v":{"$error":"#NAME?"}}]
[90,null,"Définir un mot connu en utilisant un terme générique adéquat (mots concrets : ex. un pommier est un arbre fruitier).",null,{"$error":"#NAME?"},{"$f":"IF(INDEX(periode3,NEVAL,Nenfant)=\"\",0,INDEX(periode3,NEVAL,Nenfant))","v":{"$error":"#NAME?"}},{"$f":"IF(INDEX(periode4,NEVAL,Nenfant)=\"\",0,INDEX(periode4,NEVAL,Nenfant))","v":{"$error":"#NAME?"}}]
[91,null,"Commencer à identifier les différents niveaux de langue.",null,{"$error":"#NAME?"},{"$f":"IF(INDEX(periode3,NEVAL,Nenfant)=\"\",0,INDEX(periode3,NEVAL,Nenfant))","v":{"$error":"#NAME?"}},{"$f":"IF(INDEX(periode4,NEVAL,Nenfant)=\"\",0,INDEX(periode4,NEVAL,Nenfant))","v":{"$error":"#NAME?"}}]
[92,null,"Distinguer les différents sens d’un verbe selon sa construction  (ex. jouer, jouer quelque chose, jouer à, jouer de, jouer sur).",null,{"$error":"#NAME?"},{"$f":"IF(INDEX(periode3,NEVAL,Nenfant)=\"\",0,INDEX(periode3,NEVAL,Nenfant))","v":{"$error":"#NAME?"}},{"$f":"IF(INDEX(periode4,NEVAL,Nenfant)=\"\",0,INDEX(periode4,NEVAL,Nenfant))","v":{"$error":"#NAME?"}}]
[93,null,"Identifier l’utilisation d’un mot ou d’une expression au sens figuré. ",null,{"$error":"#NAME?"},{"$f":"IF(INDEX(periode3,NEVAL,Nenfant)=\"\",0,INDEX(periode3,NEVAL,Nenfant))","v":{"$error":"#NAME?"}},{"$f":"IF(INDEX(periode4,NEVAL,Nenfant)=\"\",0,INDEX(periode4,NEVAL,Nenfant))","v":{"$error":"#NAME?"}}]
[94,null,"Classer des mots de sens voisin en repérant les variations d’intensité (ex. bon, délicieux, succulent).",null,{"$error":"#NAME?"},{"$f":"IF(INDEX(periode3,NEVAL,Nenfant)=\"\",0,INDEX(periode3,NEVAL,Nenfant))","v":{"$error":"#NAME?"}},{"$f":"IF(INDEX(periode4,NEVAL,Nenfant)=\"\",0,INDEX(periode4,NEVAL,Nenfant))","v":{"$error":"#NAME?"}}]
[95,null,"Définir un mot connu en utilisant un terme générique adéquat et en y ajoutant les précisions spécifiques à l’objet défini.",null,{"$error":"#NAME?"},{"$f":"IF(INDEX(periode3,NEVAL,Nenfant)=\"\",0,INDEX(periode3,NEVAL,Nenfant))","v":{"$error":"#NAME?"}},{"$f":"IF(INDEX(periode4,NEVAL,Nenfant)=\"\",0,INDEX(periode4,NEVAL,Nenfant))","v":{"$error":"#NAME?"}}]
[96,null,"Les familles de mots",null,{"$error":"#NAME?"},{"$f":"IF(INDEX(periode3,NEVAL,Nenfant)=\"\",0,INDEX(periode3,NEVAL,Nenfant))","v":{"$error":"#NAME?"}},{"$f":"IF(INDEX(periode4,NEVAL,Nenfant)=\"\",0,INDEX(periode4,NEVAL,Nenfant))","v":{"$error":"#NAME?"}}]
[97,null,"Construire ou compléter des familles de mots. ",null,{"$error":"#NAME?"},{"$f":"IF(INDEX(periode3,NEVAL,Nenfant)=\"\",0,INDEX(periode3,NEVAL,Nenfant))","v":{"$error":"#NAME?"}},{"$f":"IF(INDEX(periode4,NEVAL,Nenfant)=\"\",0,INDEX(periode4,NEVAL,Nenfant))","v":{"$error":"#NAME?"}}]
[98,null,"Regrouper des mots selon le sens de leur préfixe, ",null,{"$error":"#NAME?"},{"$f":"IF(INDEX(periode3,NEVAL,Nenfant)=\"\",0,INDEX(periode3,NEVAL,Nenfant))","v":{"$error":"#NAME?"}},{"$f":"IF(INDEX(periode4,NEVAL,Nenfant)=\"\",0,INDEX(periode4,NEVAL,Nenfant))","v":{"$error":"#NAME?"}}]
[99,null,"Regrouper des mots selon le sens de leur suffixe, ",null,{"$error":"#NAME?"},{"$f":"IF(INDEX(periode3,NEVAL,Nenfant)=\"\",0,INDEX(periode3,NEVAL,Nenfant))","v":{"$error":"#NAME?"}},{"$f":"IF(INDEX(periode4,NEVAL,Nenfant)=\"\",0,INDEX(periode4,NEVAL,Nenfant))","v":{"$error":"#NAME?"}}]
[100,null,"Connaître et utiliser oralement le vocabulaire concernant la construction des mots (radical, préfixe, suffixe, famille).",null,{"$error":"#NAME?"},{"$f":"IF(INDEX(periode3,NEVAL,Nenfant)=\"\",0,INDEX(periode3,NEVAL,Nenfant))","v":{"$error":"#NAME?"}},{"$f":"IF(INDEX(periode4,NEVAL,Nenfant)=\"\",0,INDEX(periode4,NEVAL,Nenfant))","v":{"$error":"#NAME?"}}]
[101,null,"Utiliser la construction d’un mot inconnu pour le comprendre.",null,{"$error":"#NAME?"},{"$f":"IF(INDEX(periode3,NEVAL,Nenfant)=\"\",0,INDEX(periode3,NEVAL,Nenfant))","v":{"$error":"#NAME?"}},{"$f":"IF(INDEX(periode4,NEVAL,Nenfant)=\"\",0,INDEX(periode4,NEVAL,Nenfant))","v":{"$error":"#NAME?"}}]
[102,null,"Regrouper des mots selon leur radical.",null,{"$error":"#NAME?"},{"$f":"IF(INDEX(periode3,NEVAL,Nenfant)=\"\",0,INDEX(periode3,NEVAL,Nenfant))","v":{"$error":"#NAME?"}},{"$f":"IF(INDEX(periode4,NEVAL,Nenfant)=\"\",0,INDEX(periode4,NEVAL,Nenfant))","v":{"$error":"#NAME?"}}]
[103,null,"Regrouper des mots selon le sens de leur préfixe et connaître ce sens ; en particulier celui des principaux préfixes exprimant des idées de lieu ou de mouvement.   ",null,{"$error":"#NAME?"},{"$f":"IF(INDEX(periode3,NEVAL,Nenfant)=\"\",0,INDEX(periode3,NEVAL,Nenfant))","v":{"$error":"#NAME?"}},{"$f":"IF(INDEX(periode4,NEVAL,Nenfant)=\"\",0,INDEX(periode4,NEVAL,Nenfant))","v":{"$error":"#NAME?"}}]
[104,null,"Regrouper des mots selon le sens de  leur suffixe et connaître ce sens. ",null,{"$error":"#NAME?"},{"$f":"IF(INDEX(periode3,NEVAL,Nenfant)=\"\",0,INDEX(periode3,NEVAL,Nenfant))","v":{"$error":"#NAME?"}},{"$f":"IF(INDEX(periode4,NEVAL,Nenfant)=\"\",0,INDEX(periode4,NEVAL,Nenfant))","v":{"$error":"#NAME?"}}]
[105,null,"Pour un mot donné, fournir un ou plusieurs mots de la même famille en vérifiant qu’il(s) existe(nt).",null,{"$error":"#NAME?"},{"$f":"IF(INDEX(periode3,NEVAL,Nenfant)=\"\",0,INDEX(periode3,NEVAL,Nenfant))","v":{"$error":"#NAME?"}},{"$f":"IF(INDEX(periode4,NEVAL,Nenfant)=\"\",0,INDEX(periode4,NEVAL,Nenfant))","v":{"$error":"#NAME?"}}]
[106,null,"Utilisation du dictionnaire",null,{"$error":"#NAME?"},{"$f":"IF(INDEX(periode3,NEVAL,Nenfant)=\"\",0,INDEX(periode3,NEVAL,Nenfant))","v":{"$error":"#NAME?"}},{"$f":"IF(INDEX(periode4,NEVAL,Nenfant)=\"\",0,INDEX(periode4,NEVAL,Nenfant))","v":{"$error":"#NAME?"}}]
[107,null,"Savoir épeler un mot ; connaître l’ordre alphabétique ; savoir classer des mots par ordre alphabétique.",null,{"$error":"#NAME?"},{"$f":"IF(INDEX(periode3,NEVAL,Nenfant)=\"\",0,INDEX(periode3,NEVAL,Nenfant))","v":{"$error":"#NAME?"}},{"$f":"IF(INDEX(periode4,NEVAL,Nenfant)=\"\",0,INDEX(periode4,NEVAL,Nenfant))","v":{"$error":"#NAME?"}}]
[108,null,"Utiliser le dictionnaire pour rechercher le sens d’un mot.",null,{"$error":"#NAME?"},{"$f":"IF(INDEX(periode3,NEVAL,Nenfant)=\"\",0,INDEX(periode3,NEVAL,Nenfant))","v":{"$error":"#NAME?"}},{"$f":"IF(INDEX(periode4,NEVAL,Nenfant)=\"\",0,INDEX(periode4,NEVAL,Nenfant))","v":{"$error":"#NAME?"}}]
[109,null,"Dans une définition de dictionnaire, identifier le terme générique. ",null,{"$error":"#NAME?"},{"$f":"IF(INDEX(periode3,NEVAL,Nenfant)=\"\",0,INDEX(periode3,NEVAL,Nenfant))","v":{"$error":"#NAME?"}},{"$f":"IF(INDEX(periode4,NEVAL,Nenfant)=\"\",0,INDEX(periode4,NEVAL,Nenfant))","v":{"$error":"#NAME?"}}]
[110,null,"Utiliser le dictionnaire pour vérifier le sens d’un mot (en particulier quand il en a plusieurs), ou sa classe, ou son orthographe, ou son niveau de langue.",null,{"$error":"#NAME?"},{"$f":"IF(INDEX(periode3,NEVAL,Nenfant)=\"\",0,INDEX(periode3,NEVAL,Nenfant))","v":{"$error":"#NAME?"}},{"$f":"IF(INDEX(periode4,NEVAL,Nenfant)=\"\",0,INDEX(periode4,NEVAL,Nenfant))","v":{"$error":"#NAME?"}}]
[111,null,"Se servir des codes utilisés dans les articles de dictionnaire",null,{"$error":"#NAME?"},{"$f":"IF(INDEX(periode3,NEVAL,Nenfant)=\"\",0,INDEX(periode3,NEVAL,Nenfant))","v":{"$error":"#NAME?"}},{"$f":"IF(INDEX(periode4,NEVAL,Nenfant)=\"\",0,INDEX(periode4,NEVAL,Nenfant))","v":{"$error":"#NAME?"}}]
[112,null,"Utiliser avec aisance un dictionnaire",null,{"$error":"#NAME?"},{"$f":"IF(INDEX(periode3,NEVAL,Nenfant)=\"\",0,INDEX(periode3,NEVAL,Nenfant))","v":{"$error":"#NAME?"}},{"$f":"IF(INDEX(periode4,NEVAL,Nenfant)=\"\",0,INDEX(periode4,NEVAL,Nenfant))","v":{"$error":"#NAME?"}}]
[113,null," GRAMMAIRE",null,{"$error":"#NAME?"},{"$f":"IF(INDEX(periode3,NEVAL,Nenfant)=\"\",0,INDEX(periode3,NEVAL,Nenfant))","v":{"$error":"#NAME?"}},{"$f":"IF(INDEX(periode4,NEVAL,Nenfant)=\"\",0,INDEX(periode4,NEVAL,Nenfant))","v":{"$error":"#NAME?"}}]
[114,null,"La phrase",null,{"$error":"#NAME?"},{"$f":"IF(INDEX(periode3,NEVAL,Nenfant)=\"\",0,INDEX(periode3,NEVAL,Nenfant))","v":{"$error":"#NAME?"}},{"$f":"IF(INDEX(periode4,NEVAL,Nenfant)=\"\",0,INDEX(periode4,NEVAL,Nenfant))","v":{"$error":"#NAME?"}}]
[115,null,"Transformer une phrase simple affirmative en phrase négative ou interrogative, ou inversement. ",null,{"$error":"#NAME?"},{"$f":"IF(INDEX(periode3,NEVAL,Nenfant)=\"\",0,INDEX(periode3,NEVAL,Nenfant))","v":{"$error":"#NAME?"}},{"$f":"IF(INDEX(periode4,NEVAL,Nenfant)=\"\",0,INDEX(periode4,NEVAL,Nenfant))","v":{"$error":"#NAME?"}}]
[116,null,"Identifier le verbe conjugué dans une phrase simple et fournir son infinitif. ",null,{"$error":"#NAME?"},{"$f":"IF(INDEX(periode3,NEVAL,Nenfant)=\"\",0,INDEX(periode3,NEVAL,Nenfant))","v":{"$error":"#NAME?"}},{"$f":"IF(INDEX(periode4,NEVAL,Nenfant)=\"\",0,INDEX(periode4,NEVAL,Nenfant))","v":{"$error":"#NAME?"}}]
[117,null,"Construire correctement des phrases négatives, interrogatives, injonctives. ",null,{"$error":"#NAME?"},{"$f":"IF(INDEX(periode3,NEVAL,Nenfant)=\"\",0,INDEX(periode3,NEVAL,Nenfant))","v":{"$error":"#NAME?"}},{"$f":"IF(INDEX(periode4,NEVAL,Nenfant)=\"\",0,INDEX(periode4,NEVAL,Nenfant))","v":{"$error":"#NAME?"}}]
[118,null,"Identifier les verbes conjugués dans des phrases complexes et fournir leurs infinitifs",null,{"$error":"#NAME?"},{"$f":"IF(INDEX(periode3,NEVAL,Nenfant)=\"\",0,INDEX(periode3,NEVAL,Nenfant))","v":{"$error":"#NAME?"}},{"$f":"IF(INDEX(periode4,NEVAL,Nenfant)=\"\",0,INDEX(periode4,NEVAL,Nenfant))","v":{"$error":"#NAME?"}}]
[119,null,"Construire correctement des phrases exclamatives. ",null,{"$error":"#NAME?"},{"$f":"IF(INDEX(periode3,NEVAL,Nenfant)=\"\",0,INDEX(periode3,NEVAL,Nenfant))","v":{"$error":"#NAME?"}},{"$f":"IF(INDEX(periode4,NEVAL,Nenfant)=\"\",0,INDEX(periode4,NEVAL,Nenfant))","v":{"$error":"#NAME?"}}]
[120,null,"Comprendre la distinction entre phrase simple et phrase complexe.",null,{"$error":"#NAME?"},{"$f":"IF(INDEX(periode3,NEVAL,Nenfant)=\"\",0,INDEX(periode3,NEVAL,Nenfant))","v":{"$error":"#NAME?"}},{"$f":"IF(INDEX(periode4,NEVAL,Nenfant)=\"\",0,INDEX(periode4,NEVAL,Nenfant))","v":{"$error":"#NAME?"}}]
[121,null,"Reconnaître des propositions indépendantes coordonnées, juxtaposées ;",null,{"$error":"#NAME?"},{"$f":"IF(INDEX(periode3,NEVAL,Nenfant)=\"\",0,INDEX(periode3,NEVAL,Nenfant))","v":{"$error":"#NAME?"}},{"$f":"IF(INDEX(periode4,NEVAL,Nenfant)=\"\",0,INDEX(periode4,NEVAL,Nenfant))","v":{"$error":"#NAME?"}}]
[122,null,"Reconnaître la proposition relative (seulement la relative complément de nom).",null,{"$error":"#NAME?"},{"$f":"IF(INDEX(periode3,NEVAL,Nenfant)=\"\",0,INDEX(periode3,NEVAL,Nenfant))","v":{"$error":"#NAME?"}},{"$f":"IF(INDEX(periode4,NEVAL,Nenfant)=\"\",0,INDEX(periode4,NEVAL,Nenfant))","v":{"$error":"#NAME?"}}]
[123,null,"Les classes de mots",null,{"$error":"#NAME?"},{"$f":"IF(INDEX(periode3,NEVAL,Nenfant)=\"\",0,INDEX(periode3,NEVAL,Nenfant))","v":{"$error":"#NAME?"}},{"$f":"IF(INDEX(periode4,NEVAL,Nenfant)=\"\",0,INDEX(periode4,NEVAL,Nenfant))","v":{"$error":"#NAME?"}}]
[124,null,"Distinguer selon leur nature le verbe, le nom (propre / commun), les articles, les déterminants possessifs, les pronoms personnels (formes sujet), les adjectifs qualificatifs.",null,{"$error":"#NAME?"},{"$f":"IF(INDEX(periode3,NEVAL,Nenfant)=\"\",0,INDEX(periode3,NEVAL,Nenfant))","v":{"$error":"#NAME?"}},{"$f":"IF(INDEX(periode4,NEVAL,Nenfant)=\"\",0,INDEX(periode4,NEVAL,Nenfant))","v":{"$error":"#NAME?"}}]
[125,null,"Approche de l’adverbe : modifier le sens d’un verbe en lui ajoutant un adverbe, relier des phrases simples par des mots de liaison temporelle (ex. les adverbes puis, alors…).",null,{"$error":"#NAME?"},{"$f":"IF(INDEX(periode3,NEVAL,Nenfant)=\"\",0,INDEX(periode3,NEVAL,Nenfant))","v":{"$error":"#NAME?"}},{"$f":"IF(INDEX(periode4,NEVAL,Nenfant)=\"\",0,INDEX(periode4,NEVAL,Nenfant))","v":{"$error":"#NAME?"}}]
[126,null," Distinguer selon leur nature les mots des classes déjà connues, ainsi que les déterminants démonstratifs et interrogatifs, les pronoms personnels (sauf en, y), les pronoms relatifs (qui, que), les adverbes (de lieu, de temps, de manière), les négations",null,{"$error":"#NAME?"},{"$f":"IF(INDEX(periode3,NEVAL,Nenfant)=\"\",0,INDEX(periode3,NEVAL,Nenfant))","v":{"$error":"#NAME?"}},{"$f":"IF(INDEX(periode4,NEVAL,Nenfant)=\"\",0,INDEX(periode4,NEVAL,Nenfant))","v":{"$error":"#NAME?"}}]
[127,null,"Distinguer selon leur nature les mots des classes déjà connues, ainsi que les pronoms possessifs, démonstratifs , interrogatifs et relatifs, les mots de liaison ( conjonctions de coordination, adverbes ou locutions adverbiales exprimant le temps, le lieu, la cause et la conséquence), les prépositions (lieu, temps).",null,{"$error":"#NAME?"},{"$f":"IF(INDEX(periode3,NEVAL,Nenfant)=\"\",0,INDEX(periode3,NEVAL,Nenfant))","v":{"$error":"#NAME?"}},{"$f":"IF(INDEX(periode4,NEVAL,Nenfant)=\"\",0,INDEX(periode4,NEVAL,Nenfant))","v":{"$error":"#NAME?"}}]
[128,null,"Connaître la distinction entre article défini et article indéfini et en comprendre le sens ; reconnaître la forme élidée et les formes contractées de l’article défini.",null,{"$error":"#NAME?"},{"$f":"IF(INDEX(periode3,NEVAL,Nenfant)=\"\",0,INDEX(periode3,NEVAL,Nenfant))","v":{"$error":"#NAME?"}},{"$f":"IF(INDEX(periode4,NEVAL,Nenfant)=\"\",0,INDEX(periode4,NEVAL,Nenfant))","v":{"$error":"#NAME?"}}]
[129,null,"Reconnaître et utiliser les degrés de l’adjectif et de l’adverbe (comparatif, superlatif).",null,{"$error":"#NAME?"},{"$f":"IF(INDEX(periode3,NEVAL,Nenfant)=\"\",0,INDEX(periode3,NEVAL,Nenfant))","v":{"$error":"#NAME?"}},{"$f":"IF(INDEX(periode4,NEVAL,Nenfant)=\"\",0,INDEX(periode4,NEVAL,Nenfant))","v":{"$error":"#NAME?"}}]
[130,null,"Les fonctions",null,{"$error":"#NAME?"},{"$f":"IF(INDEX(periode3,NEVAL,Nenfant)=\"\",0,INDEX(periode3,NEVAL,Nenfant))","v":{"$error":"#NAME?"}},{"$f":"IF(INDEX(periode4,NEVAL,Nenfant)=\"\",0,INDEX(periode4,NEVAL,Nenfant))","v":{"$error":"#NAME?"}}]
[131,null,"Comprendre la différence entre la nature d’un mot et sa fonction.",null,{"$error":"#NAME?"},{"$f":"IF(INDEX(periode3,NEVAL,Nenfant)=\"\",0,INDEX(periode3,NEVAL,Nenfant))","v":{"$error":"#NAME?"}},{"$f":"IF(INDEX(periode4,NEVAL,Nenfant)=\"\",0,INDEX(periode4,NEVAL,Nenfant))","v":{"$error":"#NAME?"}}]
[132,null,"Connaître la distinction entre compléments du verbe et compléments du nom. ",null,{"$f":"IF(G142<>0,G142,(IF(F142<>0,F142,0)))","v":{"$error":"#NAME?"}},{"$f":"IF(INDEX(periode3,NEVAL,Nenfant)=\"\",0,INDEX(periode3,NEVAL,Nenfant))","v":{"$error":"#NAME?"}},{"$f":"IF(INDEX(periode4,NEVAL,Nenfant)=\"\",0,INDEX(periode4,NEVAL,Nenfant))","v":{"$error":"#NAME?"}}]
[133,null,"Dans une phrase simple où l’ordre sujet-verbe est respecté,",null,{"$error":"#NAME?"},{"$f":"IF(INDEX(periode3,NEVAL,Nenfant)=\"\",0,INDEX(periode3,NEVAL,Nenfant))","v":{"$error":"#NAME?"}},{"$f":"IF(INDEX(periode4,NEVAL,Nenfant)=\"\",0,INDEX(periode4,NEVAL,Nenfant))","v":{"$error":"#NAME?"}}]
[134,null,"Reconnaître le complément d’objet (direct et indirect) du verbe ;",null,{"$error":"#NAME?"},{"$f":"IF(INDEX(periode3,NEVAL,Nenfant)=\"\",0,INDEX(periode3,NEVAL,Nenfant))","v":{"$error":"#NAME?"}},{"$f":"IF(INDEX(periode4,NEVAL,Nenfant)=\"\",0,INDEX(periode4,NEVAL,Nenfant))","v":{"$error":"#NAME?"}}]
[135,null,"Reconnaître le complément du nom. ",null,{"$error":"#NAME?"},{"$f":"IF(INDEX(periode3,NEVAL,Nenfant)=\"\",0,INDEX(periode3,NEVAL,Nenfant))","v":{"$error":"#NAME?"}},{"$f":"IF(INDEX(periode4,NEVAL,Nenfant)=\"\",0,INDEX(periode4,NEVAL,Nenfant))","v":{"$error":"#NAME?"}}]
[136,null,"Approche de la circonstance : savoir répondre oralement aux questions où ?, quand ?, com­ment ?, pourquoi ? ",null,{"$error":"#NAME?"},{"$f":"IF(INDEX(periode3,NEVAL,Nenfant)=\"\",0,INDEX(periode3,NEVAL,Nenfant))","v":{"$error":"#NAME?"}},{"$f":"IF(INDEX(periode4,NEVAL,Nenfant)=\"\",0,INDEX(periode4,NEVAL,Nenfant))","v":{"$error":"#NAME?"}}]
[137,null,"Identifier le verbe et le sujet ",null,{"$error":"#NAME?"},{"$f":"IF(INDEX(periode3,NEVAL,Nenfant)=\"\",0,INDEX(periode3,NEVAL,Nenfant))","v":{"$error":"#NAME?"}},{"$f":"IF(INDEX(periode4,NEVAL,Nenfant)=\"\",0,INDEX(periode4,NEVAL,Nenfant))","v":{"$error":"#NAME?"}}]
[138,null,"Reconnaître le complément d’objet second",null,{"$error":"#NAME?"},{"$f":"IF(INDEX(periode3,NEVAL,Nenfant)=\"\",0,INDEX(periode3,NEVAL,Nenfant))","v":{"$error":"#NAME?"}},{"$f":"IF(INDEX(periode4,NEVAL,Nenfant)=\"\",0,INDEX(periode4,NEVAL,Nenfant))","v":{"$error":"#NAME?"}}]
[139,null,"Reconnaître les compléments circonstanciels de lieu, de temps, ",null,{"$error":"#NAME?"},{"$f":"IF(INDEX(periode3,NEVAL,Nenfant)=\"\",0,INDEX(periode3,NEVAL,Nenfant))","v":{"$error":"#NAME?"}},{"$f":"IF(INDEX(periode4,NEVAL,Nenfant)=\"\",0,INDEX(periode4,NEVAL,Nenfant))","v":{"$error":"#NAME?"}}]
[140,null,"Reconnaître l’attribut du sujet.",null,{"$error":"#NAME?"},{"$f":"IF(INDEX(periode3,NEVAL,Nenfant)=\"\",0,INDEX(periode3,NEVAL,Nenfant))","v":{"$error":"#NAME?"}},{"$f":"IF(INDEX(periode4,NEVAL,Nenfant)=\"\",0,INDEX(periode4,NEVAL,Nenfant))","v":{"$error":"#NAME?"}}]
[141,null,"Comprendre la notion de circonstance : la différence entre complément d’objet et complément circonstanciel (manipulations).",null,{"$error":"#NAME?"},{"$f":"IF(INDEX(periode3,NEVAL,Nenfant)=\"\",0,INDEX(periode3,NEVAL,Nenfant))","v":{"$error":"#NAME?"}},{"$f":"IF(INDEX(periode4,NEVAL,Nenfant)=\"\",0,INDEX(periode4,NEVAL,Nenfant))","v":{"$error":"#NAME?"}}]
[142,null,"Manipuler la proposition relative (ajout, suppression, substitution à l’adjectif ou au complément de nom et inversement).",null,{"$error":"#NAME?"},{"$f":"IF(INDEX(periode3,NEVAL,Nenfant)=\"\",0,INDEX(periode3,NEVAL,Nenfant))","v":{"$error":"#NAME?"}},{"$f":"IF(INDEX(periode4,NEVAL,Nenfant)=\"\",0,INDEX(periode4,NEVAL,Nenfant))","v":{"$error":"#NAME?"}}]
[143,null,"Connaître les fonctions de l’adjectif qualificatif : épithète, attribut du sujet. ",null,{"$error":"#NAME?"},{"$f":"IF(INDEX(periode3,NEVAL,Nenfant)=\"\",0,INDEX(periode3,NEVAL,Nenfant))","v":{"$error":"#NAME?"}},{"$f":"IF(INDEX(periode4,NEVAL,Nenfant)=\"\",0,INDEX(periode4,NEVAL,Nenfant))","v":{"$error":"#NAME?"}}]
[144,null,"Comprendre la distinction entre compléments essentiels (compléments d’objet), et compléments circonstanciels (manipulations).",null,{"$error":"#NAME?"},{"$f":"IF(INDEX(periode3,NEVAL,Nenfant)=\"\",0,INDEX(periode3,NEVAL,Nenfant))","v":{"$error":"#NAME?"}},{"$f":"IF(INDEX(periode4,NEVAL,Nenfant)=\"\",0,INDEX(periode4,NEVAL,Nenfant))","v":{"$error":"#NAME?"}}]
[145,null,"Comprendre la notion de groupe nominal : l’adjectif qualificatif épithète, le complément de nom et la proposition relative comme enrichissements du nom.",null,{"$error":"#NAME?"},{"$f":"IF(INDEX(periode3,NEVAL,Nenfant)=\"\",0,INDEX(periode3,NEVAL,Nenfant))","v":{"$error":"#NAME?"}},{"$f":"IF(INDEX(periode4,NEVAL,Nenfant)=\"\",0,INDEX(periode4,NEVAL,Nenfant))","v":{"$error":"#NAME?"}}]
[146,null,"Le groupe nominal ",null,{"$error":"#NAME?"},{"$f":"IF(INDEX(periode3,NEVAL,Nenfant)=\"\",0,INDEX(periode3,NEVAL,Nenfant))","v":{"$error":"#NAME?"}},{"$f":"IF(INDEX(periode4,NEVAL,Nenfant)=\"\",0,INDEX(periode4,NEVAL,Nenfant))","v":{"$error":"#NAME?"}}]
[147,null,"Comprendre la fonction de ses éléments : le nom (noyau du groupe nominal), le déterminant (article, déterminant possessif) qui le détermine, l’adjectif qualificatif qui le qualifie, le nom qui le complète ; ",null,{"$error":"#NAME?"},{"$f":"IF(INDEX(periode3,NEVAL,Nenfant)=\"\",0,INDEX(periode3,NEVAL,Nenfant))","v":{"$error":"#NAME?"}},{"$f":"IF(INDEX(periode4,NEVAL,Nenfant)=\"\",0,INDEX(periode4,NEVAL,Nenfant))","v":{"$error":"#NAME?"}}]
[148,null,"Manipuler l’adjectif et le complément de nom (ajout, suppression, substitution de l’un à l’autre…).",null,{"$error":"#NAME?"},{"$f":"IF(INDEX(periode3,NEVAL,Nenfant)=\"\",0,INDEX(periode3,NEVAL,Nenfant))","v":{"$error":"#NAME?"}},{"$f":"IF(INDEX(periode4,NEVAL,Nenfant)=\"\",0,INDEX(periode4,NEVAL,Nenfant))","v":{"$error":"#NAME?"}}]
[149,null,"Le verbe",null,{"$error":"#NAME?"},{"$f":"IF(INDEX(periode3,NEVAL,Nenfant)=\"\",0,INDEX(periode3,NEVAL,Nenfant))","v":{"$error":"#NAME?"}},{"$f":"IF(INDEX(periode4,NEVAL,Nenfant)=\"\",0,INDEX(periode4,NEVAL,Nenfant))","v":{"$error":"#NAME?"}}]
[150,null,"Comprendre les notions d’action passée, présente, future.",null,{"$error":"#NAME?"},{"$f":"IF(INDEX(periode3,NEVAL,Nenfant)=\"\",0,INDEX(periode3,NEVAL,Nenfant))","v":{"$error":"#NAME?"}},{"$f":"IF(INDEX(periode4,NEVAL,Nenfant)=\"\",0,INDEX(periode4,NEVAL,Nenfant))","v":{"$error":"#NAME?"}}]
[151,null,"Connaître les personnes, les règles de formation et les terminaisons des temps simples étudiés(présent, futur, imparfait).",null,{"$error":"#NAME?"},{"$f":"IF(INDEX(periode3,NEVAL,Nenfant)=\"\",0,INDEX(periode3,NEVAL,Nenfant))","v":{"$error":"#NAME?"}},{"$f":"IF(INDEX(periode4,NEVAL,Nenfant)=\"\",0,INDEX(periode4,NEVAL,Nenfant))","v":{"$error":"#NAME?"}}]
[152,null,"Conjuguer à l’indicatif présent, futur et  imparfait les verbes des premier et deuxième groupes, ainsi qu’être, avoir, aller,, dire, faire, pouvoir,partir, prendre, venir, voir, vouloir. ",null,{"$error":"#NAME?"},{"$f":"IF(INDEX(periode3,NEVAL,Nenfant)=\"\",0,INDEX(periode3,NEVAL,Nenfant))","v":{"$error":"#NAME?"}},{"$f":"IF(INDEX(periode4,NEVAL,Nenfant)=\"\",0,INDEX(periode4,NEVAL,Nenfant))","v":{"$error":"#NAME?"}}]
[153,null,"Repérer dans un texte l’infinitif d’un verbe étudié.",null,{"$error":"#NAME?"},{"$f":"IF(INDEX(periode3,NEVAL,Nenfant)=\"\",0,INDEX(periode3,NEVAL,Nenfant))","v":{"$error":"#NAME?"}},{"$f":"IF(INDEX(periode4,NEVAL,Nenfant)=\"\",0,INDEX(periode4,NEVAL,Nenfant))","v":{"$error":"#NAME?"}}]
[154,null,"Comprendre la notion d’antériorité d’un fait passé par rapport à un fait présent.",null,{"$error":"#NAME?"},{"$f":"IF(INDEX(periode3,NEVAL,Nenfant)=\"\",0,INDEX(periode3,NEVAL,Nenfant))","v":{"$error":"#NAME?"}},{"$f":"IF(INDEX(periode4,NEVAL,Nenfant)=\"\",0,INDEX(periode4,NEVAL,Nenfant))","v":{"$error":"#NAME?"}}]
[155,null,"Connaître la distinction entre temps simple et temps composé, la règle de formation des temps composés (passé composé), la notion d’auxiliaire.",null,{"$error":"#NAME?"},{"$f":"IF(INDEX(periode3,NEVAL,Nenfant)=\"\",0,INDEX(periode3,NEVAL,Nenfant))","v":{"$error":"#NAME?"}},{"$f":"IF(INDEX(periode4,NEVAL,Nenfant)=\"\",0,INDEX(periode4,NEVAL,Nenfant))","v":{"$error":"#NAME?"}}]
[156,null,"Conjuguer aux temps déjà étudiés, ainsi qu’à l’indicatif passé simple, au passé composé et à l’impératif présent, les verbes déjà étudiés ; conjuguer des verbes non étudiés en appliquant les règles apprises.",null,{"$error":"#NAME?"},{"$f":"IF(INDEX(periode3,NEVAL,Nenfant)=\"\",0,INDEX(periode3,NEVAL,Nenfant))","v":{"$error":"#NAME?"}},{"$f":"IF(INDEX(periode4,NEVAL,Nenfant)=\"\",0,INDEX(periode4,NEVAL,Nenfant))","v":{"$error":"#NAME?"}}]
[157,null,"Comprendre la notion d’antériorité relative d’un fait passé par rapport à un autre, d’un fait futur par rapport à un autre.",null,{"$error":"#NAME?"},{"$f":"IF(INDEX(periode3,NEVAL,Nenfant)=\"\",0,INDEX(periode3,NEVAL,Nenfant))","v":{"$error":"#NAME?"}},{"$f":"IF(INDEX(periode4,NEVAL,Nenfant)=\"\",0,INDEX(periode4,NEVAL,Nenfant))","v":{"$error":"#NAME?"}}]
[158,null,"Conjuguer aux temps et modes  déjà étudiés, ainsi qu’à l’indicatif futur antérieur, plus-que-parfait,  conditionnel présent, au participe présent et passé, les verbes  déjà étudiés ;  conjuguer des verbes non étudiés en appliquant les règles apprises.",null,{"$error":"#NAME?"},{"$f":"IF(INDEX(periode3,NEVAL,Nenfant)=\"\",0,INDEX(periode3,NEVAL,Nenfant))","v":{"$error":"#NAME?"}},{"$f":"IF(INDEX(periode4,NEVAL,Nenfant)=\"\",0,INDEX(periode4,NEVAL,Nenfant))","v":{"$error":"#NAME?"}}]
[159,null,"Les accords",null,{"$error":"#NAME?"},{"$f":"IF(INDEX(periode3,NEVAL,Nenfant)=\"\",0,INDEX(periode3,NEVAL,Nenfant))","v":{"$error":"#NAME?"}},{"$f":"IF(INDEX(periode4,NEVAL,Nenfant)=\"\",0,INDEX(periode4,NEVAL,Nenfant))","v":{"$error":"#NAME?"}}]
[160,null,"Connaître les règles de l’accord du verbe avec son sujet ; de l’accord entre déterminant et nom, nom et adjectif. ",null,{"$error":"#NAME?"},{"$f":"IF(INDEX(periode3,NEVAL,Nenfant)=\"\",0,INDEX(periode3,NEVAL,Nenfant))","v":{"$error":"#NAME?"}},{"$f":"IF(INDEX(periode4,NEVAL,Nenfant)=\"\",0,INDEX(periode4,NEVAL,Nenfant))","v":{"$error":"#NAME?"}}]
[161,null,"Connaître la règle de l’accord du participe passé dans les verbes construits avec être (non compris les verbes pronominaux).",null,{"$error":"#NAME?"},{"$f":"IF(INDEX(periode3,NEVAL,Nenfant)=\"\",0,INDEX(periode3,NEVAL,Nenfant))","v":{"$error":"#NAME?"}},{"$f":"IF(INDEX(periode4,NEVAL,Nenfant)=\"\",0,INDEX(periode4,NEVAL,Nenfant))","v":{"$error":"#NAME?"}}]
[162,null,"Connaître la règle de l’accord de l’adjectif (épithète, ou attribut) avec le nom. ",null,{"$error":"#NAME?"},{"$f":"IF(INDEX(periode3,NEVAL,Nenfant)=\"\",0,INDEX(periode3,NEVAL,Nenfant))","v":{"$error":"#NAME?"}},{"$f":"IF(INDEX(periode4,NEVAL,Nenfant)=\"\",0,INDEX(periode4,NEVAL,Nenfant))","v":{"$error":"#NAME?"}}]
[163,null,"Connaître la règle de l’accord du participe passé dans les verbes construits avec être et avoir (cas du complément d’objet posé après le verbe).",null,{"$error":"#NAME?"},{"$f":"IF(INDEX(periode3,NEVAL,Nenfant)=\"\",0,INDEX(periode3,NEVAL,Nenfant))","v":{"$error":"#NAME?"}},{"$f":"IF(INDEX(periode4,NEVAL,Nenfant)=\"\",0,INDEX(periode4,NEVAL,Nenfant))","v":{"$error":"#NAME?"}}]
[164,null,"ORTHOGRAPHE",null,{"$error":"#NAME?"},{"$f":"IF(INDEX(periode3,NEVAL,Nenfant)=\"\",0,INDEX(periode3,NEVAL,Nenfant))","v":{"$error":"#NAME?"}},{"$f":"IF(INDEX(periode4,NEVAL,Nenfant)=\"\",0,INDEX(periode4,NEVAL,Nenfant))","v":{"$error":"#NAME?"}}]
[165,null,"Ecrire sans erreur sous la dictée un texte  en mobilisant les connaissances acquises (au moins 5 ligne CE2,10 lignes CM1 CM2).",null,{"$error":"#NAME?"},{"$f":"IF(INDEX(periode3,NEVAL,Nenfant)=\"\",0,INDEX(periode3,NEVAL,Nenfant))","v":{"$error":"#NAME?"}},{"$f":"IF(INDEX(periode4,NEVAL,Nenfant)=\"\",0,INDEX(periode4,NEVAL,Nenfant))","v":{"$error":"#NAME?"}}]
[166,null,"Compétences grapho-phoniques",null,{"$error":"#NAME?"},{"$f":"IF(INDEX(periode3,NEVAL,Nenfant)=\"\",0,INDEX(periode3,NEVAL,Nenfant))","v":{"$error":"#NAME?"}},{"$f":"IF(INDEX(periode4,NEVAL,Nenfant)=\"\",0,INDEX(periode4,NEVAL,Nenfant))","v":{"$error":"#NAME?"}}]
[167,null,"Respecter les correspondances entre lettres et sons.",null,{"$error":"#NAME?"},{"$f":"IF(INDEX(periode3,NEVAL,Nenfant)=\"\",0,INDEX(periode3,NEVAL,Nenfant))","v":{"$error":"#NAME?"}},{"$f":"IF(INDEX(periode4,NEVAL,Nenfant)=\"\",0,INDEX(periode4,NEVAL,Nenfant))","v":{"$error":"#NAME?"}}]
[168,null,"Respecter la valeur des lettres en fonction des voyelles placées à proximité (s/ss, c/ç, c/qu, g/gu/ge.)",null,{"$error":"#NAME?"},{"$f":"IF(INDEX(periode3,NEVAL,Nenfant)=\"\",0,INDEX(periode3,NEVAL,Nenfant))","v":{"$error":"#NAME?"}},{"$f":"IF(INDEX(periode4,NEVAL,Nenfant)=\"\",0,INDEX(periode4,NEVAL,Nenfant))","v":{"$error":"#NAME?"}}]
[169,null,"Respecter la valeur des lettres en fonction de la consonne suivante (n devenant m devant b, m p).",null,{"$error":"#NAME?"},{"$f":"IF(INDEX(periode3,NEVAL,Nenfant)=\"\",0,INDEX(periode3,NEVAL,Nenfant))","v":{"$error":"#NAME?"}},{"$f":"IF(INDEX(periode4,NEVAL,Nenfant)=\"\",0,INDEX(periode4,NEVAL,Nenfant))","v":{"$error":"#NAME?"}}]
[170,null," Utiliser sans erreur les accents (é,è,ê).",null,{"$error":"#NAME?"},{"$f":"IF(INDEX(periode3,NEVAL,Nenfant)=\"\",0,INDEX(periode3,NEVAL,Nenfant))","v":{"$error":"#NAME?"}},{"$f":"IF(INDEX(periode4,NEVAL,Nenfant)=\"\",0,INDEX(periode4,NEVAL,Nenfant))","v":{"$error":"#NAME?"}}]
[171,null,"Ecrire sans erreur le pluriel des noms se terminant par –eu, par –eau. Le pluriel des noms en –au, -ail est en cours d’acquisition.",null,{"$error":"#NAME?"},{"$f":"IF(INDEX(periode3,NEVAL,Nenfant)=\"\",0,INDEX(periode3,NEVAL,Nenfant))","v":{"$error":"#NAME?"}},{"$f":"IF(INDEX(periode4,NEVAL,Nenfant)=\"\",0,INDEX(periode4,NEVAL,Nenfant))","v":{"$error":"#NAME?"}}]
[172,null,"Ecrire sans erreur les formes des verbes étudiés aux temps étudiés, dont les verbes du premier groupe en -cer, -ger, -guer,. ",null,{"$error":"#NAME?"},{"$f":"IF(INDEX(periode3,NEVAL,Nenfant)=\"\",0,INDEX(periode3,NEVAL,Nenfant))","v":{"$error":"#NAME?"}},{"$f":"IF(INDEX(periode4,NEVAL,Nenfant)=\"\",0,INDEX(periode4,NEVAL,Nenfant))","v":{"$error":"#NAME?"}}]
[173,null,"Appliquer la règle de l’accord du verbe avec son sujet, y compris pour les verbes à un temps composé, et pour les sujets inversés.",null,{"$error":"#NAME?"},{"$f":"IF(INDEX(periode3,NEVAL,Nenfant)=\"\",0,INDEX(periode3,NEVAL,Nenfant))","v":{"$error":"#NAME?"}},{"$f":"IF(INDEX(periode4,NEVAL,Nenfant)=\"\",0,INDEX(periode4,NEVAL,Nenfant))","v":{"$error":"#NAME?"}}]
[174,null,"Appliquer la règle de l’accord du participe passé avec être et avoir (cas du complément d’objet direct postposé).",null,{"$error":"#NAME?"},{"$f":"IF(INDEX(periode3,NEVAL,Nenfant)=\"\",0,INDEX(periode3,NEVAL,Nenfant))","v":{"$error":"#NAME?"}},{"$f":"IF(INDEX(periode4,NEVAL,Nenfant)=\"\",0,INDEX(periode4,NEVAL,Nenfant))","v":{"$error":"#NAME?"}}]
[175,null,"Accorder sans erreur l’adjectif (épithète, apposé et attribut du sujet) avec le nom.",null,{"$error":"#NAME?"},{"$f":"IF(INDEX(periode3,NEVAL,Nenfant)=\"\",0,INDEX(periode3,NEVAL,Nenfant))","v":{"$error":"#NAME?"}},{"$f":"IF(INDEX(periode4,NEVAL,Nenfant)=\"\",0,INDEX(periode4,NEVAL,Nenfant))","v":{"$error":"#NAME?"}}]
[176,null,"Ecrire sans erreur les homophones grammaticaux déjà étudiés, ainsi que ses/ces, mes/mais, on/on n’, ce/se, c’/s’ (c’est/s’est, c’était/s’était), ou/où, la/l’a/l’as/là.",null,{"$error":"#NAME?"},{"$f":"IF(INDEX(periode3,NEVAL,Nenfant)=\"\",0,INDEX(periode3,NEVAL,Nenfant))","v":{"$error":"#NAME?"}},{"$f":"IF(INDEX(periode4,NEVAL,Nenfant)=\"\",0,INDEX(periode4,NEVAL,Nenfant))","v":{"$error":"#NAME?"}}]
[177,null,"Ecrire sans erreur les infinitifs de verbes du premier groupe après préposition (il me dit d’aller). ",null,{"$error":"#NAME?"},{"$f":"IF(INDEX(periode3,NEVAL,Nenfant)=\"\",0,INDEX(periode3,NEVAL,Nenfant))","v":{"$error":"#NAME?"}},{"$f":"IF(INDEX(periode4,NEVAL,Nenfant)=\"\",0,INDEX(periode4,NEVAL,Nenfant))","v":{"$error":"#NAME?"}}]
[178,null,"Orthographe grammaticale",null,{"$error":"#NAME?"},{"$f":"IF(INDEX(periode3,NEVAL,Nenfant)=\"\",0,INDEX(periode3,NEVAL,Nenfant))","v":{"$error":"#NAME?"}},{"$f":"IF(INDEX(periode4,NEVAL,Nenfant)=\"\",0,INDEX(periode4,NEVAL,Nenfant))","v":{"$error":"#NAME?"}}]
[179,null,"Ecrire sans erreur les pluriels des noms se terminant par s, x, z ; par –al, par -ou. ",null,{"$error":"#NAME?"},{"$f":"IF(INDEX(periode3,NEVAL,Nenfant)=\"\",0,INDEX(periode3,NEVAL,Nenfant))","v":{"$error":"#NAME?"}},{"$f":"IF(INDEX(periode4,NEVAL,Nenfant)=\"\",0,INDEX(periode4,NEVAL,Nenfant))","v":{"$error":"#NAME?"}}]
[180,null,"Utiliser sans erreur les marques du pluriel et du féminin des adjectifs.",null,{"$error":"#NAME?"},{"$f":"IF(INDEX(periode3,NEVAL,Nenfant)=\"\",0,INDEX(periode3,NEVAL,Nenfant))","v":{"$error":"#NAME?"}},{"$f":"IF(INDEX(periode4,NEVAL,Nenfant)=\"\",0,INDEX(periode4,NEVAL,Nenfant))","v":{"$error":"#NAME?"}}]
[181,null,"Ecrire sans erreur les formes des verbes étudiés aux temps étudiés, sans confondre, en particulier, les terminaisons (-e, -es, -ent ;-ons et -ont ; -ez, -ais, -ait et -aient ; -ras, -ra). ",null,{"$error":"#NAME?"},{"$f":"IF(INDEX(periode3,NEVAL,Nenfant)=\"\",0,INDEX(periode3,NEVAL,Nenfant))","v":{"$error":"#NAME?"}},{"$f":"IF(INDEX(periode4,NEVAL,Nenfant)=\"\",0,INDEX(periode4,NEVAL,Nenfant))","v":{"$error":"#NAME?"}}]
[182,null,"Appliquer la règle de l’accord du verbe avec le sujet (y compris pronom personnel) dans les phrases où l’ordre sujet-verbe est respecté, et où le verbe est à un temps simple.",null,{"$error":"#NAME?"},{"$f":"IF(INDEX(periode3,NEVAL,Nenfant)=\"\",0,INDEX(periode3,NEVAL,Nenfant))","v":{"$error":"#NAME?"}},{"$f":"IF(INDEX(periode4,NEVAL,Nenfant)=\"\",0,INDEX(periode4,NEVAL,Nenfant))","v":{"$error":"#NAME?"}}]
[183,null,"Accorder sans erreur le déterminant et le nom, le nom et l’adjectif (épithète).",null,{"$error":"#NAME?"},{"$f":"IF(INDEX(periode3,NEVAL,Nenfant)=\"\",0,INDEX(periode3,NEVAL,Nenfant))","v":{"$error":"#NAME?"}},{"$f":"IF(INDEX(periode4,NEVAL,Nenfant)=\"\",0,INDEX(periode4,NEVAL,Nenfant))","v":{"$error":"#NAME?"}}]
[184,null,"Ecrire sans erreur des homophones grammaticaux en liaison avec le programme de grammaire (a/à, ont/on, est/et, sont/son).",null,{"$error":"#NAME?"},{"$f":"IF(INDEX(periode3,NEVAL,Nenfant)=\"\",0,INDEX(periode3,NEVAL,Nenfant))","v":{"$error":"#NAME?"}},{"$f":"IF(INDEX(periode4,NEVAL,Nenfant)=\"\",0,INDEX(periode4,NEVAL,Nenfant))","v":{"$error":"#NAME?"}}]
[185,null,"Ecrire sans erreur le pluriel des noms se terminant par –eu, par –eau. Le pluriel des noms en –au, -ail est en cours d’acquisition.",null,{"$error":"#NAME?"},{"$f":"IF(INDEX(periode3,NEVAL,Nenfant)=\"\",0,INDEX(periode3,NEVAL,Nenfant))","v":{"$error":"#NAME?"}},{"$f":"IF(INDEX(periode4,NEVAL,Nenfant)=\"\",0,INDEX(periode4,NEVAL,Nenfant))","v":{"$error":"#NAME?"}}]
[186,null,"Ecrire sans erreur les formes des verbes étudiés aux temps étudiés, dont les verbes du premier groupe en -cer, -ger, -guer,. ",null,{"$error":"#NAME?"},{"$f":"IF(INDEX(periode3,NEVAL,Nenfant)=\"\",0,INDEX(periode3,NEVAL,Nenfant))","v":{"$error":"#NAME?"}},{"$f":"IF(INDEX(periode4,NEVAL,Nenfant)=\"\",0,INDEX(periode4,NEVAL,Nenfant))","v":{"$error":"#NAME?"}}]
[187,null,"Appliquer la règle de l’accord du verbe avec son sujet, y compris pour les verbes à un temps composé, et pour les sujets inversés.",null,{"$error":"#NAME?"},{"$f":"IF(INDEX(periode3,NEVAL,Nenfant)=\"\",0,INDEX(periode3,NEVAL,Nenfant))","v":{"$error":"#NAME?"}},{"$f":"IF(INDEX(periode4,NEVAL,Nenfant)=\"\",0,INDEX(periode4,NEVAL,Nenfant))","v":{"$error":"#NAME?"}}]
[188,null,"Orthographier correctement les verbes étudiés aux temps étudiés, dont les verbes du premier groupe en -yer, -eter, -eler.",null,{"$error":"#NAME?"},{"$f":"IF(INDEX(periode3,NEVAL,Nenfant)=\"\",0,INDEX(periode3,NEVAL,Nenfant))","v":{"$error":"#NAME?"}},{"$f":"IF(INDEX(periode4,NEVAL,Nenfant)=\"\",0,INDEX(periode4,NEVAL,Nenfant))","v":{"$error":"#NAME?"}}]
[189,null,"Appliquer la règle de l’accord du verbe avec son sujet, y compris avec le sujet qui de 3e personne.",null,{"$error":"#NAME?"},{"$f":"IF(INDEX(periode3,NEVAL,Nenfant)=\"\",0,INDEX(periode3,NEVAL,Nenfant))","v":{"$error":"#NAME?"}},{"$f":"IF(INDEX(periode4,NEVAL,Nenfant)=\"\",0,INDEX(periode4,NEVAL,Nenfant))","v":{"$error":"#NAME?"}}]
[190,null,"Ecrire sans erreur les homophones grammaticaux déjà étudiés, ainsi que on/ on n’ d’on/dont/donc, quel(s)/quelle(s)/qu’elle(s), sans/s’en ; la distinc­tion entre leur et leurs est en cours d’acquisition en fin de cycle.",null,{"$error":"#NAME?"},{"$f":"IF(INDEX(periode3,NEVAL,Nenfant)=\"\",0,INDEX(periode3,NEVAL,Nenfant))","v":{"$error":"#NAME?"}},{"$f":"IF(INDEX(periode4,NEVAL,Nenfant)=\"\",0,INDEX(periode4,NEVAL,Nenfant))","v":{"$error":"#NAME?"}}]
[191,null,"Distinguer par le sens les formes verbales homophones de l’imparfait et du passé composé. .",null,{"$error":"#NAME?"},{"$f":"IF(INDEX(periode3,NEVAL,Nenfant)=\"\",0,INDEX(periode3,NEVAL,Nenfant))","v":{"$error":"#NAME?"}},{"$f":"IF(INDEX(periode4,NEVAL,Nenfant)=\"\",0,INDEX(periode4,NEVAL,Nenfant))","v":{"$error":"#NAME?"}}]
[192,null,"Orthographe lexicale",null,{"$error":"#NAME?"},{"$f":"IF(INDEX(periode3,NEVAL,Nenfant)=\"\",0,INDEX(periode3,NEVAL,Nenfant))","v":{"$error":"#NAME?"}},{"$f":"IF(INDEX(periode4,NEVAL,Nenfant)=\"\",0,INDEX(periode4,NEVAL,Nenfant))","v":{"$error":"#NAME?"}}]
[193,null,"Ecrire sans erreur des noms et des adjectifs se terminant par une consonne muette (ex. chant, cf. chanteur ; blond, cf. blonde…).",null,{"$error":"#NAME?"},{"$f":"IF(INDEX(periode3,NEVAL,Nenfant)=\"\",0,INDEX(periode3,NEVAL,Nenfant))","v":{"$error":"#NAME?"}},{"$f":"IF(INDEX(periode4,NEVAL,Nenfant)=\"\",0,INDEX(periode4,NEVAL,Nenfant))","v":{"$error":"#NAME?"}}]
[194,null,"Ecrire sans erreur les mots mémorisés et régulièrement révisés, en particulier les mots invariables acquis aux CP et CE 1, des mots fréquents, des mots référents pour des sons. ",null,{"$error":"#NAME?"},{"$f":"IF(INDEX(periode3,NEVAL,Nenfant)=\"\",0,INDEX(periode3,NEVAL,Nenfant))","v":{"$error":"#NAME?"}},{"$f":"IF(INDEX(periode4,NEVAL,Nenfant)=\"\",0,INDEX(periode4,NEVAL,Nenfant))","v":{"$error":"#NAME?"}}]
[195,null,"Connaître la notion d’homonyme et écrire sans erreur un nombre croissant d’homonymes jusqu’à la fin du cycle. ",null,{"$error":"#NAME?"},{"$f":"IF(INDEX(periode3,NEVAL,Nenfant)=\"\",0,INDEX(periode3,NEVAL,Nenfant))","v":{"$error":"#NAME?"}},{"$f":"IF(INDEX(periode4,NEVAL,Nenfant)=\"\",0,INDEX(periode4,NEVAL,Nenfant))","v":{"$error":"#NAME?"}}]
[196,null,"Ecrire sans erreur des mots invariables, en particulier les plus fréquents de ceux étudiés en grammaire.",null,{"$f":"IF(G206<>0,G206,(IF(F206<>0,F206,0)))","v":{"$error":"#NAME?"}},{"$f":"IF(INDEX(periode3,NEVAL,Nenfant)=\"\",0,INDEX(periode3,NEVAL,Nenfant))","v":{"$error":"#NAME?"}},{"$f":"IF(INDEX(periode4,NEVAL,Nenfant)=\"\",0,INDEX(periode4,NEVAL,Nenfant))","v":{"$error":"#NAME?"}}]
[197,null,"S’appuyer sur sa connaissance des familles de mots pour écrire sans erreur des mots nouveaux (préfixe in-, im-, ilou ir-, suffixe -tion…).",null,{"$error":"#NAME?"},{"$f":"IF(INDEX(periode3,NEVAL,Nenfant)=\"\",0,INDEX(periode3,NEVAL,Nenfant))","v":{"$error":"#NAME?"}},{"$f":"IF(INDEX(periode4,NEVAL,Nenfant)=\"\",0,INDEX(periode4,NEVAL,Nenfant))","v":{"$error":"#NAME?"}}]
[198,null,"Mémoriser la graphie de la syllabe finale des noms terminés par -ail, -eil, -euil . ",null,{"$error":"#NAME?"},{"$f":"IF(INDEX(periode3,NEVAL,Nenfant)=\"\",0,INDEX(periode3,NEVAL,Nenfant))","v":{"$error":"#NAME?"}},{"$f":"IF(INDEX(periode4,NEVAL,Nenfant)=\"\",0,INDEX(periode4,NEVAL,Nenfant))","v":{"$error":"#NAME?"}}]
[199,null,"Ecrire correctement (doublement de la consonne) le début des mots commençant par ap-, ac-, af-, efet of-.",null,{"$error":"#NAME?"},{"$f":"IF(INDEX(periode3,NEVAL,Nenfant)=\"\",0,INDEX(periode3,NEVAL,Nenfant))","v":{"$error":"#NAME?"}},{"$f":"IF(INDEX(periode4,NEVAL,Nenfant)=\"\",0,INDEX(periode4,NEVAL,Nenfant))","v":{"$error":"#NAME?"}}]
[200,null,"Ecrire correctement la syllabe finale des noms terminés par -ée ; par -té ou -tié ; par un e muet.",null,{"$error":"#NAME?"},{"$f":"IF(INDEX(periode3,NEVAL,Nenfant)=\"\",0,INDEX(periode3,NEVAL,Nenfant))","v":{"$error":"#NAME?"}},{"$f":"IF(INDEX(periode4,NEVAL,Nenfant)=\"\",0,INDEX(periode4,NEVAL,Nenfant))","v":{"$error":"#NAME?"}}]
[201,null,"Respecter la convention de la coupe syllabique à la ligne.",null,{"$error":"#NAME?"},{"$f":"IF(INDEX(periode3,NEVAL,Nenfant)=\"\",0,INDEX(periode3,NEVAL,Nenfant))","v":{"$error":"#NAME?"}},{"$f":"IF(INDEX(periode4,NEVAL,Nenfant)=\"\",0,INDEX(periode4,NEVAL,Nenfant))","v":{"$error":"#NAME?"}}]
[202,null," NOMBRE ET CALCUL",null,{"$error":"#NAME?"},{"$f":"IF(INDEX(periode3,NEVAL,Nenfant)=\"\",0,INDEX(periode3,NEVAL,Nenfant))","v":{"$error":"#NAME?"}},{"$f":"IF(INDEX(periode4,NEVAL,Nenfant)=\"\",0,INDEX(periode4,NEVAL,Nenfant))","v":{"$error":"#NAME?"}}]
[203,null,"Les nombres entiers ",null,{"$error":"#NAME?"},{"$f":"IF(INDEX(periode3,NEVAL,Nenfant)=\"\",0,INDEX(periode3,NEVAL,Nenfant))","v":{"$error":"#NAME?"}},{"$f":"IF(INDEX(periode4,NEVAL,Nenfant)=\"\",0,INDEX(periode4,NEVAL,Nenfant))","v":{"$error":"#NAME?"}}]
[204,null," Connaître, savoir écrire et nommer les nombres entiers (jusqu'au million CE2, jusqu’au milliard CM1 CM2).",null,{"$error":"#NAME?"},{"$f":"IF(INDEX(periode3,NEVAL,Nenfant)=\"\",0,INDEX(periode3,NEVAL,Nenfant))","v":{"$error":"#NAME?"}},{"$f":"IF(INDEX(periode4,NEVAL,Nenfant)=\"\",0,INDEX(periode4,NEVAL,Nenfant))","v":{"$error":"#NAME?"}}]
[205,null,"Comparer, ranger, encadrer ces nombres.",null,{"$error":"#NAME?"},{"$f":"IF(INDEX(periode3,NEVAL,Nenfant)=\"\",0,INDEX(periode3,NEVAL,Nenfant))","v":{"$error":"#NAME?"}},{"$f":"IF(INDEX(periode4,NEVAL,Nenfant)=\"\",0,INDEX(periode4,NEVAL,Nenfant))","v":{"$error":"#NAME?"}}]
[206,null,"Connaître et utiliser des expressions telles que: double, moitié ou demi, triple, quart; d’un nombre entier.",null,{"$error":"#NAME?"},{"$f":"IF(INDEX(periode3,NEVAL,Nenfant)=\"\",0,INDEX(periode3,NEVAL,Nenfant))","v":{"$error":"#NAME?"}},{"$f":"IF(INDEX(periode4,NEVAL,Nenfant)=\"\",0,INDEX(periode4,NEVAL,Nenfant))","v":{"$error":"#NAME?"}}]
[207,null,"Connaître et utiliser certaines relations entre des nombres d’usage courant : entre 5, 10, 25, 50, 100, entre 15, 30 et 60.",null,{"$error":"#NAME?"},{"$f":"IF(INDEX(periode3,NEVAL,Nenfant)=\"\",0,INDEX(periode3,NEVAL,Nenfant))","v":{"$error":"#NAME?"}},{"$f":"IF(INDEX(periode4,NEVAL,Nenfant)=\"\",0,INDEX(periode4,NEVAL,Nenfant))","v":{"$error":"#NAME?"}}]
[208,null,"La notion de multiple : reconnaître les multiples des nombres d’usage courant : 5, 10, 15, 20, 25, 50.",null,{"$error":"#NAME?"},{"$f":"IF(INDEX(periode3,NEVAL,Nenfant)=\"\",0,INDEX(periode3,NEVAL,Nenfant))","v":{"$error":"#NAME?"}},{"$f":"IF(INDEX(periode4,NEVAL,Nenfant)=\"\",0,INDEX(periode4,NEVAL,Nenfant))","v":{"$error":"#NAME?"}}]
[209,null,"Fractions ",null,{"$error":"#NAME?"},{"$f":"IF(INDEX(periode3,NEVAL,Nenfant)=\"\",0,INDEX(periode3,NEVAL,Nenfant))","v":{"$error":"#NAME?"}},{"$f":"IF(INDEX(periode4,NEVAL,Nenfant)=\"\",0,INDEX(periode4,NEVAL,Nenfant))","v":{"$error":"#NAME?"}}]
[210,null,"Nommer les fractions simples et décimales en utilisant le vocabulaire: demi, tiers, quart, dixième, centième.",null,{"$error":"#NAME?"},{"$f":"IF(INDEX(periode3,NEVAL,Nenfant)=\"\",0,INDEX(periode3,NEVAL,Nenfant))","v":{"$error":"#NAME?"}},{"$f":"IF(INDEX(periode4,NEVAL,Nenfant)=\"\",0,INDEX(periode4,NEVAL,Nenfant))","v":{"$error":"#NAME?"}}]
[211,null,"Utiliser, ces fractions dans des cas simples de partage, ou de codage de mesures de grandeurs.",null,{"$error":"#NAME?"},{"$f":"IF(INDEX(periode3,NEVAL,Nenfant)=\"\",0,INDEX(periode3,NEVAL,Nenfant))","v":{"$error":"#NAME?"}},{"$f":"IF(INDEX(periode4,NEVAL,Nenfant)=\"\",0,INDEX(periode4,NEVAL,Nenfant))","v":{"$error":"#NAME?"}}]
[212,null,"Encadrer une fraction simple par deux entiers consécutifs.",null,{"$error":"#NAME?"},{"$f":"IF(INDEX(periode3,NEVAL,Nenfant)=\"\",0,INDEX(periode3,NEVAL,Nenfant))","v":{"$error":"#NAME?"}},{"$f":"IF(INDEX(periode4,NEVAL,Nenfant)=\"\",0,INDEX(periode4,NEVAL,Nenfant))","v":{"$error":"#NAME?"}}]
[213,null,"Écrire une fraction sous forme de somme d’un entier et d’une fraction inférieure à 1.",null,{"$error":"#NAME?"},{"$f":"IF(INDEX(periode3,NEVAL,Nenfant)=\"\",0,INDEX(periode3,NEVAL,Nenfant))","v":{"$error":"#NAME?"}},{"$f":"IF(INDEX(periode4,NEVAL,Nenfant)=\"\",0,INDEX(periode4,NEVAL,Nenfant))","v":{"$error":"#NAME?"}}]
[214,null,"Ajouter 2 fractions décimales, ou deux fractions simples de même dénominateur.",null,{"$error":"#NAME?"},{"$f":"IF(INDEX(periode3,NEVAL,Nenfant)=\"\",0,INDEX(periode3,NEVAL,Nenfant))","v":{"$error":"#NAME?"}},{"$f":"IF(INDEX(periode4,NEVAL,Nenfant)=\"\",0,INDEX(periode4,NEVAL,Nenfant))","v":{"$error":"#NAME?"}}]
[215,null,"Nombres décimaux ",null,{"$error":"#NAME?"},{"$f":"IF(INDEX(periode3,NEVAL,Nenfant)=\"\",0,INDEX(periode3,NEVAL,Nenfant))","v":{"$error":"#NAME?"}},{"$f":"IF(INDEX(periode4,NEVAL,Nenfant)=\"\",0,INDEX(periode4,NEVAL,Nenfant))","v":{"$error":"#NAME?"}}]
[216,null,"Connaître la valeur de chacun des chiffres de la partie décimale en fonction de sa position (jusqu’au 1/10 000e)",null,{"$error":"#NAME?"},{"$f":"IF(INDEX(periode3,NEVAL,Nenfant)=\"\",0,INDEX(periode3,NEVAL,Nenfant))","v":{"$error":"#NAME?"}},{"$f":"IF(INDEX(periode4,NEVAL,Nenfant)=\"\",0,INDEX(periode4,NEVAL,Nenfant))","v":{"$error":"#NAME?"}}]
[217,null,"Repérer, placer les nombres décimaux sur une droite graduée,",null,{"$error":"#NAME?"},{"$f":"IF(INDEX(periode3,NEVAL,Nenfant)=\"\",0,INDEX(periode3,NEVAL,Nenfant))","v":{"$error":"#NAME?"}},{"$f":"IF(INDEX(periode4,NEVAL,Nenfant)=\"\",0,INDEX(periode4,NEVAL,Nenfant))","v":{"$error":"#NAME?"}}]
[218,null,"Comparer, ranger les nombres décimaux,",null,{"$error":"#NAME?"},{"$f":"IF(INDEX(periode3,NEVAL,Nenfant)=\"\",0,INDEX(periode3,NEVAL,Nenfant))","v":{"$error":"#NAME?"}},{"$f":"IF(INDEX(periode4,NEVAL,Nenfant)=\"\",0,INDEX(periode4,NEVAL,Nenfant))","v":{"$error":"#NAME?"}}]
[219,null,"Encadrer les nombres décimaux par deux nombres entiers consécutifs,",null,{"$error":"#NAME?"},{"$f":"IF(INDEX(periode3,NEVAL,Nenfant)=\"\",0,INDEX(periode3,NEVAL,Nenfant))","v":{"$error":"#NAME?"}},{"$f":"IF(INDEX(periode4,NEVAL,Nenfant)=\"\",0,INDEX(periode4,NEVAL,Nenfant))","v":{"$error":"#NAME?"}}]
[220,null,"Passer d’une écriture fractionnaire à une écriture à virgule et réciproquement.",null,{"$error":"#NAME?"},{"$f":"IF(INDEX(periode3,NEVAL,Nenfant)=\"\",0,INDEX(periode3,NEVAL,Nenfant))","v":{"$error":"#NAME?"}},{"$f":"IF(INDEX(periode4,NEVAL,Nenfant)=\"\",0,INDEX(periode4,NEVAL,Nenfant))","v":{"$error":"#NAME?"}}]
[221,null,"Produire des décompositions liées à une écriture à virgule, en utilisant 10; 100; 1000... et 0,1; 0,001... ",null,{"$error":"#NAME?"},{"$f":"IF(INDEX(periode3,NEVAL,Nenfant)=\"\",0,INDEX(periode3,NEVAL,Nenfant))","v":{"$error":"#NAME?"}},{"$f":"IF(INDEX(periode4,NEVAL,Nenfant)=\"\",0,INDEX(periode4,NEVAL,Nenfant))","v":{"$error":"#NAME?"}}]
[222,null,"Donner une valeur approchée à l’unité près, au dixième ou au centième près.",null,{"$error":"#NAME?"},{"$f":"IF(INDEX(periode3,NEVAL,Nenfant)=\"\",0,INDEX(periode3,NEVAL,Nenfant))","v":{"$error":"#NAME?"}},{"$f":"IF(INDEX(periode4,NEVAL,Nenfant)=\"\",0,INDEX(periode4,NEVAL,Nenfant))","v":{"$error":"#NAME?"}}]
[223,null,"Calcul ",null,{"$error":"#NAME?"},{"$f":"IF(INDEX(periode3,NEVAL,Nenfant)=\"\",0,INDEX(periode3,NEVAL,Nenfant))","v":{"$error":"#NAME?"}},{"$f":"IF(INDEX(periode4,NEVAL,Nenfant)=\"\",0,INDEX(periode4,NEVAL,Nenfant))","v":{"$error":"#NAME?"}}]
[224,null,"Calculer mentalement ",null,{"$error":"#NAME?"},{"$f":"IF(INDEX(periode3,NEVAL,Nenfant)=\"\",0,INDEX(periode3,NEVAL,Nenfant))","v":{"$error":"#NAME?"}},{"$f":"IF(INDEX(periode4,NEVAL,Nenfant)=\"\",0,INDEX(periode4,NEVAL,Nenfant))","v":{"$error":"#NAME?"}}]
[225,null,"Mémoriser et mobiliser les résultats des tables d’addition et de multiplication ",null,{"$error":"#NAME?"},{"$f":"IF(INDEX(periode3,NEVAL,Nenfant)=\"\",0,INDEX(periode3,NEVAL,Nenfant))","v":{"$error":"#NAME?"}},{"$f":"IF(INDEX(periode4,NEVAL,Nenfant)=\"\",0,INDEX(periode4,NEVAL,Nenfant))","v":{"$error":"#NAME?"}}]
[226,null,"Calculer mentalement des sommes, des différences, des produits. ",null,{"$error":"#NAME?"},{"$f":"IF(INDEX(periode3,NEVAL,Nenfant)=\"\",0,INDEX(periode3,NEVAL,Nenfant))","v":{"$error":"#NAME?"}},{"$f":"IF(INDEX(periode4,NEVAL,Nenfant)=\"\",0,INDEX(periode4,NEVAL,Nenfant))","v":{"$error":"#NAME?"}}]
[227,null,"Multiplier mentalement un nombre entier ou décimal par 10, 100, 1000 ;",null,{"$error":"#NAME?"},{"$f":"IF(INDEX(periode3,NEVAL,Nenfant)=\"\",0,INDEX(periode3,NEVAL,Nenfant))","v":{"$error":"#NAME?"}},{"$f":"IF(INDEX(periode4,NEVAL,Nenfant)=\"\",0,INDEX(periode4,NEVAL,Nenfant))","v":{"$error":"#NAME?"}}]
[228,null,"Estimer mentalement un ordre de grandeur du résultat.",null,{"$error":"#NAME?"},{"$f":"IF(INDEX(periode3,NEVAL,Nenfant)=\"\",0,INDEX(periode3,NEVAL,Nenfant))","v":{"$error":"#NAME?"}},{"$f":"IF(INDEX(periode4,NEVAL,Nenfant)=\"\",0,INDEX(periode4,NEVAL,Nenfant))","v":{"$error":"#NAME?"}}]
[229,null,"Consolider les connaissances et capacités en calcul mental sur les nombres entiers et décimaux;",null,{"$error":"#NAME?"},{"$f":"IF(INDEX(periode3,NEVAL,Nenfant)=\"\",0,INDEX(periode3,NEVAL,Nenfant))","v":{"$error":"#NAME?"}},{"$f":"IF(INDEX(periode4,NEVAL,Nenfant)=\"\",0,INDEX(periode4,NEVAL,Nenfant))","v":{"$error":"#NAME?"}}]
[230,null,"Diviser un nombre entier ou décimal par 10, 100, 1000. ",null,{"$error":"#NAME?"},{"$f":"IF(INDEX(periode3,NEVAL,Nenfant)=\"\",0,INDEX(periode3,NEVAL,Nenfant))","v":{"$error":"#NAME?"}},{"$f":"IF(INDEX(periode4,NEVAL,Nenfant)=\"\",0,INDEX(periode4,NEVAL,Nenfant))","v":{"$error":"#NAME?"}}]
[231,null,"Effectuer un calcul posé ",null,{"$error":"#NAME?"},{"$f":"IF(INDEX(periode3,NEVAL,Nenfant)=\"\",0,INDEX(periode3,NEVAL,Nenfant))","v":{"$error":"#NAME?"}},{"$f":"IF(INDEX(periode4,NEVAL,Nenfant)=\"\",0,INDEX(periode4,NEVAL,Nenfant))","v":{"$error":"#NAME?"}}]
[232,null,"Addition des nombres entiers",null,{"$error":"#NAME?"},{"$f":"IF(INDEX(periode3,NEVAL,Nenfant)=\"\",0,INDEX(periode3,NEVAL,Nenfant))","v":{"$error":"#NAME?"}},{"$f":"IF(INDEX(periode4,NEVAL,Nenfant)=\"\",0,INDEX(periode4,NEVAL,Nenfant))","v":{"$error":"#NAME?"}}]
[233,null,"Soustraction des nombres entiers",null,{"$error":"#NAME?"},{"$f":"IF(INDEX(periode3,NEVAL,Nenfant)=\"\",0,INDEX(periode3,NEVAL,Nenfant))","v":{"$error":"#NAME?"}},{"$f":"IF(INDEX(periode4,NEVAL,Nenfant)=\"\",0,INDEX(periode4,NEVAL,Nenfant))","v":{"$error":"#NAME?"}}]
[234,null,"Multiplication des nombres entiers",null,{"$error":"#NAME?"},{"$f":"IF(INDEX(periode3,NEVAL,Nenfant)=\"\",0,INDEX(periode3,NEVAL,Nenfant))","v":{"$error":"#NAME?"}},{"$f":"IF(INDEX(periode4,NEVAL,Nenfant)=\"\",0,INDEX(periode4,NEVAL,Nenfant))","v":{"$error":"#NAME?"}}]
[235,null,"Connaître une technique opératoire de la division et la mettre en œuvre avec un diviseur à un chiffre.",null,{"$error":"#NAME?"},{"$f":"IF(INDEX(periode3,NEVAL,Nenfant)=\"\",0,INDEX(periode3,NEVAL,Nenfant))","v":{"$error":"#NAME?"}},{"$f":"IF(INDEX(periode4,NEVAL,Nenfant)=\"\",0,INDEX(periode4,NEVAL,Nenfant))","v":{"$error":"#NAME?"}}]
[236,null,"Organiser ses calculs pour trouver un résultat par calcul mental, posé, où à l’aide de la calculatrice.",null,{"$error":"#NAME?"},{"$f":"IF(INDEX(periode3,NEVAL,Nenfant)=\"\",0,INDEX(periode3,NEVAL,Nenfant))","v":{"$error":"#NAME?"}},{"$f":"IF(INDEX(periode4,NEVAL,Nenfant)=\"\",0,INDEX(periode4,NEVAL,Nenfant))","v":{"$error":"#NAME?"}}]
[237,null,"Utiliser les touches des opérations de la calculatrice.",null,{"$error":"#NAME?"},{"$f":"IF(INDEX(periode3,NEVAL,Nenfant)=\"\",0,INDEX(periode3,NEVAL,Nenfant))","v":{"$error":"#NAME?"}},{"$f":"IF(INDEX(periode4,NEVAL,Nenfant)=\"\",0,INDEX(periode4,NEVAL,Nenfant))","v":{"$error":"#NAME?"}}]
[238,null,"Addition et soustraction de deux nombres décimaux.",null,{"$error":"#NAME?"},{"$f":"IF(INDEX(periode3,NEVAL,Nenfant)=\"\",0,INDEX(periode3,NEVAL,Nenfant))","v":{"$error":"#NAME?"}},{"$f":"IF(INDEX(periode4,NEVAL,Nenfant)=\"\",0,INDEX(periode4,NEVAL,Nenfant))","v":{"$error":"#NAME?"}}]
[239,null,"Multiplication d’un nombre décimal par un nombre entier.",null,{"$error":"#NAME?"},{"$f":"IF(INDEX(periode3,NEVAL,Nenfant)=\"\",0,INDEX(periode3,NEVAL,Nenfant))","v":{"$error":"#NAME?"}},{"$f":"IF(INDEX(periode4,NEVAL,Nenfant)=\"\",0,INDEX(periode4,NEVAL,Nenfant))","v":{"$error":"#NAME?"}}]
[240,null,"Division euclidienne de deux entiers.",null,{"$error":"#NAME?"},{"$f":"IF(INDEX(periode3,NEVAL,Nenfant)=\"\",0,INDEX(periode3,NEVAL,Nenfant))","v":{"$error":"#NAME?"}},{"$f":"IF(INDEX(periode4,NEVAL,Nenfant)=\"\",0,INDEX(periode4,NEVAL,Nenfant))","v":{"$error":"#NAME?"}}]
[241,null,"Division décimale de deux entiers",null,{"$error":"#NAME?"},{"$f":"IF(INDEX(periode3,NEVAL,Nenfant)=\"\",0,INDEX(periode3,NEVAL,Nenfant))","v":{"$error":"#NAME?"}},{"$f":"IF(INDEX(periode4,NEVAL,Nenfant)=\"\",0,INDEX(periode4,NEVAL,Nenfant))","v":{"$error":"#NAME?"}}]
[242,null,"Connaître quelques fonctionnalités de la calculatrice utiles pour effectuer une suite de calculs.",null,{"$error":"#NAME?"},{"$f":"IF(INDEX(periode3,NEVAL,Nenfant)=\"\",0,INDEX(periode3,NEVAL,Nenfant))","v":{"$error":"#NAME?"}},{"$f":"IF(INDEX(periode4,NEVAL,Nenfant)=\"\",0,INDEX(periode4,NEVAL,Nenfant))","v":{"$error":"#NAME?"}}]
[243,null,"Addition de deux nombres décimaux",null,{"$error":"#NAME?"},{"$f":"IF(INDEX(periode3,NEVAL,Nenfant)=\"\",0,INDEX(periode3,NEVAL,Nenfant))","v":{"$error":"#NAME?"}},{"$f":"IF(INDEX(periode4,NEVAL,Nenfant)=\"\",0,INDEX(periode4,NEVAL,Nenfant))","v":{"$error":"#NAME?"}}]
[244,null,"Soustraction de deux nombres décimaux",null,{"$error":"#NAME?"},{"$f":"IF(INDEX(periode3,NEVAL,Nenfant)=\"\",0,INDEX(periode3,NEVAL,Nenfant))","v":{"$error":"#NAME?"}},{"$f":"IF(INDEX(periode4,NEVAL,Nenfant)=\"\",0,INDEX(periode4,NEVAL,Nenfant))","v":{"$error":"#NAME?"}}]
[245,null,"Multiplication de deux nombres décimaux",null,{"$error":"#NAME?"},{"$f":"IF(INDEX(periode3,NEVAL,Nenfant)=\"\",0,INDEX(periode3,NEVAL,Nenfant))","v":{"$error":"#NAME?"}},{"$f":"IF(INDEX(periode4,NEVAL,Nenfant)=\"\",0,INDEX(periode4,NEVAL,Nenfant))","v":{"$error":"#NAME?"}}]
[246,null,"Division d’un nombre décimal par un nombre entier.",null,{"$error":"#NAME?"},{"$f":"IF(INDEX(periode3,NEVAL,Nenfant)=\"\",0,INDEX(periode3,NEVAL,Nenfant))","v":{"$error":"#NAME?"}},{"$f":"IF(INDEX(periode4,NEVAL,Nenfant)=\"\",0,INDEX(periode4,NEVAL,Nenfant))","v":{"$error":"#NAME?"}}]
[247,null,"Utiliser sa calculatrice à bon escient.",null,{"$error":"#NAME?"},{"$f":"IF(INDEX(periode3,NEVAL,Nenfant)=\"\",0,INDEX(periode3,NEVAL,Nenfant))","v":{"$error":"#NAME?"}},{"$f":"IF(INDEX(periode4,NEVAL,Nenfant)=\"\",0,INDEX(periode4,NEVAL,Nenfant))","v":{"$error":"#NAME?"}}]
[248,null,"Problèmes ",null,{"$error":"#NAME?"},{"$f":"IF(INDEX(periode3,NEVAL,Nenfant)=\"\",0,INDEX(periode3,NEVAL,Nenfant))","v":{"$error":"#NAME?"}},{"$f":"IF(INDEX(periode4,NEVAL,Nenfant)=\"\",0,INDEX(periode4,NEVAL,Nenfant))","v":{"$error":"#NAME?"}}]
[249,null,"Résoudre des problèmes relevant des quatre opérations.",null,{"$error":"#NAME?"},{"$f":"IF(INDEX(periode3,NEVAL,Nenfant)=\"\",0,INDEX(periode3,NEVAL,Nenfant))","v":{"$error":"#NAME?"}},{"$f":"IF(INDEX(periode4,NEVAL,Nenfant)=\"\",0,INDEX(periode4,NEVAL,Nenfant))","v":{"$error":"#NAME?"}}]
[250,null,"Résoudre des problèmes engageant une démarche à une ou plusieurs étapes.",null,{"$error":"#NAME?"},{"$f":"IF(INDEX(periode3,NEVAL,Nenfant)=\"\",0,INDEX(periode3,NEVAL,Nenfant))","v":{"$error":"#NAME?"}},{"$f":"IF(INDEX(periode4,NEVAL,Nenfant)=\"\",0,INDEX(periode4,NEVAL,Nenfant))","v":{"$error":"#NAME?"}}]
[251,null,"Résoudre des problèmes de plus en plus complexes.",null,{"$error":"#NAME?"},{"$f":"IF(INDEX(periode3,NEVAL,Nenfant)=\"\",0,INDEX(periode3,NEVAL,Nenfant))","v":{"$error":"#NAME?"}},{"$f":"IF(INDEX(periode4,NEVAL,Nenfant)=\"\",0,INDEX(periode4,NEVAL,Nenfant))","v":{"$error":"#NAME?"}}]
[252,null,"GEOMETRIE",null,{"$error":"#NAME?"},{"$f":"IF(INDEX(periode3,NEVAL,Nenfant)=\"\",0,INDEX(periode3,NEVAL,Nenfant))","v":{"$error":"#NAME?"}},{"$f":"IF(INDEX(periode4,NEVAL,Nenfant)=\"\",0,INDEX(periode4,NEVAL,Nenfant))","v":{"$error":"#NAME?"}}]
[253,null,"Dans le plan",null,{"$error":"#NAME?"},{"$f":"IF(INDEX(periode3,NEVAL,Nenfant)=\"\",0,INDEX(periode3,NEVAL,Nenfant))","v":{"$error":"#NAME?"}},{"$f":"IF(INDEX(periode4,NEVAL,Nenfant)=\"\",0,INDEX(periode4,NEVAL,Nenfant))","v":{"$error":"#NAME?"}}]
[254,null,"Reconnaître, décrire, nommer et reproduire, tracer des figures géométriques:  carré, rectangle, losange, triangle rectangle;",null,{"$error":"#NAME?"},{"$f":"IF(INDEX(periode3,NEVAL,Nenfant)=\"\",0,INDEX(periode3,NEVAL,Nenfant))","v":{"$error":"#NAME?"}},{"$f":"IF(INDEX(periode4,NEVAL,Nenfant)=\"\",0,INDEX(periode4,NEVAL,Nenfant))","v":{"$error":"#NAME?"}}]
[255,null,"Vérifier la nature d’une figure plane en utilisant la règle graduée et l’équerre. ",null,{"$error":"#NAME?"},{"$f":"IF(INDEX(periode3,NEVAL,Nenfant)=\"\",0,INDEX(periode3,NEVAL,Nenfant))","v":{"$error":"#NAME?"}},{"$f":"IF(INDEX(periode4,NEVAL,Nenfant)=\"\",0,INDEX(periode4,NEVAL,Nenfant))","v":{"$error":"#NAME?"}}]
[256,null,"Construire un cercle avec un compas.",null,{"$error":"#NAME?"},{"$f":"IF(INDEX(periode3,NEVAL,Nenfant)=\"\",0,INDEX(periode3,NEVAL,Nenfant))","v":{"$error":"#NAME?"}},{"$f":"IF(INDEX(periode4,NEVAL,Nenfant)=\"\",0,INDEX(periode4,NEVAL,Nenfant))","v":{"$error":"#NAME?"}}]
[257,null,"Utiliser en situation le vocabulaire : côté, sommet, angle, milieu.",null,{"$error":"#NAME?"},{"$f":"IF(INDEX(periode3,NEVAL,Nenfant)=\"\",0,INDEX(periode3,NEVAL,Nenfant))","v":{"$error":"#NAME?"}},{"$f":"IF(INDEX(periode4,NEVAL,Nenfant)=\"\",0,INDEX(periode4,NEVAL,Nenfant))","v":{"$error":"#NAME?"}}]
[258,null,"Reconnaître qu’une figure possède un ou plusieurs axes de symétrie, par pliage ou à l’aide du papier calque.",null,{"$error":"#NAME?"},{"$f":"IF(INDEX(periode3,NEVAL,Nenfant)=\"\",0,INDEX(periode3,NEVAL,Nenfant))","v":{"$error":"#NAME?"}},{"$f":"IF(INDEX(periode4,NEVAL,Nenfant)=\"\",0,INDEX(periode4,NEVAL,Nenfant))","v":{"$error":"#NAME?"}}]
[259,null,"Tracer, sur papier quadrillé, la figure symétrique d’une figure donnée par rapport à une droite donnée. ",null,{"$error":"#NAME?"},{"$f":"IF(INDEX(periode3,NEVAL,Nenfant)=\"\",0,INDEX(periode3,NEVAL,Nenfant))","v":{"$error":"#NAME?"}},{"$f":"IF(INDEX(periode4,NEVAL,Nenfant)=\"\",0,INDEX(periode4,NEVAL,Nenfant))","v":{"$error":"#NAME?"}}]
[260,null,"Reconnaître que des droites sont parallèles.",null,{"$f":"IF(G270<>0,G270,(IF(F270<>0,F270,0)))","v":{"$error":"#NAME?"}},{"$f":"IF(INDEX(periode3,NEVAL,Nenfant)=\"\",0,INDEX(periode3,NEVAL,Nenfant))","v":{"$error":"#NAME?"}},{"$f":"IF(INDEX(periode4,NEVAL,Nenfant)=\"\",0,INDEX(periode4,NEVAL,Nenfant))","v":{"$error":"#NAME?"}}]
[261,null,"Utiliser en situation le vocabulaire géométrique : points alignés, droite, droites perpendiculaires, droites parallèles, segment, milieu, angle, axe de symétrie, centre d’un cercle, rayon, diamètre. ",null,{"$error":"#NAME?"},{"$f":"IF(INDEX(periode3,NEVAL,Nenfant)=\"\",0,INDEX(periode3,NEVAL,Nenfant))","v":{"$error":"#NAME?"}},{"$f":"IF(INDEX(periode4,NEVAL,Nenfant)=\"\",0,INDEX(periode4,NEVAL,Nenfant))","v":{"$error":"#NAME?"}}]
[262,null,"Vérifier la nature d’une figure plane simple  en utilisant la règle graduée, l’équerre, le compas.",null,{"$error":"#NAME?"},{"$f":"IF(INDEX(periode3,NEVAL,Nenfant)=\"\",0,INDEX(periode3,NEVAL,Nenfant))","v":{"$error":"#NAME?"}},{"$f":"IF(INDEX(periode4,NEVAL,Nenfant)=\"\",0,INDEX(periode4,NEVAL,Nenfant))","v":{"$error":"#NAME?"}}]
[263,null,"Décrire une figure en vue de l’identifier parmi d’autres figures ou de la faire reproduire. ",null,{"$error":"#NAME?"},{"$f":"IF(INDEX(periode3,NEVAL,Nenfant)=\"\",0,INDEX(periode3,NEVAL,Nenfant))","v":{"$error":"#NAME?"}},{"$f":"IF(INDEX(periode4,NEVAL,Nenfant)=\"\",0,INDEX(periode4,NEVAL,Nenfant))","v":{"$error":"#NAME?"}}]
[264,null,"Utiliser les instruments pour vérifier le parallélisme de deux droites (règle et équerre) et pour tracer des droites parallèles.",null,{"$error":"#NAME?"},{"$f":"IF(INDEX(periode3,NEVAL,Nenfant)=\"\",0,INDEX(periode3,NEVAL,Nenfant))","v":{"$error":"#NAME?"}},{"$f":"IF(INDEX(periode4,NEVAL,Nenfant)=\"\",0,INDEX(periode4,NEVAL,Nenfant))","v":{"$error":"#NAME?"}}]
[265,null,"Vérifier la nature d’une figure en ayant recours aux instruments.",null,{"$error":"#NAME?"},{"$f":"IF(INDEX(periode3,NEVAL,Nenfant)=\"\",0,INDEX(periode3,NEVAL,Nenfant))","v":{"$error":"#NAME?"}},{"$f":"IF(INDEX(periode4,NEVAL,Nenfant)=\"\",0,INDEX(periode4,NEVAL,Nenfant))","v":{"$error":"#NAME?"}}]
[266,null,"Construire une hauteur d’un triangle.",null,{"$error":"#NAME?"},{"$f":"IF(INDEX(periode3,NEVAL,Nenfant)=\"\",0,INDEX(periode3,NEVAL,Nenfant))","v":{"$error":"#NAME?"}},{"$f":"IF(INDEX(periode4,NEVAL,Nenfant)=\"\",0,INDEX(periode4,NEVAL,Nenfant))","v":{"$error":"#NAME?"}}]
[267,null,"Reproduire un triangle à l’aide d’instruments.",null,{"$error":"#NAME?"},{"$f":"IF(INDEX(periode3,NEVAL,Nenfant)=\"\",0,INDEX(periode3,NEVAL,Nenfant))","v":{"$error":"#NAME?"}},{"$f":"IF(INDEX(periode4,NEVAL,Nenfant)=\"\",0,INDEX(periode4,NEVAL,Nenfant))","v":{"$error":"#NAME?"}}]
[268,null,"Dans l’espace",null,{"$error":"#NAME?"},{"$f":"IF(INDEX(periode3,NEVAL,Nenfant)=\"\",0,INDEX(periode3,NEVAL,Nenfant))","v":{"$error":"#NAME?"}},{"$f":"IF(INDEX(periode4,NEVAL,Nenfant)=\"\",0,INDEX(periode4,NEVAL,Nenfant))","v":{"$error":"#NAME?"}}]
[269,null,"Reconnaître, décrire et nommer : un cube, un pavé droit.",null,{"$error":"#NAME?"},{"$f":"IF(INDEX(periode3,NEVAL,Nenfant)=\"\",0,INDEX(periode3,NEVAL,Nenfant))","v":{"$error":"#NAME?"}},{"$f":"IF(INDEX(periode4,NEVAL,Nenfant)=\"\",0,INDEX(periode4,NEVAL,Nenfant))","v":{"$error":"#NAME?"}}]
[270,null,"Utiliser en situation le vocabulaire : face, arête, sommet.",null,{"$error":"#NAME?"},{"$f":"IF(INDEX(periode3,NEVAL,Nenfant)=\"\",0,INDEX(periode3,NEVAL,Nenfant))","v":{"$error":"#NAME?"}},{"$f":"IF(INDEX(periode4,NEVAL,Nenfant)=\"\",0,INDEX(periode4,NEVAL,Nenfant))","v":{"$error":"#NAME?"}}]
[271,null,"Reconnaître, décrire et nommer les solides droits : cube, pavé,  prisme.",null,{"$error":"#NAME?"},{"$f":"IF(INDEX(periode3,NEVAL,Nenfant)=\"\",0,INDEX(periode3,NEVAL,Nenfant))","v":{"$error":"#NAME?"}},{"$f":"IF(INDEX(periode4,NEVAL,Nenfant)=\"\",0,INDEX(periode4,NEVAL,Nenfant))","v":{"$error":"#NAME?"}}]
[272,null,"Reconnaître ou compléter un patron de cube ou de pavé.",null,{"$error":"#NAME?"},{"$f":"IF(INDEX(periode3,NEVAL,Nenfant)=\"\",0,INDEX(periode3,NEVAL,Nenfant))","v":{"$error":"#NAME?"}},{"$f":"IF(INDEX(periode4,NEVAL,Nenfant)=\"\",0,INDEX(periode4,NEVAL,Nenfant))","v":{"$error":"#NAME?"}}]
[273,null,"Reconnaître, décrire et nommer les solides droits : cube, pavé, cylindre, prisme.",null,{"$error":"#NAME?"},{"$f":"IF(INDEX(periode3,NEVAL,Nenfant)=\"\",0,INDEX(periode3,NEVAL,Nenfant))","v":{"$error":"#NAME?"}},{"$f":"IF(INDEX(periode4,NEVAL,Nenfant)=\"\",0,INDEX(periode4,NEVAL,Nenfant))","v":{"$error":"#NAME?"}}]
[274,null,"Reconnaître ou compléter un patron de solide droit.",null,{"$error":"#NAME?"},{"$f":"IF(INDEX(periode3,NEVAL,Nenfant)=\"\",0,INDEX(periode3,NEVAL,Nenfant))","v":{"$error":"#NAME?"}},{"$f":"IF(INDEX(periode4,NEVAL,Nenfant)=\"\",0,INDEX(periode4,NEVAL,Nenfant))","v":{"$error":"#NAME?"}}]
[275,null,"Problèmes de reproduction, de construction. ",null,{"$error":"#NAME?"},{"$f":"IF(INDEX(periode3,NEVAL,Nenfant)=\"\",0,INDEX(periode3,NEVAL,Nenfant))","v":{"$error":"#NAME?"}},{"$f":"IF(INDEX(periode4,NEVAL,Nenfant)=\"\",0,INDEX(periode4,NEVAL,Nenfant))","v":{"$error":"#NAME?"}}]
[276,null,"Reproduire des figures (sur papier uni, quadrillé ou pointé) à partir d’un modèle.",null,{"$error":"#NAME?"},{"$f":"IF(INDEX(periode3,NEVAL,Nenfant)=\"\",0,INDEX(periode3,NEVAL,Nenfant))","v":{"$error":"#NAME?"}},{"$f":"IF(INDEX(periode4,NEVAL,Nenfant)=\"\",0,INDEX(periode4,NEVAL,Nenfant))","v":{"$error":"#NAME?"}}]
[277,null,"Construire un carré ou un rectangle de dimensions données.",null,{"$error":"#NAME?"},{"$f":"IF(INDEX(periode3,NEVAL,Nenfant)=\"\",0,INDEX(periode3,NEVAL,Nenfant))","v":{"$error":"#NAME?"}},{"$f":"IF(INDEX(periode4,NEVAL,Nenfant)=\"\",0,INDEX(periode4,NEVAL,Nenfant))","v":{"$error":"#NAME?"}}]
[278,null,"Compléter une figure par symétrie axiale.",null,{"$error":"#NAME?"},{"$f":"IF(INDEX(periode3,NEVAL,Nenfant)=\"\",0,INDEX(periode3,NEVAL,Nenfant))","v":{"$error":"#NAME?"}},{"$f":"IF(INDEX(periode4,NEVAL,Nenfant)=\"\",0,INDEX(periode4,NEVAL,Nenfant))","v":{"$error":"#NAME?"}}]
[279,null,"Tracer une figure simple à partir d’un programme de construction ou en suivant des consignes.",null,{"$error":"#NAME?"},{"$f":"IF(INDEX(periode3,NEVAL,Nenfant)=\"\",0,INDEX(periode3,NEVAL,Nenfant))","v":{"$error":"#NAME?"}},{"$f":"IF(INDEX(periode4,NEVAL,Nenfant)=\"\",0,INDEX(periode4,NEVAL,Nenfant))","v":{"$error":"#NAME?"}}]
[280,null,"Tracer une figure (sur papier uni, quadrillé ou pointé), à partir, d’un programme de construction ou d’un dessin à main levée (avec des indications relatives aux propriétés et aux dimensions).",null,{"$error":"#NAME?"},{"$f":"IF(INDEX(periode3,NEVAL,Nenfant)=\"\",0,INDEX(periode3,NEVAL,Nenfant))","v":{"$error":"#NAME?"}},{"$f":"IF(INDEX(periode4,NEVAL,Nenfant)=\"\",0,INDEX(periode4,NEVAL,Nenfant))","v":{"$error":"#NAME?"}}]
[281,null," GRANDEURS ET MESURE",null,{"$error":"#NAME?"},{"$f":"IF(INDEX(periode3,NEVAL,Nenfant)=\"\",0,INDEX(periode3,NEVAL,Nenfant))","v":{"$error":"#NAME?"}},{"$f":"IF(INDEX(periode4,NEVAL,Nenfant)=\"\",0,INDEX(periode4,NEVAL,Nenfant))","v":{"$error":"#NAME?"}}]
[282,null,"Connaître les unités de mesure suivantes et les relations qui les lient:",null,{"$error":"#NAME?"},{"$f":"IF(INDEX(periode3,NEVAL,Nenfant)=\"\",0,INDEX(periode3,NEVAL,Nenfant))","v":{"$error":"#NAME?"}},{"$f":"IF(INDEX(periode4,NEVAL,Nenfant)=\"\",0,INDEX(periode4,NEVAL,Nenfant))","v":{"$error":"#NAME?"}}]
[283,null,"Longueur : le mètre, le km, le cm, le mm ;",null,{"$error":"#NAME?"},{"$f":"IF(INDEX(periode3,NEVAL,Nenfant)=\"\",0,INDEX(periode3,NEVAL,Nenfant))","v":{"$error":"#NAME?"}},{"$f":"IF(INDEX(periode4,NEVAL,Nenfant)=\"\",0,INDEX(periode4,NEVAL,Nenfant))","v":{"$error":"#NAME?"}}]
[284,null,"Masse : le kilogramme, le gramme ;",null,{"$error":"#NAME?"},{"$f":"IF(INDEX(periode3,NEVAL,Nenfant)=\"\",0,INDEX(periode3,NEVAL,Nenfant))","v":{"$error":"#NAME?"}},{"$f":"IF(INDEX(periode4,NEVAL,Nenfant)=\"\",0,INDEX(periode4,NEVAL,Nenfant))","v":{"$error":"#NAME?"}}]
[285,null,"Capacité : le litre, le centilitre ;",null,{"$error":"#NAME?"},{"$f":"IF(INDEX(periode3,NEVAL,Nenfant)=\"\",0,INDEX(periode3,NEVAL,Nenfant))","v":{"$error":"#NAME?"}},{"$f":"IF(INDEX(periode4,NEVAL,Nenfant)=\"\",0,INDEX(periode4,NEVAL,Nenfant))","v":{"$error":"#NAME?"}}]
[286,null,"Monnaie : l’euro et le centime ;",null,{"$error":"#NAME?"},{"$f":"IF(INDEX(periode3,NEVAL,Nenfant)=\"\",0,INDEX(periode3,NEVAL,Nenfant))","v":{"$error":"#NAME?"}},{"$f":"IF(INDEX(periode4,NEVAL,Nenfant)=\"\",0,INDEX(periode4,NEVAL,Nenfant))","v":{"$error":"#NAME?"}}]
[287,null,"Temps : l’heure, la minute, la seconde, le mois, l’année.",null,{"$error":"#NAME?"},{"$f":"IF(INDEX(periode3,NEVAL,Nenfant)=\"\",0,INDEX(periode3,NEVAL,Nenfant))","v":{"$error":"#NAME?"}},{"$f":"IF(INDEX(periode4,NEVAL,Nenfant)=\"\",0,INDEX(periode4,NEVAL,Nenfant))","v":{"$error":"#NAME?"}}]
[288,null,"Utiliser des instruments pour mesurer des longueurs, des masses, des capacités, puis exprimer cette mesure par un nombre entier ou un encadrement par deux nombres entiers. ",null,{"$error":"#NAME?"},{"$f":"IF(INDEX(periode3,NEVAL,Nenfant)=\"\",0,INDEX(periode3,NEVAL,Nenfant))","v":{"$error":"#NAME?"}},{"$f":"IF(INDEX(periode4,NEVAL,Nenfant)=\"\",0,INDEX(periode4,NEVAL,Nenfant))","v":{"$error":"#NAME?"}}]
[289,null,"Vérifier qu’un angle est droit en utilisant l’équerre ou un gabarit.",null,{"$error":"#NAME?"},{"$f":"IF(INDEX(periode3,NEVAL,Nenfant)=\"\",0,INDEX(periode3,NEVAL,Nenfant))","v":{"$error":"#NAME?"}},{"$f":"IF(INDEX(periode4,NEVAL,Nenfant)=\"\",0,INDEX(periode4,NEVAL,Nenfant))","v":{"$error":"#NAME?"}}]
[290,null,"Calculer le périmètre d’un polygone.",null,{"$error":"#NAME?"},{"$f":"IF(INDEX(periode3,NEVAL,Nenfant)=\"\",0,INDEX(periode3,NEVAL,Nenfant))","v":{"$error":"#NAME?"}},{"$f":"IF(INDEX(periode4,NEVAL,Nenfant)=\"\",0,INDEX(periode4,NEVAL,Nenfant))","v":{"$error":"#NAME?"}}]
[291,null,"Lire l’heure sur une montre à aiguilles ou une horloge.",null,{"$error":"#NAME?"},{"$f":"IF(INDEX(periode3,NEVAL,Nenfant)=\"\",0,INDEX(periode3,NEVAL,Nenfant))","v":{"$error":"#NAME?"}},{"$f":"IF(INDEX(periode4,NEVAL,Nenfant)=\"\",0,INDEX(periode4,NEVAL,Nenfant))","v":{"$error":"#NAME?"}}]
[292,null,"Connaître et utiliser les unités usuelles de mesure des durées, ainsi que les unités du système métrique pour les longueurs, les masses et les contenances, et leurs relations ;",null,{"$error":"#NAME?"},{"$f":"IF(INDEX(periode3,NEVAL,Nenfant)=\"\",0,INDEX(periode3,NEVAL,Nenfant))","v":{"$error":"#NAME?"}},{"$f":"IF(INDEX(periode4,NEVAL,Nenfant)=\"\",0,INDEX(periode4,NEVAL,Nenfant))","v":{"$error":"#NAME?"}}]
[293,null,"Reporter des longueurs à l’aide du compas.",null,{"$error":"#NAME?"},{"$f":"IF(INDEX(periode3,NEVAL,Nenfant)=\"\",0,INDEX(periode3,NEVAL,Nenfant))","v":{"$error":"#NAME?"}},{"$f":"IF(INDEX(periode4,NEVAL,Nenfant)=\"\",0,INDEX(periode4,NEVAL,Nenfant))","v":{"$error":"#NAME?"}}]
[294,null,"Formules du périmètre du carré et du rectangle ;",null,{"$error":"#NAME?"},{"$f":"IF(INDEX(periode3,NEVAL,Nenfant)=\"\",0,INDEX(periode3,NEVAL,Nenfant))","v":{"$error":"#NAME?"}},{"$f":"IF(INDEX(periode4,NEVAL,Nenfant)=\"\",0,INDEX(periode4,NEVAL,Nenfant))","v":{"$error":"#NAME?"}}]
[295,null,"Calculer une durée à partir de la donnée de l’instant initial et de l’instant final ;",null,{"$error":"#NAME?"},{"$f":"IF(INDEX(periode3,NEVAL,Nenfant)=\"\",0,INDEX(periode3,NEVAL,Nenfant))","v":{"$error":"#NAME?"}},{"$f":"IF(INDEX(periode4,NEVAL,Nenfant)=\"\",0,INDEX(periode4,NEVAL,Nenfant))","v":{"$error":"#NAME?"}}]
[296,null,"Formule de la longueur d’un cercle.",null,{"$error":"#NAME?"},{"$f":"IF(INDEX(periode3,NEVAL,Nenfant)=\"\",0,INDEX(periode3,NEVAL,Nenfant))","v":{"$error":"#NAME?"}},{"$f":"IF(INDEX(periode4,NEVAL,Nenfant)=\"\",0,INDEX(periode4,NEVAL,Nenfant))","v":{"$error":"#NAME?"}}]
[297,null,"Formule du volume du pavé droit (initiation à l’utilisation d’unités métriques de volume).",null,{"$error":"#NAME?"},{"$f":"IF(INDEX(periode3,NEVAL,Nenfant)=\"\",0,INDEX(periode3,NEVAL,Nenfant))","v":{"$error":"#NAME?"}},{"$f":"IF(INDEX(periode4,NEVAL,Nenfant)=\"\",0,INDEX(periode4,NEVAL,Nenfant))","v":{"$error":"#NAME?"}}]
[298,null,"Aires",null,{"$error":"#NAME?"},{"$f":"IF(INDEX(periode3,NEVAL,Nenfant)=\"\",0,INDEX(periode3,NEVAL,Nenfant))","v":{"$error":"#NAME?"}},{"$f":"IF(INDEX(periode4,NEVAL,Nenfant)=\"\",0,INDEX(periode4,NEVAL,Nenfant))","v":{"$error":"#NAME?"}}]
[299,null,"Mesurer ou estimer l’aire d’une surface grâce à un pavage effectif à l’aide d’une surface de référence (d’aire une unité) ou grâce à l’utilisation d’un réseau quadrillé.",null,{"$error":"#NAME?"},{"$f":"IF(INDEX(periode3,NEVAL,Nenfant)=\"\",0,INDEX(periode3,NEVAL,Nenfant))","v":{"$error":"#NAME?"}},{"$f":"IF(INDEX(periode4,NEVAL,Nenfant)=\"\",0,INDEX(periode4,NEVAL,Nenfant))","v":{"$error":"#NAME?"}}]
[300,null,"Classer et ranger des surfaces selon leur aire.",null,{"$error":"#NAME?"},{"$f":"IF(INDEX(periode3,NEVAL,Nenfant)=\"\",0,INDEX(periode3,NEVAL,Nenfant))","v":{"$error":"#NAME?"}},{"$f":"IF(INDEX(periode4,NEVAL,Nenfant)=\"\",0,INDEX(periode4,NEVAL,Nenfant))","v":{"$error":"#NAME?"}}]
[301,null,"Calculer l’aire d’un carré, d’un rectangle, d’un triangle en utilisant la formule appropriée.",null,{"$error":"#NAME?"},{"$f":"IF(INDEX(periode3,NEVAL,Nenfant)=\"\",0,INDEX(periode3,NEVAL,Nenfant))","v":{"$error":"#NAME?"}},{"$f":"IF(INDEX(periode4,NEVAL,Nenfant)=\"\",0,INDEX(periode4,NEVAL,Nenfant))","v":{"$error":"#NAME?"}}]
[302,null,"Connaître et utiliser les unités d’aire usuelles (cm2, m2 et km2).",null,{"$error":"#NAME?"},{"$f":"IF(INDEX(periode3,NEVAL,Nenfant)=\"\",0,INDEX(periode3,NEVAL,Nenfant))","v":{"$error":"#NAME?"}},{"$f":"IF(INDEX(periode4,NEVAL,Nenfant)=\"\",0,INDEX(periode4,NEVAL,Nenfant))","v":{"$error":"#NAME?"}}]
[303,null,"Angles ",null,{"$error":"#NAME?"},{"$f":"IF(INDEX(periode3,NEVAL,Nenfant)=\"\",0,INDEX(periode3,NEVAL,Nenfant))","v":{"$error":"#NAME?"}},{"$f":"IF(INDEX(periode4,NEVAL,Nenfant)=\"\",0,INDEX(periode4,NEVAL,Nenfant))","v":{"$error":"#NAME?"}}]
[304,null,"Comparer les angles d’une figure en utilisant un gabarit.",null,{"$error":"#NAME?"},{"$f":"IF(INDEX(periode3,NEVAL,Nenfant)=\"\",0,INDEX(periode3,NEVAL,Nenfant))","v":{"$error":"#NAME?"}},{"$f":"IF(INDEX(periode4,NEVAL,Nenfant)=\"\",0,INDEX(periode4,NEVAL,Nenfant))","v":{"$error":"#NAME?"}}]
[305,null,"Estimer, et vérifier en utilisant l’équerre, qu’un angle est droit, aigu, ou obtus.",null,{"$error":"#NAME?"},{"$f":"IF(INDEX(periode3,NEVAL,Nenfant)=\"\",0,INDEX(periode3,NEVAL,Nenfant))","v":{"$error":"#NAME?"}},{"$f":"IF(INDEX(periode4,NEVAL,Nenfant)=\"\",0,INDEX(periode4,NEVAL,Nenfant))","v":{"$error":"#NAME?"}}]
[306,null,"Reproduire un angle donné en utilisant un gabarit. ",null,{"$error":"#NAME?"},{"$f":"IF(INDEX(periode3,NEVAL,Nenfant)=\"\",0,INDEX(periode3,NEVAL,Nenfant))","v":{"$error":"#NAME?"}},{"$f":"IF(INDEX(periode4,NEVAL,Nenfant)=\"\",0,INDEX(periode4,NEVAL,Nenfant))","v":{"$error":"#NAME?"}}]
[307,null,"Problèmes ",null,{"$error":"#NAME?"},{"$f":"IF(INDEX(periode3,NEVAL,Nenfant)=\"\",0,INDEX(periode3,NEVAL,Nenfant))","v":{"$error":"#NAME?"}},{"$f":"IF(INDEX(periode4,NEVAL,Nenfant)=\"\",0,INDEX(periode4,NEVAL,Nenfant))","v":{"$error":"#NAME?"}}]
[308,null,"Résoudre des problèmes dont la résolution implique les grandeurs ci-dessus. ",null,{"$error":"#NAME?"},{"$f":"IF(INDEX(periode3,NEVAL,Nenfant)=\"\",0,INDEX(periode3,NEVAL,Nenfant))","v":{"$error":"#NAME?"}},{"$f":"IF(INDEX(periode4,NEVAL,Nenfant)=\"\",0,INDEX(periode4,NEVAL,Nenfant))","v":{"$error":"#NAME?"}}]
[309,null,"Résoudre des problèmes dont la résolution implique des conversions.",null,{"$error":"#NAME?"},{"$f":"IF(INDEX(periode3,NEVAL,Nenfant)=\"\",0,INDEX(periode3,NEVAL,Nenfant))","v":{"$error":"#NAME?"}},{"$f":"IF(INDEX(periode4,NEVAL,Nenfant)=\"\",0,INDEX(periode4,NEVAL,Nenfant))","v":{"$error":"#NAME?"}}]
[310,null,"Résoudre des problèmes dont la résolution implique simultanément des unités différentes de mesure",null,{"$error":"#NAME?"},{"$f":"IF(INDEX(periode3,NEVAL,Nenfant)=\"\",0,INDEX(periode3,NEVAL,Nenfant))","v":{"$error":"#NAME?"}},{"$f":"IF(INDEX(periode4,NEVAL,Nenfant)=\"\",0,INDEX(periode4,NEVAL,Nenfant))","v":{"$error":"#NAME?"}}]
[311,null," ORGANISATION ET GESTION DES DONNEES",null,{"$error":"#NAME?"},{"$f":"IF(INDEX(periode3,NEVAL,Nenfant)=\"\",0,INDEX(periode3,NEVAL,Nenfant))","v":{"$error":"#NAME?"}},{"$f":"IF(INDEX(periode4,NEVAL,Nenfant)=\"\",0,INDEX(periode4,NEVAL,Nenfant))","v":{"$error":"#NAME?"}}]
[312,null,"Savoir organiser les données d’un problème en vue de sa résolution.",null,{"$error":"#NAME?"},{"$f":"IF(INDEX(periode3,NEVAL,Nenfant)=\"\",0,INDEX(periode3,NEVAL,Nenfant))","v":{"$error":"#NAME?"}},{"$f":"IF(INDEX(periode4,NEVAL,Nenfant)=\"\",0,INDEX(periode4,NEVAL,Nenfant))","v":{"$error":"#NAME?"}}]
[313,null,"Utiliser un tableau ou un graphique en vue d’un traitement des données.",null,{"$error":"#NAME?"},{"$f":"IF(INDEX(periode3,NEVAL,Nenfant)=\"\",0,INDEX(periode3,NEVAL,Nenfant))","v":{"$error":"#NAME?"}},{"$f":"IF(INDEX(periode4,NEVAL,Nenfant)=\"\",0,INDEX(periode4,NEVAL,Nenfant))","v":{"$error":"#NAME?"}}]
[314,null,"Construire un tableau ou un graphique.",null,{"$error":"#NAME?"},{"$f":"IF(INDEX(periode3,NEVAL,Nenfant)=\"\",0,INDEX(periode3,NEVAL,Nenfant))","v":{"$error":"#NAME?"}},{"$f":"IF(INDEX(periode4,NEVAL,Nenfant)=\"\",0,INDEX(periode4,NEVAL,Nenfant))","v":{"$error":"#NAME?"}}]
[315,null,"Interpréter un tableau ou un graphique.",null,{"$error":"#NAME?"},{"$f":"IF(INDEX(periode3,NEVAL,Nenfant)=\"\",0,INDEX(periode3,NEVAL,Nenfant))","v":{"$error":"#NAME?"}},{"$f":"IF(INDEX(periode4,NEVAL,Nenfant)=\"\",0,INDEX(periode4,NEVAL,Nenfant))","v":{"$error":"#NAME?"}}]
[316,null,"Lire les coordonnées d’un point.",null,{"$error":"#NAME?"},{"$f":"IF(INDEX(periode3,NEVAL,Nenfant)=\"\",0,INDEX(periode3,NEVAL,Nenfant))","v":{"$error":"#NAME?"}},{"$f":"IF(INDEX(periode4,NEVAL,Nenfant)=\"\",0,INDEX(periode4,NEVAL,Nenfant))","v":{"$error":"#NAME?"}}]
[317,null,"Placer un point dont on connaît les coordonnées.",null,{"$error":"#NAME?"},{"$f":"IF(INDEX(periode3,NEVAL,Nenfant)=\"\",0,INDEX(periode3,NEVAL,Nenfant))","v":{"$error":"#NAME?"}},{"$f":"IF(INDEX(periode4,NEVAL,Nenfant)=\"\",0,INDEX(periode4,NEVAL,Nenfant))","v":{"$error":"#NAME?"}}]
[318,null,"Utiliser un tableau ou la « règle de trois » dans des situations très simples de proportionnalité.",null,{"$error":"#NAME?"},{"$f":"IF(INDEX(periode3,NEVAL,Nenfant)=\"\",0,INDEX(periode3,NEVAL,Nenfant))","v":{"$error":"#NAME?"}},{"$f":"IF(INDEX(periode4,NEVAL,Nenfant)=\"\",0,INDEX(periode4,NEVAL,Nenfant))","v":{"$error":"#NAME?"}}]
[319,null,"Résoudre des problèmes relevant de la proportionnalité et notamment des problèmes relatifs aux pourcentages, aux échelles, aux vitesses moyennes ou aux conversions d’unité, en utilisant des procédures variées (dont la « règle de trois »).",null,{"$error":"#NAME?"},{"$f":"IF(INDEX(periode3,NEVAL,Nenfant)=\"\",0,INDEX(periode3,NEVAL,Nenfant))","v":{"$error":"#NAME?"}},{"$f":"IF(INDEX(periode4,NEVAL,Nenfant)=\"\",0,INDEX(periode4,NEVAL,Nenfant))","v":{"$error":"#NAME?"}}]
[320,null,"SCIENCES EXPERIMENTALES ET TECNOLOGIE",null,{"$error":"#NAME?"},{"$f":"IF(INDEX(periode3,NEVAL,Nenfant)=\"\",0,INDEX(periode3,NEVAL,Nenfant))","v":{"$error":"#NAME?"}},{"$f":"IF(INDEX(periode4,NEVAL,Nenfant)=\"\",0,INDEX(periode4,NEVAL,Nenfant))","v":{"$error":"#NAME?"}}]
[321,null,"Pratiquer une démarche d'investigation : savoir observer, questionner",null,{"$error":"#NAME?"},{"$f":"IF(INDEX(periode3,NEVAL,Nenfant)=\"\",0,INDEX(periode3,NEVAL,Nenfant))","v":{"$error":"#NAME?"}},{"$f":"IF(INDEX(periode4,NEVAL,Nenfant)=\"\",0,INDEX(periode4,NEVAL,Nenfant))","v":{"$error":"#NAME?"}}]
[322,null,"Manipuler et expérimenter, formuler une hypothèse et la tester, argumenter, mettre à l'essai plusieurs pistes de solutions",null,{"$error":"#NAME?"},{"$f":"IF(INDEX(periode3,NEVAL,Nenfant)=\"\",0,INDEX(periode3,NEVAL,Nenfant))","v":{"$error":"#NAME?"}},{"$f":"IF(INDEX(periode4,NEVAL,Nenfant)=\"\",0,INDEX(periode4,NEVAL,Nenfant))","v":{"$error":"#NAME?"}}]
[323,null,"Exprimer et exploiter les résultats d'une mesure et d'une recherche en utilisant un vocabulaire scientifique à l'écrit ou à l'oral",null,{"$error":"#NAME?"},{"$f":"IF(INDEX(periode3,NEVAL,Nenfant)=\"\",0,INDEX(periode3,NEVAL,Nenfant))","v":{"$error":"#NAME?"}},{"$f":"IF(INDEX(periode4,NEVAL,Nenfant)=\"\",0,INDEX(periode4,NEVAL,Nenfant))","v":{"$error":"#NAME?"}}]
[324,null,"Le ciel et la Terre",null,{"$f":"IF(G334<>0,G334,(IF(F334<>0,F334,0)))","v":{"$error":"#NAME?"}},{"$f":"IF(INDEX(periode3,NEVAL,Nenfant)=\"\",0,INDEX(periode3,NEVAL,Nenfant))","v":{"$error":"#NAME?"}},{"$f":"IF(INDEX(periode4,NEVAL,Nenfant)=\"\",0,INDEX(periode4,NEVAL,Nenfant))","v":{"$error":"#NAME?"}}]
[325,null,"Le mouvement de la Terre (et des planètes) autour du Soleil, la rotation de la Terre sur elle-même. La durée du jour et son changement au cours des saisons.",null,{"$error":"#NAME?"},{"$f":"IF(INDEX(periode3,NEVAL,Nenfant)=\"\",0,INDEX(periode3,NEVAL,Nenfant))","v":{"$error":"#NAME?"}},{"$f":"IF(INDEX(periode4,NEVAL,Nenfant)=\"\",0,INDEX(periode4,NEVAL,Nenfant))","v":{"$error":"#NAME?"}}]
[326,null,"Le mouvement de la Lune autour de la Terre.",null,{"$error":"#NAME?"},{"$f":"IF(INDEX(periode3,NEVAL,Nenfant)=\"\",0,INDEX(periode3,NEVAL,Nenfant))","v":{"$error":"#NAME?"}},{"$f":"IF(INDEX(periode4,NEVAL,Nenfant)=\"\",0,INDEX(periode4,NEVAL,Nenfant))","v":{"$error":"#NAME?"}}]
[327,null,"Lumières et ombres.",null,{"$error":"#NAME?"},{"$f":"IF(INDEX(periode3,NEVAL,Nenfant)=\"\",0,INDEX(periode3,NEVAL,Nenfant))","v":{"$error":"#NAME?"}},{"$f":"IF(INDEX(periode4,NEVAL,Nenfant)=\"\",0,INDEX(periode4,NEVAL,Nenfant))","v":{"$error":"#NAME?"}}]
[328,null,"Volcans et séismes, les risques pour les sociétés humaines.",null,{"$error":"#NAME?"},{"$f":"IF(INDEX(periode3,NEVAL,Nenfant)=\"\",0,INDEX(periode3,NEVAL,Nenfant))","v":{"$error":"#NAME?"}},{"$f":"IF(INDEX(periode4,NEVAL,Nenfant)=\"\",0,INDEX(periode4,NEVAL,Nenfant))","v":{"$error":"#NAME?"}}]
[329,null,"La matière",null,{"$error":"#NAME?"},{"$f":"IF(INDEX(periode3,NEVAL,Nenfant)=\"\",0,INDEX(periode3,NEVAL,Nenfant))","v":{"$error":"#NAME?"}},{"$f":"IF(INDEX(periode4,NEVAL,Nenfant)=\"\",0,INDEX(periode4,NEVAL,Nenfant))","v":{"$error":"#NAME?"}}]
[330,null,"L’eau : une ressource. Les états et changements d’état. Le trajet de l’eau dans la nature. Le maintien de sa qualité pour ses utilisations.",null,{"$error":"#NAME?"},{"$f":"IF(INDEX(periode3,NEVAL,Nenfant)=\"\",0,INDEX(periode3,NEVAL,Nenfant))","v":{"$error":"#NAME?"}},{"$f":"IF(INDEX(periode4,NEVAL,Nenfant)=\"\",0,INDEX(periode4,NEVAL,Nenfant))","v":{"$error":"#NAME?"}}]
[331,null,"L’air et les pollutions de l’air.",null,{"$error":"#NAME?"},{"$f":"IF(INDEX(periode3,NEVAL,Nenfant)=\"\",0,INDEX(periode3,NEVAL,Nenfant))","v":{"$error":"#NAME?"}},{"$f":"IF(INDEX(periode4,NEVAL,Nenfant)=\"\",0,INDEX(periode4,NEVAL,Nenfant))","v":{"$error":"#NAME?"}}]
[332,null,"Mélanges et solutions.",null,{"$error":"#NAME?"},{"$f":"IF(INDEX(periode3,NEVAL,Nenfant)=\"\",0,INDEX(periode3,NEVAL,Nenfant))","v":{"$error":"#NAME?"}},{"$f":"IF(INDEX(periode4,NEVAL,Nenfant)=\"\",0,INDEX(periode4,NEVAL,Nenfant))","v":{"$error":"#NAME?"}}]
[333,null,"Les déchets : réduire, réutiliser, recycler.",null,{"$error":"#NAME?"},{"$f":"IF(INDEX(periode3,NEVAL,Nenfant)=\"\",0,INDEX(periode3,NEVAL,Nenfant))","v":{"$error":"#NAME?"}},{"$f":"IF(INDEX(periode4,NEVAL,Nenfant)=\"\",0,INDEX(periode4,NEVAL,Nenfant))","v":{"$error":"#NAME?"}}]
[334,null,"L’énergie",null,{"$error":"#NAME?"},{"$f":"IF(INDEX(periode3,NEVAL,Nenfant)=\"\",0,INDEX(periode3,NEVAL,Nenfant))","v":{"$error":"#NAME?"}},{"$f":"IF(INDEX(periode4,NEVAL,Nenfant)=\"\",0,INDEX(periode4,NEVAL,Nenfant))","v":{"$error":"#NAME?"}}]
[335,null,"Exemples simples de sources d’énergies (fossiles ou renouvelables).",null,{"$error":"#NAME?"},{"$f":"IF(INDEX(periode3,NEVAL,Nenfant)=\"\",0,INDEX(periode3,NEVAL,Nenfant))","v":{"$error":"#NAME?"}},{"$f":"IF(INDEX(periode4,NEVAL,Nenfant)=\"\",0,INDEX(periode4,NEVAL,Nenfant))","v":{"$error":"#NAME?"}}]
[336,null,"Besoins en énergie, consommation et économie d’énergie.",null,{"$error":"#NAME?"},{"$f":"IF(INDEX(periode3,NEVAL,Nenfant)=\"\",0,INDEX(periode3,NEVAL,Nenfant))","v":{"$error":"#NAME?"}},{"$f":"IF(INDEX(periode4,NEVAL,Nenfant)=\"\",0,INDEX(periode4,NEVAL,Nenfant))","v":{"$error":"#NAME?"}}]
[337,null,"L’unité et la diversité du vivant",null,{"$error":"#NAME?"},{"$f":"IF(INDEX(periode3,NEVAL,Nenfant)=\"\",0,INDEX(periode3,NEVAL,Nenfant))","v":{"$error":"#NAME?"}},{"$f":"IF(INDEX(periode4,NEVAL,Nenfant)=\"\",0,INDEX(periode4,NEVAL,Nenfant))","v":{"$error":"#NAME?"}}]
[338,null,"Présentation de la biodiversité : recherche de différences entre espèces vivantes.",null,{"$error":"#NAME?"},{"$f":"IF(INDEX(periode3,NEVAL,Nenfant)=\"\",0,INDEX(periode3,NEVAL,Nenfant))","v":{"$error":"#NAME?"}},{"$f":"IF(INDEX(periode4,NEVAL,Nenfant)=\"\",0,INDEX(periode4,NEVAL,Nenfant))","v":{"$error":"#NAME?"}}]
[339,null,"Présentation de l’unité du vivant : recherche de points communs entre espèces vivantes.",null,{"$error":"#NAME?"},{"$f":"IF(INDEX(periode3,NEVAL,Nenfant)=\"\",0,INDEX(periode3,NEVAL,Nenfant))","v":{"$error":"#NAME?"}},{"$f":"IF(INDEX(periode4,NEVAL,Nenfant)=\"\",0,INDEX(periode4,NEVAL,Nenfant))","v":{"$error":"#NAME?"}}]
[340,null,"Présentation de la classification du vivant : interprétation de ressemblances et différences en termes de parenté.",null,{"$error":"#NAME?"},{"$f":"IF(INDEX(periode3,NEVAL,Nenfant)=\"\",0,INDEX(periode3,NEVAL,Nenfant))","v":{"$error":"#NAME?"}},{"$f":"IF(INDEX(periode4,NEVAL,Nenfant)=\"\",0,INDEX(periode4,NEVAL,Nenfant))","v":{"$error":"#NAME?"}}]
[341,null,"Le fonctionnement du vivant",null,{"$error":"#NAME?"},{"$f":"IF(INDEX(periode3,NEVAL,Nenfant)=\"\",0,INDEX(periode3,NEVAL,Nenfant))","v":{"$error":"#NAME?"}},{"$f":"IF(INDEX(periode4,NEVAL,Nenfant)=\"\",0,INDEX(periode4,NEVAL,Nenfant))","v":{"$error":"#NAME?"}}]
[342,null,"Les stades du développement d’un être vivant (végétal ou animal).",null,{"$error":"#NAME?"},{"$f":"IF(INDEX(periode3,NEVAL,Nenfant)=\"\",0,INDEX(periode3,NEVAL,Nenfant))","v":{"$error":"#NAME?"}},{"$f":"IF(INDEX(periode4,NEVAL,Nenfant)=\"\",0,INDEX(periode4,NEVAL,Nenfant))","v":{"$error":"#NAME?"}}]
[343,null,"Les conditions de développement des végétaux et des animaux.",null,{"$error":"#NAME?"},{"$f":"IF(INDEX(periode3,NEVAL,Nenfant)=\"\",0,INDEX(periode3,NEVAL,Nenfant))","v":{"$error":"#NAME?"}},{"$f":"IF(INDEX(periode4,NEVAL,Nenfant)=\"\",0,INDEX(periode4,NEVAL,Nenfant))","v":{"$error":"#NAME?"}}]
[344,null,"Les modes de reproduction des êtres vivants.",null,{"$error":"#NAME?"},{"$f":"IF(INDEX(periode3,NEVAL,Nenfant)=\"\",0,INDEX(periode3,NEVAL,Nenfant))","v":{"$error":"#NAME?"}},{"$f":"IF(INDEX(periode4,NEVAL,Nenfant)=\"\",0,INDEX(periode4,NEVAL,Nenfant))","v":{"$error":"#NAME?"}}]
[345,null,"Le fonctionnement du corps humain et la santé",null,{"$error":"#NAME?"},{"$f":"IF(INDEX(periode3,NEVAL,Nenfant)=\"\",0,INDEX(periode3,NEVAL,Nenfant))","v":{"$error":"#NAME?"}},{"$f":"IF(INDEX(periode4,NEVAL,Nenfant)=\"\",0,INDEX(periode4,NEVAL,Nenfant))","v":{"$error":"#NAME?"}}]
[346,null,"Les mouvements corporels (les muscles, les os du squelette, les articulations).",null,{"$error":"#NAME?"},{"$f":"IF(INDEX(periode3,NEVAL,Nenfant)=\"\",0,INDEX(periode3,NEVAL,Nenfant))","v":{"$error":"#NAME?"}},{"$f":"IF(INDEX(periode4,NEVAL,Nenfant)=\"\",0,INDEX(periode4,NEVAL,Nenfant))","v":{"$error":"#NAME?"}}]
[347,null,"Première approche des fonctions de nutrition : digestion, respiration et circulation sanguine.",null,{"$error":"#NAME?"},{"$f":"IF(INDEX(periode3,NEVAL,Nenfant)=\"\",0,INDEX(periode3,NEVAL,Nenfant))","v":{"$error":"#NAME?"}},{"$f":"IF(INDEX(periode4,NEVAL,Nenfant)=\"\",0,INDEX(periode4,NEVAL,Nenfant))","v":{"$error":"#NAME?"}}]
[348,null,"Reproduction de l’Homme et éducation à la sexualité.",null,{"$error":"#NAME?"},{"$f":"IF(INDEX(periode3,NEVAL,Nenfant)=\"\",0,INDEX(periode3,NEVAL,Nenfant))","v":{"$error":"#NAME?"}},{"$f":"IF(INDEX(periode4,NEVAL,Nenfant)=\"\",0,INDEX(periode4,NEVAL,Nenfant))","v":{"$error":"#NAME?"}}]
[349,null,"Hygiène et santé : actions bénéfiques ou nocives de nos comportements, notamment dans le domaine du sport, de l’alimentation, du sommeil.",null,{"$error":"#NAME?"},{"$f":"IF(INDEX(periode3,NEVAL,Nenfant)=\"\",0,INDEX(periode3,NEVAL,Nenfant))","v":{"$error":"#NAME?"}},{"$f":"IF(INDEX(periode4,NEVAL,Nenfant)=\"\",0,INDEX(periode4,NEVAL,Nenfant))","v":{"$error":"#NAME?"}}]
[350,null,"Les êtres vivants dans leur environnement",null,{"$error":"#NAME?"},{"$f":"IF(INDEX(periode3,NEVAL,Nenfant)=\"\",0,INDEX(periode3,NEVAL,Nenfant))","v":{"$error":"#NAME?"}},{"$f":"IF(INDEX(periode4,NEVAL,Nenfant)=\"\",0,INDEX(periode4,NEVAL,Nenfant))","v":{"$error":"#NAME?"}}]
[351,null,"L’adaptation des êtres vivants aux conditions du milieu.",null,{"$error":"#NAME?"},{"$f":"IF(INDEX(periode3,NEVAL,Nenfant)=\"\",0,INDEX(periode3,NEVAL,Nenfant))","v":{"$error":"#NAME?"}},{"$f":"IF(INDEX(periode4,NEVAL,Nenfant)=\"\",0,INDEX(periode4,NEVAL,Nenfant))","v":{"$error":"#NAME?"}}]
[352,null,"Places et rôles des êtres vivants ; notions de chaînes et de réseaux alimentaires.",null,{"$error":"#NAME?"},{"$f":"IF(INDEX(periode3,NEVAL,Nenfant)=\"\",0,INDEX(periode3,NEVAL,Nenfant))","v":{"$error":"#NAME?"}},{"$f":"IF(INDEX(periode4,NEVAL,Nenfant)=\"\",0,INDEX(periode4,NEVAL,Nenfant))","v":{"$error":"#NAME?"}}]
[353,null,"L’évolution d’un environnement géré par l’Homme : la forêt ; importance de la biodiversité.",null,{"$error":"#NAME?"},{"$f":"IF(INDEX(periode3,NEVAL,Nenfant)=\"\",0,INDEX(periode3,NEVAL,Nenfant))","v":{"$error":"#NAME?"}},{"$f":"IF(INDEX(periode4,NEVAL,Nenfant)=\"\",0,INDEX(periode4,NEVAL,Nenfant))","v":{"$error":"#NAME?"}}]
[354,null,"Les objets techniques",null,{"$error":"#NAME?"},{"$f":"IF(INDEX(periode3,NEVAL,Nenfant)=\"\",0,INDEX(periode3,NEVAL,Nenfant))","v":{"$error":"#NAME?"}},{"$f":"IF(INDEX(periode4,NEVAL,Nenfant)=\"\",0,INDEX(periode4,NEVAL,Nenfant))","v":{"$error":"#NAME?"}}]
[355,null,"Circuits électriques alimentés par des piles.",null,{"$error":"#NAME?"},{"$f":"IF(INDEX(periode3,NEVAL,Nenfant)=\"\",0,INDEX(periode3,NEVAL,Nenfant))","v":{"$error":"#NAME?"}},{"$f":"IF(INDEX(periode4,NEVAL,Nenfant)=\"\",0,INDEX(periode4,NEVAL,Nenfant))","v":{"$error":"#NAME?"}}]
[356,null,"Règles de sécurité, dangers de l’électricité.",null,{"$error":"#NAME?"},{"$f":"IF(INDEX(periode3,NEVAL,Nenfant)=\"\",0,INDEX(periode3,NEVAL,Nenfant))","v":{"$error":"#NAME?"}},{"$f":"IF(INDEX(periode4,NEVAL,Nenfant)=\"\",0,INDEX(periode4,NEVAL,Nenfant))","v":{"$error":"#NAME?"}}]
[357,null,"Leviers et balances, équilibres.",null,{"$error":"#NAME?"},{"$f":"IF(INDEX(periode3,NEVAL,Nenfant)=\"\",0,INDEX(periode3,NEVAL,Nenfant))","v":{"$error":"#NAME?"}},{"$f":"IF(INDEX(periode4,NEVAL,Nenfant)=\"\",0,INDEX(periode4,NEVAL,Nenfant))","v":{"$error":"#NAME?"}}]
[358,null,"Objets mécaniques, transmission de mouvements.",null,{"$error":"#NAME?"},{"$f":"IF(INDEX(periode3,NEVAL,Nenfant)=\"\",0,INDEX(periode3,NEVAL,Nenfant))","v":{"$error":"#NAME?"}},{"$f":"IF(INDEX(periode4,NEVAL,Nenfant)=\"\",0,INDEX(periode4,NEVAL,Nenfant))","v":{"$error":"#NAME?"}}]
[359,null,"CULTURE HUMANISTE",null,{"$error":"#NAME?"},{"$f":"IF(INDEX(periode3,NEVAL,Nenfant)=\"\",0,INDEX(periode3,NEVAL,Nenfant))","v":{"$error":"#NAME?"}},{"$f":"IF(INDEX(periode4,NEVAL,Nenfant)=\"\",0,INDEX(periode4,NEVAL,Nenfant))","v":{"$error":"#NAME?"}}]
[360,null,"HISTOIRE",null,{"$error":"#NAME?"},{"$f":"IF(INDEX(periode3,NEVAL,Nenfant)=\"\",0,INDEX(periode3,NEVAL,Nenfant))","v":{"$error":"#NAME?"}},{"$f":"IF(INDEX(periode4,NEVAL,Nenfant)=\"\",0,INDEX(periode4,NEVAL,Nenfant))","v":{"$error":"#NAME?"}}]
[361,null,"La Préhistoire",null,{"$error":"#NAME?"},{"$f":"IF(INDEX(periode3,NEVAL,Nenfant)=\"\",0,INDEX(periode3,NEVAL,Nenfant))","v":{"$error":"#NAME?"}},{"$f":"IF(INDEX(periode4,NEVAL,Nenfant)=\"\",0,INDEX(periode4,NEVAL,Nenfant))","v":{"$error":"#NAME?"}}]
[362,null,"Les premières traces de vie humaine, la maîtrise du fer et les débuts de l’agriculture, l’apparition de l’art.",null,{"$error":"#NAME?"},{"$f":"IF(INDEX(periode3,NEVAL,Nenfant)=\"\",0,INDEX(periode3,NEVAL,Nenfant))","v":{"$error":"#NAME?"}},{"$f":"IF(INDEX(periode4,NEVAL,Nenfant)=\"\",0,INDEX(periode4,NEVAL,Nenfant))","v":{"$error":"#NAME?"}}]
[363,null,"L’homme de Tautavel il y a près de 500 000 ans ; Lascaux il y a 17 000 ans.",null,{"$error":"#NAME?"},{"$f":"IF(INDEX(periode3,NEVAL,Nenfant)=\"\",0,INDEX(periode3,NEVAL,Nenfant))","v":{"$error":"#NAME?"}},{"$f":"IF(INDEX(periode4,NEVAL,Nenfant)=\"\",0,INDEX(periode4,NEVAL,Nenfant))","v":{"$error":"#NAME?"}}]
[364,null,"L’Antiquité",null,{"$error":"#NAME?"},{"$f":"IF(INDEX(periode3,NEVAL,Nenfant)=\"\",0,INDEX(periode3,NEVAL,Nenfant))","v":{"$error":"#NAME?"}},{"$f":"IF(INDEX(periode4,NEVAL,Nenfant)=\"\",0,INDEX(periode4,NEVAL,Nenfant))","v":{"$error":"#NAME?"}}]
[365,null,"Les Gaulois, la romanisation de la Gaule et la christianisation du monde gallo-romain.",null,{"$error":"#NAME?"},{"$f":"IF(INDEX(periode3,NEVAL,Nenfant)=\"\",0,INDEX(periode3,NEVAL,Nenfant))","v":{"$error":"#NAME?"}},{"$f":"IF(INDEX(periode4,NEVAL,Nenfant)=\"\",0,INDEX(periode4,NEVAL,Nenfant))","v":{"$error":"#NAME?"}}]
[366,null,"Jules César et Vercingétorix ; 52 avant notre ère : Alésia.",null,{"$error":"#NAME?"},{"$f":"IF(INDEX(periode3,NEVAL,Nenfant)=\"\",0,INDEX(periode3,NEVAL,Nenfant))","v":{"$error":"#NAME?"}},{"$f":"IF(INDEX(periode4,NEVAL,Nenfant)=\"\",0,INDEX(periode4,NEVAL,Nenfant))","v":{"$error":"#NAME?"}}]
[367,null,"Le Moyen Âge",null,{"$error":"#NAME?"},{"$f":"IF(INDEX(periode3,NEVAL,Nenfant)=\"\",0,INDEX(periode3,NEVAL,Nenfant))","v":{"$error":"#NAME?"}},{"$f":"IF(INDEX(periode4,NEVAL,Nenfant)=\"\",0,INDEX(periode4,NEVAL,Nenfant))","v":{"$error":"#NAME?"}}]
[368,null,"Après les invasions, la naissance et le développement du royaume de France. ",null,{"$error":"#NAME?"},{"$f":"IF(INDEX(periode3,NEVAL,Nenfant)=\"\",0,INDEX(periode3,NEVAL,Nenfant))","v":{"$error":"#NAME?"}},{"$f":"IF(INDEX(periode4,NEVAL,Nenfant)=\"\",0,INDEX(periode4,NEVAL,Nenfant))","v":{"$error":"#NAME?"}}]
[369,null,"Les relations entre seigneurs et paysans, le rôle de l’Église.",null,{"$error":"#NAME?"},{"$f":"IF(INDEX(periode3,NEVAL,Nenfant)=\"\",0,INDEX(periode3,NEVAL,Nenfant))","v":{"$error":"#NAME?"}},{"$f":"IF(INDEX(periode4,NEVAL,Nenfant)=\"\",0,INDEX(periode4,NEVAL,Nenfant))","v":{"$error":"#NAME?"}}]
[370,null,"Conflits et échanges en Méditerranée : les Croisades, la découverte d’une autre civilisation, l’Islam.",null,{"$error":"#NAME?"},{"$f":"IF(INDEX(periode3,NEVAL,Nenfant)=\"\",0,INDEX(periode3,NEVAL,Nenfant))","v":{"$error":"#NAME?"}},{"$f":"IF(INDEX(periode4,NEVAL,Nenfant)=\"\",0,INDEX(periode4,NEVAL,Nenfant))","v":{"$error":"#NAME?"}}]
[371,null,"La guerre de Cent Ans.",null,{"$error":"#NAME?"},{"$f":"IF(INDEX(periode3,NEVAL,Nenfant)=\"\",0,INDEX(periode3,NEVAL,Nenfant))","v":{"$error":"#NAME?"}},{"$f":"IF(INDEX(periode4,NEVAL,Nenfant)=\"\",0,INDEX(periode4,NEVAL,Nenfant))","v":{"$error":"#NAME?"}}]
[372,null,"Connaître des grandes dates et personnages:496 : baptême de Clovis ; 800 : couronnement de Charlemagne ; 987 : Hugues Capet, roi de France ; Saint Louis ; Jeanne d’Arc.",null,{"$error":"#NAME?"},{"$f":"IF(INDEX(periode3,NEVAL,Nenfant)=\"\",0,INDEX(periode3,NEVAL,Nenfant))","v":{"$error":"#NAME?"}},{"$f":"IF(INDEX(periode4,NEVAL,Nenfant)=\"\",0,INDEX(periode4,NEVAL,Nenfant))","v":{"$error":"#NAME?"}}]
[373,null,"Les Temps modernes",null,{"$error":"#NAME?"},{"$f":"IF(INDEX(periode3,NEVAL,Nenfant)=\"\",0,INDEX(periode3,NEVAL,Nenfant))","v":{"$error":"#NAME?"}},{"$f":"IF(INDEX(periode4,NEVAL,Nenfant)=\"\",0,INDEX(periode4,NEVAL,Nenfant))","v":{"$error":"#NAME?"}}]
[374,null,"Le temps des Découvertes et des premiers empires coloniaux, la traite des Noirs et l’esclavage. ",null,{"$error":"#NAME?"},{"$f":"IF(INDEX(periode3,NEVAL,Nenfant)=\"\",0,INDEX(periode3,NEVAL,Nenfant))","v":{"$error":"#NAME?"}},{"$f":"IF(INDEX(periode4,NEVAL,Nenfant)=\"\",0,INDEX(periode4,NEVAL,Nenfant))","v":{"$error":"#NAME?"}}]
[375,null,"La Renaissance : les arts, quelques découvertes scientifiques, catholiques et protestants.",null,{"$error":"#NAME?"},{"$f":"IF(INDEX(periode3,NEVAL,Nenfant)=\"\",0,INDEX(periode3,NEVAL,Nenfant))","v":{"$error":"#NAME?"}},{"$f":"IF(INDEX(periode4,NEVAL,Nenfant)=\"\",0,INDEX(periode4,NEVAL,Nenfant))","v":{"$error":"#NAME?"}}]
[376,null,"Louis XIV un monarque absolu.",null,{"$error":"#NAME?"},{"$f":"IF(INDEX(periode3,NEVAL,Nenfant)=\"\",0,INDEX(periode3,NEVAL,Nenfant))","v":{"$error":"#NAME?"}},{"$f":"IF(INDEX(periode4,NEVAL,Nenfant)=\"\",0,INDEX(periode4,NEVAL,Nenfant))","v":{"$error":"#NAME?"}}]
[377,null,"Les Lumières.",null,{"$error":"#NAME?"},{"$f":"IF(INDEX(periode3,NEVAL,Nenfant)=\"\",0,INDEX(periode3,NEVAL,Nenfant))","v":{"$error":"#NAME?"}},{"$f":"IF(INDEX(periode4,NEVAL,Nenfant)=\"\",0,INDEX(periode4,NEVAL,Nenfant))","v":{"$error":"#NAME?"}}]
[378,null,"Connaître les grandes dates  et personnage de Gutenberg; 1492 : Christophe Colomb en Amérique ; François Ier ; Copernic ; Galilée ; Henri IV et l’édit de Nantes ; Richelieu ; Louis XIV, Voltaire, Rousseau.",null,{"$error":"#NAME?"},{"$f":"IF(INDEX(periode3,NEVAL,Nenfant)=\"\",0,INDEX(periode3,NEVAL,Nenfant))","v":{"$error":"#NAME?"}},{"$f":"IF(INDEX(periode4,NEVAL,Nenfant)=\"\",0,INDEX(periode4,NEVAL,Nenfant))","v":{"$error":"#NAME?"}}]
[379,null,"La Révolution française et le XIXème siècle",null,{"$error":"#NAME?"},{"$f":"IF(INDEX(periode3,NEVAL,Nenfant)=\"\",0,INDEX(periode3,NEVAL,Nenfant))","v":{"$error":"#NAME?"}},{"$f":"IF(INDEX(periode4,NEVAL,Nenfant)=\"\",0,INDEX(periode4,NEVAL,Nenfant))","v":{"$error":"#NAME?"}}]
[380,null,"La Révolution française et le Premier empire : l’aspiration à la liberté et à l’égalité, la Terreur, les grandes réformes de Napoléon Bonaparte.",null,{"$error":"#NAME?"},{"$f":"IF(INDEX(periode3,NEVAL,Nenfant)=\"\",0,INDEX(periode3,NEVAL,Nenfant))","v":{"$error":"#NAME?"}},{"$f":"IF(INDEX(periode4,NEVAL,Nenfant)=\"\",0,INDEX(periode4,NEVAL,Nenfant))","v":{"$error":"#NAME?"}}]
[381,null,"La France dans une Europe en expansion industrielle et urbaine : le temps du travail en usine, des progrès techniques, des colonies et de l’émigration. ",null,{"$error":"#NAME?"},{"$f":"IF(INDEX(periode3,NEVAL,Nenfant)=\"\",0,INDEX(periode3,NEVAL,Nenfant))","v":{"$error":"#NAME?"}},{"$f":"IF(INDEX(periode4,NEVAL,Nenfant)=\"\",0,INDEX(periode4,NEVAL,Nenfant))","v":{"$error":"#NAME?"}}]
[382,null,"L’installation de la démocratie et de la République.",null,{"$error":"#NAME?"},{"$f":"IF(INDEX(periode3,NEVAL,Nenfant)=\"\",0,INDEX(periode3,NEVAL,Nenfant))","v":{"$error":"#NAME?"}},{"$f":"IF(INDEX(periode4,NEVAL,Nenfant)=\"\",0,INDEX(periode4,NEVAL,Nenfant))","v":{"$error":"#NAME?"}}]
[383,null,"Connaître les grandes dates du 14 juillet 1789 : prise de la Bastille à 1905 : loi de séparation des Églises et de l’État.",null,{"$error":"#NAME?"},{"$f":"IF(INDEX(periode3,NEVAL,Nenfant)=\"\",0,INDEX(periode3,NEVAL,Nenfant))","v":{"$error":"#NAME?"}},{"$f":"IF(INDEX(periode4,NEVAL,Nenfant)=\"\",0,INDEX(periode4,NEVAL,Nenfant))","v":{"$error":"#NAME?"}}]
[384,null,"Le XXème siècle et notre époque",null,{"$error":"#NAME?"},{"$f":"IF(INDEX(periode3,NEVAL,Nenfant)=\"\",0,INDEX(periode3,NEVAL,Nenfant))","v":{"$error":"#NAME?"}},{"$f":"IF(INDEX(periode4,NEVAL,Nenfant)=\"\",0,INDEX(periode4,NEVAL,Nenfant))","v":{"$error":"#NAME?"}}]
[385,null,"Les deux conflits mondiaux ;",null,{"$error":"#NAME?"},{"$f":"IF(INDEX(periode3,NEVAL,Nenfant)=\"\",0,INDEX(periode3,NEVAL,Nenfant))","v":{"$error":"#NAME?"}},{"$f":"IF(INDEX(periode4,NEVAL,Nenfant)=\"\",0,INDEX(periode4,NEVAL,Nenfant))","v":{"$error":"#NAME?"}}]
[386,null,"l’extermination des Juifs et des Tziganes par les nazis : un crime contre l’humanité.",null,{"$error":"#NAME?"},{"$f":"IF(INDEX(periode3,NEVAL,Nenfant)=\"\",0,INDEX(periode3,NEVAL,Nenfant))","v":{"$error":"#NAME?"}},{"$f":"IF(INDEX(periode4,NEVAL,Nenfant)=\"\",0,INDEX(periode4,NEVAL,Nenfant))","v":{"$error":"#NAME?"}}]
[387,null,"La révolution scientifique et technologique, la société de consommation.",null,{"$error":"#NAME?"},{"$f":"IF(INDEX(periode3,NEVAL,Nenfant)=\"\",0,INDEX(periode3,NEVAL,Nenfant))","v":{"$error":"#NAME?"}},{"$f":"IF(INDEX(periode4,NEVAL,Nenfant)=\"\",0,INDEX(periode4,NEVAL,Nenfant))","v":{"$error":"#NAME?"}}]
[388,null,"La Vème République.",null,{"$f":"IF(G398<>0,G398,(IF(F398<>0,F398,0)))","v":{"$error":"#NAME?"}},{"$f":"IF(INDEX(periode3,NEVAL,Nenfant)=\"\",0,INDEX(periode3,NEVAL,Nenfant))","v":{"$error":"#NAME?"}},{"$f":"IF(INDEX(periode4,NEVAL,Nenfant)=\"\",0,INDEX(periode4,NEVAL,Nenfant))","v":{"$error":"#NAME?"}}]
[389,null,"La construction européenne.",null,{"$error":"#NAME?"},{"$f":"IF(INDEX(periode3,NEVAL,Nenfant)=\"\",0,INDEX(periode3,NEVAL,Nenfant))","v":{"$error":"#NAME?"}},{"$f":"IF(INDEX(periode4,NEVAL,Nenfant)=\"\",0,INDEX(periode4,NEVAL,Nenfant))","v":{"$error":"#NAME?"}}]
[390,null,"Connaître les grandes dates du XX ème siècle, de Verdun à l'Euro ",null,{"$error":"#NAME?"},{"$f":"IF(INDEX(periode3,NEVAL,Nenfant)=\"\",0,INDEX(periode3,NEVAL,Nenfant))","v":{"$error":"#NAME?"}},{"$f":"IF(INDEX(periode4,NEVAL,Nenfant)=\"\",0,INDEX(periode4,NEVAL,Nenfant))","v":{"$error":"#NAME?"}}]
[391,null,"GEOGRAPHIE",null,{"$error":"#NAME?"},{"$f":"IF(INDEX(periode3,NEVAL,Nenfant)=\"\",0,INDEX(periode3,NEVAL,Nenfant))","v":{"$error":"#NAME?"}},{"$f":"IF(INDEX(periode4,NEVAL,Nenfant)=\"\",0,INDEX(periode4,NEVAL,Nenfant))","v":{"$error":"#NAME?"}}]
[392,null,"Des réalités géographiques locales à la région où vivent les élèves",null,{"$error":"#NAME?"},{"$f":"IF(INDEX(periode3,NEVAL,Nenfant)=\"\",0,INDEX(periode3,NEVAL,Nenfant))","v":{"$error":"#NAME?"}},{"$f":"IF(INDEX(periode4,NEVAL,Nenfant)=\"\",0,INDEX(periode4,NEVAL,Nenfant))","v":{"$error":"#NAME?"}}]
[393,null,"Les paysages de village, de ville ou de quartier, la circulation des hommes et des biens, les principales activités économiques ; ",null,{"$error":"#NAME?"},{"$f":"IF(INDEX(periode3,NEVAL,Nenfant)=\"\",0,INDEX(periode3,NEVAL,Nenfant))","v":{"$error":"#NAME?"}},{"$f":"IF(INDEX(periode4,NEVAL,Nenfant)=\"\",0,INDEX(periode4,NEVAL,Nenfant))","v":{"$error":"#NAME?"}}]
[394,null,"Un sujet d’étude au choix permettant une première approche du développement durable (en relation avec le programme de sciences expérimentales et de technologie) : l’eau dans la commune (besoins et traitement) ou les déchets (réduction et recyclage) ;",null,{"$error":"#NAME?"},{"$f":"IF(INDEX(periode3,NEVAL,Nenfant)=\"\",0,INDEX(periode3,NEVAL,Nenfant))","v":{"$error":"#NAME?"}},{"$f":"IF(INDEX(periode4,NEVAL,Nenfant)=\"\",0,INDEX(periode4,NEVAL,Nenfant))","v":{"$error":"#NAME?"}}]
[395,null,"Le département et la région.",null,{"$error":"#NAME?"},{"$f":"IF(INDEX(periode3,NEVAL,Nenfant)=\"\",0,INDEX(periode3,NEVAL,Nenfant))","v":{"$error":"#NAME?"}},{"$f":"IF(INDEX(periode4,NEVAL,Nenfant)=\"\",0,INDEX(periode4,NEVAL,Nenfant))","v":{"$error":"#NAME?"}}]
[396,null,"Étude de cartes.",null,{"$error":"#NAME?"},{"$f":"IF(INDEX(periode3,NEVAL,Nenfant)=\"\",0,INDEX(periode3,NEVAL,Nenfant))","v":{"$error":"#NAME?"}},{"$f":"IF(INDEX(periode4,NEVAL,Nenfant)=\"\",0,INDEX(periode4,NEVAL,Nenfant))","v":{"$error":"#NAME?"}}]
[397,null,"Le territoire français dans l’Union européenne",null,{"$error":"#NAME?"},{"$f":"IF(INDEX(periode3,NEVAL,Nenfant)=\"\",0,INDEX(periode3,NEVAL,Nenfant))","v":{"$error":"#NAME?"}},{"$f":"IF(INDEX(periode4,NEVAL,Nenfant)=\"\",0,INDEX(periode4,NEVAL,Nenfant))","v":{"$error":"#NAME?"}}]
[398,null,"les grands types de paysages ; ",null,{"$error":"#NAME?"},{"$f":"IF(INDEX(periode3,NEVAL,Nenfant)=\"\",0,INDEX(periode3,NEVAL,Nenfant))","v":{"$error":"#NAME?"}},{"$f":"IF(INDEX(periode4,NEVAL,Nenfant)=\"\",0,INDEX(periode4,NEVAL,Nenfant))","v":{"$error":"#NAME?"}}]
[399,null,"La diversité des régions françaises ;",null,{"$error":"#NAME?"},{"$f":"IF(INDEX(periode3,NEVAL,Nenfant)=\"\",0,INDEX(periode3,NEVAL,Nenfant))","v":{"$error":"#NAME?"}},{"$f":"IF(INDEX(periode4,NEVAL,Nenfant)=\"\",0,INDEX(periode4,NEVAL,Nenfant))","v":{"$error":"#NAME?"}}]
[400,null,"les frontières de la France et les pays de l’Union européenne.",null,{"$error":"#NAME?"},{"$f":"IF(INDEX(periode3,NEVAL,Nenfant)=\"\",0,INDEX(periode3,NEVAL,Nenfant))","v":{"$error":"#NAME?"}},{"$f":"IF(INDEX(periode4,NEVAL,Nenfant)=\"\",0,INDEX(periode4,NEVAL,Nenfant))","v":{"$error":"#NAME?"}}]
[401,null,"Principaux caractères du relief, de l’hydrographie et du climat en France et en Europe : étude de cartes.",null,{"$error":"#NAME?"},{"$f":"IF(INDEX(periode3,NEVAL,Nenfant)=\"\",0,INDEX(periode3,NEVAL,Nenfant))","v":{"$error":"#NAME?"}},{"$f":"IF(INDEX(periode4,NEVAL,Nenfant)=\"\",0,INDEX(periode4,NEVAL,Nenfant))","v":{"$error":"#NAME?"}}]
[402,null,"Le découpage administratif de la France (départements, régions) : étude de cartes.",null,{"$error":"#NAME?"},{"$f":"IF(INDEX(periode3,NEVAL,Nenfant)=\"\",0,INDEX(periode3,NEVAL,Nenfant))","v":{"$error":"#NAME?"}},{"$f":"IF(INDEX(periode4,NEVAL,Nenfant)=\"\",0,INDEX(periode4,NEVAL,Nenfant))","v":{"$error":"#NAME?"}}]
[403,null,"Les pays de l’Union européenne : étude de cartes.",null,{"$error":"#NAME?"},{"$f":"IF(INDEX(periode3,NEVAL,Nenfant)=\"\",0,INDEX(periode3,NEVAL,Nenfant))","v":{"$error":"#NAME?"}},{"$f":"IF(INDEX(periode4,NEVAL,Nenfant)=\"\",0,INDEX(periode4,NEVAL,Nenfant))","v":{"$error":"#NAME?"}}]
[404,null,"Les Français dans le contexte européen",null,{"$error":"#NAME?"},{"$f":"IF(INDEX(periode3,NEVAL,Nenfant)=\"\",0,INDEX(periode3,NEVAL,Nenfant))","v":{"$error":"#NAME?"}},{"$f":"IF(INDEX(periode4,NEVAL,Nenfant)=\"\",0,INDEX(periode4,NEVAL,Nenfant))","v":{"$error":"#NAME?"}}]
[405,null,"La répartition de la population sur le territoire national et en Europe ;",null,{"$error":"#NAME?"},{"$f":"IF(INDEX(periode3,NEVAL,Nenfant)=\"\",0,INDEX(periode3,NEVAL,Nenfant))","v":{"$error":"#NAME?"}},{"$f":"IF(INDEX(periode4,NEVAL,Nenfant)=\"\",0,INDEX(periode4,NEVAL,Nenfant))","v":{"$error":"#NAME?"}}]
[406,null,"Les principales villes en France et en Europe.",null,{"$error":"#NAME?"},{"$f":"IF(INDEX(periode3,NEVAL,Nenfant)=\"\",0,INDEX(periode3,NEVAL,Nenfant))","v":{"$error":"#NAME?"}},{"$f":"IF(INDEX(periode4,NEVAL,Nenfant)=\"\",0,INDEX(periode4,NEVAL,Nenfant))","v":{"$error":"#NAME?"}}]
[407,null,"Répartition de la population et localisation des principales villes : étude de cartes.",null,{"$error":"#NAME?"},{"$f":"IF(INDEX(periode3,NEVAL,Nenfant)=\"\",0,INDEX(periode3,NEVAL,Nenfant))","v":{"$error":"#NAME?"}},{"$f":"IF(INDEX(periode4,NEVAL,Nenfant)=\"\",0,INDEX(periode4,NEVAL,Nenfant))","v":{"$error":"#NAME?"}}]
[408,null,"Se déplacer en France et en Europe",null,{"$error":"#NAME?"},{"$f":"IF(INDEX(periode3,NEVAL,Nenfant)=\"\",0,INDEX(periode3,NEVAL,Nenfant))","v":{"$error":"#NAME?"}},{"$f":"IF(INDEX(periode4,NEVAL,Nenfant)=\"\",0,INDEX(periode4,NEVAL,Nenfant))","v":{"$error":"#NAME?"}}]
[409,null,"Un aéroport ;",null,{"$error":"#NAME?"},{"$f":"IF(INDEX(periode3,NEVAL,Nenfant)=\"\",0,INDEX(periode3,NEVAL,Nenfant))","v":{"$error":"#NAME?"}},{"$f":"IF(INDEX(periode4,NEVAL,Nenfant)=\"\",0,INDEX(periode4,NEVAL,Nenfant))","v":{"$error":"#NAME?"}}]
[410,null,"Le réseau autoroutier et le réseau TGV.",null,{"$error":"#NAME?"},{"$f":"IF(INDEX(periode3,NEVAL,Nenfant)=\"\",0,INDEX(periode3,NEVAL,Nenfant))","v":{"$error":"#NAME?"}},{"$f":"IF(INDEX(periode4,NEVAL,Nenfant)=\"\",0,INDEX(periode4,NEVAL,Nenfant))","v":{"$error":"#NAME?"}}]
[411,null,"Le réseau ferré à grande vitesse en Europe : étude de cartes.",null,{"$error":"#NAME?"},{"$f":"IF(INDEX(periode3,NEVAL,Nenfant)=\"\",0,INDEX(periode3,NEVAL,Nenfant))","v":{"$error":"#NAME?"}},{"$f":"IF(INDEX(periode4,NEVAL,Nenfant)=\"\",0,INDEX(periode4,NEVAL,Nenfant))","v":{"$error":"#NAME?"}}]
[412,null,"Produire en France : Quatre types d’espaces d’activités : une zone industrialo-portuaire, un centre tertiaire, un espace agricole et une zone de tourisme.",null,{"$error":"#NAME?"},{"$f":"IF(INDEX(periode3,NEVAL,Nenfant)=\"\",0,INDEX(periode3,NEVAL,Nenfant))","v":{"$error":"#NAME?"}},{"$f":"IF(INDEX(periode4,NEVAL,Nenfant)=\"\",0,INDEX(periode4,NEVAL,Nenfant))","v":{"$error":"#NAME?"}}]
[413,null,"La France dans le monde",null,{"$error":"#NAME?"},{"$f":"IF(INDEX(periode3,NEVAL,Nenfant)=\"\",0,INDEX(periode3,NEVAL,Nenfant))","v":{"$error":"#NAME?"}},{"$f":"IF(INDEX(periode4,NEVAL,Nenfant)=\"\",0,INDEX(periode4,NEVAL,Nenfant))","v":{"$error":"#NAME?"}}]
[414,null,"Les territoires français dans le monde ;",null,{"$error":"#NAME?"},{"$f":"IF(INDEX(periode3,NEVAL,Nenfant)=\"\",0,INDEX(periode3,NEVAL,Nenfant))","v":{"$error":"#NAME?"}},{"$f":"IF(INDEX(periode4,NEVAL,Nenfant)=\"\",0,INDEX(periode4,NEVAL,Nenfant))","v":{"$error":"#NAME?"}}]
[415,null,"La langue française dans le monde (en relation avec le programme d’instruction civique et morale).",null,{"$error":"#NAME?"},{"$f":"IF(INDEX(periode3,NEVAL,Nenfant)=\"\",0,INDEX(periode3,NEVAL,Nenfant))","v":{"$error":"#NAME?"}},{"$f":"IF(INDEX(periode4,NEVAL,Nenfant)=\"\",0,INDEX(periode4,NEVAL,Nenfant))","v":{"$error":"#NAME?"}}]
[416,null,"PRATIQUES ARTISTIQUES ET HISTOIRE DE L'ART",null,{"$error":"#NAME?"},{"$f":"IF(INDEX(periode3,NEVAL,Nenfant)=\"\",0,INDEX(periode3,NEVAL,Nenfant))","v":{"$error":"#NAME?"}},{"$f":"IF(INDEX(periode4,NEVAL,Nenfant)=\"\",0,INDEX(periode4,NEVAL,Nenfant))","v":{"$error":"#NAME?"}}]
[417,null,"Arts visuels",null,{"$error":"#NAME?"},{"$f":"IF(INDEX(periode3,NEVAL,Nenfant)=\"\",0,INDEX(periode3,NEVAL,Nenfant))","v":{"$error":"#NAME?"}},{"$f":"IF(INDEX(periode4,NEVAL,Nenfant)=\"\",0,INDEX(periode4,NEVAL,Nenfant))","v":{"$error":"#NAME?"}}]
[418,null,"Acquérir des savoirs et des techniques spécifiques.",null,{"$error":"#NAME?"},{"$f":"IF(INDEX(periode3,NEVAL,Nenfant)=\"\",0,INDEX(periode3,NEVAL,Nenfant))","v":{"$error":"#NAME?"}},{"$f":"IF(INDEX(periode4,NEVAL,Nenfant)=\"\",0,INDEX(periode4,NEVAL,Nenfant))","v":{"$error":"#NAME?"}}]
[419,null,"Distinguer les grandes catégories de la création artistique (littérature, musique, danse, théâtre, cinéma, dessin, peinture, sculpture, architecture)",null,{"$error":"#NAME?"},{"$f":"IF(INDEX(periode3,NEVAL,Nenfant)=\"\",0,INDEX(periode3,NEVAL,Nenfant))","v":{"$error":"#NAME?"}},{"$f":"IF(INDEX(periode4,NEVAL,Nenfant)=\"\",0,INDEX(periode4,NEVAL,Nenfant))","v":{"$error":"#NAME?"}}]
[420,null,"Distinguer la valeur d’usage de la valeur esthétique des objets étudiés.",null,{"$error":"#NAME?"},{"$f":"IF(INDEX(periode3,NEVAL,Nenfant)=\"\",0,INDEX(periode3,NEVAL,Nenfant))","v":{"$error":"#NAME?"}},{"$f":"IF(INDEX(periode4,NEVAL,Nenfant)=\"\",0,INDEX(periode4,NEVAL,Nenfant))","v":{"$error":"#NAME?"}}]
[421,null,"Pratiquer le dessin et diverses formes d’expressions visuelles et plastiques",null,{"$error":"#NAME?"},{"$f":"IF(INDEX(periode3,NEVAL,Nenfant)=\"\",0,INDEX(periode3,NEVAL,Nenfant))","v":{"$error":"#NAME?"}},{"$f":"IF(INDEX(periode4,NEVAL,Nenfant)=\"\",0,INDEX(periode4,NEVAL,Nenfant))","v":{"$error":"#NAME?"}}]
[422,null,"Inventer et réaliser des textes, des œuvres plastiques, des chorégraphies ou des enchaînements, à visée artistique ou expressive",null,{"$error":"#NAME?"},{"$f":"IF(INDEX(periode3,NEVAL,Nenfant)=\"\",0,INDEX(periode3,NEVAL,Nenfant))","v":{"$error":"#NAME?"}},{"$f":"IF(INDEX(periode4,NEVAL,Nenfant)=\"\",0,INDEX(periode4,NEVAL,Nenfant))","v":{"$error":"#NAME?"}}]
[423,null,"Éducation musicale",null,{"$error":"#NAME?"},{"$f":"IF(INDEX(periode3,NEVAL,Nenfant)=\"\",0,INDEX(periode3,NEVAL,Nenfant))","v":{"$error":"#NAME?"}},{"$f":"IF(INDEX(periode4,NEVAL,Nenfant)=\"\",0,INDEX(periode4,NEVAL,Nenfant))","v":{"$error":"#NAME?"}}]
[424,null,"S’exercer à comparer des œuvres musicales.",null,{"$error":"#NAME?"},{"$f":"IF(INDEX(periode3,NEVAL,Nenfant)=\"\",0,INDEX(periode3,NEVAL,Nenfant))","v":{"$error":"#NAME?"}},{"$f":"IF(INDEX(periode4,NEVAL,Nenfant)=\"\",0,INDEX(periode4,NEVAL,Nenfant))","v":{"$error":"#NAME?"}}]
[425,null,"Découvrir la variété des genres et des styles selon les époques et les cultures.",null,{"$error":"#NAME?"},{"$f":"IF(INDEX(periode3,NEVAL,Nenfant)=\"\",0,INDEX(periode3,NEVAL,Nenfant))","v":{"$error":"#NAME?"}},{"$f":"IF(INDEX(periode4,NEVAL,Nenfant)=\"\",0,INDEX(periode4,NEVAL,Nenfant))","v":{"$error":"#NAME?"}}]
[426,null,"Percevoir et identifier des éléments musicaux caractéristiques de la musique écoutée.",null,{"$error":"#NAME?"},{"$f":"IF(INDEX(periode3,NEVAL,Nenfant)=\"\",0,INDEX(periode3,NEVAL,Nenfant))","v":{"$error":"#NAME?"}},{"$f":"IF(INDEX(periode4,NEVAL,Nenfant)=\"\",0,INDEX(periode4,NEVAL,Nenfant))","v":{"$error":"#NAME?"}}]
[427,null,"Interpréter de mémoire une chanson, participer à un jeu rythmique ; repérer des éléments musicaux caractéristiques, simples",null,{"$error":"#NAME?"},{"$f":"IF(INDEX(periode3,NEVAL,Nenfant)=\"\",0,INDEX(periode3,NEVAL,Nenfant))","v":{"$error":"#NAME?"}},{"$f":"IF(INDEX(periode4,NEVAL,Nenfant)=\"\",0,INDEX(periode4,NEVAL,Nenfant))","v":{"$error":"#NAME?"}}]
[428,null,"Histoire de l'art",null,{"$error":"#NAME?"},{"$f":"IF(INDEX(periode3,NEVAL,Nenfant)=\"\",0,INDEX(periode3,NEVAL,Nenfant))","v":{"$error":"#NAME?"}},{"$f":"IF(INDEX(periode4,NEVAL,Nenfant)=\"\",0,INDEX(periode4,NEVAL,Nenfant))","v":{"$error":"#NAME?"}}]
[429,null,"Se situer parmi les productions artistiques de l’humanité et les différentes cultures considérées dans le temps et dans l’espace.",null,{"$error":"#NAME?"},{"$f":"IF(INDEX(periode3,NEVAL,Nenfant)=\"\",0,INDEX(periode3,NEVAL,Nenfant))","v":{"$error":"#NAME?"}},{"$f":"IF(INDEX(periode4,NEVAL,Nenfant)=\"\",0,INDEX(periode4,NEVAL,Nenfant))","v":{"$error":"#NAME?"}}]
[430,null,"Découvrir les richesses, la permanence et l’universalité de la création artistique.",null,{"$error":"#NAME?"},{"$f":"IF(INDEX(periode3,NEVAL,Nenfant)=\"\",0,INDEX(periode3,NEVAL,Nenfant))","v":{"$error":"#NAME?"}},{"$f":"IF(INDEX(periode4,NEVAL,Nenfant)=\"\",0,INDEX(periode4,NEVAL,Nenfant))","v":{"$error":"#NAME?"}}]
[431,null,"Éveiller sa curiosité pour les chefs-d’œuvre ou les activités artistiques de leur ville ou de leur région.",null,{"$error":"#NAME?"},{"$f":"IF(INDEX(periode3,NEVAL,Nenfant)=\"\",0,INDEX(periode3,NEVAL,Nenfant))","v":{"$error":"#NAME?"}},{"$f":"IF(INDEX(periode4,NEVAL,Nenfant)=\"\",0,INDEX(periode4,NEVAL,Nenfant))","v":{"$error":"#NAME?"}}]
[432,null,"La Préhistoire et l’Antiquité gallo-romaine",null,{"$error":"#NAME?"},{"$f":"IF(INDEX(periode3,NEVAL,Nenfant)=\"\",0,INDEX(periode3,NEVAL,Nenfant))","v":{"$error":"#NAME?"}},{"$f":"IF(INDEX(periode4,NEVAL,Nenfant)=\"\",0,INDEX(periode4,NEVAL,Nenfant))","v":{"$error":"#NAME?"}}]
[433,null,"Architecture préhistorique (un ensemble mégalithique) et antique (des monuments gallo-romains).",null,{"$error":"#NAME?"},{"$f":"IF(INDEX(periode3,NEVAL,Nenfant)=\"\",0,INDEX(periode3,NEVAL,Nenfant))","v":{"$error":"#NAME?"}},{"$f":"IF(INDEX(periode4,NEVAL,Nenfant)=\"\",0,INDEX(periode4,NEVAL,Nenfant))","v":{"$error":"#NAME?"}}]
[434,null,"Une mosaïque gallo-romaine.",null,{"$error":"#NAME?"},{"$f":"IF(INDEX(periode3,NEVAL,Nenfant)=\"\",0,INDEX(periode3,NEVAL,Nenfant))","v":{"$error":"#NAME?"}},{"$f":"IF(INDEX(periode4,NEVAL,Nenfant)=\"\",0,INDEX(periode4,NEVAL,Nenfant))","v":{"$error":"#NAME?"}}]
[435,null,"Peintures de Lascaux ; une sculpture antique.",null,{"$error":"#NAME?"},{"$f":"IF(INDEX(periode3,NEVAL,Nenfant)=\"\",0,INDEX(periode3,NEVAL,Nenfant))","v":{"$error":"#NAME?"}},{"$f":"IF(INDEX(periode4,NEVAL,Nenfant)=\"\",0,INDEX(periode4,NEVAL,Nenfant))","v":{"$error":"#NAME?"}}]
[436,null,"Le Moyen Âge",null,{"$error":"#NAME?"},{"$f":"IF(INDEX(periode3,NEVAL,Nenfant)=\"\",0,INDEX(periode3,NEVAL,Nenfant))","v":{"$error":"#NAME?"}},{"$f":"IF(INDEX(periode4,NEVAL,Nenfant)=\"\",0,INDEX(periode4,NEVAL,Nenfant))","v":{"$error":"#NAME?"}}]
[437,null,"Architecture religieuse (une église romane ; une église gothique ; une mosquée ; une abbaye) ; bâtiments et sites militaires et civils (un château fort ; une cité fortifiée ; une maison à colombage).",null,{"$error":"#NAME?"},{"$f":"IF(INDEX(periode3,NEVAL,Nenfant)=\"\",0,INDEX(periode3,NEVAL,Nenfant))","v":{"$error":"#NAME?"}},{"$f":"IF(INDEX(periode4,NEVAL,Nenfant)=\"\",0,INDEX(periode4,NEVAL,Nenfant))","v":{"$error":"#NAME?"}}]
[438,null,"Un extrait d’un roman de chevalerie.",null,{"$error":"#NAME?"},{"$f":"IF(INDEX(periode3,NEVAL,Nenfant)=\"\",0,INDEX(periode3,NEVAL,Nenfant))","v":{"$error":"#NAME?"}},{"$f":"IF(INDEX(periode4,NEVAL,Nenfant)=\"\",0,INDEX(periode4,NEVAL,Nenfant))","v":{"$error":"#NAME?"}}]
[439,null,"Un costume, un vitrail, une tapisserie.",null,{"$error":"#NAME?"},{"$f":"IF(INDEX(periode3,NEVAL,Nenfant)=\"\",0,INDEX(periode3,NEVAL,Nenfant))","v":{"$error":"#NAME?"}},{"$f":"IF(INDEX(periode4,NEVAL,Nenfant)=\"\",0,INDEX(periode4,NEVAL,Nenfant))","v":{"$error":"#NAME?"}}]
[440,null,"Musique religieuse (un chant grégorien) et musique profane (une chanson de troubadour).",null,{"$error":"#NAME?"},{"$f":"IF(INDEX(periode3,NEVAL,Nenfant)=\"\",0,INDEX(periode3,NEVAL,Nenfant))","v":{"$error":"#NAME?"}},{"$f":"IF(INDEX(periode4,NEVAL,Nenfant)=\"\",0,INDEX(periode4,NEVAL,Nenfant))","v":{"$error":"#NAME?"}}]
[441,null,"Une fête et un spectacle de la culture populaire et nobiliaire (le carnaval, le tournoi).",null,{"$error":"#NAME?"},{"$f":"IF(INDEX(periode3,NEVAL,Nenfant)=\"\",0,INDEX(periode3,NEVAL,Nenfant))","v":{"$error":"#NAME?"}},{"$f":"IF(INDEX(periode4,NEVAL,Nenfant)=\"\",0,INDEX(periode4,NEVAL,Nenfant))","v":{"$error":"#NAME?"}}]
[442,null,"Une fresque ; une sculpture romane ; une sculpture gothique ; un manuscrit enluminé.",null,{"$error":"#NAME?"},{"$f":"IF(INDEX(periode3,NEVAL,Nenfant)=\"\",0,INDEX(periode3,NEVAL,Nenfant))","v":{"$error":"#NAME?"}},{"$f":"IF(INDEX(periode4,NEVAL,Nenfant)=\"\",0,INDEX(periode4,NEVAL,Nenfant))","v":{"$error":"#NAME?"}}]
[443,null,"Les temps modernes",null,{"$error":"#NAME?"},{"$f":"IF(INDEX(periode3,NEVAL,Nenfant)=\"\",0,INDEX(periode3,NEVAL,Nenfant))","v":{"$error":"#NAME?"}},{"$f":"IF(INDEX(periode4,NEVAL,Nenfant)=\"\",0,INDEX(periode4,NEVAL,Nenfant))","v":{"$error":"#NAME?"}}]
[444,null,"Une architecture royale (un château de la Loire, Versailles), une architecture militaire (une fortification) ; une place urbaine ; un jardin à la française.",null,{"$error":"#NAME?"},{"$f":"IF(INDEX(periode3,NEVAL,Nenfant)=\"\",0,INDEX(periode3,NEVAL,Nenfant))","v":{"$error":"#NAME?"}},{"$f":"IF(INDEX(periode4,NEVAL,Nenfant)=\"\",0,INDEX(periode4,NEVAL,Nenfant))","v":{"$error":"#NAME?"}}]
[445,null,"Des poésies de la Renaissance ; un conte ou une fable de l’époque classique.",null,{"$error":"#NAME?"},{"$f":"IF(INDEX(periode3,NEVAL,Nenfant)=\"\",0,INDEX(periode3,NEVAL,Nenfant))","v":{"$error":"#NAME?"}},{"$f":"IF(INDEX(periode4,NEVAL,Nenfant)=\"\",0,INDEX(periode4,NEVAL,Nenfant))","v":{"$error":"#NAME?"}}]
[446,null,"Une pièce de mobilier et de costume ; un moyen de transport ; une tapisserie.",null,{"$error":"#NAME?"},{"$f":"IF(INDEX(periode3,NEVAL,Nenfant)=\"\",0,INDEX(periode3,NEVAL,Nenfant))","v":{"$error":"#NAME?"}},{"$f":"IF(INDEX(periode4,NEVAL,Nenfant)=\"\",0,INDEX(periode4,NEVAL,Nenfant))","v":{"$error":"#NAME?"}}]
[447,null,"Musique instrumentale et vocale du répertoire baroque et classique (une symphonie ; une œuvre vocale religieuse).",null,{"$error":"#NAME?"},{"$f":"IF(INDEX(periode3,NEVAL,Nenfant)=\"\",0,INDEX(periode3,NEVAL,Nenfant))","v":{"$error":"#NAME?"}},{"$f":"IF(INDEX(periode4,NEVAL,Nenfant)=\"\",0,INDEX(periode4,NEVAL,Nenfant))","v":{"$error":"#NAME?"}}]
[448,null,"Une chanson du répertoire populaire.",null,{"$error":"#NAME?"},{"$f":"IF(INDEX(periode3,NEVAL,Nenfant)=\"\",0,INDEX(periode3,NEVAL,Nenfant))","v":{"$error":"#NAME?"}},{"$f":"IF(INDEX(periode4,NEVAL,Nenfant)=\"\",0,INDEX(periode4,NEVAL,Nenfant))","v":{"$error":"#NAME?"}}]
[449,null,"Un extrait de pièce de théâtre.",null,{"$error":"#NAME?"},{"$f":"IF(INDEX(periode3,NEVAL,Nenfant)=\"\",0,INDEX(periode3,NEVAL,Nenfant))","v":{"$error":"#NAME?"}},{"$f":"IF(INDEX(periode4,NEVAL,Nenfant)=\"\",0,INDEX(periode4,NEVAL,Nenfant))","v":{"$error":"#NAME?"}}]
[450,null,"Des peintures et sculptures de la Renaissance, des XVIIème et XVIIIème siècles (Italie, Flandres, France).",null,{"$error":"#NAME?"},{"$f":"IF(INDEX(periode3,NEVAL,Nenfant)=\"\",0,INDEX(periode3,NEVAL,Nenfant))","v":{"$error":"#NAME?"}},{"$f":"IF(INDEX(periode4,NEVAL,Nenfant)=\"\",0,INDEX(periode4,NEVAL,Nenfant))","v":{"$error":"#NAME?"}}]
[451,null,"Le XIXème siècle",null,{"$error":"#NAME?"},{"$f":"IF(INDEX(periode3,NEVAL,Nenfant)=\"\",0,INDEX(periode3,NEVAL,Nenfant))","v":{"$error":"#NAME?"}},{"$f":"IF(INDEX(periode4,NEVAL,Nenfant)=\"\",0,INDEX(periode4,NEVAL,Nenfant))","v":{"$error":"#NAME?"}}]
[452,null,"Une architecture industrielle (une gare).",null,{"$f":"IF(G462<>0,G462,(IF(F462<>0,F462,0)))","v":{"$error":"#NAME?"}},{"$f":"IF(INDEX(periode3,NEVAL,Nenfant)=\"\",0,INDEX(periode3,NEVAL,Nenfant))","v":{"$error":"#NAME?"}},{"$f":"IF(INDEX(periode4,NEVAL,Nenfant)=\"\",0,INDEX(periode4,NEVAL,Nenfant))","v":{"$error":"#NAME?"}}]
[453,null,"Urbanisme : un plan de ville.",null,{"$error":"#NAME?"},{"$f":"IF(INDEX(periode3,NEVAL,Nenfant)=\"\",0,INDEX(periode3,NEVAL,Nenfant))","v":{"$error":"#NAME?"}},{"$f":"IF(INDEX(periode4,NEVAL,Nenfant)=\"\",0,INDEX(periode4,NEVAL,Nenfant))","v":{"$error":"#NAME?"}}]
[454,null,"Des récits, des poésies.",null,{"$error":"#NAME?"},{"$f":"IF(INDEX(periode3,NEVAL,Nenfant)=\"\",0,INDEX(periode3,NEVAL,Nenfant))","v":{"$error":"#NAME?"}},{"$f":"IF(INDEX(periode4,NEVAL,Nenfant)=\"\",0,INDEX(periode4,NEVAL,Nenfant))","v":{"$error":"#NAME?"}}]
[455,null,"Des éléments de mobilier et de décoration et d’arts de la table (Sèvres, Limoges).",null,{"$error":"#NAME?"},{"$f":"IF(INDEX(periode3,NEVAL,Nenfant)=\"\",0,INDEX(periode3,NEVAL,Nenfant))","v":{"$error":"#NAME?"}},{"$f":"IF(INDEX(periode4,NEVAL,Nenfant)=\"\",0,INDEX(periode4,NEVAL,Nenfant))","v":{"$error":"#NAME?"}}]
[456,null,"Extraits musicaux de l’époque romantique (symphonie, opéra).",null,{"$error":"#NAME?"},{"$f":"IF(INDEX(periode3,NEVAL,Nenfant)=\"\",0,INDEX(periode3,NEVAL,Nenfant))","v":{"$error":"#NAME?"}},{"$f":"IF(INDEX(periode4,NEVAL,Nenfant)=\"\",0,INDEX(periode4,NEVAL,Nenfant))","v":{"$error":"#NAME?"}}]
[457,null,"Un extrait de pièce de théâtre, de ballet.",null,{"$error":"#NAME?"},{"$f":"IF(INDEX(periode3,NEVAL,Nenfant)=\"\",0,INDEX(periode3,NEVAL,Nenfant))","v":{"$error":"#NAME?"}},{"$f":"IF(INDEX(periode4,NEVAL,Nenfant)=\"\",0,INDEX(periode4,NEVAL,Nenfant))","v":{"$error":"#NAME?"}}]
[458,null,"Quelques œuvres illustrant les principaux mouvements picturaux (romantisme, réalisme, impressionnisme) ; un maître de la sculpture ; un court-métrage des débuts du cinématographe ; des photographies d’époque.",null,{"$error":"#NAME?"},{"$f":"IF(INDEX(periode3,NEVAL,Nenfant)=\"\",0,INDEX(periode3,NEVAL,Nenfant))","v":{"$error":"#NAME?"}},{"$f":"IF(INDEX(periode4,NEVAL,Nenfant)=\"\",0,INDEX(periode4,NEVAL,Nenfant))","v":{"$error":"#NAME?"}}]
[459,null,"Le XXème siècle et notre époque",null,{"$error":"#NAME?"},{"$f":"IF(INDEX(periode3,NEVAL,Nenfant)=\"\",0,INDEX(periode3,NEVAL,Nenfant))","v":{"$error":"#NAME?"}},{"$f":"IF(INDEX(periode4,NEVAL,Nenfant)=\"\",0,INDEX(periode4,NEVAL,Nenfant))","v":{"$error":"#NAME?"}}]
[460,null,"Architecture : ouvrages d’art et habitat.",null,{"$error":"#NAME?"},{"$f":"IF(INDEX(periode3,NEVAL,Nenfant)=\"\",0,INDEX(periode3,NEVAL,Nenfant))","v":{"$error":"#NAME?"}},{"$f":"IF(INDEX(periode4,NEVAL,Nenfant)=\"\",0,INDEX(periode4,NEVAL,Nenfant))","v":{"$error":"#NAME?"}}]
[461,null,"Des récits, nouvelles, récits illustrés, poésies.",null,{"$error":"#NAME?"},{"$f":"IF(INDEX(periode3,NEVAL,Nenfant)=\"\",0,INDEX(periode3,NEVAL,Nenfant))","v":{"$error":"#NAME?"}},{"$f":"IF(INDEX(periode4,NEVAL,Nenfant)=\"\",0,INDEX(periode4,NEVAL,Nenfant))","v":{"$error":"#NAME?"}}]
[462,null,"Design graphique (une affiche) ; design de transport (un train).",null,{"$error":"#NAME?"},{"$f":"IF(INDEX(periode3,NEVAL,Nenfant)=\"\",0,INDEX(periode3,NEVAL,Nenfant))","v":{"$error":"#NAME?"}},{"$f":"IF(INDEX(periode4,NEVAL,Nenfant)=\"\",0,INDEX(periode4,NEVAL,Nenfant))","v":{"$error":"#NAME?"}}]
[463,null,"Des musiques du XXème siècle (dont jazz, musiques de films, chansons).",null,{"$error":"#NAME?"},{"$f":"IF(INDEX(periode3,NEVAL,Nenfant)=\"\",0,INDEX(periode3,NEVAL,Nenfant))","v":{"$error":"#NAME?"}},{"$f":"IF(INDEX(periode4,NEVAL,Nenfant)=\"\",0,INDEX(periode4,NEVAL,Nenfant))","v":{"$error":"#NAME?"}}]
[464,null,"Spectacle de mime, de cirque, de théâtre ; un extrait d’un spectacle de danse moderne ou contemporaine.",null,{"$error":"#NAME?"},{"$f":"IF(INDEX(periode3,NEVAL,Nenfant)=\"\",0,INDEX(periode3,NEVAL,Nenfant))","v":{"$error":"#NAME?"}},{"$f":"IF(INDEX(periode4,NEVAL,Nenfant)=\"\",0,INDEX(periode4,NEVAL,Nenfant))","v":{"$error":"#NAME?"}}]
[465,null,"Quelques œuvres illustrant les principaux mouvements picturaux contemporains ; une sculpture ; des œuvres cinématographiques (dont le cinéma muet) et photographiques ; des œuvres cinématographiques illustrant les différentes périodes historiques.",null,{"$error":"#NAME?"},{"$f":"IF(INDEX(periode3,NEVAL,Nenfant)=\"\",0,INDEX(periode3,NEVAL,Nenfant))","v":{"$error":"#NAME?"}},{"$f":"IF(INDEX(periode4,NEVAL,Nenfant)=\"\",0,INDEX(periode4,NEVAL,Nenfant))","v":{"$error":"#NAME?"}}]
[466,null,"LVE",null,{"$error":"#NAME?"},{"$f":"IF(INDEX(periode3,NEVAL,Nenfant)=\"\",0,INDEX(periode3,NEVAL,Nenfant))","v":{"$error":"#NAME?"}},{"$f":"IF(INDEX(periode4,NEVAL,Nenfant)=\"\",0,INDEX(periode4,NEVAL,Nenfant))","v":{"$error":"#NAME?"}}]
[467,null,"Réagir et dialoguer",null,{"$error":"#NAME?"},{"$f":"IF(INDEX(periode3,NEVAL,Nenfant)=\"\",0,INDEX(periode3,NEVAL,Nenfant))","v":{"$error":"#NAME?"}},{"$f":"IF(INDEX(periode4,NEVAL,Nenfant)=\"\",0,INDEX(periode4,NEVAL,Nenfant))","v":{"$error":"#NAME?"}}]
[468,null,"Communiquer, au besoin avec des pauses pour chercher ses mots",null,{"$error":"#NAME?"},{"$f":"IF(INDEX(periode3,NEVAL,Nenfant)=\"\",0,INDEX(periode3,NEVAL,Nenfant))","v":{"$error":"#NAME?"}},{"$f":"IF(INDEX(periode4,NEVAL,Nenfant)=\"\",0,INDEX(periode4,NEVAL,Nenfant))","v":{"$error":"#NAME?"}}]
[469,null,"Se présenter ; présenter quelqu’un ; demander à quelqu’un de ses nouvelles en utilisant les formes de politesse les plus élémentaires ; accueil et prise de congé",null,{"$error":"#NAME?"},{"$f":"IF(INDEX(periode3,NEVAL,Nenfant)=\"\",0,INDEX(periode3,NEVAL,Nenfant))","v":{"$error":"#NAME?"}},{"$f":"IF(INDEX(periode4,NEVAL,Nenfant)=\"\",0,INDEX(periode4,NEVAL,Nenfant))","v":{"$error":"#NAME?"}}]
[470,null,"Répondre à des questions et en poser (sujets familiers ou besoins immédiats)",null,{"$error":"#NAME?"},{"$f":"IF(INDEX(periode3,NEVAL,Nenfant)=\"\",0,INDEX(periode3,NEVAL,Nenfant))","v":{"$error":"#NAME?"}},{"$f":"IF(INDEX(periode4,NEVAL,Nenfant)=\"\",0,INDEX(periode4,NEVAL,Nenfant))","v":{"$error":"#NAME?"}}]
[471,null,"Épeler des mots familiers",null,{"$error":"#NAME?"},{"$f":"IF(INDEX(periode3,NEVAL,Nenfant)=\"\",0,INDEX(periode3,NEVAL,Nenfant))","v":{"$error":"#NAME?"}},{"$f":"IF(INDEX(periode4,NEVAL,Nenfant)=\"\",0,INDEX(periode4,NEVAL,Nenfant))","v":{"$error":"#NAME?"}}]
[472,null,"Comprendre à l'oral",null,{"$error":"#NAME?"},{"$f":"IF(INDEX(periode3,NEVAL,Nenfant)=\"\",0,INDEX(periode3,NEVAL,Nenfant))","v":{"$error":"#NAME?"}},{"$f":"IF(INDEX(periode4,NEVAL,Nenfant)=\"\",0,INDEX(periode4,NEVAL,Nenfant))","v":{"$error":"#NAME?"}}]
[473,null,"Comprendre les consignes de classe",null,{"$error":"#NAME?"},{"$f":"IF(INDEX(periode3,NEVAL,Nenfant)=\"\",0,INDEX(periode3,NEVAL,Nenfant))","v":{"$error":"#NAME?"}},{"$f":"IF(INDEX(periode4,NEVAL,Nenfant)=\"\",0,INDEX(periode4,NEVAL,Nenfant))","v":{"$error":"#NAME?"}}]
[474,null,"Comprendre des mots familiers et des expressions très courantes",null,{"$error":"#NAME?"},{"$f":"IF(INDEX(periode3,NEVAL,Nenfant)=\"\",0,INDEX(periode3,NEVAL,Nenfant))","v":{"$error":"#NAME?"}},{"$f":"IF(INDEX(periode4,NEVAL,Nenfant)=\"\",0,INDEX(periode4,NEVAL,Nenfant))","v":{"$error":"#NAME?"}}]
[475,null,"Suivre des instructions courtes et simples",null,{"$error":"#NAME?"},{"$f":"IF(INDEX(periode3,NEVAL,Nenfant)=\"\",0,INDEX(periode3,NEVAL,Nenfant))","v":{"$error":"#NAME?"}},{"$f":"IF(INDEX(periode4,NEVAL,Nenfant)=\"\",0,INDEX(periode4,NEVAL,Nenfant))","v":{"$error":"#NAME?"}}]
[476,null,"Parler en continu",null,{"$error":"#NAME?"},{"$f":"IF(INDEX(periode3,NEVAL,Nenfant)=\"\",0,INDEX(periode3,NEVAL,Nenfant))","v":{"$error":"#NAME?"}},{"$f":"IF(INDEX(periode4,NEVAL,Nenfant)=\"\",0,INDEX(periode4,NEVAL,Nenfant))","v":{"$error":"#NAME?"}}]
[477,null,"Reproduire un modèle oral",null,{"$error":"#NAME?"},{"$f":"IF(INDEX(periode3,NEVAL,Nenfant)=\"\",0,INDEX(periode3,NEVAL,Nenfant))","v":{"$error":"#NAME?"}},{"$f":"IF(INDEX(periode4,NEVAL,Nenfant)=\"\",0,INDEX(periode4,NEVAL,Nenfant))","v":{"$error":"#NAME?"}}]
[478,null,"Utiliser des expressions et des phrases proches des modèles rencontrés lors des apprentissages",null,{"$error":"#NAME?"},{"$f":"IF(INDEX(periode3,NEVAL,Nenfant)=\"\",0,INDEX(periode3,NEVAL,Nenfant))","v":{"$error":"#NAME?"}},{"$f":"IF(INDEX(periode4,NEVAL,Nenfant)=\"\",0,INDEX(periode4,NEVAL,Nenfant))","v":{"$error":"#NAME?"}}]
[479,null,"Lire à haute voix et de manière expressive un texte bref après répétition",null,{"$error":"#NAME?"},{"$f":"IF(INDEX(periode3,NEVAL,Nenfant)=\"\",0,INDEX(periode3,NEVAL,Nenfant))","v":{"$error":"#NAME?"}},{"$f":"IF(INDEX(periode4,NEVAL,Nenfant)=\"\",0,INDEX(periode4,NEVAL,Nenfant))","v":{"$error":"#NAME?"}}]
[480,null,"Lire",null,{"$error":"#NAME?"},{"$f":"IF(INDEX(periode3,NEVAL,Nenfant)=\"\",0,INDEX(periode3,NEVAL,Nenfant))","v":{"$error":"#NAME?"}},{"$f":"IF(INDEX(periode4,NEVAL,Nenfant)=\"\",0,INDEX(periode4,NEVAL,Nenfant))","v":{"$error":"#NAME?"}}]
[481,null,"Comprendre des textes courts et simples en s’appuyant sur des éléments connus (indications, informations)",null,{"$error":"#NAME?"},{"$f":"IF(INDEX(periode3,NEVAL,Nenfant)=\"\",0,INDEX(periode3,NEVAL,Nenfant))","v":{"$error":"#NAME?"}},{"$f":"IF(INDEX(periode4,NEVAL,Nenfant)=\"\",0,INDEX(periode4,NEVAL,Nenfant))","v":{"$error":"#NAME?"}}]
[482,null,"Se faire une idée du contenu d’un texte informatif simple, accompagné éventuellement d’un document visuel",null,{"$error":"#NAME?"},{"$f":"IF(INDEX(periode3,NEVAL,Nenfant)=\"\",0,INDEX(periode3,NEVAL,Nenfant))","v":{"$error":"#NAME?"}},{"$f":"IF(INDEX(periode4,NEVAL,Nenfant)=\"\",0,INDEX(periode4,NEVAL,Nenfant))","v":{"$error":"#NAME?"}}]
[483,null,"Ecrire",null,{"$error":"#NAME?"},{"$f":"IF(INDEX(periode3,NEVAL,Nenfant)=\"\",0,INDEX(periode3,NEVAL,Nenfant))","v":{"$error":"#NAME?"}},{"$f":"IF(INDEX(periode4,NEVAL,Nenfant)=\"\",0,INDEX(periode4,NEVAL,Nenfant))","v":{"$error":"#NAME?"}}]
[484,null,"Copier des mots isolés et des textes courts",null,{"$error":"#NAME?"},{"$f":"IF(INDEX(periode3,NEVAL,Nenfant)=\"\",0,INDEX(periode3,NEVAL,Nenfant))","v":{"$error":"#NAME?"}},{"$f":"IF(INDEX(periode4,NEVAL,Nenfant)=\"\",0,INDEX(periode4,NEVAL,Nenfant))","v":{"$error":"#NAME?"}}]
[485,null,"Écrire un message électronique simple ou une courte carte postale en référence à des modèles",null,{"$error":"#NAME?"},{"$f":"IF(INDEX(periode3,NEVAL,Nenfant)=\"\",0,INDEX(periode3,NEVAL,Nenfant))","v":{"$error":"#NAME?"}},{"$f":"IF(INDEX(periode4,NEVAL,Nenfant)=\"\",0,INDEX(periode4,NEVAL,Nenfant))","v":{"$error":"#NAME?"}}]
[486,null,"Renseigner un questionnaire",null,{"$error":"#NAME?"},{"$f":"IF(INDEX(periode3,NEVAL,Nenfant)=\"\",0,INDEX(periode3,NEVAL,Nenfant))","v":{"$error":"#NAME?"}},{"$f":"IF(INDEX(periode4,NEVAL,Nenfant)=\"\",0,INDEX(periode4,NEVAL,Nenfant))","v":{"$error":"#NAME?"}}]
[487,null,"Produire de manière autonome quelques phrases",null,{"$error":"#NAME?"},{"$f":"IF(INDEX(periode3,NEVAL,Nenfant)=\"\",0,INDEX(periode3,NEVAL,Nenfant))","v":{"$error":"#NAME?"}},{"$f":"IF(INDEX(periode4,NEVAL,Nenfant)=\"\",0,INDEX(periode4,NEVAL,Nenfant))","v":{"$error":"#NAME?"}}]
[488,null,"Écrire sous la dictée des expressions connues",null,{"$error":"#NAME?"},{"$f":"IF(INDEX(periode3,NEVAL,Nenfant)=\"\",0,INDEX(periode3,NEVAL,Nenfant))","v":{"$error":"#NAME?"}},{"$f":"IF(INDEX(periode4,NEVAL,Nenfant)=\"\",0,INDEX(periode4,NEVAL,Nenfant))","v":{"$error":"#NAME?"}}]
[489,null,"TECHNIQUES USUELLES DE L'INFORMATION ET DE LA COMMUNICATION",null,{"$error":"#NAME?"},{"$f":"IF(INDEX(periode3,NEVAL,Nenfant)=\"\",0,INDEX(periode3,NEVAL,Nenfant))","v":{"$error":"#NAME?"}},{"$f":"IF(INDEX(periode4,NEVAL,Nenfant)=\"\",0,INDEX(periode4,NEVAL,Nenfant))","v":{"$error":"#NAME?"}}]
[490,null,"Brevet informatique et internet : niveau école",null,{"$error":"#NAME?"},{"$f":"IF(INDEX(periode3,NEVAL,Nenfant)=\"\",0,INDEX(periode3,NEVAL,Nenfant))","v":{"$error":"#NAME?"}},{"$f":"IF(INDEX(periode4,NEVAL,Nenfant)=\"\",0,INDEX(periode4,NEVAL,Nenfant))","v":{"$error":"#NAME?"}}]
[491,null,"S\"approprier un environnement informatique",null,{"$error":"#NAME?"},{"$f":"IF(INDEX(periode3,NEVAL,Nenfant)=\"\",0,INDEX(periode3,NEVAL,Nenfant))","v":{"$error":"#NAME?"}},{"$f":"IF(INDEX(periode4,NEVAL,Nenfant)=\"\",0,INDEX(periode4,NEVAL,Nenfant))","v":{"$error":"#NAME?"}}]
[492,null,"Connaitre et maîtriser les fonctions de base d’un ordinateur et de ses périphériques : fonction des différents éléments, utilisation de la souris",null,{"$error":"#NAME?"},{"$f":"IF(INDEX(periode3,NEVAL,Nenfant)=\"\",0,INDEX(periode3,NEVAL,Nenfant))","v":{"$error":"#NAME?"}},{"$f":"IF(INDEX(periode4,NEVAL,Nenfant)=\"\",0,INDEX(periode4,NEVAL,Nenfant))","v":{"$error":"#NAME?"}}]
[493,null,"Adopter une attitude responsable",null,{"$error":"#NAME?"},{"$f":"IF(INDEX(periode3,NEVAL,Nenfant)=\"\",0,INDEX(periode3,NEVAL,Nenfant))","v":{"$error":"#NAME?"}},{"$f":"IF(INDEX(periode4,NEVAL,Nenfant)=\"\",0,INDEX(periode4,NEVAL,Nenfant))","v":{"$error":"#NAME?"}}]
[494,null,"Prendre conscience des enjeux citoyens de l’usage de l’informatique et de l’internet et adopter une attitude critique face aux résultats obtenus",null,{"$error":"#NAME?"},{"$f":"IF(INDEX(periode3,NEVAL,Nenfant)=\"\",0,INDEX(periode3,NEVAL,Nenfant))","v":{"$error":"#NAME?"}},{"$f":"IF(INDEX(periode4,NEVAL,Nenfant)=\"\",0,INDEX(periode4,NEVAL,Nenfant))","v":{"$error":"#NAME?"}}]
[495,null,"Créer, produire, traiter, exploiter des données",null,{"$error":"#NAME?"},{"$f":"IF(INDEX(periode3,NEVAL,Nenfant)=\"\",0,INDEX(periode3,NEVAL,Nenfant))","v":{"$error":"#NAME?"}},{"$f":"IF(INDEX(periode4,NEVAL,Nenfant)=\"\",0,INDEX(periode4,NEVAL,Nenfant))","v":{"$error":"#NAME?"}}]
[496,null,"Produire un document numérique : texte, image, son",null,{"$error":"#NAME?"},{"$f":"IF(INDEX(periode3,NEVAL,Nenfant)=\"\",0,INDEX(periode3,NEVAL,Nenfant))","v":{"$error":"#NAME?"}},{"$f":"IF(INDEX(periode4,NEVAL,Nenfant)=\"\",0,INDEX(periode4,NEVAL,Nenfant))","v":{"$error":"#NAME?"}}]
[497,null,"Utiliser l’outil informatique pour présenter un travail",null,{"$error":"#NAME?"},{"$f":"IF(INDEX(periode3,NEVAL,Nenfant)=\"\",0,INDEX(periode3,NEVAL,Nenfant))","v":{"$error":"#NAME?"}},{"$f":"IF(INDEX(periode4,NEVAL,Nenfant)=\"\",0,INDEX(periode4,NEVAL,Nenfant))","v":{"$error":"#NAME?"}}]
[498,null,"S'informer, se documenter",null,{"$error":"#NAME?"},{"$f":"IF(INDEX(periode3,NEVAL,Nenfant)=\"\",0,INDEX(periode3,NEVAL,Nenfant))","v":{"$error":"#NAME?"}},{"$f":"IF(INDEX(periode4,NEVAL,Nenfant)=\"\",0,INDEX(periode4,NEVAL,Nenfant))","v":{"$error":"#NAME?"}}]
[499,null,"Lire un document numérique",null,{"$error":"#NAME?"},{"$f":"IF(INDEX(periode3,NEVAL,Nenfant)=\"\",0,INDEX(periode3,NEVAL,Nenfant))","v":{"$error":"#NAME?"}},{"$f":"IF(INDEX(periode4,NEVAL,Nenfant)=\"\",0,INDEX(periode4,NEVAL,Nenfant))","v":{"$error":"#NAME?"}}]
[500,null,"Chercher des informations par voie électronique",null,{"$error":"#NAME?"},{"$f":"IF(INDEX(periode3,NEVAL,Nenfant)=\"\",0,INDEX(periode3,NEVAL,Nenfant))","v":{"$error":"#NAME?"}},{"$f":"IF(INDEX(periode4,NEVAL,Nenfant)=\"\",0,INDEX(periode4,NEVAL,Nenfant))","v":{"$error":"#NAME?"}}]
[501,null,"Découvrir les richesses et les limites des ressources de l'internet",null,{"$error":"#NAME?"},{"$f":"IF(INDEX(periode3,NEVAL,Nenfant)=\"\",0,INDEX(periode3,NEVAL,Nenfant))","v":{"$error":"#NAME?"}},{"$f":"IF(INDEX(periode4,NEVAL,Nenfant)=\"\",0,INDEX(periode4,NEVAL,Nenfant))","v":{"$error":"#NAME?"}}]
[502,null,"Communiquer, échanger",null,{"$error":"#NAME?"},{"$f":"IF(INDEX(periode3,NEVAL,Nenfant)=\"\",0,INDEX(periode3,NEVAL,Nenfant))","v":{"$error":"#NAME?"}},{"$f":"IF(INDEX(periode4,NEVAL,Nenfant)=\"\",0,INDEX(periode4,NEVAL,Nenfant))","v":{"$error":"#NAME?"}}]
[503,null,"Échanger avec les technologies de l’information et de la communication",null,{"$error":"#NAME?"},{"$f":"IF(INDEX(periode3,NEVAL,Nenfant)=\"\",0,INDEX(periode3,NEVAL,Nenfant))","v":{"$error":"#NAME?"}},{"$f":"IF(INDEX(periode4,NEVAL,Nenfant)=\"\",0,INDEX(periode4,NEVAL,Nenfant))","v":{"$error":"#NAME?"}}]
[504,null,"EDUCATION PHYSIQUE ET SPORTIVE",null,{"$error":"#NAME?"},{"$f":"IF(INDEX(periode3,NEVAL,Nenfant)=\"\",0,INDEX(periode3,NEVAL,Nenfant))","v":{"$error":"#NAME?"}},{"$f":"IF(INDEX(periode4,NEVAL,Nenfant)=\"\",0,INDEX(periode4,NEVAL,Nenfant))","v":{"$error":"#NAME?"}}]
[505,null,"Réaliser une performance mesurée (en distance, en temps)",null,{"$error":"#NAME?"},{"$f":"IF(INDEX(periode3,NEVAL,Nenfant)=\"\",0,INDEX(periode3,NEVAL,Nenfant))","v":{"$error":"#NAME?"}},{"$f":"IF(INDEX(periode4,NEVAL,Nenfant)=\"\",0,INDEX(periode4,NEVAL,Nenfant))","v":{"$error":"#NAME?"}}]
[506,null,"Activités athlétiques : courir vite, courir longtemps, courir en franchissant des obstacles, courir en relais, sauter loin, sauter haut, lancer loin.",null,{"$error":"#NAME?"},{"$f":"IF(INDEX(periode3,NEVAL,Nenfant)=\"\",0,INDEX(periode3,NEVAL,Nenfant))","v":{"$error":"#NAME?"}},{"$f":"IF(INDEX(periode4,NEVAL,Nenfant)=\"\",0,INDEX(periode4,NEVAL,Nenfant))","v":{"$error":"#NAME?"}}]
[507,null,"Natation : se déplacer sur une trentaine de mètres.",null,{"$error":"#NAME?"},{"$f":"IF(INDEX(periode3,NEVAL,Nenfant)=\"\",0,INDEX(periode3,NEVAL,Nenfant))","v":{"$error":"#NAME?"}},{"$f":"IF(INDEX(periode4,NEVAL,Nenfant)=\"\",0,INDEX(periode4,NEVAL,Nenfant))","v":{"$error":"#NAME?"}}]
[508,null,"Adapter ses déplacements à différents types d’environnement",null,{"$error":"#NAME?"},{"$f":"IF(INDEX(periode3,NEVAL,Nenfant)=\"\",0,INDEX(periode3,NEVAL,Nenfant))","v":{"$error":"#NAME?"}},{"$f":"IF(INDEX(periode4,NEVAL,Nenfant)=\"\",0,INDEX(periode4,NEVAL,Nenfant))","v":{"$error":"#NAME?"}}]
[509,null,"Activités d’escalade : grimper et redescendre sur un trajet annoncé (mur équipé).",null,{"$error":"#NAME?"},{"$f":"IF(INDEX(periode3,NEVAL,Nenfant)=\"\",0,INDEX(periode3,NEVAL,Nenfant))","v":{"$error":"#NAME?"}},{"$f":"IF(INDEX(periode4,NEVAL,Nenfant)=\"\",0,INDEX(periode4,NEVAL,Nenfant))","v":{"$error":"#NAME?"}}]
[510,null,"Activités aquatiques et nautiques : plonger, s’immerger, se déplacer.",null,{"$error":"#NAME?"},{"$f":"IF(INDEX(periode3,NEVAL,Nenfant)=\"\",0,INDEX(periode3,NEVAL,Nenfant))","v":{"$error":"#NAME?"}},{"$f":"IF(INDEX(periode4,NEVAL,Nenfant)=\"\",0,INDEX(periode4,NEVAL,Nenfant))","v":{"$error":"#NAME?"}}]
[511,null,"Activités de roule et glisse : réaliser un parcours d’actions diverses en roller, en vélo, en ski.",null,{"$error":"#NAME?"},{"$f":"IF(INDEX(periode3,NEVAL,Nenfant)=\"\",0,INDEX(periode3,NEVAL,Nenfant))","v":{"$error":"#NAME?"}},{"$f":"IF(INDEX(periode4,NEVAL,Nenfant)=\"\",0,INDEX(periode4,NEVAL,Nenfant))","v":{"$error":"#NAME?"}}]
[512,null,"Activités d’orientation : retrouver plusieurs balises dans un espace semi-naturel en s’aidant d’une carte.",null,{"$error":"#NAME?"},{"$f":"IF(INDEX(periode3,NEVAL,Nenfant)=\"\",0,INDEX(periode3,NEVAL,Nenfant))","v":{"$error":"#NAME?"}},{"$f":"IF(INDEX(periode4,NEVAL,Nenfant)=\"\",0,INDEX(periode4,NEVAL,Nenfant))","v":{"$error":"#NAME?"}}]
[513,null,"Coopérer ou s’opposer individuellement et collectivement",null,{"$error":"#NAME?"},{"$f":"IF(INDEX(periode3,NEVAL,Nenfant)=\"\",0,INDEX(periode3,NEVAL,Nenfant))","v":{"$error":"#NAME?"}},{"$f":"IF(INDEX(periode4,NEVAL,Nenfant)=\"\",0,INDEX(periode4,NEVAL,Nenfant))","v":{"$error":"#NAME?"}}]
[514,null,"Jeux de lutte : amener son adversaire au sol pour l’immobiliser.",null,{"$error":"#NAME?"},{"$f":"IF(INDEX(periode3,NEVAL,Nenfant)=\"\",0,INDEX(periode3,NEVAL,Nenfant))","v":{"$error":"#NAME?"}},{"$f":"IF(INDEX(periode4,NEVAL,Nenfant)=\"\",0,INDEX(periode4,NEVAL,Nenfant))","v":{"$error":"#NAME?"}}]
[515,null,"Jeux de raquettes : marquer des points dans un match à deux.",null,{"$error":"#NAME?"},{"$f":"IF(INDEX(periode3,NEVAL,Nenfant)=\"\",0,INDEX(periode3,NEVAL,Nenfant))","v":{"$error":"#NAME?"}},{"$f":"IF(INDEX(periode4,NEVAL,Nenfant)=\"\",0,INDEX(periode4,NEVAL,Nenfant))","v":{"$error":"#NAME?"}}]
[516,null,"Jeux sportifs collectifs (type handball, basket-ball, football, rugby, volley-ball...) : coopérer avec ses partenaires pour affronter collectivement des adversaires, en respectant des règles, en assurant des rôles différents (attaquant, défenseur, arbitre).",null,{"$f":"IF(G526<>0,G526,(IF(F526<>0,F526,0)))","v":{"$error":"#NAME?"}},{"$f":"IF(INDEX(periode3,NEVAL,Nenfant)=\"\",0,INDEX(periode3,NEVAL,Nenfant))","v":{"$error":"#NAME?"}},{"$f":"IF(INDEX(periode4,NEVAL,Nenfant)=\"\",0,INDEX(periode4,NEVAL,Nenfant))","v":{"$error":"#NAME?"}}]
[517,null,"Concevoir et réaliser des actions à visées expressive, artistique, esthétique",null,{"$error":"#NAME?"},{"$f":"IF(INDEX(periode3,NEVAL,Nenfant)=\"\",0,INDEX(periode3,NEVAL,Nenfant))","v":{"$error":"#NAME?"}},{"$f":"IF(INDEX(periode4,NEVAL,Nenfant)=\"\",0,INDEX(periode4,NEVAL,Nenfant))","v":{"$error":"#NAME?"}}]
[518,null,"Danse : construire à plusieurs une phrase dansée (chorégraphie de 5 éléments au moins) pour exprimer corporellement des personnages, des images, des sentiments et pour communiquer des émotions, sur des supports sonores divers.",null,{"$error":"#NAME?"},{"$f":"IF(INDEX(periode3,NEVAL,Nenfant)=\"\",0,INDEX(periode3,NEVAL,Nenfant))","v":{"$error":"#NAME?"}},{"$f":"IF(INDEX(periode4,NEVAL,Nenfant)=\"\",0,INDEX(periode4,NEVAL,Nenfant))","v":{"$error":"#NAME?"}}]
[519,null,"Activités gymniques : construire et réaliser un enchaînement de 4 ou 5 éléments “acrobatiques” sur divers engins (barres, moutons, poutres, tapis).",null,{"$error":"#NAME?"},{"$f":"IF(INDEX(periode3,NEVAL,Nenfant)=\"\",0,INDEX(periode3,NEVAL,Nenfant))","v":{"$error":"#NAME?"}},{"$f":"IF(INDEX(periode4,NEVAL,Nenfant)=\"\",0,INDEX(periode4,NEVAL,Nenfant))","v":{"$error":"#NAME?"}}]
[520,null,"LES COMPETENCES SOCIALES ET CIVIQUES",null,{"$error":"#NAME?"},{"$f":"IF(INDEX(periode3,NEVAL,Nenfant)=\"\",0,INDEX(periode3,NEVAL,Nenfant))","v":{"$error":"#NAME?"}},{"$f":"IF(INDEX(periode4,NEVAL,Nenfant)=\"\",0,INDEX(periode4,NEVAL,Nenfant))","v":{"$error":"#NAME?"}}]
[521,null,"Connaître les principes et fondements de la vie civique et sociale",null,{"$error":"#NAME?"},{"$f":"IF(INDEX(periode3,NEVAL,Nenfant)=\"\",0,INDEX(periode3,NEVAL,Nenfant))","v":{"$error":"#NAME?"}},{"$f":"IF(INDEX(periode4,NEVAL,Nenfant)=\"\",0,INDEX(periode4,NEVAL,Nenfant))","v":{"$error":"#NAME?"}}]
[522,null,"Reconnaître les symboles de la république et de l’Union européenne",null,{"$error":"#NAME?"},{"$f":"IF(INDEX(periode3,NEVAL,Nenfant)=\"\",0,INDEX(periode3,NEVAL,Nenfant))","v":{"$error":"#NAME?"}},{"$f":"IF(INDEX(periode4,NEVAL,Nenfant)=\"\",0,INDEX(periode4,NEVAL,Nenfant))","v":{"$error":"#NAME?"}}]
[523,null,"Comprendre les notions de droits et de devoirs, les accepter et les mettre en application",null,{"$error":"#NAME?"},{"$f":"IF(INDEX(periode3,NEVAL,Nenfant)=\"\",0,INDEX(periode3,NEVAL,Nenfant))","v":{"$error":"#NAME?"}},{"$f":"IF(INDEX(periode4,NEVAL,Nenfant)=\"\",0,INDEX(periode4,NEVAL,Nenfant))","v":{"$error":"#NAME?"}}]
[524,null,"Avoir conscience de la dignité de la personne humaine et en tirer les conséquences au quotidien",null,{"$error":"#NAME?"},{"$f":"IF(INDEX(periode3,NEVAL,Nenfant)=\"\",0,INDEX(periode3,NEVAL,Nenfant))","v":{"$error":"#NAME?"}},{"$f":"IF(INDEX(periode4,NEVAL,Nenfant)=\"\",0,INDEX(periode4,NEVAL,Nenfant))","v":{"$error":"#NAME?"}}]
[525,null,"Avoir un comportement responsable",null,{"$error":"#NAME?"},{"$f":"IF(INDEX(periode3,NEVAL,Nenfant)=\"\",0,INDEX(periode3,NEVAL,Nenfant))","v":{"$error":"#NAME?"}},{"$f":"IF(INDEX(periode4,NEVAL,Nenfant)=\"\",0,INDEX(periode4,NEVAL,Nenfant))","v":{"$error":"#NAME?"}}]
[526,null,"Respecter les règles de la vie collective, notamment dans les pratiques sportives",null,{"$error":"#NAME?"},{"$f":"IF(INDEX(periode3,NEVAL,Nenfant)=\"\",0,INDEX(periode3,NEVAL,Nenfant))","v":{"$error":"#NAME?"}},{"$f":"IF(INDEX(periode4,NEVAL,Nenfant)=\"\",0,INDEX(periode4,NEVAL,Nenfant))","v":{"$error":"#NAME?"}}]
[527,null,"Respecter tous les autres, et notamment appliquer les principes de l’égalité des filles et des garçons",null,{"$error":"#NAME?"},{"$f":"IF(INDEX(periode3,NEVAL,Nenfant)=\"\",0,INDEX(periode3,NEVAL,Nenfant))","v":{"$error":"#NAME?"}},{"$f":"IF(INDEX(periode4,NEVAL,Nenfant)=\"\",0,INDEX(periode4,NEVAL,Nenfant))","v":{"$error":"#NAME?"}}]
[528,null,"L'AUTONOMIE ET L'INITIATIVE",null,{"$error":"#NAME?"},{"$f":"IF(INDEX(periode3,NEVAL,Nenfant)=\"\",0,INDEX(periode3,NEVAL,Nenfant))","v":{"$error":"#NAME?"}},{"$f":"IF(INDEX(periode4,NEVAL,Nenfant)=\"\",0,INDEX(periode4,NEVAL,Nenfant))","v":{"$error":"#NAME?"}}]
[529,null,"S'appuyer sur des méthodes de travail pour être autonome",null,{"$error":"#NAME?"},{"$f":"IF(INDEX(periode3,NEVAL,Nenfant)=\"\",0,INDEX(periode3,NEVAL,Nenfant))","v":{"$error":"#NAME?"}},{"$f":"IF(INDEX(periode4,NEVAL,Nenfant)=\"\",0,INDEX(periode4,NEVAL,Nenfant))","v":{"$error":"#NAME?"}}]
[530,null,"Respecter des consignes simples, en autonomie",null,{"$error":"#NAME?"},{"$f":"IF(INDEX(periode3,NEVAL,Nenfant)=\"\",0,INDEX(periode3,NEVAL,Nenfant))","v":{"$error":"#NAME?"}},{"$f":"IF(INDEX(periode4,NEVAL,Nenfant)=\"\",0,INDEX(periode4,NEVAL,Nenfant))","v":{"$error":"#NAME?"}}]
[531,null,"Etre persévérant dans toutes les activités",null,{"$error":"#NAME?"},{"$f":"IF(INDEX(periode3,NEVAL,Nenfant)=\"\",0,INDEX(periode3,NEVAL,Nenfant))","v":{"$error":"#NAME?"}},{"$f":"IF(INDEX(periode4,NEVAL,Nenfant)=\"\",0,INDEX(periode4,NEVAL,Nenfant))","v":{"$error":"#NAME?"}}]
[532,null,"Commencer à savoir s’auto-évaluer dans des situations simples",null,{"$error":"#NAME?"},{"$f":"IF(INDEX(periode3,NEVAL,Nenfant)=\"\",0,INDEX(periode3,NEVAL,Nenfant))","v":{"$error":"#NAME?"}},{"$f":"IF(INDEX(periode4,NEVAL,Nenfant)=\"\",0,INDEX(periode4,NEVAL,Nenfant))","v":{"$error":"#NAME?"}}]
[533,null,"Soutenir une écoute prolongée (lecture, musique, spectacle, etc.)",null,{"$error":"#NAME?"},{"$f":"IF(INDEX(periode3,NEVAL,Nenfant)=\"\",0,INDEX(periode3,NEVAL,Nenfant))","v":{"$error":"#NAME?"}},{"$f":"IF(INDEX(periode4,NEVAL,Nenfant)=\"\",0,INDEX(periode4,NEVAL,Nenfant))","v":{"$error":"#NAME?"}}]
[534,null,"Faire preuve d'initiative",null,{"$error":"#NAME?"},{"$f":"IF(INDEX(periode3,NEVAL,Nenfant)=\"\",0,INDEX(periode3,NEVAL,Nenfant))","v":{"$error":"#NAME?"}},{"$f":"IF(INDEX(periode4,NEVAL,Nenfant)=\"\",0,INDEX(periode4,NEVAL,Nenfant))","v":{"$error":"#NAME?"}}]
[535,null,"S’impliquer dans un projet individuel ou collectif",null,{"$error":"#NAME?"},{"$f":"IF(INDEX(periode3,NEVAL,Nenfant)=\"\",0,INDEX(periode3,NEVAL,Nenfant))","v":{"$error":"#NAME?"}},{"$f":"IF(INDEX(periode4,NEVAL,Nenfant)=\"\",0,INDEX(periode4,NEVAL,Nenfant))","v":{"$error":"#NAME?"}}]
[]
[null,null,"Appréciations"]
[]
[null,null,"Nombre d'absence",null,{"$f":"absences","v":0}]
[{"$nulls":4},{"$f":"absences","v":0}]
[null,null,"Décision du conseil de cycle",null,{"$f":"passage","v":0}]
[{"$nulls":4},{"$f":"passage","v":0}]
[]
[null,null,"A : acquis   B : à renforcer   C : en cours d'acquisition   D : non acquis   NE : non évalué"]
[null,null,"Signatures"]

{"sheet":"Bulletin","index":6,"n_rows":555,"n_cols":7,"rows_kept":555,"hidden":true,"merged":[[5,2,5,3],[6,2,6,3],[7,2,7,3],[11,2,11,3],[553,2,553,4]]}
[{"$nulls":6},2]
[]
[]
[]
[]
[null,null,{"$f":"CONCATENATE(\"Classe \"&classe)","v":"Classe CM1"},{"$f":"CONCATENATE(\"Ville de \"&ville)","v":"Ville de "}]
[null,null,{"$f":"CONCATENATE(\"Ecole \"&ecole&\" \"  &\"- \" &adresse &\" -   \" &ville)","v":"Ecole Léonard de Vinci -  -   "},{"$f":"CONCATENATE(\"Ville de \"&ville)","v":"Ville de "}]
[null,null,{"$f":"CONCATENATE(\"Enseignant : \"&enseignant)","v":"Enseignant : M. DURANT"},{"$f":"CONCATENATE(\"Ville de \"&ville)","v":"Ville de "}]
[null,null,{"$f":"IF(INDEX(NOMS,Nenfant,1)=\"\",0,INDEX(NOMS,Nenfant,1))","v":"Jérôme  Lenoir"}]
[null,null,{"$f":"IF(E10=\"\",\"\",\"né(e)  le  \" & TEXT(E10,\"jj/mm/aaa\"))","v":"né(e)  le  04/07/1998"},null,{"$f":"IF(INDEX(date,Nenfant,1)=\"\",0,INDEX(date,Nenfant,1))","v":35980}]
[null,null,"BULLETIN PERIODE 1 "]
[null,null,{"$f":"CONCATENATE(\"Année scolaire: \"&annee)","v":"Année scolaire: 2013  2014"}]
[null,null,{"$f":"CONCATENATE(\"Circonscription  \"&IEN)","v":"Circonscription  "}]
[]
[5,null,"LANGAGE ORAL"]
[6,null,"Raconter, décrire, exposer"]
[7,null,"Faire un récit structuré et compréhensible pour un tiers ignorant des faits rapportés ou de l’histoire racontée, inventer et modifier des histoires, décrire une image, exprimer des senti­ments, en s’exprimant en phrases correctes et dans un vocabulaire approprié."]
[8,null,"Décrire un objet, présenter un travail à la classe en s’exprimant en phrases correctes et dans un vocabulaire approprié."]
[9,null,"Echanger, débattre"]
[10,null,"Demander et prendre la parole à bon escient."]
[11,null,"Réagir à l’exposé d’un autre élève en apportant un point de vue motivé."]
[12,null,"Participer à un débat en respectant les tours de parole et les règles de la politesse."]
[13,null,"Présenter à la classe un travail collectif."]
[14,null,"Participer aux échanges de manière constructive : rester dans le sujet, situer son propos par rapport aux autres, apporter des arguments, mobiliser des connaissances, respecter les règles habituelles de la communication."]
[15,null,"Réciter"]
[16,null,"Dire sans erreur et de manière expressive des textes en prose ou des poèmes (une dizaine)."]
[17,null,"LECTURE"]
[18,null,"Lire les consignes de travail, les énoncés de problèmes dont le vocabulaire difficile ou nouveau a été élucidé par le maître."]
[19,null,"Lire à haute voix avec fluidité et de manière expressive un extrait de texte, après préparation."]
[20,null,"Lire silencieusement un texte littéraire ou documentaire et le comprendre (reformuler, répondre à des questions sur ce texte)."]
[21,null,"Repérer dans un texte des informations explicites en s’appuyant en particulier sur le titre, l’organisation (phrases, paragraphes), le vocabulaire. "]
[22,null,"Reconnaître les marques de ponctuation. "]
[23,null,"Dans un récit"]
[24,null,"Dans un récit d'appuyer sur le repérage des différents termes désignant un personnage,"]
[25,null,"Dans un récit s'appuyer sur les temps des verbes et sur les mots de liaison exprimant les relations temporelles pour comprendre avec précision la chronologie des événements,"]
[26,null,"Dans un récit s'appuyer sur les deux-points et guillemets pour repérer les paroles des personnages."]
[27,null,"Lire un texte documentaire, descriptif ou narratif, et restituer à l’oral ou par écrit l’essentiel du texte (sujet du texte, objet de la description, trame de l’histoire, relations entre les personnages…)."]
[28,null,"Adopter une stratégie pour parvenir à comprendre : repérer des mots inconnus et incompris, relire, questionner, recourir au dictionnaire, etc."]
[29,null,"Se repérer dans une bibliothèque habituellement fréquentée pour choisir et emprunter un livre."]
[30,null,"Lire sans aide les consignes du travail scolaire, les énoncés de problèmes."]
[31,null,"Lire à haute voix avec fluidité et de manière expressive un texte d’une dizaine de lignes, après préparation."]
[32,null,"Lire silencieusement un texte littéraire ou documentaire et le comprendre (reformuler, résumer, répondre à des questions sur ce texte)."]
[33,null,"Repérer dans un texte des informations explicites et en inférer des informations nouvelles (implicites). "]
[34,null,"Dans un récit ou une description, s’appuyer sur les mots de liaison qui marquent les relations spatiales et sur les compléments de lieu pour comprendre avec précision la confi­guration du lieu de l’action ou du lieu décrit."]
[35,null,"Comprendre l’usage de l’imparfait et du passé simple dans un récit, du présent dans un texte scientifique ou documentaire."]
[36,null,"Saisir l’atmosphère ou le ton d’un texte descriptif,narratif ou poétique, en s’appuyant en particulier sur son vocabulaire."]
[37,null,"Participer à un débat sur un texte en confrontant son interprétation à d’autres de manière argumentée."]
[38,null,"Utiliser les outils usuels de la classe (manuels, affichages, etc.) pour rechercher une information, surmonter une difficulté."]
[39,null,"Effectuer des recherches, avec l’aide de l’adulte, dans des ouvrages documentaires (livres ou produits multimédia)."]
[40,null,"Lire sans aide une leçon dans un manuel après un travail en classe sur le sujet."]
[41,null,"Lire à haute voix avec fluidité et de manière expressive un texte de plus de dix lignes, après préparation."]
[42,null,"S’appuyer sur les mots de liaisons et les expressions qui marquent les relations logiques pour comprendre avec précision l’enchaînement d’une action ou d’un raisonnement."]
[43,null,"Repérer les effets de choix formels (emplois de certains mots, utilisation d’un niveau de langue bien caractérisé, etc.)."]
[44,null,"Effectuer, seul, des recherches dans des ouvrages documentaires (livres, produits multimédia)."]
[45,null,"Se repérer dans une bibliothèque, une médiathèque."]
[46,null,"Utiliser ses connaissances pour réfléchir sur un texte, mieux le comprendre"]
[47,null," ECRIRE"]
[48,null,"Copier sans erreur un texte en lui donnant une présentation adaptée. (au moins 5 lignes CE2; 10 C61lignes CM1 15 lignes CM2"]
[49,null,"Copier avec soin, en respectant la mise en page, un texte en prose ou poème appris en récitation. "]
[50,null,"Répondre à une question par une phrase complète à l’écrit"]
[51,null,"REDACTION"]
[52,null,"Dans les diverses activités scolaires, proposer une réponse écrite, explicite et énoncée dans une forme correcte."]
[53,null,"Rédiger un court texte narratif en veillant à sa cohérence temporelle (temps des verbes) et à sa précision (dans la nomination des personnages et par l’usage d’adjectifs qualificatifs), en évitant les répétitions par l’usage de synonymes, et en respectant les contraintes syntaxiques et orthographiques ainsi que la ponctuation."]
[54,null,"Rédiger un court dialogue (formulation des questions et des ordres)."]
[55,null,"Savoir amplifier une phrase en ajoutant des mots : en coordonnant par et un nom à un autre, un adjectif à un autre, un verbe à un autre."]
[56,null,"Améliorer (corriger et enrichir) un texte en fonction des remarques et aides du maître."]
[57,null,"Dans les diverses activités scolaires, noter des idées, des hypothèses, des informations utiles au travail scolaire"]
[58,null,"Rédiger des textes courts de différents types (récits, descriptions, portraits) en veillant à leur cohérence, à leur précision, (pronoms, mots de liaison, relations temporelles en particulier) et en évitant les répétitions. "]
[59,null,"Savoir amplifier une phrase simple par l’ajout d’éléments coordonnés (et, ni, ou, mais entre des mots ou des phrases simples ; car, donc entre des phrases simples), d’adverbes, de compléments circonstanciels  et par l’enrichissement des groupes nominaux"]
[60,null,"Dans les diverses activités scolaires, prendre des notes utiles au travail scolaire."]
[61,null,"Maîtriser la cohérence des temps dans un récit d’une dizaine de lignes."]
[62,null,"Rédiger différents types de textes d’au moins deux paragraphes en veillant à leur cohérence, en évitant les répétitions, et en respectant les contraintes syntaxiques et orthographiques ainsi que la ponctuation."]
[63,null,"Ecrire un texte de type poétique en obéissant à une ou plusieurs consignes précises."]
[64,null,"LITTERATURE"]
[65,null,"Lire une œuvre intégrale ou de larges extraits d’une œuvre longue. "]
[66,null,"Rendre compte des œuvres lues, donner son point de vue à leur propos."]
[67,null,"Raconter de mémoire, ou en s’aidant de quelques images des histoires lues dans les années ou les mois antérieurs ; connaître leur titre."]
[68,null,"Etablir des relations entre des textes ou des œuvres : même auteur, même thème, même personnage, etc."]
[69,null,"Lire au moins un ouvrage par trimestre et en rendre compte ; choisir un extrait caractéristique et le lire à haute voix."]
[70,null,"Adapter son comportement de lecteur aux difficultés rencontrées : notes pour mémoriser, relecture, demande d’aide, etc."]
[71,null,"Se rappeler le titre et l’auteur des œuvres lues. "]
[72,null,"Participer à un débat sur une œuvre en confrontant son point de vue à d’autres de manière argumentée."]
[73,null,"Lire au moins cinq ouvrages dans l’année scolaire et en rendre compte ; choisir un extrait caractéristique et le lire à haute voix."]
[74,null,"Expliciter des choix de lecture, des préférences"]
[75,null,"Raconter de mémoire une œuvre lue ; citer de mémoire un court extrait caractéristique."]
[76,null,"Rapprocher des œuvres littéraires, à l’oral et à l'écrit"]
[77,null,"VOCABULAIRE"]
[78,null,"Acquisition du vocabulaire"]
[79,null,"Utiliser à bon escient des termes appartenant aux lexiques des repères temporels, de la vie quotidienne et du travail scolaire. "]
[80,null,"Utiliser les termes exacts qui correspondent aux notions étudiées dans les divers domaines scolaires."]
[81,null,"Savoir ce qu’est une abréviation (ex. « adj. » dans un article de dictionnaire)."]
[82,null,"Utiliser à bon escient des termes afférents aux actions, sensations et jugements."]
[83,null,"Commencer à utiliser des termes renvoyant à des notions abstraites (émotions, sentiments, devoirs, droits)."]
[84,null,"Comprendre des sigles."]
[85,null,"Maîtrise du sens des mots"]
[86,null,"Dans un texte, relever les mots d’un même domaine (ex. le vocabulaire de la mer). "]
[87,null,"Utiliser des synonymes et des mots de sens contraire dans les activités d’expression orale et écrite."]
[88,null,"Préciser, dans son contexte, le sens d’un mot connu ; le distinguer d’autres sens possibles."]
[89,null,"Utiliser le contexte pour comprendre un mot inconnu ; vérifier son sens dans le dictionnaire."]
[90,null,"Définir un mot connu en utilisant un terme générique adéquat (mots concrets : ex. un pommier est un arbre fruitier)."]
[91,null,"Commencer à identifier les différents niveaux de langue."]
[92,null,"Distinguer les différents sens d’un verbe selon sa construction  (ex. jouer, jouer quelque chose, jouer à, jouer de, jouer sur)."]
[93,null,"Identifier l’utilisation d’un mot ou d’une expression au sens figuré. "]
[94,null,"Classer des mots de sens voisin en repérant les variations d’intensité (ex. bon, délicieux, succulent)."]
[95,null,"Définir un mot connu en utilisant un terme générique adéquat et en y ajoutant les précisions spécifiques à l’objet défini."]
[96,null,"Les familles de mots"]
[97,null,"Construire ou compléter des familles de mots. "]
[98,null,"Regrouper des mots selon le sens de leur préfixe, "]
[99,null,"Regrouper des mots selon le sens de leur suffixe, "]
[100,null,"Connaître et utiliser oralement le vocabulaire concernant la construction des mots (radical, préfixe, suffixe, famille)."]
[101,null,"Utiliser la construction d’un mot inconnu pour le comprendre."]
[102,null,"Regrouper des mots selon leur radical."]
[103,null,"Regrouper des mots selon le sens de leur préfixe et connaître ce sens ; en particulier celui des principaux préfixes exprimant des idées de lieu ou de mouvement.   "]
[104,null,"Regrouper des mots selon le sens de  leur suffixe et connaître ce sens. "]
[105,null,"Pour un mot donné, fournir un ou plusieurs mots de la même famille en vérifiant qu’il(s) existe(nt)."]
[106,null,"Utilisation du dictionnaire"]
[107,null,"Savoir épeler un mot ; connaître l’ordre alphabétique ; savoir classer des mots par ordre alphabétique."]
[108,null,"Utiliser le dictionnaire pour rechercher le sens d’un mot."]
[109,null,"Dans une définition de dictionnaire, identifier le terme générique. "]
[110,null,"Utiliser le dictionnaire pour vérifier le sens d’un mot (en particulier quand il en a plusieurs), ou sa classe, ou son orthographe, ou son niveau de langue."]
[111,null,"Se servir des codes utilisés dans les articles de dictionnaire"]
[112,null,"Utiliser avec aisance un dictionnaire"]
[113,null," GRAMMAIRE"]
[114,null,"La phrase"]
[115,null,"Transformer une phrase simple affirmative en phrase négative ou interrogative, ou inversement. "]
[116,null,"Identifier le verbe conjugué dans une phrase simple et fournir son infinitif. "]
[117,null,"Construire correctement des phrases négatives, interrogatives, injonctives. "]
[118,null,"Identifier les verbes conjugués dans des phrases complexes et fournir leurs infinitifs"]
[119,null,"Construire correctement des phrases exclamatives. "]
[120,null,"Comprendre la distinction entre phrase simple et phrase complexe."]
[121,null,"Reconnaître des propositions indépendantes coordonnées, juxtaposées ;"]
[122,null,"Reconnaître la proposition relative (seulement la relative complément de nom)."]
[123,null,"Les classes de mots"]
[124,null,"Distinguer selon leur nature le verbe, le nom (propre / commun), les articles, les déterminants possessifs, les pronoms personnels (formes sujet), les adjectifs qualificatifs."]
[125,null,"Approche de l’adverbe : modifier le sens d’un verbe en lui ajoutant un adverbe, relier des phrases simples par des mots de liaison temporelle (ex. les adverbes puis, alors…)."]
[126,null," Distinguer selon leur nature les mots des classes déjà connues, ainsi que les déterminants démonstratifs et interrogatifs, les pronoms personnels (sauf en, y), les pronoms relatifs (qui, que), les adverbes (de lieu, de temps, de manière), les négations"]
[127,null,"Distinguer selon leur nature les mots des classes déjà connues, ainsi que les pronoms possessifs, démonstratifs , interrogatifs et relatifs, les mots de liaison ( conjonctions de coordination, adverbes ou locutions adverbiales exprimant le temps, le lieu, la cause et la conséquence), les prépositions (lieu, temps)."]
[128,null,"Connaître la distinction entre article défini et article indéfini et en comprendre le sens ; reconnaître la forme élidée et les formes contractées de l’article défini."]
[129,null,"Reconnaître et utiliser les degrés de l’adjectif et de l’adverbe (comparatif, superlatif)."]
[130,null,"Les fonctions"]
[131,null,"Comprendre la différence entre la nature d’un mot et sa fonction."]
[132,null,"Connaître la distinction entre compléments du verbe et compléments du nom. "]
[133,null,"Dans une phrase simple où l’ordre sujet-verbe est respecté,"]
[134,null,"Reconnaître le complément d’objet (direct et indirect) du verbe ;"]
[135,null,"Reconnaître le complément du nom. "]
[136,null,"Approche de la circonstance : savoir répondre oralement aux questions où ?, quand ?, com­ment ?, pourquoi ? "]
[137,null,"Identifier le verbe et le sujet "]
[138,null,"Reconnaître le complément d’objet second"]
[139,null,"Reconnaître les compléments circonstanciels de lieu, de temps, "]
[140,null,"Reconnaître l’attribut du sujet."]
[141,null,"Comprendre la notion de circonstance : la différence entre complément d’objet et complément circonstanciel (manipulations)."]
[142,null,"Manipuler la proposition relative (ajout, suppression, substitution à l’adjectif ou au complément de nom et inversement)."]
[143,null,"Connaître les fonctions de l’adjectif qualificatif : épithète, attribut du sujet. "]
[144,null,"Comprendre la distinction entre compléments essentiels (compléments d’objet), et compléments circonstanciels (manipulations)."]
[145,null,"Comprendre la notion de groupe nominal : l’adjectif qualificatif épithète, le complément de nom et la proposition relative comme enrichissements du nom."]
[146,null,"Le groupe nominal "]
[147,null,"Comprendre la fonction de ses éléments : le nom (noyau du groupe nominal), le déterminant (article, déterminant possessif) qui le détermine, l’adjectif qualificatif qui le qualifie, le nom qui le complète ; "]
[148,null,"Manipuler l’adjectif et le complément de nom (ajout, suppression, substitution de l’un à l’autre…)."]
[149,null,"Le verbe"]
[150,null,"Comprendre les notions d’action passée, présente, future."]
[151,null,"Connaître les personnes, les règles de formation et les terminaisons des temps simples étudiés(présent, futur, imparfait)."]
[152,null,"Conjuguer à l’indicatif présent, futur et  imparfait les verbes des premier et deuxième groupes, ainsi qu’être, avoir, aller,, dire, faire, pouvoir,partir, prendre, venir, voir, vouloir. "]
[153,null,"Repérer dans un texte l’infinitif d’un verbe étudié."]
[154,null,"Comprendre la notion d’antériorité d’un fait passé par rapport à un fait présent."]
[155,null,"Connaître la distinction entre temps simple et temps composé, la règle de formation des temps composés (passé composé), la notion d’auxiliaire."]
[156,null,"Conjuguer aux temps déjà étudiés, ainsi qu’à l’indicatif passé simple, au passé composé et à l’impératif présent, les verbes déjà étudiés ; conjuguer des verbes non étudiés en appliquant les règles apprises."]
[157,null,"Comprendre la notion d’antériorité relative d’un fait passé par rapport à un autre, d’un fait futur par rapport à un autre."]
[158,null,"Conjuguer aux temps et modes  déjà étudiés, ainsi qu’à l’indicatif futur antérieur, plus-que-parfait,  conditionnel présent, au participe présent et passé, les verbes  déjà étudiés ;  conjuguer des verbes non étudiés en appliquant les règles apprises."]
[159,null,"Les accords"]
[160,null,"Connaître les règles de l’accord du verbe avec son sujet ; de l’accord entre déterminant et nom, nom et adjectif. "]
[161,null,"Connaître la règle de l’accord du participe passé dans les verbes construits avec être (non compris les verbes pronominaux)."]
[162,null,"Connaître la règle de l’accord de l’adjectif (épithète, ou attribut) avec le nom. "]
[163,null,"Connaître la règle de l’accord du participe passé dans les verbes construits avec être et avoir (cas du complément d’objet posé après le verbe)."]
[164,null,"ORTHOGRAPHE"]
[165,null,"Ecrire sans erreur sous la dictée un texte  en mobilisant les connaissances acquises (au moins 5 ligne CE2,10 lignes CM1 CM2)."]
[166,null,"Compétences grapho-phoniques"]
[167,null,"Respecter les correspondances entre lettres et sons."]
[168,null,"Respecter la valeur des lettres en fonction des voyelles placées à proximité (s/ss, c/ç, c/qu, g/gu/ge.)"]
[169,null,"Respecter la valeur des lettres en fonction de la consonne suivante (n devenant m devant b, m p)."]
[170,null," Utiliser sans erreur les accents (é,è,ê)."]
[171,null,"Ecrire sans erreur le pluriel des noms se terminant par –eu, par –eau. Le pluriel des noms en –au, -ail est en cours d’acquisition."]
[172,null,"Ecrire sans erreur les formes des verbes étudiés aux temps étudiés, dont les verbes du premier groupe en -cer, -ger, -guer,. "]
[173,null,"Appliquer la règle de l’accord du verbe avec son sujet, y compris pour les verbes à un temps composé, et pour les sujets inversés."]
[174,null,"Appliquer la règle de l’accord du participe passé avec être et avoir (cas du complément d’objet direct postposé)."]
[175,null,"Accorder sans erreur l’adjectif (épithète, apposé et attribut du sujet) avec le nom."]
[176,null,"Ecrire sans erreur les homophones grammaticaux déjà étudiés, ainsi que ses/ces, mes/mais, on/on n’, ce/se, c’/s’ (c’est/s’est, c’était/s’était), ou/où, la/l’a/l’as/là."]
[177,null,"Ecrire sans erreur les infinitifs de verbes du premier groupe après préposition (il me dit d’aller). "]
[178,null,"Orthographe grammaticale"]
[179,null,"Ecrire sans erreur les pluriels des noms se terminant par s, x, z ; par –al, par -ou. "]
[180,null,"Utiliser sans erreur les marques du pluriel et du féminin des adjectifs."]
[181,null,"Ecrire sans erreur les formes des verbes étudiés aux temps étudiés, sans confondre, en particulier, les terminaisons (-e, -es, -ent ;-ons et -ont ; -ez, -ais, -ait et -aient ; -ras, -ra). "]
[182,null,"Appliquer la règle de l’accord du verbe avec le sujet (y compris pronom personnel) dans les phrases où l’ordre sujet-verbe est respecté, et où le verbe est à un temps simple."]
[183,null,"Accorder sans erreur le déterminant et le nom, le nom et l’adjectif (épithète)."]
[184,null,"Ecrire sans erreur des homophones grammaticaux en liaison avec le programme de grammaire (a/à, ont/on, est/et, sont/son)."]
[185,null,"Ecrire sans erreur le pluriel des noms se terminant par –eu, par –eau. Le pluriel des noms en –au, -ail est en cours d’acquisition."]
[186,null,"Ecrire sans erreur les formes des verbes étudiés aux temps étudiés, dont les verbes du premier groupe en -cer, -ger, -guer,. "]
[187,null,"Appliquer la règle de l’accord du verbe avec son sujet, y compris pour les verbes à un temps composé, et pour les sujets inversés."]
[188,null,"Orthographier correctement les verbes étudiés aux temps étudiés, dont les verbes du premier groupe en -yer, -eter, -eler."]
[189,null,"Appliquer la règle de l’accord du verbe avec son sujet, y compris avec le sujet qui de 3e personne."]
[190,null,"Ecrire sans erreur les homophones grammaticaux déjà étudiés, ainsi que on/ on n’ d’on/dont/donc, quel(s)/quelle(s)/qu’elle(s), sans/s’en ; la distinc­tion entre leur et leurs est en cours d’acquisition en fin de cycle."]
[191,null,"Distinguer par le sens les formes verbales homophones de l’imparfait et du passé composé. ."]
[192,null,"Orthographe lexicale"]
[193,null,"Ecrire sans erreur des noms et des adjectifs se terminant par une consonne muette (ex. chant, cf. chanteur ; blond, cf. blonde…)."]
[194,null,"Ecrire sans erreur les mots mémorisés et régulièrement révisés, en particulier les mots invariables acquis aux CP et CE 1, des mots fréquents, des mots référents pour des sons. "]
[195,null,"Connaître la notion d’homonyme et écrire sans erreur un nombre croissant d’homonymes jusqu’à la fin du cycle. "]
[196,null,"Ecrire sans erreur des mots invariables, en particulier les plus fréquents de ceux étudiés en grammaire."]
[197,null,"S’appuyer sur sa connaissance des familles de mots pour écrire sans erreur des mots nouveaux (préfixe in-, im-, ilou ir-, suffixe -tion…)."]
[198,null,"Mémoriser la graphie de la syllabe finale des noms terminés par -ail, -eil, -euil . "]
[199,null,"Ecrire correctement (doublement de la consonne) le début des mots commençant par ap-, ac-, af-, efet of-."]
[200,null,"Ecrire correctement la syllabe finale des noms terminés par -ée ; par -té ou -tié ; par un e muet."]
[201,null,"Respecter la convention de la coupe syllabique à la ligne."]
[202,null," NOMBRE ET CALCUL"]
[203,null,"Les nombres entiers "]
[204,null," Connaître, savoir écrire et nommer les nombres entiers (jusqu'au million CE2, jusqu’au milliard CM1 CM2)."]
[205,null,"Comparer, ranger, encadrer ces nombres."]
[206,null,"Connaître et utiliser des expressions telles que: double, moitié ou demi, triple, quart; d’un nombre entier."]
[207,null,"Connaître et utiliser certaines relations entre des nombres d’usage courant : entre 5, 10, 25, 50, 100, entre 15, 30 et 60."]
[208,null,"La notion de multiple : reconnaître les multiples des nombres d’usage courant : 5, 10, 15, 20, 25, 50."]
[209,null,"Fractions "]
[210,null,"Nommer les fractions simples et décimales en utilisant le vocabulaire: demi, tiers, quart, dixième, centième."]
[211,null,"Utiliser, ces fractions dans des cas simples de partage, ou de codage de mesures de grandeurs."]
[212,null,"Encadrer une fraction simple par deux entiers consécutifs."]
[213,null,"Écrire une fraction sous forme de somme d’un entier et d’une fraction inférieure à 1."]
[214,null,"Ajouter 2 fractions décimales, ou deux fractions simples de même dénominateur."]
[215,null,"Nombres décimaux "]
[216,null,"Connaître la valeur de chacun des chiffres de la partie décimale en fonction de sa position (jusqu’au 1/10 000e)"]
[217,null,"Repérer, placer les nombres décimaux sur une droite graduée,"]
[218,null,"Comparer, ranger les nombres décimaux,"]
[219,null,"Encadrer les nombres décimaux par deux nombres entiers consécutifs,"]
[220,null,"Passer d’une écriture fractionnaire à une écriture à virgule et réciproquement."]
[221,null,"Produire des décompositions liées à une écriture à virgule, en utilisant 10; 100; 1000... et 0,1; 0,001... "]
[222,null,"Donner une valeur approchée à l’unité près, au dixième ou au centième près."]
[223,null,"Calcul "]
[224,null,"Calculer mentalement "]
[225,null,"Mémoriser et mobiliser les résultats des tables d’addition et de multiplication "]
[226,null,"Calculer mentalement des sommes, des différences, des produits. "]
[227,null,"Multiplier mentalement un nombre entier ou décimal par 10, 100, 1000 ;"]
[228,null,"Estimer mentalement un ordre de grandeur du résultat."]
[229,null,"Consolider les connaissances et capacités en calcul mental sur les nombres entiers et décimaux;"]
[230,null,"Diviser un nombre entier ou décimal par 10, 100, 1000. "]
[231,null,"Effectuer un calcul posé "]
[232,null,"Addition des nombres entiers"]
[233,null,"Soustraction des nombres entiers"]
[234,null,"Multiplication des nombres entiers"]
[235,null,"Connaître une technique opératoire de la division et la mettre en œuvre avec un diviseur à un chiffre."]
[236,null,"Organiser ses calculs pour trouver un résultat par calcul mental, posé, où à l’aide de la calculatrice."]
[237,null,"Utiliser les touches des opérations de la calculatrice."]
[238,null,"Addition et soustraction de deux nombres décimaux."]
[239,null,"Multiplication d’un nombre décimal par un nombre entier."]
[240,null,"Division euclidienne de deux entiers."]
[241,null,"Division décimale de deux entiers"]
[242,null,"Connaître quelques fonctionnalités de la calculatrice utiles pour effectuer une suite de calculs."]
[243,null,"Addition de deux nombres décimaux"]
[244,null,"Soustraction de deux nombres décimaux"]
[245,null,"Multiplication de deux nombres décimaux"]
[246,null,"Division d’un nombre décimal par un nombre entier."]
[247,null,"Utiliser sa calculatrice à bon escient."]
[248,null,"Problèmes "]
[249,null,"Résoudre des problèmes relevant des quatre opérations."]
[250,null,"Résoudre des problèmes engageant une démarche à une ou plusieurs étapes."]
[251,null,"Résoudre des problèmes de plus en plus complexes."]
[252,null,"GEOMETRIE"]
[253,null,"Dans le plan"]
[254,null,"Reconnaître, décrire, nommer et reproduire, tracer des figures géométriques:  carré, rectangle, losange, triangle rectangle;"]
[255,null,"Vérifier la nature d’une figure plane en utilisant la règle graduée et l’équerre. "]
[256,null,"Construire un cercle avec un compas."]
[257,null,"Utiliser en situation le vocabulaire : côté, sommet, angle, milieu."]
[258,null,"Reconnaître qu’une figure possède un ou plusieurs axes de symétrie, par pliage ou à l’aide du papier calque."]
[259,null,"Tracer, sur papier quadrillé, la figure symétrique d’une figure donnée par rapport à une droite donnée. "]
[260,null,"Reconnaître que des droites sont parallèles."]
[261,null,"Utiliser en situation le vocabulaire géométrique : points alignés, droite, droites perpendiculaires, droites parallèles, segment, milieu, angle, axe de symétrie, centre d’un cercle, rayon, diamètre. "]
[262,null,"Vérifier la nature d’une figure plane simple  en utilisant la règle graduée, l’équerre, le compas."]
[263,null,"Décrire une figure en vue de l’identifier parmi d’autres figures ou de la faire reproduire. "]
[264,null,"Utiliser les instruments pour vérifier le parallélisme de deux droites (règle et équerre) et pour tracer des droites parallèles."]
[265,null,"Vérifier la nature d’une figure en ayant recours aux instruments."]
[266,null,"Construire une hauteur d’un triangle."]
[267,null,"Reproduire un triangle à l’aide d’instruments."]
[268,null,"Dans l’espace"]
[269,null,"Reconnaître, décrire et nommer : un cube, un pavé droit."]
[270,null,"Utiliser en situation le vocabulaire : face, arête, sommet."]
[271,null,"Reconnaître, décrire et nommer les solides droits : cube, pavé,  prisme."]
[272,null,"Reconnaître ou compléter un patron de cube ou de pavé."]
[273,null,"Reconnaître, décrire et nommer les solides droits : cube, pavé, cylindre, prisme."]
[274,null,"Reconnaître ou compléter un patron de solide droit."]
[275,null,"Problèmes de reproduction, de construction. "]
[276,null,"Reproduire des figures (sur papier uni, quadrillé ou pointé) à partir d’un modèle."]
[277,null,"Construire un carré ou un rectangle de dimensions données."]
[278,null,"Compléter une figure par symétrie axiale."]
[279,null,"Tracer une figure simple à partir d’un programme de construction ou en suivant des consignes."]
[280,null,"Tracer une figure (sur papier uni, quadrillé ou pointé), à partir, d’un programme de construction ou d’un dessin à main levée (avec des indications relatives aux propriétés et aux dimensions)."]
[281,null," GRANDEURS ET MESURE"]
[282,null,"Connaître les unités de mesure suivantes et les relations qui les lient:"]
[283,null,"Longueur : le mètre, le km, le cm, le mm ;"]
[284,null,"Masse : le kilogramme, le gramme ;"]
[285,null,"Capacité : le litre, le centilitre ;"]
[286,null,"Monnaie : l’euro et le centime ;"]
[287,null,"Temps : l’heure, la minute, la seconde, le mois, l’année."]
[288,null,"Utiliser des instruments pour mesurer des longueurs, des masses, des capacités, puis exprimer cette mesure par un nombre entier ou un encadrement par deux nombres entiers. "]
[289,null,"Vérifier qu’un angle est droit en utilisant l’équerre ou un gabarit."]
[290,null,"Calculer le périmètre d’un polygone."]
[291,null,"Lire l’heure sur une montre à aiguilles ou une horloge."]
[292,null,"Connaître et utiliser les unités usuelles de mesure des durées, ainsi que les unités du système métrique pour les longueurs, les masses et les contenances, et leurs relations ;"]
[293,null,"Reporter des longueurs à l’aide du compas."]
[294,null,"Formules du périmètre du carré et du rectangle ;"]
[295,null,"Calculer une durée à partir de la donnée de l’instant initial et de l’instant final ;"]
[296,null,"Formule de la longueur d’un cercle."]
[297,null,"Formule du volume du pavé droit (initiation à l’utilisation d’unités métriques de volume)."]
[298,null,"Aires"]
[299,null,"Mesurer ou estimer l’aire d’une surface grâce à un pavage effectif à l’aide d’une surface de référence (d’aire une unité) ou grâce à l’utilisation d’un réseau quadrillé."]
[300,null,"Classer et ranger des surfaces selon leur aire."]
[301,null,"Calculer l’aire d’un carré, d’un rectangle, d’un triangle en utilisant la formule appropriée."]
[302,null,"Connaître et utiliser les unités d’aire usuelles (cm2, m2 et km2)."]
[303,null,"Angles "]
[304,null,"Comparer les angles d’une figure en utilisant un gabarit."]
[305,null,"Estimer, et vérifier en utilisant l’équerre, qu’un angle est droit, aigu, ou obtus."]
[306,null,"Reproduire un angle donné en utilisant un gabarit. "]
[307,null,"Problèmes "]
[308,null,"Résoudre des problèmes dont la résolution implique les grandeurs ci-dessus. "]
[309,null,"Résoudre des problèmes dont la résolution implique des conversions."]
[310,null,"Résoudre des problèmes dont la résolution implique simultanément des unités différentes de mesure"]
[311,null," ORGANISATION ET GESTION DES DONNEES"]
[312,null,"Savoir organiser les données d’un problème en vue de sa résolution."]
[313,null,"Utiliser un tableau ou un graphique en vue d’un traitement des données."]
[314,null,"Construire un tableau ou un graphique."]
[315,null,"Interpréter un tableau ou un graphique."]
[316,null,"Lire les coordonnées d’un point."]
[317,null,"Placer un point dont on connaît les coordonnées."]
[318,null,"Utiliser un tableau ou la « règle de trois » dans des situations très simples de proportionnalité."]
[319,null,"Résoudre des problèmes relevant de la proportionnalité et notamment des problèmes relatifs aux pourcentages, aux échelles, aux vitesses moyennes ou aux conversions d’unité, en utilisant des procédures variées (dont la « règle de trois »)."]
[320,null,"SCIENCES EXPERIMENTALES ET TECNOLOGIE"]
[321,null,"Pratiquer une démarche d'investigation : savoir observer, questionner"]
[322,null,"Manipuler et expérimenter, formuler une hypothèse et la tester, argumenter, mettre à l'essai plusieurs pistes de solutions"]
[323,null,"Exprimer et exploiter les résultats d'une mesure et d'une recherche en utilisant un vocabulaire scientifique à l'écrit ou à l'oral"]
[324,null,"Le ciel et la Terre"]
[325,null,"Le mouvement de la Terre (et des planètes) autour du Soleil, la rotation de la Terre sur elle-même. La durée du jour et son changement au cours des saisons."]
[326,null,"Le mouvement de la Lune autour de la Terre."]
[327,null,"Lumières et ombres."]
[328,null,"Volcans et séismes, les risques pour les sociétés humaines."]
[329,null,"La matière"]
[330,null,"L’eau : une ressource. Les états et changements d’état. Le trajet de l’eau dans la nature. Le maintien de sa qualité pour ses utilisations."]
[331,null,"L’air et les pollutions de l’air."]
[332,null,"Mélanges et solutions."]
[333,null,"Les déchets : réduire, réutiliser, recycler."]
[334,null,"L’énergie"]
[335,null,"Exemples simples de sources d’énergies (fossiles ou renouvelables)."]
[336,null,"Besoins en énergie, consommation et économie d’énergie."]
[337,null,"L’unité et la diversité du vivant"]
[338,null,"Présentation de la biodiversité : recherche de différences entre espèces vivantes."]
[339,null,"Présentation de l’unité du vivant : recherche de points communs entre espèces vivantes."]
[340,null,"Présentation de la classification du vivant : interprétation de ressemblances et différences en termes de parenté."]
[341,null,"Le fonctionnement du vivant"]
[342,null,"Les stades du développement d’un être vivant (végétal ou animal)."]
[343,null,"Les conditions de développement des végétaux et des animaux."]
[344,null,"Les modes de reproduction des êtres vivants."]
[345,null,"Le fonctionnement du corps humain et la santé"]
[346,null,"Les mouvements corporels (les muscles, les os du squelette, les articulations)."]
[347,null,"Première approche des fonctions de nutrition : digestion, respiration et circulation sanguine."]
[348,null,"Reproduction de l’Homme et éducation à la sexualité."]
[349,null,"Hygiène et santé : actions bénéfiques ou nocives de nos comportements, notamment dans le domaine du sport, de l’alimentation, du sommeil."]
[350,null,"Les êtres vivants dans leur environnement"]
[351,null,"L’adaptation des êtres vivants aux conditions du milieu."]
[352,null,"Places et rôles des êtres vivants ; notions de chaînes et de réseaux alimentaires."]
[353,null,"L’évolution d’un environnement géré par l’Homme : la forêt ; importance de la biodiversité."]
[354,null,"Les objets techniques"]
[355,null,"Circuits électriques alimentés par des piles."]
[356,null,"Règles de sécurité, dangers de l’électricité."]
[357,null,"Leviers et balances, équilibres."]
[358,null,"Objets mécaniques, transmission de mouvements."]
[359,null,"CULTURE HUMANISTE"]
[360,null,"HISTOIRE"]
[361,null,"La Préhistoire"]
[362,null,"Les premières traces de vie humaine, la maîtrise du fer et les débuts de l’agriculture, l’apparition de l’art."]
[363,null,"L’homme de Tautavel il y a près de 500 000 ans ; Lascaux il y a 17 000 ans."]
[364,null,"L’Antiquité"]
[365,null,"Les Gaulois, la romanisation de la Gaule et la christianisation du monde gallo-romain."]
[366,null,"Jules César et Vercingétorix ; 52 avant notre ère : Alésia."]
[367,null,"Le Moyen Âge"]
[368,null,"Après les invasions, la naissance et le développement du royaume de France. "]
[369,null,"Les relations entre seigneurs et paysans, le rôle de l’Église."]
[370,null,"Conflits et échanges en Méditerranée : les Croisades, la découverte d’une autre civilisation, l’Islam."]
[371,null,"La guerre de Cent Ans."]
[372,null,"Connaître des grandes dates et personnages:496 : baptême de Clovis ; 800 : couronnement de Charlemagne ; 987 : Hugues Capet, roi de France ; Saint Louis ; Jeanne d’Arc."]
[373,null,"Les Temps modernes"]
[374,null,"Le temps des Découvertes et des premiers empires coloniaux, la traite des Noirs et l’esclavage. "]
[375,null,"La Renaissance : les arts, quelques découvertes scientifiques, catholiques et protestants."]
[376,null,"Louis XIV un monarque absolu."]
[377,null,"Les Lumières."]
[378,null,"Connaître les grandes dates  et personnage de Gutenberg; 1492 : Christophe Colomb en Amérique ; François Ier ; Copernic ; Galilée ; Henri IV et l’édit de Nantes ; Richelieu ; Louis XIV, Voltaire, Rousseau."]
[379,null,"La Révolution française et le XIXème siècle"]
[380,null,"La Révolution française et le Premier empire : l’aspiration à la liberté et à l’égalité, la Terreur, les grandes réformes de Napoléon Bonaparte."]
[381,null,"La France dans une Europe en expansion industrielle et urbaine : le temps du travail en usine, des progrès techniques, des colonies et de l’émigration. "]
[382,null,"L’installation de la démocratie et de la République."]
[383,null,"Connaître les grandes dates du 14 juillet 1789 : prise de la Bastille à 1905 : loi de séparation des Églises et de l’État."]
[384,null,"Le XXème siècle et notre époque"]
[385,null,"Les deux conflits mondiaux ;"]
[386,null,"l’extermination des Juifs et des Tziganes par les nazis : un crime contre l’humanité."]
[387,null,"La révolution scientifique et technologique, la société de consommation."]
[388,null,"La Vème République."]
[389,null,"La construction européenne."]
[390,null,"Connaître les grandes dates du XX ème siècle, de Verdun à l'Euro "]
[391,null,"GEOGRAPHIE"]
[392,null,"Des réalités géographiques locales à la région où vivent les élèves"]
[393,null,"Les paysages de village, de ville ou de quartier, la circulation des hommes et des biens, les principales activités économiques ; "]
[394,null,"Un sujet d’étude au choix permettant une première approche du développement durable (en relation avec le programme de sciences expérimentales et de technologie) : l’eau dans la commune (besoins et traitement) ou les déchets (réduction et recyclage) ;"]
[395,null,"Le département et la région."]
[396,null,"Étude de cartes."]
[397,null,"Le territoire français dans l’Union européenne"]
[398,null,"les grands types de paysages ; "]
[399,null,"La diversité des régions françaises ;"]
[400,null,"les frontières de la France et les pays de l’Union européenne."]
[401,null,"Principaux caractères du relief, de l’hydrographie et du climat en France et en Europe : étude de cartes."]
[402,null,"Le découpage administratif de la France (départements, régions) : étude de cartes."]
[403,null,"Les pays de l’Union européenne : étude de cartes."]
[404,null,"Les Français dans le contexte européen"]
[405,null,"La répartition de la population sur le territoire national et en Europe ;"]
[406,null,"Les principales villes en France et en Europe."]
[407,null,"Répartition de la population et localisation des principales villes : étude de cartes."]
[408,null,"Se déplacer en France et en Europe"]
[409,null,"Un aéroport ;"]
[410,null,"Le réseau autoroutier et le réseau TGV."]
[411,null,"Le réseau ferré à grande vitesse en Europe : étude de cartes."]
[412,null,"Produire en France : Quatre types d’espaces d’activités : une zone industrialo-portuaire, un centre tertiaire, un espace agricole et une zone de tourisme."]
[413,null,"La France dans le monde"]
[414,null,"Les territoires français dans le monde ;"]
[415,null,"La langue française dans le monde (en relation avec le programme d’instruction civique et morale)."]
[416,null,"PRATIQUES ARTISTIQUES ET HISTOIRE DE L'ART"]
[417,null,"Arts visuels"]
[418,null,"Acquérir des savoirs et des techniques spécifiques."]
[419,null,"Distinguer les grandes catégories de la création artistique (littérature, musique, danse, théâtre, cinéma, dessin, peinture, sculpture, architecture)"]
[420,null,"Distinguer la valeur d’usage de la valeur esthétique des objets étudiés."]
[421,null,"Pratiquer le dessin et diverses formes d’expressions visuelles et plastiques"]
[422,null,"Inventer et réaliser des textes, des œuvres plastiques, des chorégraphies ou des enchaînements, à visée artistique ou expressive"]
[423,null,"Éducation musicale"]
[424,null,"S’exercer à comparer des œuvres musicales."]
[425,null,"Découvrir la variété des genres et des styles selon les époques et les cultures."]
[426,null,"Percevoir et identifier des éléments musicaux caractéristiques de la musique écoutée."]
[427,null,"Interpréter de mémoire une chanson, participer à un jeu rythmique ; repérer des éléments musicaux caractéristiques, simples"]
[428,null,"Histoire de l'art"]
[429,null,"Se situer parmi les productions artistiques de l’humanité et les différentes cultures considérées dans le temps et dans l’espace."]
[430,null,"Découvrir les richesses, la permanence et l’universalité de la création artistique."]
[431,null,"Éveiller sa curiosité pour les chefs-d’œuvre ou les activités artistiques de leur ville ou de leur région."]
[432,null,"La Préhistoire et l’Antiquité gallo-romaine"]
[433,null,"Architecture préhistorique (un ensemble mégalithique) et antique (des monuments gallo-romains)."]
[434,null,"Une mosaïque gallo-romaine."]
[435,null,"Peintures de Lascaux ; une sculpture antique."]
[436,null,"Le Moyen Âge"]
[437,null,"Architecture religieuse (une église romane ; une église gothique ; une mosquée ; une abbaye) ; bâtiments et sites militaires et civils (un château fort ; une cité fortifiée ; une maison à colombage)."]
[438,null,"Un extrait d’un roman de chevalerie."]
[439,null,"Un costume, un vitrail, une tapisserie."]
[440,null,"Musique religieuse (un chant grégorien) et musique profane (une chanson de troubadour)."]
[441,null,"Une fête et un spectacle de la culture populaire et nobiliaire (le carnaval, le tournoi)."]
[442,null,"Une fresque ; une sculpture romane ; une sculpture gothique ; un manuscrit enluminé."]
[443,null,"Les temps modernes"]
[444,null,"Une architecture royale (un château de la Loire, Versailles), une architecture militaire (une fortification) ; une place urbaine ; un jardin à la française."]
[445,null,"Des poésies de la Renaissance ; un conte ou une fable de l’époque classique."]
[446,null,"Une pièce de mobilier et de costume ; un moyen de transport ; une tapisserie."]
[447,null,"Musique instrumentale et vocale du répertoire baroque et classique (une symphonie ; une œuvre vocale religieuse)."]
[448,null,"Une chanson du répertoire populaire."]
[449,null,"Un extrait de pièce de théâtre."]
[450,null,"Des peintures et sculptures de la Renaissance, des XVIIème et XVIIIème siècles (Italie, Flandres, France)."]
[451,null,"Le XIXème siècle"]
[452,null,"Une architecture industrielle (une gare)."]
[453,null,"Urbanisme : un plan de ville."]
[454,null,"Des récits, des poésies."]
[455,null,"Des éléments de mobilier et de décoration et d’arts de la table (Sèvres, Limoges)."]
[456,null,"Extraits musicaux de l’époque romantique (symphonie, opéra)."]
[457,null,"Un extrait de pièce de théâtre, de ballet."]
[458,null,"Quelques œuvres illustrant les principaux mouvements picturaux (romantisme, réalisme, impressionnisme) ; un maître de la sculpture ; un court-métrage des débuts du cinématographe ; des photographies d’époque."]
[459,null,"Le XXème siècle et notre époque"]
[460,null,"Architecture : ouvrages d’art et habitat."]
[461,null,"Des récits, nouvelles, récits illustrés, poésies."]
[462,null,"Design graphique (une affiche) ; design de transport (un train)."]
[463,null,"Des musiques du XXème siècle (dont jazz, musiques de films, chansons)."]
[464,null,"Spectacle de mime, de cirque, de théâtre ; un extrait d’un spectacle de danse moderne ou contemporaine."]
[465,null,"Quelques œuvres illustrant les principaux mouvements picturaux contemporains ; une sculpture ; des œuvres cinématographiques (dont le cinéma muet) et photographiques ; des œuvres cinématographiques illustrant les différentes périodes historiques."]
[466,null,"LVE"]
[467,null,"Réagir et dialoguer"]
[468,null,"Communiquer, au besoin avec des pauses pour chercher ses mots"]
[469,null,"Se présenter ; présenter quelqu’un ; demander à quelqu’un de ses nouvelles en utilisant les formes de politesse les plus élémentaires ; accueil et prise de congé"]
[470,null,"Répondre à des questions et en poser (sujets familiers ou besoins immédiats)"]
[471,null,"Épeler des mots familiers"]
[472,null,"Comprendre à l'oral"]
[473,null,"Comprendre les consignes de classe"]
[474,null,"Comprendre des mots familiers et des expressions très courantes"]
[475,null,"Suivre des instructions courtes et simples"]
[476,null,"Parler en continu"]
[477,null,"Reproduire un modèle oral"]
[478,null,"Utiliser des expressions et des phrases proches des modèles rencontrés lors des apprentissages"]
[479,null,"Lire à haute voix et de manière expressive un texte bref après répétition"]
[480,null,"Lire"]
[481,null,"Comprendre des textes courts et simples en s’appuyant sur des éléments connus (indications, informations)"]
[482,null,"Se faire une idée du contenu d’un texte informatif simple, accompagné éventuellement d’un document visuel"]
[483,null,"Ecrire"]
[484,null,"Copier des mots isolés et des textes courts"]
[485,null,"Écrire un message électronique simple ou une courte carte postale en référence à des modèles"]
[486,null,"Renseigner un questionnaire"]
[487,null,"Produire de manière autonome quelques phrases"]
[488,null,"Écrire sous la dictée des expressions connues"]
[489,null,"TECHNIQUES USUELLES DE L'INFORMATION ET DE LA COMMUNICATION"]
[490,null,"Brevet informatique et internet : niveau école"]
[491,null,"S\"approprier un environnement informatique"]
[492,null,"Connaitre et maîtriser les fonctions de base d’un ordinateur et de ses périphériques : fonction des différents éléments, utilisation de la souris"]
[493,null,"Adopter une attitude responsable"]
[494,null,"Prendre conscience des enjeux citoyens de l’usage de l’informatique et de l’internet et adopter une attitude critique face aux résultats obtenus"]
[495,null,"Créer, produire, traiter, exploiter des données"]
[496,null,"Produire un document numérique : texte, image, son"]
[497,null,"Utiliser l’outil informatique pour présenter un travail"]
[498,null,"S'informer, se documenter"]
[499,null,"Lire un document numérique"]
[500,null,"Chercher des informations par voie électronique"]
[501,null,"Découvrir les richesses et les limites des ressources de l'internet"]
[502,null,"Communiquer, échanger"]
[503,null,"Échanger avec les technologies de l’information et de la communication"]
[504,null,"EDUCATION PHYSIQUE ET SPORTIVE"]
[505,null,"Réaliser une performance mesurée (en distance, en temps)"]
[506,null,"Activités athlétiques : courir vite, courir longtemps, courir en franchissant des obstacles, courir en relais, sauter loin, sauter haut, lancer loin."]
[507,null,"Natation : se déplacer sur une trentaine de mètres."]
[508,null,"Adapter ses déplacements à différents types d’environnement"]
[509,null,"Activités d’escalade : grimper et redescendre sur un trajet annoncé (mur équipé)."]
[510,null,"Activités aquatiques et nautiques : plonger, s’immerger, se déplacer."]
[511,null,"Activités de roule et glisse : réaliser un parcours d’actions diverses en roller, en vélo, en ski."]
[512,null,"Activités d’orientation : retrouver plusieurs balises dans un espace semi-naturel en s’aidant d’une carte."]
[513,null,"Coopérer ou s’opposer individuellement et collectivement"]
[514,null,"Jeux de lutte : amener son adversaire au sol pour l’immobiliser."]
[515,null,"Jeux de raquettes : marquer des points dans un match à deux."]
[516,null,"Jeux sportifs collectifs (type handball, basket-ball, football, rugby, volley-ball...) : coopérer avec ses partenaires pour affronter collectivement des adversaires, en respectant des règles, en assurant des rôles différents (attaquant, défenseur, arbitre)."]
[517,null,"Concevoir et réaliser des actions à visées expressive, artistique, esthétique"]
[518,null,"Danse : construire à plusieurs une phrase dansée (chorégraphie de 5 éléments au moins) pour exprimer corporellement des personnages, des images, des sentiments et pour communiquer des émotions, sur des supports sonores divers."]
[519,null,"Activités gymniques : construire et réaliser un enchaînement de 4 ou 5 éléments “acrobatiques” sur divers engins (barres, moutons, poutres, tapis)."]
[520,null,"LES COMPETENCES SOCIALES ET CIVIQUES"]
[521,null,"Connaître les principes et fondements de la vie civique et sociale"]
[522,null,"Reconnaître les symboles de la république et de l’Union européenne"]
[523,null,"Comprendre les notions de droits et de devoirs, les accepter et les mettre en application"]
[524,null,"Avoir conscience de la dignité de la personne humaine et en tirer les conséquences au quotidien"]
[525,null,"Avoir un comportement responsable"]
[526,null,"Respecter les règles de la vie collective, notamment dans les pratiques sportives"]
[527,null,"Respecter tous les autres, et notamment appliquer les principes de l’égalité des filles et des garçons"]
[528,null,"L'AUTONOMIE ET L'INITIATIVE"]
[529,null,"S'appuyer sur des méthodes de travail pour être autonome"]
[530,null,"Respecter des consignes simples, en autonomie"]
[531,null,"Etre persévérant dans toutes les activités"]
[532,null,"Commencer à savoir s’auto-évaluer dans des situations simples"]
[533,null,"Soutenir une écoute prolongée (lecture, musique, spectacle, etc.)"]
[534,null,"Faire preuve d'initiative"]
[535,null,"S’impliquer dans un projet individuel ou collectif"]
[]
[null,null,"Appréciations"]
[]
[null,null,"Nombre d'absence",null,{"$f":"absences","v":0}]
[{"$nulls":4},{"$f":"absences","v":0}]
[null,null,"Décision du conseil de cycle",null,{"$f":"passage","v":0}]
[{"$nulls":4},{"$f":"passage","v":0}]
[]
[null,null,"A : acquis   B : à renforcer   C : en cours d'acquisition   D : non acquis   NE : non évalué"]
[null,null,"Signatures"]

{"sheet":"Formules","index":7,"n_rows":800,"n_cols":45,"rows_kept":800,"hidden":true}
["notes",{"$f":"IF(INDEX(periode1,NEVAL,Nenfant)=\"\",0,INDEX(periode1,NEVAL,Nenfant))","v":{"$error":"#NAME?"}},{"$f":"IF(INDEX(periode1,NEVAL,Nenfant)=\"\",0,INDEX(periode1,NEVAL,Nenfant))","v":{"$error":"#NAME?"}},{"$f":"IF(INDEX(periode2,NEVAL,Nenfant)=\"\",0,INDEX(periode2,NEVAL,Nenfant))","v":{"$error":"#NAME?"}},{"$f":"IF(INDEX(periode3,NEVAL,Nenfant)=\"\",0,INDEX(periode3,NEVAL,Nenfant))","v":{"$error":"#NAME?"}},{"$f":"IF(INDEX(periode4,NEVAL,Nenfant)=\"\",0,INDEX(periode4,NEVAL,Nenfant))","v":{"$error":"#NAME?"}},{"$f":"IF(INDEX(periode5,NEVAL,Nenfant)=\"\",0,INDEX(periode5,NEVAL,Nenfant))","v":{"$error":"#NAME?"}},{"$f":"IF(INDEX(periode6,NEVAL,Nenfant)=\"\",0,INDEX(periode6,NEVAL,Nenfant))","v":{"$error":"#NAME?"}},{"$nulls":31},"Compétences"]
["appreciations",null,{"$f":"IF(INDEX(appreciations1,Nenfant,1)=\"\",0,INDEX(appreciations1,Nenfant,1))","v":"appréciation lenoir P1"},{"$f":"IF(INDEX(appreciations2,Nenfant,1)=\"\",0,INDEX(appreciations2,Nenfant,1))","v":"appréciation lenoir P2"},{"$f":"IF(INDEX(appreciations3,Nenfant,1)=\"\",0,INDEX(appreciations3,Nenfant,1))","v":"appréciation lenoir P3"},{"$f":"IF(INDEX(appreciations4,Nenfant,1)=\"\",0,INDEX(appreciations4,Nenfant,1))","v":"appréciation lenoir P4"},{"$f":"IF(INDEX(appreciations5,Nenfant,1)=\"\",0,INDEX(appreciations5,Nenfant,1))","v":"appréciation lenoir P5"}]
["absences",null,{"$f":"IF(INDEX(absences1,Nenfant,1)=\"\",0,INDEX(absences1,Nenfant,1))","v":0},{"$f":"IF(INDEX(absences2,Nenfant,1)=\"\",0,INDEX(absences2,Nenfant,1))","v":0},{"$f":"IF(INDEX(absences3,Nenfant,1)=\"\",0,INDEX(absences3,Nenfant,1))","v":0},{"$f":"IF(INDEX(absences4,Nenfant,1)=\"\",0,INDEX(absences4,Nenfant,1))","v":0},{"$f":"IF(INDEX(absences5,Nenfant,1)=\"\",0,INDEX(absences5,Nenfant,1))","v":0},{"$f":"IF(INDEX(absencesA,Nenfant,1)=\"\",0,INDEX(absencesA,Nenfant,1))","v":0},{"$f":"IF(INDEX(decision,Nenfant,1)=\"\",0,INDEX(decision,Nenfant,1))","v":0}]
[{"$nulls":18},"prog6bf"]
[5,null,"A",1,"A",{"$f":"Renseignements!I20","v":0},{"$nulls":12},{"$f":"IF(COUNTIF(I5:Q5,\"X\"),\"X\",\"\")","v":""},{"$nulls":4},{"$f":"Programmation!I5","v":"x"},{"$f":"Programmation!K5","v":"x"},{"$f":"Programmation!M5","v":0},{"$f":"Programmation!O5","v":0},{"$f":"Programmation!Q5","v":0},{"$f":"Programmation!S5","v":"X"}]
[6,null,"B",2,"AR",{"$f":"Renseignements!J20","v":0},{"$nulls":12},{"$f":"IF(COUNTIF(I6:Q6,\"X\"),\"X\",\"\")","v":""},{"$nulls":4},{"$f":"Programmation!I6","v":"x"},{"$f":"ProgrammationJ6","v":{"$error":"#NAME?"}},{"$f":"Programmation!K6","v":"x"},{"$f":"Programmation!L6","v":0},{"$f":"Programmation!M6","v":0},{"$nulls":11},{"$f":"COUNTIF($D6:$AL6,$AU$1)/$AV$1","v":{"$error":"#DIV/0!"}},{"$f":"COUNTIF($D6:$AL6,$AU$2)/$AV$1","v":{"$error":"#DIV/0!"}},{"$f":"COUNTIF($D6:$AL6,$AU$3)/$AV$1","v":{"$error":"#DIV/0!"}},{"$f":"COUNTIF($D6:$AL6,$AU$4)/$AV$1","v":{"$error":"#DIV/0!"}},{"$f":"COUNTIF(D6:$AL6,\"NE\")/$AV$1","v":{"$error":"#DIV/0!"}},{"$f":"AN6+(AO6*0.66)+(AP6*0.33)","v":{"$error":"#DIV/0!"}}]
[7,null,"C",3,"ECA",{"$f":"Renseignements!K20","v":0},{"$nulls":33},{"$error":"#DIV/0!"},{"$error":"#DIV/0!"},{"$error":"#DIV/0!"},{"$error":"#DIV/0!"},{"$f":"COUNTIF(D7:$AL7,\"NE\")/$AV$1","v":{"$error":"#DIV/0!"}},{"$f":"AN7+(AO7*0.66)+(AP7*0.33)","v":{"$error":"#DIV/0!"}}]
[8,null,"D",4,"NA",{"$f":"Renseignements!L20","v":0},{"$nulls":33},{"$error":"#DIV/0!"},{"$error":"#DIV/0!"},{"$error":"#DIV/0!"},{"$error":"#DIV/0!"},{"$f":"COUNTIF(D8:$AL8,\"NE\")/$AV$1","v":{"$error":"#DIV/0!"}},{"$error":"#DIV/0!"}]
[9,null,"NE","NE","NE",{"$f":"Renseignements!M20","v":"NE"},{"$nulls":33},{"$error":"#DIV/0!"},{"$error":"#DIV/0!"},{"$error":"#DIV/0!"},{"$error":"#DIV/0!"},{"$f":"COUNTIF(D9:$AL9,\"NE\")/$AV$1","v":{"$error":"#DIV/0!"}},{"$error":"#DIV/0!"}]
[10,{"$nulls":38},{"$error":"#DIV/0!"},{"$error":"#DIV/0!"},{"$error":"#DIV/0!"},{"$error":"#DIV/0!"},{"$f":"COUNTIF(D10:$AL10,\"NE\")/$AV$1","v":{"$error":"#DIV/0!"}},{"$error":"#DIV/0!"}]
[11,{"$nulls":4},{"$f":"CONCATENATE(F5,\": acquis\",\"  \",F6,\": à renforcer\",\"  \",\"\",F7,\": en cours d'acquisition\",\"  \",F8,\": non acquis\",\"  NE: non évalué\")","v":"0: acquis  0: à renforcer  0: en cours d'acquisition  0: non acquis  NE: non évalué"},{"$nulls":33},{"$error":"#DIV/0!"},{"$error":"#DIV/0!"},{"$error":"#DIV/0!"},{"$error":"#DIV/0!"},{"$f":"COUNTIF(D11:$AL11,\"NE\")/$AV$1","v":{"$error":"#DIV/0!"}},{"$error":"#DIV/0!"}]
[12,{"$nulls":38},{"$error":"#DIV/0!"},{"$error":"#DIV/0!"},{"$error":"#DIV/0!"},{"$error":"#DIV/0!"},{"$f":"COUNTIF(D12:$AL12,\"NE\")/$AV$1","v":{"$error":"#DIV/0!"}},{"$error":"#DIV/0!"}]
[13,{"$nulls":38},{"$error":"#DIV/0!"},{"$error":"#DIV/0!"},{"$error":"#DIV/0!"},{"$error":"#DIV/0!"},{"$f":"COUNTIF(D13:$AL13,\"NE\")/$AV$1","v":{"$error":"#DIV/0!"}},{"$error":"#DIV/0!"}]
[14,{"$nulls":3},{"$f":"IF(G14<>0,G14,(IF(F14<>0,F14,0)))","v":0},{"$nulls":34},{"$error":"#DIV/0!"},{"$error":"#DIV/0!"},{"$error":"#DIV/0!"},{"$error":"#DIV/0!"},{"$f":"COUNTIF(D14:$AL14,\"NE\")/$AV$1","v":{"$error":"#DIV/0!"}},{"$error":"#DIV/0!"}]
[15,{"$nulls":38},{"$error":"#DIV/0!"},{"$error":"#DIV/0!"},{"$error":"#DIV/0!"},{"$error":"#DIV/0!"},{"$f":"COUNTIF(D15:$AL15,\"NE\")/$AV$1","v":{"$error":"#DIV/0!"}},{"$error":"#DIV/0!"}]
[16,{"$nulls":38},{"$error":"#DIV/0!"},{"$error":"#DIV/0!"},{"$error":"#DIV/0!"},{"$error":"#DIV/0!"},{"$f":"COUNTIF(D16:$AL16,\"NE\")/$AV$1","v":{"$error":"#DIV/0!"}},{"$error":"#DIV/0!"}]
[17,{"$nulls":38},{"$error":"#DIV/0!"},{"$error":"#DIV/0!"},{"$error":"#DIV/0!"},{"$error":"#DIV/0!"},{"$f":"COUNTIF(D17:$AL17,\"NE\")/$AV$1","v":{"$error":"#DIV/0!"}},{"$error":"#DIV/0!"}]
[18,{"$nulls":38},{"$error":"#DIV/0!"},{"$error":"#DIV/0!"},{"$error":"#DIV/0!"},{"$error":"#DIV/0!"},{"$f":"COUNTIF(D18:$AL18,\"NE\")/$AV$1","v":{"$error":"#DIV/0!"}},{"$error":"#DIV/0!"}]
[19,{"$nulls":38},{"$error":"#DIV/0!"},{"$error":"#DIV/0!"},{"$error":"#DIV/0!"},{"$error":"#DIV/0!"},{"$f":"COUNTIF(D19:$AL19,\"NE\")/$AV$1","v":{"$error":"#DIV/0!"}},{"$error":"#DIV/0!"}]
[20,{"$nulls":38},{"$error":"#DIV/0!"},{"$error":"#DIV/0!"},{"$error":"#DIV/0!"},{"$error":"#DIV/0!"},{"$f":"COUNTIF(D20:$AL20,\"NE\")/$AV$1","v":{"$error":"#DIV/0!"}},{"$error":"#DIV/0!"}]
[21,{"$nulls":38},{"$error":"#DIV/0!"},{"$error":"#DIV/0!"},{"$error":"#DIV/0!"},{"$error":"#DIV/0!"},{"$f":"COUNTIF(D21:$AL21,\"NE\")/$AV$1","v":{"$error":"#DIV/0!"}},{"$error":"#DIV/0!"}]
[22,{"$nulls":38},{"$error":"#DIV/0!"},{"$error":"#DIV/0!"},{"$error":"#DIV/0!"},{"$error":"#DIV/0!"},{"$f":"COUNTIF(D22:$AL22,\"NE\")/$AV$1","v":{"$error":"#DIV/0!"}},{"$error":"#DIV/0!"}]
[23,{"$nulls":38},{"$error":"#DIV/0!"},{"$error":"#DIV/0!"},{"$error":"#DIV/0!"},{"$error":"#DIV/0!"},{"$f":"COUNTIF(D23:$AL23,\"NE\")/$AV$1","v":{"$error":"#DIV/0!"}},{"$error":"#DIV/0!"}]
[24,{"$nulls":38},{"$error":"#DIV/0!"},{"$error":"#DIV/0!"},{"$error":"#DIV/0!"},{"$error":"#DIV/0!"},{"$f":"COUNTIF(D24:$AL24,\"NE\")/$AV$1","v":{"$error":"#DIV/0!"}},{"$error":"#DIV/0!"}]
[25,{"$nulls":38},{"$error":"#DIV/0!"},{"$error":"#DIV/0!"},{"$error":"#DIV/0!"},{"$error":"#DIV/0!"},{"$f":"COUNTIF(D25:$AL25,\"NE\")/$AV$1","v":{"$error":"#DIV/0!"}},{"$error":"#DIV/0!"}]
[26,{"$nulls":38},{"$error":"#DIV/0!"},{"$error":"#DIV/0!"},{"$error":"#DIV/0!"},{"$error":"#DIV/0!"},{"$f":"COUNTIF(D26:$AL26,\"NE\")/$AV$1","v":{"$error":"#DIV/0!"}},{"$error":"#DIV/0!"}]
[27,{"$nulls":38},{"$error":"#DIV/0!"},{"$error":"#DIV/0!"},{"$error":"#DIV/0!"},{"$error":"#DIV/0!"},{"$f":"COUNTIF(D27:$AL27,\"NE\")/$AV$1","v":{"$error":"#DIV/0!"}},{"$error":"#DIV/0!"}]
[28,{"$nulls":38},{"$error":"#DIV/0!"},{"$error":"#DIV/0!"},{"$error":"#DIV/0!"},{"$error":"#DIV/0!"},{"$f":"COUNTIF(D28:$AL28,\"NE\")/$AV$1","v":{"$error":"#DIV/0!"}},{"$error":"#DIV/0!"}]
[29,{"$nulls":38},{"$error":"#DIV/0!"},{"$error":"#DIV/0!"},{"$error":"#DIV/0!"},{"$error":"#DIV/0!"},{"$f":"COUNTIF(D29:$AL29,\"NE\")/$AV$1","v":{"$error":"#DIV/0!"}},{"$error":"#DIV/0!"}]
[30,{"$nulls":38},{"$error":"#DIV/0!"},{"$error":"#DIV/0!"},{"$error":"#DIV/0!"},{"$error":"#DIV/0!"},{"$f":"COUNTIF(D30:$AL30,\"NE\")/$AV$1","v":{"$error":"#DIV/0!"}},{"$error":"#DIV/0!"}]
[{"$f":"A30+1","v":31},{"$nulls":38},{"$error":"#DIV/0!"},{"$error":"#DIV/0!"},{"$error":"#DIV/0!"},{"$error":"#DIV/0!"},{"$f":"COUNTIF(D31:$AL31,\"NE\")/$AV$1","v":{"$error":"#DIV/0!"}},{"$error":"#DIV/0!"}]
[32,{"$nulls":38},{"$error":"#DIV/0!"},{"$error":"#DIV/0!"},{"$error":"#DIV/0!"},{"$error":"#DIV/0!"},{"$f":"COUNTIF(D32:$AL32,\"NE\")/$AV$1","v":{"$error":"#DIV/0!"}},{"$error":"#DIV/0!"}]
[33,{"$nulls":38},{"$error":"#DIV/0!"},{"$error":"#DIV/0!"},{"$error":"#DIV/0!"},{"$error":"#DIV/0!"},{"$f":"COUNTIF(D33:$AL33,\"NE\")/$AV$1","v":{"$error":"#DIV/0!"}},{"$error":"#DIV/0!"}]
[34,{"$nulls":38},{"$error":"#DIV/0!"},{"$error":"#DIV/0!"},{"$error":"#DIV/0!"},{"$error":"#DIV/0!"},{"$f":"COUNTIF(D34:$AL34,\"NE\")/$AV$1","v":{"$error":"#DIV/0!"}},{"$error":"#DIV/0!"}]
[35,{"$nulls":38},{"$error":"#DIV/0!"},{"$error":"#DIV/0!"},{"$error":"#DIV/0!"},{"$error":"#DIV/0!"},{"$f":"COUNTIF(D35:$AL35,\"NE\")/$AV$1","v":{"$error":"#DIV/0!"}},{"$error":"#DIV/0!"}]
[36,{"$nulls":38},{"$error":"#DIV/0!"},{"$error":"#DIV/0!"},{"$error":"#DIV/0!"},{"$error":"#DIV/0!"},{"$f":"COUNTIF(D36:$AL36,\"NE\")/$AV$1","v":{"$error":"#DIV/0!"}},{"$error":"#DIV/0!"}]
[37,{"$nulls":38},{"$error":"#DIV/0!"},{"$error":"#DIV/0!"},{"$error":"#DIV/0!"},{"$error":"#DIV/0!"},{"$f":"COUNTIF(D37:$AL37,\"NE\")/$AV$1","v":{"$error":"#DIV/0!"}},{"$error":"#DIV/0!"}]
[38,{"$nulls":38},{"$error":"#DIV/0!"},{"$error":"#DIV/0!"},{"$error":"#DIV/0!"},{"$error":"#DIV/0!"},{"$f":"COUNTIF(D38:$AL38,\"NE\")/$AV$1","v":{"$error":"#DIV/0!"}},{"$error":"#DIV/0!"}]
[39,{"$nulls":38},{"$error":"#DIV/0!"},{"$error":"#DIV/0!"},{"$error":"#DIV/0!"},{"$error":"#DIV/0!"},{"$f":"COUNTIF(D39:$AL39,\"NE\")/$AV$1","v":{"$error":"#DIV/0!"}},{"$error":"#DIV/0!"}]
[40,{"$nulls":38},{"$error":"#DIV/0!"},{"$error":"#DIV/0!"},{"$error":"#DIV/0!"},{"$error":"#DIV/0!"},{"$f":"COUNTIF(D40:$AL40,\"NE\")/$AV$1","v":{"$error":"#DIV/0!"}},{"$error":"#DIV/0!"}]
[41,{"$nulls":38},{"$error":"#DIV/0!"},{"$error":"#DIV/0!"},{"$error":"#DIV/0!"},{"$error":"#DIV/0!"},{"$f":"COUNTIF(D41:$AL41,\"NE\")/$AV$1","v":{"$error":"#DIV/0!"}},{"$error":"#DIV/0!"}]
[42,{"$nulls":38},{"$error":"#DIV/0!"},{"$error":"#DIV/0!"},{"$error":"#DIV/0!"},{"$error":"#DIV/0!"},{"$f":"COUNTIF(D42:$AL42,\"NE\")/$AV$1","v":{"$error":"#DIV/0!"}},{"$error":"#DIV/0!"}]
[43,{"$nulls":38},{"$error":"#DIV/0!"},{"$error":"#DIV/0!"},{"$error":"#DIV/0!"},{"$error":"#DIV/0!"},{"$f":"COUNTIF(D43:$AL43,\"NE\")/$AV$1","v":{"$error":"#DIV/0!"}},{"$error":"#DIV/0!"}]
[44,{"$nulls":38},{"$error":"#DIV/0!"},{"$error":"#DIV/0!"},{"$error":"#DIV/0!"},{"$error":"#DIV/0!"},{"$f":"COUNTIF(D44:$AL44,\"NE\")/$AV$1","v":{"$error":"#DIV/0!"}},{"$error":"#DIV/0!"}]
[45,{"$nulls":38},{"$error":"#DIV/0!"},{"$error":"#DIV/0!"},{"$error":"#DIV/0!"},{"$error":"#DIV/0!"},{"$f":"COUNTIF(D45:$AL45,\"NE\")/$AV$1","v":{"$error":"#DIV/0!"}},{"$error":"#DIV/0!"}]
[46,{"$nulls":38},{"$error":"#DIV/0!"},{"$error":"#DIV/0!"},{"$error":"#DIV/0!"},{"$error":"#DIV/0!"},{"$f":"COUNTIF(D46:$AL46,\"NE\")/$AV$1","v":{"$error":"#DIV/0!"}},{"$error":"#DIV/0!"}]
[47,{"$nulls":38},{"$error":"#DIV/0!"},{"$error":"#DIV/0!"},{"$error":"#DIV/0!"},{"$error":"#DIV/0!"},{"$f":"COUNTIF(D47:$AL47,\"NE\")/$AV$1","v":{"$error":"#DIV/0!"}},{"$error":"#DIV/0!"}]
[48,{"$nulls":38},{"$error":"#DIV/0!"},{"$error":"#DIV/0!"},{"$error":"#DIV/0!"},{"$error":"#DIV/0!"},{"$f":"COUNTIF(D48:$AL48,\"NE\")/$AV$1","v":{"$error":"#DIV/0!"}},{"$error":"#DIV/0!"}]
[49,{"$nulls":38},{"$error":"#DIV/0!"},{"$error":"#DIV/0!"},{"$error":"#DIV/0!"},{"$error":"#DIV/0!"},{"$f":"COUNTIF(D49:$AL49,\"NE\")/$AV$1","v":{"$error":"#DIV/0!"}},{"$error":"#DIV/0!"}]
[50,{"$nulls":38},{"$error":"#DIV/0!"},{"$error":"#DIV/0!"},{"$error":"#DIV/0!"},{"$error":"#DIV/0!"},{"$f":"COUNTIF(D50:$AL50,\"NE\")/$AV$1","v":{"$error":"#DIV/0!"}},{"$error":"#DIV/0!"}]
[51,{"$nulls":38},{"$error":"#DIV/0!"},{"$error":"#DIV/0!"},{"$error":"#DIV/0!"},{"$error":"#DIV/0!"},{"$f":"COUNTIF(D51:$AL51,\"NE\")/$AV$1","v":{"$error":"#DIV/0!"}},{"$error":"#DIV/0!"}]
[52,{"$nulls":38},{"$error":"#DIV/0!"},{"$error":"#DIV/0!"},{"$error":"#DIV/0!"},{"$error":"#DIV/0!"},{"$f":"COUNTIF(D52:$AL52,\"NE\")/$AV$1","v":{"$error":"#DIV/0!"}},{"$error":"#DIV/0!"}]
[53,{"$nulls":38},{"$error":"#DIV/0!"},{"$error":"#DIV/0!"},{"$error":"#DIV/0!"},{"$error":"#DIV/0!"},{"$f":"COUNTIF(D53:$AL53,\"NE\")/$AV$1","v":{"$error":"#DIV/0!"}},{"$error":"#DIV/0!"}]
[54,{"$nulls":38},{"$error":"#DIV/0!"},{"$error":"#DIV/0!"},{"$error":"#DIV/0!"},{"$error":"#DIV/0!"},{"$f":"COUNTIF(D54:$AL54,\"NE\")/$AV$1","v":{"$error":"#DIV/0!"}},{"$error":"#DIV/0!"}]
[55,{"$nulls":38},{"$error":"#DIV/0!"},{"$error":"#DIV/0!"},{"$error":"#DIV/0!"},{"$error":"#DIV/0!"},{"$f":"COUNTIF(D55:$AL55,\"NE\")/$AV$1","v":{"$error":"#DIV/0!"}},{"$error":"#DIV/0!"}]
[56,{"$nulls":38},{"$error":"#DIV/0!"},{"$error":"#DIV/0!"},{"$error":"#DIV/0!"},{"$error":"#DIV/0!"},{"$f":"COUNTIF(D56:$AL56,\"NE\")/$AV$1","v":{"$error":"#DIV/0!"}},{"$error":"#DIV/0!"}]
[57,{"$nulls":38},{"$error":"#DIV/0!"},{"$error":"#DIV/0!"},{"$error":"#DIV/0!"},{"$error":"#DIV/0!"},{"$f":"COUNTIF(D57:$AL57,\"NE\")/$AV$1","v":{"$error":"#DIV/0!"}},{"$error":"#DIV/0!"}]
[58,{"$nulls":38},{"$error":"#DIV/0!"},{"$error":"#DIV/0!"},{"$error":"#DIV/0!"},{"$error":"#DIV/0!"},{"$f":"COUNTIF(D58:$AL58,\"NE\")/$AV$1","v":{"$error":"#DIV/0!"}},{"$error":"#DIV/0!"}]
[59,{"$nulls":38},{"$error":"#DIV/0!"},{"$error":"#DIV/0!"},{"$error":"#DIV/0!"},{"$error":"#DIV/0!"},{"$f":"COUNTIF(D59:$AL59,\"NE\")/$AV$1","v":{"$error":"#DIV/0!"}},{"$error":"#DIV/0!"}]
[60,{"$nulls":38},{"$error":"#DIV/0!"},{"$error":"#DIV/0!"},{"$error":"#DIV/0!"},{"$error":"#DIV/0!"},{"$f":"COUNTIF(D60:$AL60,\"NE\")/$AV$1","v":{"$error":"#DIV/0!"}},{"$error":"#DIV/0!"}]
[61,{"$nulls":38},{"$error":"#DIV/0!"},{"$error":"#DIV/0!"},{"$error":"#DIV/0!"},{"$error":"#DIV/0!"},{"$f":"COUNTIF(D61:$AL61,\"NE\")/$AV$1","v":{"$error":"#DIV/0!"}},{"$error":"#DIV/0!"}]
[62,{"$nulls":38},{"$error":"#DIV/0!"},{"$error":"#DIV/0!"},{"$error":"#DIV/0!"},{"$error":"#DIV/0!"},{"$f":"COUNTIF(D62:$AL62,\"NE\")/$AV$1","v":{"$error":"#DIV/0!"}},{"$error":"#DIV/0!"}]
[63,{"$nulls":38},{"$error":"#DIV/0!"},{"$error":"#DIV/0!"},{"$error":"#DIV/0!"},{"$error":"#DIV/0!"},{"$f":"COUNTIF(D63:$AL63,\"NE\")/$AV$1","v":{"$error":"#DIV/0!"}},{"$error":"#DIV/0!"}]
[64,{"$nulls":38},{"$error":"#DIV/0!"},{"$error":"#DIV/0!"},{"$error":"#DIV/0!"},{"$error":"#DIV/0!"},{"$f":"COUNTIF(D64:$AL64,\"NE\")/$AV$1","v":{"$error":"#DIV/0!"}},{"$error":"#DIV/0!"}]
[65,{"$nulls":38},{"$error":"#DIV/0!"},{"$error":"#DIV/0!"},{"$error":"#DIV/0!"},{"$error":"#DIV/0!"},{"$f":"COUNTIF(D65:$AL65,\"NE\")/$AV$1","v":{"$error":"#DIV/0!"}},{"$error":"#DIV/0!"}]
[66,{"$nulls":38},{"$error":"#DIV/0!"},{"$error":"#DIV/0!"},{"$error":"#DIV/0!"},{"$error":"#DIV/0!"},{"$f":"COUNTIF(D66:$AL66,\"NE\")/$AV$1","v":{"$error":"#DIV/0!"}},{"$error":"#DIV/0!"}]
[67,{"$nulls":38},{"$error":"#DIV/0!"},{"$error":"#DIV/0!"},{"$error":"#DIV/0!"},{"$error":"#DIV/0!"},{"$f":"COUNTIF(D67:$AL67,\"NE\")/$AV$1","v":{"$error":"#DIV/0!"}},{"$error":"#DIV/0!"}]
[68,{"$nulls":38},{"$error":"#DIV/0!"},{"$error":"#DIV/0!"},{"$error":"#DIV/0!"},{"$error":"#DIV/0!"},{"$f":"COUNTIF(D68:$AL68,\"NE\")/$AV$1","v":{"$error":"#DIV/0!"}},{"$error":"#DIV/0!"}]
[69,{"$nulls":38},{"$error":"#DIV/0!"},{"$error":"#DIV/0!"},{"$error":"#DIV/0!"},{"$error":"#DIV/0!"},{"$f":"COUNTIF(D69:$AL69,\"NE\")/$AV$1","v":{"$error":"#DIV/0!"}},{"$error":"#DIV/0!"}]
[70,{"$nulls":38},{"$f":"COUNTIF($D70:$AL70,$AU$1)/$AV$1","v":{"$error":"#DIV/0!"}},{"$f":"COUNTIF($D70:$AL70,$AU$2)/$AV$1","v":{"$error":"#DIV/0!"}},{"$f":"COUNTIF($D70:$AL70,$AU$3)/$AV$1","v":{"$error":"#DIV/0!"}},{"$f":"COUNTIF($D70:$AL70,$AU$4)/$AV$1","v":{"$error":"#DIV/0!"}},{"$f":"COUNTIF(D70:$AL70,\"NE\")/$AV$1","v":{"$error":"#DIV/0!"}},{"$error":"#DIV/0!"}]
[71,{"$nulls":38},{"$error":"#DIV/0!"},{"$error":"#DIV/0!"},{"$error":"#DIV/0!"},{"$error":"#DIV/0!"},{"$f":"COUNTIF(D71:$AL71,\"NE\")/$AV$1","v":{"$error":"#DIV/0!"}},{"$f":"AN71+(AO71*0.66)+(AP71*0.33)","v":{"$error":"#DIV/0!"}}]
[72,{"$nulls":38},{"$error":"#DIV/0!"},{"$error":"#DIV/0!"},{"$error":"#DIV/0!"},{"$error":"#DIV/0!"},{"$f":"COUNTIF(D72:$AL72,\"NE\")/$AV$1","v":{"$error":"#DIV/0!"}},{"$error":"#DIV/0!"}]
[73,{"$nulls":38},{"$error":"#DIV/0!"},{"$error":"#DIV/0!"},{"$error":"#DIV/0!"},{"$error":"#DIV/0!"},{"$f":"COUNTIF(D73:$AL73,\"NE\")/$AV$1","v":{"$error":"#DIV/0!"}},{"$error":"#DIV/0!"}]
[74,{"$nulls":38},{"$error":"#DIV/0!"},{"$error":"#DIV/0!"},{"$error":"#DIV/0!"},{"$error":"#DIV/0!"},{"$f":"COUNTIF(D74:$AL74,\"NE\")/$AV$1","v":{"$error":"#DIV/0!"}},{"$error":"#DIV/0!"}]
[75,{"$nulls":38},{"$error":"#DIV/0!"},{"$error":"#DIV/0!"},{"$error":"#DIV/0!"},{"$error":"#DIV/0!"},{"$f":"COUNTIF(D75:$AL75,\"NE\")/$AV$1","v":{"$error":"#DIV/0!"}},{"$error":"#DIV/0!"}]
[76,{"$nulls":38},{"$error":"#DIV/0!"},{"$error":"#DIV/0!"},{"$error":"#DIV/0!"},{"$error":"#DIV/0!"},{"$f":"COUNTIF(D76:$AL76,\"NE\")/$AV$1","v":{"$error":"#DIV/0!"}},{"$error":"#DIV/0!"}]
[77,{"$nulls":38},{"$error":"#DIV/0!"},{"$error":"#DIV/0!"},{"$error":"#DIV/0!"},{"$error":"#DIV/0!"},{"$f":"COUNTIF(D77:$AL77,\"NE\")/$AV$1","v":{"$error":"#DIV/0!"}},{"$error":"#DIV/0!"}]
[78,{"$nulls":38},{"$error":"#DIV/0!"},{"$error":"#DIV/0!"},{"$error":"#DIV/0!"},{"$error":"#DIV/0!"},{"$f":"COUNTIF(D78:$AL78,\"NE\")/$AV$1","v":{"$error":"#DIV/0!"}},{"$error":"#DIV/0!"}]
[79,{"$nulls":38},{"$error":"#DIV/0!"},{"$error":"#DIV/0!"},{"$error":"#DIV/0!"},{"$error":"#DIV/0!"},{"$f":"COUNTIF(D79:$AL79,\"NE\")/$AV$1","v":{"$error":"#DIV/0!"}},{"$error":"#DIV/0!"}]
[80,{"$nulls":38},{"$error":"#DIV/0!"},{"$error":"#DIV/0!"},{"$error":"#DIV/0!"},{"$error":"#DIV/0!"},{"$f":"COUNTIF(D80:$AL80,\"NE\")/$AV$1","v":{"$error":"#DIV/0!"}},{"$error":"#DIV/0!"}]
[81,{"$nulls":38},{"$error":"#DIV/0!"},{"$error":"#DIV/0!"},{"$error":"#DIV/0!"},{"$error":"#DIV/0!"},{"$f":"COUNTIF(D81:$AL81,\"NE\")/$AV$1","v":{"$error":"#DIV/0!"}},{"$error":"#DIV/0!"}]
[82,{"$nulls":38},{"$error":"#DIV/0!"},{"$error":"#DIV/0!"},{"$error":"#DIV/0!"},{"$error":"#DIV/0!"},{"$f":"COUNTIF(D82:$AL82,\"NE\")/$AV$1","v":{"$error":"#DIV/0!"}},{"$error":"#DIV/0!"}]
[83,{"$nulls":38},{"$error":"#DIV/0!"},{"$error":"#DIV/0!"},{"$error":"#DIV/0!"},{"$error":"#DIV/0!"},{"$f":"COUNTIF(D83:$AL83,\"NE\")/$AV$1","v":{"$error":"#DIV/0!"}},{"$error":"#DIV/0!"}]
[84,{"$nulls":38},{"$error":"#DIV/0!"},{"$error":"#DIV/0!"},{"$error":"#DIV/0!"},{"$error":"#DIV/0!"},{"$f":"COUNTIF(D84:$AL84,\"NE\")/$AV$1","v":{"$error":"#DIV/0!"}},{"$error":"#DIV/0!"}]
[85,{"$nulls":38},{"$error":"#DIV/0!"},{"$error":"#DIV/0!"},{"$error":"#DIV/0!"},{"$error":"#DIV/0!"},{"$f":"COUNTIF(D85:$AL85,\"NE\")/$AV$1","v":{"$error":"#DIV/0!"}},{"$error":"#DIV/0!"}]
[86,{"$nulls":38},{"$error":"#DIV/0!"},{"$error":"#DIV/0!"},{"$error":"#DIV/0!"},{"$error":"#DIV/0!"},{"$f":"COUNTIF(D86:$AL86,\"NE\")/$AV$1","v":{"$error":"#DIV/0!"}},{"$error":"#DIV/0!"}]
[87,{"$nulls":38},{"$error":"#DIV/0!"},{"$error":"#DIV/0!"},{"$error":"#DIV/0!"},{"$error":"#DIV/0!"},{"$f":"COUNTIF(D87:$AL87,\"NE\")/$AV$1","v":{"$error":"#DIV/0!"}},{"$error":"#DIV/0!"}]
[88,{"$nulls":38},{"$error":"#DIV/0!"},{"$error":"#DIV/0!"},{"$error":"#DIV/0!"},{"$error":"#DIV/0!"},{"$f":"COUNTIF(D88:$AL88,\"NE\")/$AV$1","v":{"$error":"#DIV/0!"}},{"$error":"#DIV/0!"}]
[89,{"$nulls":38},{"$error":"#DIV/0!"},{"$error":"#DIV/0!"},{"$error":"#DIV/0!"},{"$error":"#DIV/0!"},{"$f":"COUNTIF(D89:$AL89,\"NE\")/$AV$1","v":{"$error":"#DIV/0!"}},{"$error":"#DIV/0!"}]
[90,{"$nulls":38},{"$error":"#DIV/0!"},{"$error":"#DIV/0!"},{"$error":"#DIV/0!"},{"$error":"#DIV/0!"},{"$f":"COUNTIF(D90:$AL90,\"NE\")/$AV$1","v":{"$error":"#DIV/0!"}},{"$error":"#DIV/0!"}]
[91,{"$nulls":38},{"$error":"#DIV/0!"},{"$error":"#DIV/0!"},{"$error":"#DIV/0!"},{"$error":"#DIV/0!"},{"$f":"COUNTIF(D91:$AL91,\"NE\")/$AV$1","v":{"$error":"#DIV/0!"}},{"$error":"#DIV/0!"}]
[92,{"$nulls":38},{"$error":"#DIV/0!"},{"$error":"#DIV/0!"},{"$error":"#DIV/0!"},{"$error":"#DIV/0!"},{"$f":"COUNTIF(D92:$AL92,\"NE\")/$AV$1","v":{"$error":"#DIV/0!"}},{"$error":"#DIV/0!"}]
[93,{"$nulls":38},{"$error":"#DIV/0!"},{"$error":"#DIV/0!"},{"$error":"#DIV/0!"},{"$error":"#DIV/0!"},{"$f":"COUNTIF(D93:$AL93,\"NE\")/$AV$1","v":{"$error":"#DIV/0!"}},{"$error":"#DIV/0!"}]
[94,{"$nulls":38},{"$error":"#DIV/0!"},{"$error":"#DIV/0!"},{"$error":"#DIV/0!"},{"$error":"#DIV/0!"},{"$f":"COUNTIF(D94:$AL94,\"NE\")/$AV$1","v":{"$error":"#DIV/0!"}},{"$error":"#DIV/0!"}]
[95,{"$nulls":38},{"$error":"#DIV/0!"},{"$error":"#DIV/0!"},{"$error":"#DIV/0!"},{"$error":"#DIV/0!"},{"$f":"COUNTIF(D95:$AL95,\"NE\")/$AV$1","v":{"$error":"#DIV/0!"}},{"$error":"#DIV/0!"}]
[96,{"$nulls":38},{"$error":"#DIV/0!"},{"$error":"#DIV/0!"},{"$error":"#DIV/0!"},{"$error":"#DIV/0!"},{"$f":"COUNTIF(D96:$AL96,\"NE\")/$AV$1","v":{"$error":"#DIV/0!"}},{"$error":"#DIV/0!"}]
[97,{"$nulls":38},{"$error":"#DIV/0!"},{"$error":"#DIV/0!"},{"$error":"#DIV/0!"},{"$error":"#DIV/0!"},{"$f":"COUNTIF(D97:$AL97,\"NE\")/$AV$1","v":{"$error":"#DIV/0!"}},{"$error":"#DIV/0!"}]
[98,{"$nulls":38},{"$error":"#DIV/0!"},{"$error":"#DIV/0!"},{"$error":"#DIV/0!"},{"$error":"#DIV/0!"},{"$f":"COUNTIF(D98:$AL98,\"NE\")/$AV$1","v":{"$error":"#DIV/0!"}},{"$error":"#DIV/0!"}]
[99,{"$nulls":38},{"$error":"#DIV/0!"},{"$error":"#DIV/0!"},{"$error":"#DIV/0!"},{"$error":"#DIV/0!"},{"$f":"COUNTIF(D99:$AL99,\"NE\")/$AV$1","v":{"$error":"#DIV/0!"}},{"$error":"#DIV/0!"}]
[100,{"$nulls":38},{"$error":"#DIV/0!"},{"$error":"#DIV/0!"},{"$error":"#DIV/0!"},{"$error":"#DIV/0!"},{"$f":"COUNTIF(D100:$AL100,\"NE\")/$AV$1","v":{"$error":"#DIV/0!"}},{"$error":"#DIV/0!"}]
[101,{"$nulls":38},{"$error":"#DIV/0!"},{"$error":"#DIV/0!"},{"$error":"#DIV/0!"},{"$error":"#DIV/0!"},{"$f":"COUNTIF(D101:$AL101,\"NE\")/$AV$1","v":{"$error":"#DIV/0!"}},{"$error":"#DIV/0!"}]
[102,{"$nulls":38},{"$error":"#DIV/0!"},{"$error":"#DIV/0!"},{"$error":"#DIV/0!"},{"$error":"#DIV/0!"},{"$f":"COUNTIF(D102:$AL102,\"NE\")/$AV$1","v":{"$error":"#DIV/0!"}},{"$error":"#DIV/0!"}]
[103,{"$nulls":38},{"$error":"#DIV/0!"},{"$error":"#DIV/0!"},{"$error":"#DIV/0!"},{"$error":"#DIV/0!"},{"$f":"COUNTIF(D103:$AL103,\"NE\")/$AV$1","v":{"$error":"#DIV/0!"}},{"$error":"#DIV/0!"}]
[104,{"$nulls":38},{"$error":"#DIV/0!"},{"$error":"#DIV/0!"},{"$error":"#DIV/0!"},{"$error":"#DIV/0!"},{"$f":"COUNTIF(D104:$AL104,\"NE\")/$AV$1","v":{"$error":"#DIV/0!"}},{"$error":"#DIV/0!"}]
[105,{"$nulls":38},{"$error":"#DIV/0!"},{"$error":"#DIV/0!"},{"$error":"#DIV/0!"},{"$error":"#DIV/0!"},{"$f":"COUNTIF(D105:$AL105,\"NE\")/$AV$1","v":{"$error":"#DIV/0!"}},{"$error":"#DIV/0!"}]
[106,{"$nulls":38},{"$error":"#DIV/0!"},{"$error":"#DIV/0!"},{"$error":"#DIV/0!"},{"$error":"#DIV/0!"},{"$f":"COUNTIF(D106:$AL106,\"NE\")/$AV$1","v":{"$error":"#DIV/0!"}},{"$error":"#DIV/0!"}]
[107,{"$nulls":38},{"$error":"#DIV/0!"},{"$error":"#DIV/0!"},{"$error":"#DIV/0!"},{"$error":"#DIV/0!"},{"$f":"COUNTIF(D107:$AL107,\"NE\")/$AV$1","v":{"$error":"#DIV/0!"}},{"$error":"#DIV/0!"}]
[108,{"$nulls":38},{"$error":"#DIV/0!"},{"$error":"#DIV/0!"},{"$error":"#DIV/0!"},{"$error":"#DIV/0!"},{"$f":"COUNTIF(D108:$AL108,\"NE\")/$AV$1","v":{"$error":"#DIV/0!"}},{"$error":"#DIV/0!"}]
[109,{"$nulls":38},{"$error":"#DIV/0!"},{"$error":"#DIV/0!"},{"$error":"#DIV/0!"},{"$error":"#DIV/0!"},{"$f":"COUNTIF(D109:$AL109,\"NE\")/$AV$1","v":{"$error":"#DIV/0!"}},{"$error":"#DIV/0!"}]
[110,{"$nulls":38},{"$error":"#DIV/0!"},{"$error":"#DIV/0!"},{"$error":"#DIV/0!"},{"$error":"#DIV/0!"},{"$f":"COUNTIF(D110:$AL110,\"NE\")/$AV$1","v":{"$error":"#DIV/0!"}},{"$error":"#DIV/0!"}]
[111,{"$nulls":38},{"$error":"#DIV/0!"},{"$error":"#DIV/0!"},{"$error":"#DIV/0!"},{"$error":"#DIV/0!"},{"$f":"COUNTIF(D111:$AL111,\"NE\")/$AV$1","v":{"$error":"#DIV/0!"}},{"$error":"#DIV/0!"}]
[112,{"$nulls":38},{"$error":"#DIV/0!"},{"$error":"#DIV/0!"},{"$error":"#DIV/0!"},{"$error":"#DIV/0!"},{"$f":"COUNTIF(D112:$AL112,\"NE\")/$AV$1","v":{"$error":"#DIV/0!"}},{"$error":"#DIV/0!"}]
[113,{"$nulls":38},{"$error":"#DIV/0!"},{"$error":"#DIV/0!"},{"$error":"#DIV/0!"},{"$error":"#DIV/0!"},{"$f":"COUNTIF(D113:$AL113,\"NE\")/$AV$1","v":{"$error":"#DIV/0!"}},{"$error":"#DIV/0!"}]
[114,{"$nulls":38},{"$error":"#DIV/0!"},{"$error":"#DIV/0!"},{"$error":"#DIV/0!"},{"$error":"#DIV/0!"},{"$f":"COUNTIF(D114:$AL114,\"NE\")/$AV$1","v":{"$error":"#DIV/0!"}},{"$error":"#DIV/0!"}]
[115,{"$nulls":38},{"$error":"#DIV/0!"},{"$error":"#DIV/0!"},{"$error":"#DIV/0!"},{"$error":"#DIV/0!"},{"$f":"COUNTIF(D115:$AL115,\"NE\")/$AV$1","v":{"$error":"#DIV/0!"}},{"$error":"#DIV/0!"}]
[116,{"$nulls":38},{"$error":"#DIV/0!"},{"$error":"#DIV/0!"},{"$error":"#DIV/0!"},{"$error":"#DIV/0!"},{"$f":"COUNTIF(D116:$AL116,\"NE\")/$AV$1","v":{"$error":"#DIV/0!"}},{"$error":"#DIV/0!"}]
[117,{"$nulls":38},{"$error":"#DIV/0!"},{"$error":"#DIV/0!"},{"$error":"#DIV/0!"},{"$error":"#DIV/0!"},{"$f":"COUNTIF(D117:$AL117,\"NE\")/$AV$1","v":{"$error":"#DIV/0!"}},{"$error":"#DIV/0!"}]
[118,{"$nulls":38},{"$error":"#DIV/0!"},{"$error":"#DIV/0!"},{"$error":"#DIV/0!"},{"$error":"#DIV/0!"},{"$f":"COUNTIF(D118:$AL118,\"NE\")/$AV$1","v":{"$error":"#DIV/0!"}},{"$error":"#DIV/0!"}]
[119,{"$nulls":38},{"$error":"#DIV/0!"},{"$error":"#DIV/0!"},{"$error":"#DIV/0!"},{"$error":"#DIV/0!"},{"$f":"COUNTIF(D119:$AL119,\"NE\")/$AV$1","v":{"$error":"#DIV/0!"}},{"$error":"#DIV/0!"}]
[120,{"$nulls":38},{"$error":"#DIV/0!"},{"$error":"#DIV/0!"},{"$error":"#DIV/0!"},{"$error":"#DIV/0!"},{"$f":"COUNTIF(D120:$AL120,\"NE\")/$AV$1","v":{"$error":"#DIV/0!"}},{"$error":"#DIV/0!"}]
[121,{"$nulls":38},{"$error":"#DIV/0!"},{"$error":"#DIV/0!"},{"$error":"#DIV/0!"},{"$error":"#DIV/0!"},{"$f":"COUNTIF(D121:$AL121,\"NE\")/$AV$1","v":{"$error":"#DIV/0!"}},{"$error":"#DIV/0!"}]
[122,{"$nulls":38},{"$error":"#DIV/0!"},{"$error":"#DIV/0!"},{"$error":"#DIV/0!"},{"$error":"#DIV/0!"},{"$f":"COUNTIF(D122:$AL122,\"NE\")/$AV$1","v":{"$error":"#DIV/0!"}},{"$error":"#DIV/0!"}]
[123,{"$nulls":38},{"$error":"#DIV/0!"},{"$error":"#DIV/0!"},{"$error":"#DIV/0!"},{"$error":"#DIV/0!"},{"$f":"COUNTIF(D123:$AL123,\"NE\")/$AV$1","v":{"$error":"#DIV/0!"}},{"$error":"#DIV/0!"}]
[124,{"$nulls":38},{"$error":"#DIV/0!"},{"$error":"#DIV/0!"},{"$error":"#DIV/0!"},{"$error":"#DIV/0!"},{"$f":"COUNTIF(D124:$AL124,\"NE\")/$AV$1","v":{"$error":"#DIV/0!"}},{"$error":"#DIV/0!"}]
[125,{"$nulls":38},{"$error":"#DIV/0!"},{"$error":"#DIV/0!"},{"$error":"#DIV/0!"},{"$error":"#DIV/0!"},{"$f":"COUNTIF(D125:$AL125,\"NE\")/$AV$1","v":{"$error":"#DIV/0!"}},{"$error":"#DIV/0!"}]
[126,{"$nulls":38},{"$error":"#DIV/0!"},{"$error":"#DIV/0!"},{"$error":"#DIV/0!"},{"$error":"#DIV/0!"},{"$f":"COUNTIF(D126:$AL126,\"NE\")/$AV$1","v":{"$error":"#DIV/0!"}},{"$error":"#DIV/0!"}]
[127,{"$nulls":38},{"$error":"#DIV/0!"},{"$error":"#DIV/0!"},{"$error":"#DIV/0!"},{"$error":"#DIV/0!"},{"$f":"COUNTIF(D127:$AL127,\"NE\")/$AV$1","v":{"$error":"#DIV/0!"}},{"$error":"#DIV/0!"}]
[128,{"$nulls":38},{"$error":"#DIV/0!"},{"$error":"#DIV/0!"},{"$error":"#DIV/0!"},{"$error":"#DIV/0!"},{"$f":"COUNTIF(D128:$AL128,\"NE\")/$AV$1","v":{"$error":"#DIV/0!"}},{"$error":"#DIV/0!"}]
[129,{"$nulls":38},{"$error":"#DIV/0!"},{"$error":"#DIV/0!"},{"$error":"#DIV/0!"},{"$error":"#DIV/0!"},{"$f":"COUNTIF(D129:$AL129,\"NE\")/$AV$1","v":{"$error":"#DIV/0!"}},{"$error":"#DIV/0!"}]
[130,{"$nulls":38},{"$error":"#DIV/0!"},{"$error":"#DIV/0!"},{"$error":"#DIV/0!"},{"$error":"#DIV/0!"},{"$f":"COUNTIF(D130:$AL130,\"NE\")/$AV$1","v":{"$error":"#DIV/0!"}},{"$error":"#DIV/0!"}]
[131,{"$nulls":38},{"$error":"#DIV/0!"},{"$error":"#DIV/0!"},{"$error":"#DIV/0!"},{"$error":"#DIV/0!"},{"$f":"COUNTIF(D131:$AL131,\"NE\")/$AV$1","v":{"$error":"#DIV/0!"}},{"$error":"#DIV/0!"}]
[132,{"$nulls":38},{"$error":"#DIV/0!"},{"$error":"#DIV/0!"},{"$error":"#DIV/0!"},{"$error":"#DIV/0!"},{"$f":"COUNTIF(D132:$AL132,\"NE\")/$AV$1","v":{"$error":"#DIV/0!"}},{"$error":"#DIV/0!"}]
[133,{"$nulls":38},{"$error":"#DIV/0!"},{"$error":"#DIV/0!"},{"$error":"#DIV/0!"},{"$error":"#DIV/0!"},{"$f":"COUNTIF(D133:$AL133,\"NE\")/$AV$1","v":{"$error":"#DIV/0!"}},{"$error":"#DIV/0!"}]
[134,{"$nulls":38},{"$f":"COUNTIF($D134:$AL134,$AU$1)/$AV$1","v":{"$error":"#DIV/0!"}},{"$f":"COUNTIF($D134:$AL134,$AU$2)/$AV$1","v":{"$error":"#DIV/0!"}},{"$f":"COUNTIF($D134:$AL134,$AU$3)/$AV$1","v":{"$error":"#DIV/0!"}},{"$f":"COUNTIF($D134:$AL134,$AU$4)/$AV$1","v":{"$error":"#DIV/0!"}},{"$f":"COUNTIF(D134:$AL134,\"NE\")/$AV$1","v":{"$error":"#DIV/0!"}},{"$error":"#DIV/0!"}]
[135,{"$nulls":38},{"$error":"#DIV/0!"},{"$error":"#DIV/0!"},{"$error":"#DIV/0!"},{"$error":"#DIV/0!"},{"$f":"COUNTIF(D135:$AL135,\"NE\")/$AV$1","v":{"$error":"#DIV/0!"}},{"$f":"AN135+(AO135*0.66)+(AP135*0.33)","v":{"$error":"#DIV/0!"}}]
[136,{"$nulls":38},{"$error":"#DIV/0!"},{"$error":"#DIV/0!"},{"$error":"#DIV/0!"},{"$error":"#DIV/0!"},{"$f":"COUNTIF(D136:$AL136,\"NE\")/$AV$1","v":{"$error":"#DIV/0!"}},{"$error":"#DIV/0!"}]
[137,{"$nulls":38},{"$error":"#DIV/0!"},{"$error":"#DIV/0!"},{"$error":"#DIV/0!"},{"$error":"#DIV/0!"},{"$f":"COUNTIF(D137:$AL137,\"NE\")/$AV$1","v":{"$error":"#DIV/0!"}},{"$error":"#DIV/0!"}]
[138,{"$nulls":38},{"$error":"#DIV/0!"},{"$error":"#DIV/0!"},{"$error":"#DIV/0!"},{"$error":"#DIV/0!"},{"$f":"COUNTIF(D138:$AL138,\"NE\")/$AV$1","v":{"$error":"#DIV/0!"}},{"$error":"#DIV/0!"}]
[139,{"$nulls":38},{"$error":"#DIV/0!"},{"$error":"#DIV/0!"},{"$error":"#DIV/0!"},{"$error":"#DIV/0!"},{"$f":"COUNTIF(D139:$AL139,\"NE\")/$AV$1","v":{"$error":"#DIV/0!"}},{"$error":"#DIV/0!"}]
[140,{"$nulls":38},{"$error":"#DIV/0!"},{"$error":"#DIV/0!"},{"$error":"#DIV/0!"},{"$error":"#DIV/0!"},{"$f":"COUNTIF(D140:$AL140,\"NE\")/$AV$1","v":{"$error":"#DIV/0!"}},{"$error":"#DIV/0!"}]
[141,{"$nulls":38},{"$error":"#DIV/0!"},{"$error":"#DIV/0!"},{"$error":"#DIV/0!"},{"$error":"#DIV/0!"},{"$f":"COUNTIF(D141:$AL141,\"NE\")/$AV$1","v":{"$error":"#DIV/0!"}},{"$error":"#DIV/0!"}]
[142,{"$nulls":38},{"$error":"#DIV/0!"},{"$error":"#DIV/0!"},{"$error":"#DIV/0!"},{"$error":"#DIV/0!"},{"$f":"COUNTIF(D142:$AL142,\"NE\")/$AV$1","v":{"$error":"#DIV/0!"}},{"$error":"#DIV/0!"}]
[143,{"$nulls":38},{"$error":"#DIV/0!"},{"$error":"#DIV/0!"},{"$error":"#DIV/0!"},{"$error":"#DIV/0!"},{"$f":"COUNTIF(D143:$AL143,\"NE\")/$AV$1","v":{"$error":"#DIV/0!"}},{"$error":"#DIV/0!"}]
[144,{"$nulls":38},{"$error":"#DIV/0!"},{"$error":"#DIV/0!"},{"$error":"#DIV/0!"},{"$error":"#DIV/0!"},{"$f":"COUNTIF(D144:$AL144,\"NE\")/$AV$1","v":{"$error":"#DIV/0!"}},{"$error":"#DIV/0!"}]
[145,{"$nulls":38},{"$error":"#DIV/0!"},{"$error":"#DIV/0!"},{"$error":"#DIV/0!"},{"$error":"#DIV/0!"},{"$f":"COUNTIF(D145:$AL145,\"NE\")/$AV$1","v":{"$error":"#DIV/0!"}},{"$error":"#DIV/0!"}]
[146,{"$nulls":38},{"$error":"#DIV/0!"},{"$error":"#DIV/0!"},{"$error":"#DIV/0!"},{"$error":"#DIV/0!"},{"$f":"COUNTIF(D146:$AL146,\"NE\")/$AV$1","v":{"$error":"#DIV/0!"}},{"$error":"#DIV/0!"}]
[147,{"$nulls":38},{"$error":"#DIV/0!"},{"$error":"#DIV/0!"},{"$error":"#DIV/0!"},{"$error":"#DIV/0!"},{"$f":"COUNTIF(D147:$AL147,\"NE\")/$AV$1","v":{"$error":"#DIV/0!"}},{"$error":"#DIV/0!"}]
[148,{"$nulls":38},{"$error":"#DIV/0!"},{"$error":"#DIV/0!"},{"$error":"#DIV/0!"},{"$error":"#DIV/0!"},{"$f":"COUNTIF(D148:$AL148,\"NE\")/$AV$1","v":{"$error":"#DIV/0!"}},{"$error":"#DIV/0!"}]
[149,{"$nulls":38},{"$error":"#DIV/0!"},{"$error":"#DIV/0!"},{"$error":"#DIV/0!"},{"$error":"#DIV/0!"},{"$f":"COUNTIF(D149:$AL149,\"NE\")/$AV$1","v":{"$error":"#DIV/0!"}},{"$error":"#DIV/0!"}]
[150,{"$nulls":38},{"$error":"#DIV/0!"},{"$error":"#DIV/0!"},{"$error":"#DIV/0!"},{"$error":"#DIV/0!"},{"$f":"COUNTIF(D150:$AL150,\"NE\")/$AV$1","v":{"$error":"#DIV/0!"}},{"$error":"#DIV/0!"}]
[151,{"$nulls":38},{"$error":"#DIV/0!"},{"$error":"#DIV/0!"},{"$error":"#DIV/0!"},{"$error":"#DIV/0!"},{"$f":"COUNTIF(D151:$AL151,\"NE\")/$AV$1","v":{"$error":"#DIV/0!"}},{"$error":"#DIV/0!"}]
[152,{"$nulls":38},{"$error":"#DIV/0!"},{"$error":"#DIV/0!"},{"$error":"#DIV/0!"},{"$error":"#DIV/0!"},{"$f":"COUNTIF(D152:$AL152,\"NE\")/$AV$1","v":{"$error":"#DIV/0!"}},{"$error":"#DIV/0!"}]
[153,{"$nulls":38},{"$error":"#DIV/0!"},{"$error":"#DIV/0!"},{"$error":"#DIV/0!"},{"$error":"#DIV/0!"},{"$f":"COUNTIF(D153:$AL153,\"NE\")/$AV$1","v":{"$error":"#DIV/0!"}},{"$error":"#DIV/0!"}]
[154,{"$nulls":38},{"$error":"#DIV/0!"},{"$error":"#DIV/0!"},{"$error":"#DIV/0!"},{"$error":"#DIV/0!"},{"$f":"COUNTIF(D154:$AL154,\"NE\")/$AV$1","v":{"$error":"#DIV/0!"}},{"$error":"#DIV/0!"}]
[155,{"$nulls":38},{"$error":"#DIV/0!"},{"$error":"#DIV/0!"},{"$error":"#DIV/0!"},{"$error":"#DIV/0!"},{"$f":"COUNTIF(D155:$AL155,\"NE\")/$AV$1","v":{"$error":"#DIV/0!"}},{"$error":"#DIV/0!"}]
[156,{"$nulls":38},{"$error":"#DIV/0!"},{"$error":"#DIV/0!"},{"$error":"#DIV/0!"},{"$error":"#DIV/0!"},{"$f":"COUNTIF(D156:$AL156,\"NE\")/$AV$1","v":{"$error":"#DIV/0!"}},{"$error":"#DIV/0!"}]
[157,{"$nulls":38},{"$error":"#DIV/0!"},{"$error":"#DIV/0!"},{"$error":"#DIV/0!"},{"$error":"#DIV/0!"},{"$f":"COUNTIF(D157:$AL157,\"NE\")/$AV$1","v":{"$error":"#DIV/0!"}},{"$error":"#DIV/0!"}]
[158,{"$nulls":38},{"$error":"#DIV/0!"},{"$error":"#DIV/0!"},{"$error":"#DIV/0!"},{"$error":"#DIV/0!"},{"$f":"COUNTIF(D158:$AL158,\"NE\")/$AV$1","v":{"$error":"#DIV/0!"}},{"$error":"#DIV/0!"}]
[159,{"$nulls":38},{"$error":"#DIV/0!"},{"$error":"#DIV/0!"},{"$error":"#DIV/0!"},{"$error":"#DIV/0!"},{"$f":"COUNTIF(D159:$AL159,\"NE\")/$AV$1","v":{"$error":"#DIV/0!"}},{"$error":"#DIV/0!"}]
[160,{"$nulls":38},{"$error":"#DIV/0!"},{"$error":"#DIV/0!"},{"$error":"#DIV/0!"},{"$error":"#DIV/0!"},{"$f":"COUNTIF(D160:$AL160,\"NE\")/$AV$1","v":{"$error":"#DIV/0!"}},{"$error":"#DIV/0!"}]
[161,{"$nulls":38},{"$error":"#DIV/0!"},{"$error":"#DIV/0!"},{"$error":"#DIV/0!"},{"$error":"#DIV/0!"},{"$f":"COUNTIF(D161:$AL161,\"NE\")/$AV$1","v":{"$error":"#DIV/0!"}},{"$error":"#DIV/0!"}]
[162,{"$nulls":38},{"$error":"#DIV/0!"},{"$error":"#DIV/0!"},{"$error":"#DIV/0!"},{"$error":"#DIV/0!"},{"$f":"COUNTIF(D162:$AL162,\"NE\")/$AV$1","v":{"$error":"#DIV/0!"}},{"$error":"#DIV/0!"}]
[163,{"$nulls":38},{"$error":"#DIV/0!"},{"$error":"#DIV/0!"},{"$error":"#DIV/0!"},{"$error":"#DIV/0!"},{"$f":"COUNTIF(D163:$AL163,\"NE\")/$AV$1","v":{"$error":"#DIV/0!"}},{"$error":"#DIV/0!"}]
[164,{"$nulls":38},{"$error":"#DIV/0!"},{"$error":"#DIV/0!"},{"$error":"#DIV/0!"},{"$error":"#DIV/0!"},{"$f":"COUNTIF(D164:$AL164,\"NE\")/$AV$1","v":{"$error":"#DIV/0!"}},{"$error":"#DIV/0!"}]
[165,{"$nulls":38},{"$error":"#DIV/0!"},{"$error":"#DIV/0!"},{"$error":"#DIV/0!"},{"$error":"#DIV/0!"},{"$f":"COUNTIF(D165:$AL165,\"NE\")/$AV$1","v":{"$error":"#DIV/0!"}},{"$error":"#DIV/0!"}]
[166,{"$nulls":38},{"$error":"#DIV/0!"},{"$error":"#DIV/0!"},{"$error":"#DIV/0!"},{"$error":"#DIV/0!"},{"$f":"COUNTIF(D166:$AL166,\"NE\")/$AV$1","v":{"$error":"#DIV/0!"}},{"$error":"#DIV/0!"}]
[167,{"$nulls":38},{"$error":"#DIV/0!"},{"$error":"#DIV/0!"},{"$error":"#DIV/0!"},{"$error":"#DIV/0!"},{"$f":"COUNTIF(D167:$AL167,\"NE\")/$AV$1","v":{"$error":"#DIV/0!"}},{"$error":"#DIV/0!"}]
[168,{"$nulls":38},{"$error":"#DIV/0!"},{"$error":"#DIV/0!"},{"$error":"#DIV/0!"},{"$error":"#DIV/0!"},{"$f":"COUNTIF(D168:$AL168,\"NE\")/$AV$1","v":{"$error":"#DIV/0!"}},{"$error":"#DIV/0!"}]
[169,{"$nulls":38},{"$error":"#DIV/0!"},{"$error":"#DIV/0!"},{"$error":"#DIV/0!"},{"$error":"#DIV/0!"},{"$f":"COUNTIF(D169:$AL169,\"NE\")/$AV$1","v":{"$error":"#DIV/0!"}},{"$error":"#DIV/0!"}]
[170,{"$nulls":38},{"$error":"#DIV/0!"},{"$error":"#DIV/0!"},{"$error":"#DIV/0!"},{"$error":"#DIV/0!"},{"$f":"COUNTIF(D170:$AL170,\"NE\")/$AV$1","v":{"$error":"#DIV/0!"}},{"$error":"#DIV/0!"}]
[171,{"$nulls":38},{"$error":"#DIV/0!"},{"$error":"#DIV/0!"},{"$error":"#DIV/0!"},{"$error":"#DIV/0!"},{"$f":"COUNTIF(D171:$AL171,\"NE\")/$AV$1","v":{"$error":"#DIV/0!"}},{"$error":"#DIV/0!"}]
[172,{"$nulls":38},{"$error":"#DIV/0!"},{"$error":"#DIV/0!"},{"$error":"#DIV/0!"},{"$error":"#DIV/0!"},{"$f":"COUNTIF(D172:$AL172,\"NE\")/$AV$1","v":{"$error":"#DIV/0!"}},{"$error":"#DIV/0!"}]
[173,{"$nulls":38},{"$error":"#DIV/0!"},{"$error":"#DIV/0!"},{"$error":"#DIV/0!"},{"$error":"#DIV/0!"},{"$f":"COUNTIF(D173:$AL173,\"NE\")/$AV$1","v":{"$error":"#DIV/0!"}},{"$error":"#DIV/0!"}]
[174,{"$nulls":38},{"$error":"#DIV/0!"},{"$error":"#DIV/0!"},{"$error":"#DIV/0!"},{"$error":"#DIV/0!"},{"$f":"COUNTIF(D174:$AL174,\"NE\")/$AV$1","v":{"$error":"#DIV/0!"}},{"$error":"#DIV/0!"}]
[175,{"$nulls":38},{"$error":"#DIV/0!"},{"$error":"#DIV/0!"},{"$error":"#DIV/0!"},{"$error":"#DIV/0!"},{"$f":"COUNTIF(D175:$AL175,\"NE\")/$AV$1","v":{"$error":"#DIV/0!"}},{"$error":"#DIV/0!"}]
[176,{"$nulls":38},{"$error":"#DIV/0!"},{"$error":"#DIV/0!"},{"$error":"#DIV/0!"},{"$error":"#DIV/0!"},{"$f":"COUNTIF(D176:$AL176,\"NE\")/$AV$1","v":{"$error":"#DIV/0!"}},{"$error":"#DIV/0!"}]
[177,{"$nulls":38},{"$error":"#DIV/0!"},{"$error":"#DIV/0!"},{"$error":"#DIV/0!"},{"$error":"#DIV/0!"},{"$f":"COUNTIF(D177:$AL177,\"NE\")/$AV$1","v":{"$error":"#DIV/0!"}},{"$error":"#DIV/0!"}]
[178,{"$nulls":38},{"$error":"#DIV/0!"},{"$error":"#DIV/0!"},{"$error":"#DIV/0!"},{"$error":"#DIV/0!"},{"$f":"COUNTIF(D178:$AL178,\"NE\")/$AV$1","v":{"$error":"#DIV/0!"}},{"$error":"#DIV/0!"}]
[179,{"$nulls":38},{"$error":"#DIV/0!"},{"$error":"#DIV/0!"},{"$error":"#DIV/0!"},{"$error":"#DIV/0!"},{"$f":"COUNTIF(D179:$AL179,\"NE\")/$AV$1","v":{"$error":"#DIV/0!"}},{"$error":"#DIV/0!"}]
[180,{"$nulls":38},{"$error":"#DIV/0!"},{"$error":"#DIV/0!"},{"$error":"#DIV/0!"},{"$error":"#DIV/0!"},{"$f":"COUNTIF(D180:$AL180,\"NE\")/$AV$1","v":{"$error":"#DIV/0!"}},{"$error":"#DIV/0!"}]
[181,{"$nulls":38},{"$error":"#DIV/0!"},{"$error":"#DIV/0!"},{"$error":"#DIV/0!"},{"$error":"#DIV/0!"},{"$f":"COUNTIF(D181:$AL181,\"NE\")/$AV$1","v":{"$error":"#DIV/0!"}},{"$error":"#DIV/0!"}]
[182,{"$nulls":38},{"$error":"#DIV/0!"},{"$error":"#DIV/0!"},{"$error":"#DIV/0!"},{"$error":"#DIV/0!"},{"$f":"COUNTIF(D182:$AL182,\"NE\")/$AV$1","v":{"$error":"#DIV/0!"}},{"$error":"#DIV/0!"}]
[183,{"$nulls":38},{"$error":"#DIV/0!"},{"$error":"#DIV/0!"},{"$error":"#DIV/0!"},{"$error":"#DIV/0!"},{"$f":"COUNTIF(D183:$AL183,\"NE\")/$AV$1","v":{"$error":"#DIV/0!"}},{"$error":"#DIV/0!"}]
[184,{"$nulls":38},{"$error":"#DIV/0!"},{"$error":"#DIV/0!"},{"$error":"#DIV/0!"},{"$error":"#DIV/0!"},{"$f":"COUNTIF(D184:$AL184,\"NE\")/$AV$1","v":{"$error":"#DIV/0!"}},{"$error":"#DIV/0!"}]
[185,{"$nulls":38},{"$error":"#DIV/0!"},{"$error":"#DIV/0!"},{"$error":"#DIV/0!"},{"$error":"#DIV/0!"},{"$f":"COUNTIF(D185:$AL185,\"NE\")/$AV$1","v":{"$error":"#DIV/0!"}},{"$error":"#DIV/0!"}]
[186,{"$nulls":38},{"$error":"#DIV/0!"},{"$error":"#DIV/0!"},{"$error":"#DIV/0!"},{"$error":"#DIV/0!"},{"$f":"COUNTIF(D186:$AL186,\"NE\")/$AV$1","v":{"$error":"#DIV/0!"}},{"$error":"#DIV/0!"}]
[187,{"$nulls":38},{"$error":"#DIV/0!"},{"$error":"#DIV/0!"},{"$error":"#DIV/0!"},{"$error":"#DIV/0!"},{"$f":"COUNTIF(D187:$AL187,\"NE\")/$AV$1","v":{"$error":"#DIV/0!"}},{"$error":"#DIV/0!"}]
[188,{"$nulls":38},{"$error":"#DIV/0!"},{"$error":"#DIV/0!"},{"$error":"#DIV/0!"},{"$error":"#DIV/0!"},{"$f":"COUNTIF(D188:$AL188,\"NE\")/$AV$1","v":{"$error":"#DIV/0!"}},{"$error":"#DIV/0!"}]
[189,{"$nulls":38},{"$error":"#DIV/0!"},{"$error":"#DIV/0!"},{"$error":"#DIV/0!"},{"$error":"#DIV/0!"},{"$f":"COUNTIF(D189:$AL189,\"NE\")/$AV$1","v":{"$error":"#DIV/0!"}},{"$error":"#DIV/0!"}]
[190,{"$nulls":38},{"$error":"#DIV/0!"},{"$error":"#DIV/0!"},{"$error":"#DIV/0!"},{"$error":"#DIV/0!"},{"$f":"COUNTIF(D190:$AL190,\"NE\")/$AV$1","v":{"$error":"#DIV/0!"}},{"$error":"#DIV/0!"}]
[191,{"$nulls":38},{"$error":"#DIV/0!"},{"$error":"#DIV/0!"},{"$error":"#DIV/0!"},{"$error":"#DIV/0!"},{"$f":"COUNTIF(D191:$AL191,\"NE\")/$AV$1","v":{"$error":"#DIV/0!"}},{"$error":"#DIV/0!"}]
[192,{"$nulls":38},{"$error":"#DIV/0!"},{"$error":"#DIV/0!"},{"$error":"#DIV/0!"},{"$error":"#DIV/0!"},{"$f":"COUNTIF(D192:$AL192,\"NE\")/$AV$1","v":{"$error":"#DIV/0!"}},{"$error":"#DIV/0!"}]
[193,{"$nulls":38},{"$error":"#DIV/0!"},{"$error":"#DIV/0!"},{"$error":"#DIV/0!"},{"$error":"#DIV/0!"},{"$f":"COUNTIF(D193:$AL193,\"NE\")/$AV$1","v":{"$error":"#DIV/0!"}},{"$error":"#DIV/0!"}]
[194,{"$nulls":38},{"$error":"#DIV/0!"},{"$error":"#DIV/0!"},{"$error":"#DIV/0!"},{"$error":"#DIV/0!"},{"$f":"COUNTIF(D194:$AL194,\"NE\")/$AV$1","v":{"$error":"#DIV/0!"}},{"$error":"#DIV/0!"}]
[195,{"$nulls":38},{"$error":"#DIV/0!"},{"$error":"#DIV/0!"},{"$error":"#DIV/0!"},{"$error":"#DIV/0!"},{"$f":"COUNTIF(D195:$AL195,\"NE\")/$AV$1","v":{"$error":"#DIV/0!"}},{"$error":"#DIV/0!"}]
[196,{"$nulls":38},{"$error":"#DIV/0!"},{"$error":"#DIV/0!"},{"$error":"#DIV/0!"},{"$error":"#DIV/0!"},{"$f":"COUNTIF(D196:$AL196,\"NE\")/$AV$1","v":{"$error":"#DIV/0!"}},{"$error":"#DIV/0!"}]
[197,{"$nulls":38},{"$error":"#DIV/0!"},{"$error":"#DIV/0!"},{"$error":"#DIV/0!"},{"$error":"#DIV/0!"},{"$f":"COUNTIF(D197:$AL197,\"NE\")/$AV$1","v":{"$error":"#DIV/0!"}},{"$error":"#DIV/0!"}]
[198,{"$nulls":38},{"$f":"COUNTIF($D198:$AL198,$AU$1)/$AV$1","v":{"$error":"#DIV/0!"}},{"$f":"COUNTIF($D198:$AL198,$AU$2)/$AV$1","v":{"$error":"#DIV/0!"}},{"$f":"COUNTIF($D198:$AL198,$AU$3)/$AV$1","v":{"$error":"#DIV/0!"}},{"$f":"COUNTIF($D198:$AL198,$AU$4)/$AV$1","v":{"$error":"#DIV/0!"}},{"$f":"COUNTIF(D198:$AL198,\"NE\")/$AV$1","v":{"$error":"#DIV/0!"}},{"$error":"#DIV/0!"}]
[199,{"$nulls":38},{"$error":"#DIV/0!"},{"$error":"#DIV/0!"},{"$error":"#DIV/0!"},{"$error":"#DIV/0!"},{"$f":"COUNTIF(D199:$AL199,\"NE\")/$AV$1","v":{"$error":"#DIV/0!"}},{"$f":"AN199+(AO199*0.66)+(AP199*0.33)","v":{"$error":"#DIV/0!"}}]
[200,{"$nulls":38},{"$error":"#DIV/0!"},{"$error":"#DIV/0!"},{"$error":"#DIV/0!"},{"$error":"#DIV/0!"},{"$f":"COUNTIF(D200:$AL200,\"NE\")/$AV$1","v":{"$error":"#DIV/0!"}},{"$error":"#DIV/0!"}]
[201,{"$nulls":38},{"$error":"#DIV/0!"},{"$error":"#DIV/0!"},{"$error":"#DIV/0!"},{"$error":"#DIV/0!"},{"$f":"COUNTIF(D201:$AL201,\"NE\")/$AV$1","v":{"$error":"#DIV/0!"}},{"$error":"#DIV/0!"}]
[202,{"$nulls":38},{"$error":"#DIV/0!"},{"$error":"#DIV/0!"},{"$error":"#DIV/0!"},{"$error":"#DIV/0!"},{"$f":"COUNTIF(D202:$AL202,\"NE\")/$AV$1","v":{"$error":"#DIV/0!"}},{"$error":"#DIV/0!"}]
[203,{"$nulls":38},{"$error":"#DIV/0!"},{"$error":"#DIV/0!"},{"$error":"#DIV/0!"},{"$error":"#DIV/0!"},{"$f":"COUNTIF(D203:$AL203,\"NE\")/$AV$1","v":{"$error":"#DIV/0!"}},{"$error":"#DIV/0!"}]
[204,{"$nulls":38},{"$error":"#DIV/0!"},{"$error":"#DIV/0!"},{"$error":"#DIV/0!"},{"$error":"#DIV/0!"},{"$f":"COUNTIF(D204:$AL204,\"NE\")/$AV$1","v":{"$error":"#DIV/0!"}},{"$error":"#DIV/0!"}]
[205,{"$nulls":38},{"$error":"#DIV/0!"},{"$error":"#DIV/0!"},{"$error":"#DIV/0!"},{"$error":"#DIV/0!"},{"$f":"COUNTIF(D205:$AL205,\"NE\")/$AV$1","v":{"$error":"#DIV/0!"}},{"$error":"#DIV/0!"}]
[206,{"$nulls":38},{"$error":"#DIV/0!"},{"$error":"#DIV/0!"},{"$error":"#DIV/0!"},{"$error":"#DIV/0!"},{"$f":"COUNTIF(D206:$AL206,\"NE\")/$AV$1","v":{"$error":"#DIV/0!"}},{"$error":"#DIV/0!"}]
[207,{"$nulls":38},{"$error":"#DIV/0!"},{"$error":"#DIV/0!"},{"$error":"#DIV/0!"},{"$error":"#DIV/0!"},{"$f":"COUNTIF(D207:$AL207,\"NE\")/$AV$1","v":{"$error":"#DIV/0!"}},{"$error":"#DIV/0!"}]
[208,{"$nulls":38},{"$error":"#DIV/0!"},{"$error":"#DIV/0!"},{"$error":"#DIV/0!"},{"$error":"#DIV/0!"},{"$f":"COUNTIF(D208:$AL208,\"NE\")/$AV$1","v":{"$error":"#DIV/0!"}},{"$error":"#DIV/0!"}]
[209,{"$nulls":38},{"$error":"#DIV/0!"},{"$error":"#DIV/0!"},{"$error":"#DIV/0!"},{"$error":"#DIV/0!"},{"$f":"COUNTIF(D209:$AL209,\"NE\")/$AV$1","v":{"$error":"#DIV/0!"}},{"$error":"#DIV/0!"}]
[210,{"$nulls":38},{"$error":"#DIV/0!"},{"$error":"#DIV/0!"},{"$error":"#DIV/0!"},{"$error":"#DIV/0!"},{"$f":"COUNTIF(D210:$AL210,\"NE\")/$AV$1","v":{"$error":"#DIV/0!"}},{"$error":"#DIV/0!"}]
[211,{"$nulls":38},{"$error":"#DIV/0!"},{"$error":"#DIV/0!"},{"$error":"#DIV/0!"},{"$error":"#DIV/0!"},{"$f":"COUNTIF(D211:$AL211,\"NE\")/$AV$1","v":{"$error":"#DIV/0!"}},{"$error":"#DIV/0!"}]
[212,{"$nulls":38},{"$error":"#DIV/0!"},{"$error":"#DIV/0!"},{"$error":"#DIV/0!"},{"$error":"#DIV/0!"},{"$f":"COUNTIF(D212:$AL212,\"NE\")/$AV$1","v":{"$error":"#DIV/0!"}},{"$error":"#DIV/0!"}]
[213,{"$nulls":38},{"$error":"#DIV/0!"},{"$error":"#DIV/0!"},{"$error":"#DIV/0!"},{"$error":"#DIV/0!"},{"$f":"COUNTIF(D213:$AL213,\"NE\")/$AV$1","v":{"$error":"#DIV/0!"}},{"$error":"#DIV/0!"}]
[214,{"$nulls":38},{"$error":"#DIV/0!"},{"$error":"#DIV/0!"},{"$error":"#DIV/0!"},{"$error":"#DIV/0!"},{"$f":"COUNTIF(D214:$AL214,\"NE\")/$AV$1","v":{"$error":"#DIV/0!"}},{"$error":"#DIV/0!"}]
[215,{"$nulls":38},{"$error":"#DIV/0!"},{"$error":"#DIV/0!"},{"$error":"#DIV/0!"},{"$error":"#DIV/0!"},{"$f":"COUNTIF(D215:$AL215,\"NE\")/$AV$1","v":{"$error":"#DIV/0!"}},{"$error":"#DIV/0!"}]
[216,{"$nulls":38},{"$error":"#DIV/0!"},{"$error":"#DIV/0!"},{"$error":"#DIV/0!"},{"$error":"#DIV/0!"},{"$f":"COUNTIF(D216:$AL216,\"NE\")/$AV$1","v":{"$error":"#DIV/0!"}},{"$error":"#DIV/0!"}]
[217,{"$nulls":38},{"$error":"#DIV/0!"},{"$error":"#DIV/0!"},{"$error":"#DIV/0!"},{"$error":"#DIV/0!"},{"$f":"COUNTIF(D217:$AL217,\"NE\")/$AV$1","v":{"$error":"#DIV/0!"}},{"$error":"#DIV/0!"}]
[218,{"$nulls":38},{"$error":"#DIV/0!"},{"$error":"#DIV/0!"},{"$error":"#DIV/0!"},{"$error":"#DIV/0!"},{"$f":"COUNTIF(D218:$AL218,\"NE\")/$AV$1","v":{"$error":"#DIV/0!"}},{"$error":"#DIV/0!"}]
[219,{"$nulls":38},{"$error":"#DIV/0!"},{"$error":"#DIV/0!"},{"$error":"#DIV/0!"},{"$error":"#DIV/0!"},{"$f":"COUNTIF(D219:$AL219,\"NE\")/$AV$1","v":{"$error":"#DIV/0!"}},{"$error":"#DIV/0!"}]
[220,{"$nulls":38},{"$error":"#DIV/0!"},{"$error":"#DIV/0!"},{"$error":"#DIV/0!"},{"$error":"#DIV/0!"},{"$f":"COUNTIF(D220:$AL220,\"NE\")/$AV$1","v":{"$error":"#DIV/0!"}},{"$error":"#DIV/0!"}]
[221,{"$nulls":38},{"$error":"#DIV/0!"},{"$error":"#DIV/0!"},{"$error":"#DIV/0!"},{"$error":"#DIV/0!"},{"$f":"COUNTIF(D221:$AL221,\"NE\")/$AV$1","v":{"$error":"#DIV/0!"}},{"$error":"#DIV/0!"}]
[222,{"$nulls":38},{"$error":"#DIV/0!"},{"$error":"#DIV/0!"},{"$error":"#DIV/0!"},{"$error":"#DIV/0!"},{"$f":"COUNTIF(D222:$AL222,\"NE\")/$AV$1","v":{"$error":"#DIV/0!"}},{"$error":"#DIV/0!"}]
[223,{"$nulls":38},{"$error":"#DIV/0!"},{"$error":"#DIV/0!"},{"$error":"#DIV/0!"},{"$error":"#DIV/0!"},{"$f":"COUNTIF(D223:$AL223,\"NE\")/$AV$1","v":{"$error":"#DIV/0!"}},{"$error":"#DIV/0!"}]
[224,{"$nulls":38},{"$error":"#DIV/0!"},{"$error":"#DIV/0!"},{"$error":"#DIV/0!"},{"$error":"#DIV/0!"},{"$f":"COUNTIF(D224:$AL224,\"NE\")/$AV$1","v":{"$error":"#DIV/0!"}},{"$error":"#DIV/0!"}]
[225,{"$nulls":38},{"$error":"#DIV/0!"},{"$error":"#DIV/0!"},{"$error":"#DIV/0!"},{"$error":"#DIV/0!"},{"$f":"COUNTIF(D225:$AL225,\"NE\")/$AV$1","v":{"$error":"#DIV/0!"}},{"$error":"#DIV/0!"}]
[226,{"$nulls":38},{"$error":"#DIV/0!"},{"$error":"#DIV/0!"},{"$error":"#DIV/0!"},{"$error":"#DIV/0!"},{"$f":"COUNTIF(D226:$AL226,\"NE\")/$AV$1","v":{"$error":"#DIV/0!"}},{"$error":"#DIV/0!"}]
[227,{"$nulls":38},{"$error":"#DIV/0!"},{"$error":"#DIV/0!"},{"$error":"#DIV/0!"},{"$error":"#DIV/0!"},{"$f":"COUNTIF(D227:$AL227,\"NE\")/$AV$1","v":{"$error":"#DIV/0!"}},{"$error":"#DIV/0!"}]
[228,{"$nulls":38},{"$error":"#DIV/0!"},{"$error":"#DIV/0!"},{"$error":"#DIV/0!"},{"$error":"#DIV/0!"},{"$f":"COUNTIF(D228:$AL228,\"NE\")/$AV$1","v":{"$error":"#DIV/0!"}},{"$error":"#DIV/0!"}]
[229,{"$nulls":38},{"$error":"#DIV/0!"},{"$error":"#DIV/0!"},{"$error":"#DIV/0!"},{"$error":"#DIV/0!"},{"$f":"COUNTIF(D229:$AL229,\"NE\")/$AV$1","v":{"$error":"#DIV/0!"}},{"$error":"#DIV/0!"}]
[230,{"$nulls":38},{"$error":"#DIV/0!"},{"$error":"#DIV/0!"},{"$error":"#DIV/0!"},{"$error":"#DIV/0!"},{"$f":"COUNTIF(D230:$AL230,\"NE\")/$AV$1","v":{"$error":"#DIV/0!"}},{"$error":"#DIV/0!"}]
[231,{"$nulls":38},{"$error":"#DIV/0!"},{"$error":"#DIV/0!"},{"$error":"#DIV/0!"},{"$error":"#DIV/0!"},{"$f":"COUNTIF(D231:$AL231,\"NE\")/$AV$1","v":{"$error":"#DIV/0!"}},{"$error":"#DIV/0!"}]
[232,{"$nulls":38},{"$error":"#DIV/0!"},{"$error":"#DIV/0!"},{"$error":"#DIV/0!"},{"$error":"#DIV/0!"},{"$f":"COUNTIF(D232:$AL232,\"NE\")/$AV$1","v":{"$error":"#DIV/0!"}},{"$error":"#DIV/0!"}]
[233,{"$nulls":38},{"$error":"#DIV/0!"},{"$error":"#DIV/0!"},{"$error":"#DIV/0!"},{"$error":"#DIV/0!"},{"$f":"COUNTIF(D233:$AL233,\"NE\")/$AV$1","v":{"$error":"#DIV/0!"}},{"$error":"#DIV/0!"}]
[234,{"$nulls":38},{"$error":"#DIV/0!"},{"$error":"#DIV/0!"},{"$error":"#DIV/0!"},{"$error":"#DIV/0!"},{"$f":"COUNTIF(D234:$AL234,\"NE\")/$AV$1","v":{"$error":"#DIV/0!"}},{"$error":"#DIV/0!"}]
[235,{"$nulls":38},{"$error":"#DIV/0!"},{"$error":"#DIV/0!"},{"$error":"#DIV/0!"},{"$error":"#DIV/0!"},{"$f":"COUNTIF(D235:$AL235,\"NE\")/$AV$1","v":{"$error":"#DIV/0!"}},{"$error":"#DIV/0!"}]
[236,{"$nulls":38},{"$error":"#DIV/0!"},{"$error":"#DIV/0!"},{"$error":"#DIV/0!"},{"$error":"#DIV/0!"},{"$f":"COUNTIF(D236:$AL236,\"NE\")/$AV$1","v":{"$error":"#DIV/0!"}},{"$error":"#DIV/0!"}]
[237,{"$nulls":38},{"$error":"#DIV/0!"},{"$error":"#DIV/0!"},{"$error":"#DIV/0!"},{"$error":"#DIV/0!"},{"$f":"COUNTIF(D237:$AL237,\"NE\")/$AV$1","v":{"$error":"#DIV/0!"}},{"$error":"#DIV/0!"}]
[238,{"$nulls":38},{"$error":"#DIV/0!"},{"$error":"#DIV/0!"},{"$error":"#DIV/0!"},{"$error":"#DIV/0!"},{"$f":"COUNTIF(D238:$AL238,\"NE\")/$AV$1","v":{"$error":"#DIV/0!"}},{"$error":"#DIV/0!"}]
[239,{"$nulls":38},{"$error":"#DIV/0!"},{"$error":"#DIV/0!"},{"$error":"#DIV/0!"},{"$error":"#DIV/0!"},{"$f":"COUNTIF(D239:$AL239,\"NE\")/$AV$1","v":{"$error":"#DIV/0!"}},{"$error":"#DIV/0!"}]
[240,{"$nulls":38},{"$error":"#DIV/0!"},{"$error":"#DIV/0!"},{"$error":"#DIV/0!"},{"$error":"#DIV/0!"},{"$f":"COUNTIF(D240:$AL240,\"NE\")/$AV$1","v":{"$error":"#DIV/0!"}},{"$error":"#DIV/0!"}]
[241,{"$nulls":38},{"$error":"#DIV/0!"},{"$error":"#DIV/0!"},{"$error":"#DIV/0!"},{"$error":"#DIV/0!"},{"$f":"COUNTIF(D241:$AL241,\"NE\")/$AV$1","v":{"$error":"#DIV/0!"}},{"$error":"#DIV/0!"}]
[242,{"$nulls":38},{"$error":"#DIV/0!"},{"$error":"#DIV/0!"},{"$error":"#DIV/0!"},{"$error":"#DIV/0!"},{"$f":"COUNTIF(D242:$AL242,\"NE\")/$AV$1","v":{"$error":"#DIV/0!"}},{"$error":"#DIV/0!"}]
[243,{"$nulls":38},{"$error":"#DIV/0!"},{"$error":"#DIV/0!"},{"$error":"#DIV/0!"},{"$error":"#DIV/0!"},{"$f":"COUNTIF(D243:$AL243,\"NE\")/$AV$1","v":{"$error":"#DIV/0!"}},{"$error":"#DIV/0!"}]
[244,{"$nulls":38},{"$error":"#DIV/0!"},{"$error":"#DIV/0!"},{"$error":"#DIV/0!"},{"$error":"#DIV/0!"},{"$f":"COUNTIF(D244:$AL244,\"NE\")/$AV$1","v":{"$error":"#DIV/0!"}},{"$error":"#DIV/0!"}]
[245,{"$nulls":38},{"$error":"#DIV/0!"},{"$error":"#DIV/0!"},{"$error":"#DIV/0!"},{"$error":"#DIV/0!"},{"$f":"COUNTIF(D245:$AL245,\"NE\")/$AV$1","v":{"$error":"#DIV/0!"}},{"$error":"#DIV/0!"}]
[246,{"$nulls":38},{"$error":"#DIV/0!"},{"$error":"#DIV/0!"},{"$error":"#DIV/0!"},{"$error":"#DIV/0!"},{"$f":"COUNTIF(D246:$AL246,\"NE\")/$AV$1","v":{"$error":"#DIV/0!"}},{"$error":"#DIV/0!"}]
[247,{"$nulls":38},{"$error":"#DIV/0!"},{"$error":"#DIV/0!"},{"$error":"#DIV/0!"},{"$error":"#DIV/0!"},{"$f":"COUNTIF(D247:$AL247,\"NE\")/$AV$1","v":{"$error":"#DIV/0!"}},{"$error":"#DIV/0!"}]
[248,{"$nulls":38},{"$error":"#DIV/0!"},{"$error":"#DIV/0!"},{"$error":"#DIV/0!"},{"$error":"#DIV/0!"},{"$f":"COUNTIF(D248:$AL248,\"NE\")/$AV$1","v":{"$error":"#DIV/0!"}},{"$error":"#DIV/0!"}]
[249,{"$nulls":38},{"$error":"#DIV/0!"},{"$error":"#DIV/0!"},{"$error":"#DIV/0!"},{"$error":"#DIV/0!"},{"$f":"COUNTIF(D249:$AL249,\"NE\")/$AV$1","v":{"$error":"#DIV/0!"}},{"$error":"#DIV/0!"}]
[250,{"$nulls":38},{"$error":"#DIV/0!"},{"$error":"#DIV/0!"},{"$error":"#DIV/0!"},{"$error":"#DIV/0!"},{"$f":"COUNTIF(D250:$AL250,\"NE\")/$AV$1","v":{"$error":"#DIV/0!"}},{"$error":"#DIV/0!"}]
[251,{"$nulls":38},{"$error":"#DIV/0!"},{"$error":"#DIV/0!"},{"$error":"#DIV/0!"},{"$error":"#DIV/0!"},{"$f":"COUNTIF(D251:$AL251,\"NE\")/$AV$1","v":{"$error":"#DIV/0!"}},{"$error":"#DIV/0!"}]
[252,{"$nulls":38},{"$error":"#DIV/0!"},{"$error":"#DIV/0!"},{"$error":"#DIV/0!"},{"$error":"#DIV/0!"},{"$f":"COUNTIF(D252:$AL252,\"NE\")/$AV$1","v":{"$error":"#DIV/0!"}},{"$error":"#DIV/0!"}]
[253,{"$nulls":38},{"$error":"#DIV/0!"},{"$error":"#DIV/0!"},{"$error":"#DIV/0!"},{"$error":"#DIV/0!"},{"$f":"COUNTIF(D253:$AL253,\"NE\")/$AV$1","v":{"$error":"#DIV/0!"}},{"$error":"#DIV/0!"}]
[254,{"$nulls":38},{"$error":"#DIV/0!"},{"$error":"#DIV/0!"},{"$error":"#DIV/0!"},{"$error":"#DIV/0!"},{"$f":"COUNTIF(D254:$AL254,\"NE\")/$AV$1","v":{"$error":"#DIV/0!"}},{"$error":"#DIV/0!"}]
[255,{"$nulls":38},{"$error":"#DIV/0!"},{"$error":"#DIV/0!"},{"$error":"#DIV/0!"},{"$error":"#DIV/0!"},{"$f":"COUNTIF(D255:$AL255,\"NE\")/$AV$1","v":{"$error":"#DIV/0!"}},{"$error":"#DIV/0!"}]
[256,{"$nulls":38},{"$error":"#DIV/0!"},{"$error":"#DIV/0!"},{"$error":"#DIV/0!"},{"$error":"#DIV/0!"},{"$f":"COUNTIF(D256:$AL256,\"NE\")/$AV$1","v":{"$error":"#DIV/0!"}},{"$error":"#DIV/0!"}]
[257,{"$nulls":38},{"$error":"#DIV/0!"},{"$error":"#DIV/0!"},{"$error":"#DIV/0!"},{"$error":"#DIV/0!"},{"$f":"COUNTIF(D257:$AL257,\"NE\")/$AV$1","v":{"$error":"#DIV/0!"}},{"$error":"#DIV/0!"}]
[258,{"$nulls":38},{"$error":"#DIV/0!"},{"$error":"#DIV/0!"},{"$error":"#DIV/0!"},{"$error":"#DIV/0!"},{"$f":"COUNTIF(D258:$AL258,\"NE\")/$AV$1","v":{"$error":"#DIV/0!"}},{"$error":"#DIV/0!"}]
[259,{"$nulls":38},{"$error":"#DIV/0!"},{"$error":"#DIV/0!"},{"$error":"#DIV/0!"},{"$error":"#DIV/0!"},{"$f":"COUNTIF(D259:$AL259,\"NE\")/$AV$1","v":{"$error":"#DIV/0!"}},{"$error":"#DIV/0!"}]
[260,{"$nulls":38},{"$error":"#DIV/0!"},{"$error":"#DIV/0!"},{"$error":"#DIV/0!"},{"$error":"#DIV/0!"},{"$f":"COUNTIF(D260:$AL260,\"NE\")/$AV$1","v":{"$error":"#DIV/0!"}},{"$error":"#DIV/0!"}]
[261,{"$nulls":38},{"$error":"#DIV/0!"},{"$error":"#DIV/0!"},{"$error":"#DIV/0!"},{"$error":"#DIV/0!"},{"$f":"COUNTIF(D261:$AL261,\"NE\")/$AV$1","v":{"$error":"#DIV/0!"}},{"$error":"#DIV/0!"}]
[262,{"$nulls":38},{"$f":"COUNTIF($D262:$AL262,$AU$1)/$AV$1","v":{"$error":"#DIV/0!"}},{"$f":"COUNTIF($D262:$AL262,$AU$2)/$AV$1","v":{"$error":"#DIV/0!"}},{"$f":"COUNTIF($D262:$AL262,$AU$3)/$AV$1","v":{"$error":"#DIV/0!"}},{"$f":"COUNTIF($D262:$AL262,$AU$4)/$AV$1","v":{"$error":"#DIV/0!"}},{"$f":"COUNTIF(D262:$AL262,\"NE\")/$AV$1","v":{"$error":"#DIV/0!"}},{"$error":"#DIV/0!"}]
[263,{"$nulls":38},{"$error":"#DIV/0!"},{"$error":"#DIV/0!"},{"$error":"#DIV/0!"},{"$error":"#DIV/0!"},{"$f":"COUNTIF(D263:$AL263,\"NE\")/$AV$1","v":{"$error":"#DIV/0!"}},{"$f":"AN263+(AO263*0.66)+(AP263*0.33)","v":{"$error":"#DIV/0!"}}]
[264,{"$nulls":38},{"$error":"#DIV/0!"},{"$error":"#DIV/0!"},{"$error":"#DIV/0!"},{"$error":"#DIV/0!"},{"$f":"COUNTIF(D264:$AL264,\"NE\")/$AV$1","v":{"$error":"#DIV/0!"}},{"$error":"#DIV/0!"}]
[265,{"$nulls":38},{"$error":"#DIV/0!"},{"$error":"#DIV/0!"},{"$error":"#DIV/0!"},{"$error":"#DIV/0!"},{"$f":"COUNTIF(D265:$AL265,\"NE\")/$AV$1","v":{"$error":"#DIV/0!"}},{"$error":"#DIV/0!"}]
[266,{"$nulls":38},{"$error":"#DIV/0!"},{"$error":"#DIV/0!"},{"$error":"#DIV/0!"},{"$error":"#DIV/0!"},{"$f":"COUNTIF(D266:$AL266,\"NE\")/$AV$1","v":{"$error":"#DIV/0!"}},{"$error":"#DIV/0!"}]
[267,{"$nulls":38},{"$error":"#DIV/0!"},{"$error":"#DIV/0!"},{"$error":"#DIV/0!"},{"$error":"#DIV/0!"},{"$f":"COUNTIF(D267:$AL267,\"NE\")/$AV$1","v":{"$error":"#DIV/0!"}},{"$error":"#DIV/0!"}]
[268,{"$nulls":38},{"$error":"#DIV/0!"},{"$error":"#DIV/0!"},{"$error":"#DIV/0!"},{"$error":"#DIV/0!"},{"$f":"COUNTIF(D268:$AL268,\"NE\")/$AV$1","v":{"$error":"#DIV/0!"}},{"$error":"#DIV/0!"}]
[269,{"$nulls":38},{"$error":"#DIV/0!"},{"$error":"#DIV/0!"},{"$error":"#DIV/0!"},{"$error":"#DIV/0!"},{"$f":"COUNTIF(D269:$AL269,\"NE\")/$AV$1","v":{"$error":"#DIV/0!"}},{"$error":"#DIV/0!"}]
[270,{"$nulls":38},{"$error":"#DIV/0!"},{"$error":"#DIV/0!"},{"$error":"#DIV/0!"},{"$error":"#DIV/0!"},{"$f":"COUNTIF(D270:$AL270,\"NE\")/$AV$1","v":{"$error":"#DIV/0!"}},{"$error":"#DIV/0!"}]
[271,{"$nulls":38},{"$error":"#DIV/0!"},{"$error":"#DIV/0!"},{"$error":"#DIV/0!"},{"$error":"#DIV/0!"},{"$f":"COUNTIF(D271:$AL271,\"NE\")/$AV$1","v":{"$error":"#DIV/0!"}},{"$error":"#DIV/0!"}]
[272,{"$nulls":38},{"$error":"#DIV/0!"},{"$error":"#DIV/0!"},{"$error":"#DIV/0!"},{"$error":"#DIV/0!"},{"$f":"COUNTIF(D272:$AL272,\"NE\")/$AV$1","v":{"$error":"#DIV/0!"}},{"$error":"#DIV/0!"}]
[273,{"$nulls":38},{"$error":"#DIV/0!"},{"$error":"#DIV/0!"},{"$error":"#DIV/0!"},{"$error":"#DIV/0!"},{"$f":"COUNTIF(D273:$AL273,\"NE\")/$AV$1","v":{"$error":"#DIV/0!"}},{"$error":"#DIV/0!"}]
[274,{"$nulls":38},{"$error":"#DIV/0!"},{"$error":"#DIV/0!"},{"$error":"#DIV/0!"},{"$error":"#DIV/0!"},{"$f":"COUNTIF(D274:$AL274,\"NE\")/$AV$1","v":{"$error":"#DIV/0!"}},{"$error":"#DIV/0!"}]
[275,{"$nulls":38},{"$error":"#DIV/0!"},{"$error":"#DIV/0!"},{"$error":"#DIV/0!"},{"$error":"#DIV/0!"},{"$f":"COUNTIF(D275:$AL275,\"NE\")/$AV$1","v":{"$error":"#DIV/0!"}},{"$error":"#DIV/0!"}]
[276,{"$nulls":38},{"$error":"#DIV/0!"},{"$error":"#DIV/0!"},{"$error":"#DIV/0!"},{"$error":"#DIV/0!"},{"$f":"COUNTIF(D276:$AL276,\"NE\")/$AV$1","v":{"$error":"#DIV/0!"}},{"$error":"#DIV/0!"}]
[277,{"$nulls":38},{"$error":"#DIV/0!"},{"$error":"#DIV/0!"},{"$error":"#DIV/0!"},{"$error":"#DIV/0!"},{"$f":"COUNTIF(D277:$AL277,\"NE\")/$AV$1","v":{"$error":"#DIV/0!"}},{"$error":"#DIV/0!"}]
[278,{"$nulls":38},{"$error":"#DIV/0!"},{"$error":"#DIV/0!"},{"$error":"#DIV/0!"},{"$error":"#DIV/0!"},{"$f":"COUNTIF(D278:$AL278,\"NE\")/$AV$1","v":{"$error":"#DIV/0!"}},{"$error":"#DIV/0!"}]
[279,{"$nulls":38},{"$error":"#DIV/0!"},{"$error":"#DIV/0!"},{"$error":"#DIV/0!"},{"$error":"#DIV/0!"},{"$f":"COUNTIF(D279:$AL279,\"NE\")/$AV$1","v":{"$error":"#DIV/0!"}},{"$error":"#DIV/0!"}]
[280,{"$nulls":38},{"$error":"#DIV/0!"},{"$error":"#DIV/0!"},{"$error":"#DIV/0!"},{"$error":"#DIV/0!"},{"$f":"COUNTIF(D280:$AL280,\"NE\")/$AV$1","v":{"$error":"#DIV/0!"}},{"$error":"#DIV/0!"}]
[281,{"$nulls":38},{"$error":"#DIV/0!"},{"$error":"#DIV/0!"},{"$error":"#DIV/0!"},{"$error":"#DIV/0!"},{"$f":"COUNTIF(D281:$AL281,\"NE\")/$AV$1","v":{"$error":"#DIV/0!"}},{"$error":"#DIV/0!"}]
[282,{"$nulls":38},{"$error":"#DIV/0!"},{"$error":"#DIV/0!"},{"$error":"#DIV/0!"},{"$error":"#DIV/0!"},{"$f":"COUNTIF(D282:$AL282,\"NE\")/$AV$1","v":{"$error":"#DIV/0!"}},{"$error":"#DIV/0!"}]
[283,{"$nulls":38},{"$error":"#DIV/0!"},{"$error":"#DIV/0!"},{"$error":"#DIV/0!"},{"$error":"#DIV/0!"},{"$f":"COUNTIF(D283:$AL283,\"NE\")/$AV$1","v":{"$error":"#DIV/0!"}},{"$error":"#DIV/0!"}]
[284,{"$nulls":38},{"$error":"#DIV/0!"},{"$error":"#DIV/0!"},{"$error":"#DIV/0!"},{"$error":"#DIV/0!"},{"$f":"COUNTIF(D284:$AL284,\"NE\")/$AV$1","v":{"$error":"#DIV/0!"}},{"$error":"#DIV/0!"}]
[285,{"$nulls":38},{"$error":"#DIV/0!"},{"$error":"#DIV/0!"},{"$error":"#DIV/0!"},{"$error":"#DIV/0!"},{"$f":"COUNTIF(D285:$AL285,\"NE\")/$AV$1","v":{"$error":"#DIV/0!"}},{"$error":"#DIV/0!"}]
[286,{"$nulls":38},{"$error":"#DIV/0!"},{"$error":"#DIV/0!"},{"$error":"#DIV/0!"},{"$error":"#DIV/0!"},{"$f":"COUNTIF(D286:$AL286,\"NE\")/$AV$1","v":{"$error":"#DIV/0!"}},{"$error":"#DIV/0!"}]
[287,{"$nulls":38},{"$error":"#DIV/0!"},{"$error":"#DIV/0!"},{"$error":"#DIV/0!"},{"$error":"#DIV/0!"},{"$f":"COUNTIF(D287:$AL287,\"NE\")/$AV$1","v":{"$error":"#DIV/0!"}},{"$error":"#DIV/0!"}]
[288,{"$nulls":38},{"$error":"#DIV/0!"},{"$error":"#DIV/0!"},{"$error":"#DIV/0!"},{"$error":"#DIV/0!"},{"$f":"COUNTIF(D288:$AL288,\"NE\")/$AV$1","v":{"$error":"#DIV/0!"}},{"$error":"#DIV/0!"}]
[289,{"$nulls":38},{"$error":"#DIV/0!"},{"$error":"#DIV/0!"},{"$error":"#DIV/0!"},{"$error":"#DIV/0!"},{"$f":"COUNTIF(D289:$AL289,\"NE\")/$AV$1","v":{"$error":"#DIV/0!"}},{"$error":"#DIV/0!"}]
[290,{"$nulls":38},{"$error":"#DIV/0!"},{"$error":"#DIV/0!"},{"$error":"#DIV/0!"},{"$error":"#DIV/0!"},{"$f":"COUNTIF(D290:$AL290,\"NE\")/$AV$1","v":{"$error":"#DIV/0!"}},{"$error":"#DIV/0!"}]
[291,{"$nulls":38},{"$error":"#DIV/0!"},{"$error":"#DIV/0!"},{"$error":"#DIV/0!"},{"$error":"#DIV/0!"},{"$f":"COUNTIF(D291:$AL291,\"NE\")/$AV$1","v":{"$error":"#DIV/0!"}},{"$error":"#DIV/0!"}]
[292,{"$nulls":38},{"$error":"#DIV/0!"},{"$error":"#DIV/0!"},{"$error":"#DIV/0!"},{"$error":"#DIV/0!"},{"$f":"COUNTIF(D292:$AL292,\"NE\")/$AV$1","v":{"$error":"#DIV/0!"}},{"$error":"#DIV/0!"}]
[293,{"$nulls":38},{"$error":"#DIV/0!"},{"$error":"#DIV/0!"},{"$error":"#DIV/0!"},{"$error":"#DIV/0!"},{"$f":"COUNTIF(D293:$AL293,\"NE\")/$AV$1","v":{"$error":"#DIV/0!"}},{"$error":"#DIV/0!"}]
[294,{"$nulls":38},{"$error":"#DIV/0!"},{"$error":"#DIV/0!"},{"$error":"#DIV/0!"},{"$error":"#DIV/0!"},{"$f":"COUNTIF(D294:$AL294,\"NE\")/$AV$1","v":{"$error":"#DIV/0!"}},{"$error":"#DIV/0!"}]
[295,{"$nulls":38},{"$error":"#DIV/0!"},{"$error":"#DIV/0!"},{"$error":"#DIV/0!"},{"$error":"#DIV/0!"},{"$f":"COUNTIF(D295:$AL295,\"NE\")/$AV$1","v":{"$error":"#DIV/0!"}},{"$error":"#DIV/0!"}]
[296,{"$nulls":38},{"$error":"#DIV/0!"},{"$error":"#DIV/0!"},{"$error":"#DIV/0!"},{"$error":"#DIV/0!"},{"$f":"COUNTIF(D296:$AL296,\"NE\")/$AV$1","v":{"$error":"#DIV/0!"}},{"$error":"#DIV/0!"}]
[297,{"$nulls":38},{"$error":"#DIV/0!"},{"$error":"#DIV/0!"},{"$error":"#DIV/0!"},{"$error":"#DIV/0!"},{"$f":"COUNTIF(D297:$AL297,\"NE\")/$AV$1","v":{"$error":"#DIV/0!"}},{"$error":"#DIV/0!"}]
[298,{"$nulls":38},{"$error":"#DIV/0!"},{"$error":"#DIV/0!"},{"$error":"#DIV/0!"},{"$error":"#DIV/0!"},{"$f":"COUNTIF(D298:$AL298,\"NE\")/$AV$1","v":{"$error":"#DIV/0!"}},{"$error":"#DIV/0!"}]
[299,{"$nulls":38},{"$error":"#DIV/0!"},{"$error":"#DIV/0!"},{"$error":"#DIV/0!"},{"$error":"#DIV/0!"},{"$f":"COUNTIF(D299:$AL299,\"NE\")/$AV$1","v":{"$error":"#DIV/0!"}},{"$error":"#DIV/0!"}]
[300,{"$nulls":38},{"$error":"#DIV/0!"},{"$error":"#DIV/0!"},{"$error":"#DIV/0!"},{"$error":"#DIV/0!"},{"$f":"COUNTIF(D300:$AL300,\"NE\")/$AV$1","v":{"$error":"#DIV/0!"}},{"$error":"#DIV/0!"}]
[301,{"$nulls":38},{"$error":"#DIV/0!"},{"$error":"#DIV/0!"},{"$error":"#DIV/0!"},{"$error":"#DIV/0!"},{"$f":"COUNTIF(D301:$AL301,\"NE\")/$AV$1","v":{"$error":"#DIV/0!"}},{"$error":"#DIV/0!"}]
[302,{"$nulls":38},{"$error":"#DIV/0!"},{"$error":"#DIV/0!"},{"$error":"#DIV/0!"},{"$error":"#DIV/0!"},{"$f":"COUNTIF(D302:$AL302,\"NE\")/$AV$1","v":{"$error":"#DIV/0!"}},{"$error":"#DIV/0!"}]
[303,{"$nulls":38},{"$error":"#DIV/0!"},{"$error":"#DIV/0!"},{"$error":"#DIV/0!"},{"$error":"#DIV/0!"},{"$f":"COUNTIF(D303:$AL303,\"NE\")/$AV$1","v":{"$error":"#DIV/0!"}},{"$error":"#DIV/0!"}]
[304,{"$nulls":38},{"$error":"#DIV/0!"},{"$error":"#DIV/0!"},{"$error":"#DIV/0!"},{"$error":"#DIV/0!"},{"$f":"COUNTIF(D304:$AL304,\"NE\")/$AV$1","v":{"$error":"#DIV/0!"}},{"$error":"#DIV/0!"}]
[305,{"$nulls":38},{"$error":"#DIV/0!"},{"$error":"#DIV/0!"},{"$error":"#DIV/0!"},{"$error":"#DIV/0!"},{"$f":"COUNTIF(D305:$AL305,\"NE\")/$AV$1","v":{"$error":"#DIV/0!"}},{"$error":"#DIV/0!"}]
[306,{"$nulls":38},{"$error":"#DIV/0!"},{"$error":"#DIV/0!"},{"$error":"#DIV/0!"},{"$error":"#DIV/0!"},{"$f":"COUNTIF(D306:$AL306,\"NE\")/$AV$1","v":{"$error":"#DIV/0!"}},{"$error":"#DIV/0!"}]
[307,{"$nulls":38},{"$error":"#DIV/0!"},{"$error":"#DIV/0!"},{"$error":"#DIV/0!"},{"$error":"#DIV/0!"},{"$f":"COUNTIF(D307:$AL307,\"NE\")/$AV$1","v":{"$error":"#DIV/0!"}},{"$error":"#DIV/0!"}]
[308,{"$nulls":38},{"$error":"#DIV/0!"},{"$error":"#DIV/0!"},{"$error":"#DIV/0!"},{"$error":"#DIV/0!"},{"$f":"COUNTIF(D308:$AL308,\"NE\")/$AV$1","v":{"$error":"#DIV/0!"}},{"$error":"#DIV/0!"}]
[309,{"$nulls":38},{"$error":"#DIV/0!"},{"$error":"#DIV/0!"},{"$error":"#DIV/0!"},{"$error":"#DIV/0!"},{"$f":"COUNTIF(D309:$AL309,\"NE\")/$AV$1","v":{"$error":"#DIV/0!"}},{"$error":"#DIV/0!"}]
[310,{"$nulls":38},{"$error":"#DIV/0!"},{"$error":"#DIV/0!"},{"$error":"#DIV/0!"},{"$error":"#DIV/0!"},{"$f":"COUNTIF(D310:$AL310,\"NE\")/$AV$1","v":{"$error":"#DIV/0!"}},{"$error":"#DIV/0!"}]
[311,{"$nulls":38},{"$error":"#DIV/0!"},{"$error":"#DIV/0!"},{"$error":"#DIV/0!"},{"$error":"#DIV/0!"},{"$f":"COUNTIF(D311:$AL311,\"NE\")/$AV$1","v":{"$error":"#DIV/0!"}},{"$error":"#DIV/0!"}]
[312,{"$nulls":38},{"$error":"#DIV/0!"},{"$error":"#DIV/0!"},{"$error":"#DIV/0!"},{"$error":"#DIV/0!"},{"$f":"COUNTIF(D312:$AL312,\"NE\")/$AV$1","v":{"$error":"#DIV/0!"}},{"$error":"#DIV/0!"}]
[313,{"$nulls":38},{"$error":"#DIV/0!"},{"$error":"#DIV/0!"},{"$error":"#DIV/0!"},{"$error":"#DIV/0!"},{"$f":"COUNTIF(D313:$AL313,\"NE\")/$AV$1","v":{"$error":"#DIV/0!"}},{"$error":"#DIV/0!"}]
[314,{"$nulls":38},{"$error":"#DIV/0!"},{"$error":"#DIV/0!"},{"$error":"#DIV/0!"},{"$error":"#DIV/0!"},{"$f":"COUNTIF(D314:$AL314,\"NE\")/$AV$1","v":{"$error":"#DIV/0!"}},{"$error":"#DIV/0!"}]
[315,{"$nulls":38},{"$error":"#DIV/0!"},{"$error":"#DIV/0!"},{"$error":"#DIV/0!"},{"$error":"#DIV/0!"},{"$f":"COUNTIF(D315:$AL315,\"NE\")/$AV$1","v":{"$error":"#DIV/0!"}},{"$error":"#DIV/0!"}]
[316,{"$nulls":38},{"$error":"#DIV/0!"},{"$error":"#DIV/0!"},{"$error":"#DIV/0!"},{"$error":"#DIV/0!"},{"$f":"COUNTIF(D316:$AL316,\"NE\")/$AV$1","v":{"$error":"#DIV/0!"}},{"$error":"#DIV/0!"}]
[317,{"$nulls":38},{"$error":"#DIV/0!"},{"$error":"#DIV/0!"},{"$error":"#DIV/0!"},{"$error":"#DIV/0!"},{"$f":"COUNTIF(D317:$AL317,\"NE\")/$AV$1","v":{"$error":"#DIV/0!"}},{"$error":"#DIV/0!"}]
[318,{"$nulls":38},{"$error":"#DIV/0!"},{"$error":"#DIV/0!"},{"$error":"#DIV/0!"},{"$error":"#DIV/0!"},{"$f":"COUNTIF(D318:$AL318,\"NE\")/$AV$1","v":{"$error":"#DIV/0!"}},{"$error":"#DIV/0!"}]
[319,{"$nulls":38},{"$error":"#DIV/0!"},{"$error":"#DIV/0!"},{"$error":"#DIV/0!"},{"$error":"#DIV/0!"},{"$f":"COUNTIF(D319:$AL319,\"NE\")/$AV$1","v":{"$error":"#DIV/0!"}},{"$error":"#DIV/0!"}]
[320,{"$nulls":38},{"$error":"#DIV/0!"},{"$error":"#DIV/0!"},{"$error":"#DIV/0!"},{"$error":"#DIV/0!"},{"$f":"COUNTIF(D320:$AL320,\"NE\")/$AV$1","v":{"$error":"#DIV/0!"}},{"$error":"#DIV/0!"}]
[321,{"$nulls":38},{"$error":"#DIV/0!"},{"$error":"#DIV/0!"},{"$error":"#DIV/0!"},{"$error":"#DIV/0!"},{"$f":"COUNTIF(D321:$AL321,\"NE\")/$AV$1","v":{"$error":"#DIV/0!"}},{"$error":"#DIV/0!"}]
[322,{"$nulls":38},{"$error":"#DIV/0!"},{"$error":"#DIV/0!"},{"$error":"#DIV/0!"},{"$error":"#DIV/0!"},{"$f":"COUNTIF(D322:$AL322,\"NE\")/$AV$1","v":{"$error":"#DIV/0!"}},{"$error":"#DIV/0!"}]
[323,{"$nulls":38},{"$error":"#DIV/0!"},{"$error":"#DIV/0!"},{"$error":"#DIV/0!"},{"$error":"#DIV/0!"},{"$f":"COUNTIF(D323:$AL323,\"NE\")/$AV$1","v":{"$error":"#DIV/0!"}},{"$error":"#DIV/0!"}]
[324,{"$nulls":38},{"$error":"#DIV/0!"},{"$error":"#DIV/0!"},{"$error":"#DIV/0!"},{"$error":"#DIV/0!"},{"$f":"COUNTIF(D324:$AL324,\"NE\")/$AV$1","v":{"$error":"#DIV/0!"}},{"$error":"#DIV/0!"}]
[325,{"$nulls":38},{"$error":"#DIV/0!"},{"$error":"#DIV/0!"},{"$error":"#DIV/0!"},{"$error":"#DIV/0!"},{"$f":"COUNTIF(D325:$AL325,\"NE\")/$AV$1","v":{"$error":"#DIV/0!"}},{"$error":"#DIV/0!"}]
[326,{"$nulls":38},{"$f":"COUNTIF($D326:$AL326,$AU$1)/$AV$1","v":{"$error":"#DIV/0!"}},{"$f":"COUNTIF($D326:$AL326,$AU$2)/$AV$1","v":{"$error":"#DIV/0!"}},{"$f":"COUNTIF($D326:$AL326,$AU$3)/$AV$1","v":{"$error":"#DIV/0!"}},{"$f":"COUNTIF($D326:$AL326,$AU$4)/$AV$1","v":{"$error":"#DIV/0!"}},{"$f":"COUNTIF(D326:$AL326,\"NE\")/$AV$1","v":{"$error":"#DIV/0!"}},{"$error":"#DIV/0!"}]
[327,{"$nulls":38},{"$error":"#DIV/0!"},{"$error":"#DIV/0!"},{"$error":"#DIV/0!"},{"$error":"#DIV/0!"},{"$f":"COUNTIF(D327:$AL327,\"NE\")/$AV$1","v":{"$error":"#DIV/0!"}},{"$f":"AN327+(AO327*0.66)+(AP327*0.33)","v":{"$error":"#DIV/0!"}}]
[328,{"$nulls":38},{"$error":"#DIV/0!"},{"$error":"#DIV/0!"},{"$error":"#DIV/0!"},{"$error":"#DIV/0!"},{"$f":"COUNTIF(D328:$AL328,\"NE\")/$AV$1","v":{"$error":"#DIV/0!"}},{"$error":"#DIV/0!"}]
[329,{"$nulls":38},{"$error":"#DIV/0!"},{"$error":"#DIV/0!"},{"$error":"#DIV/0!"},{"$error":"#DIV/0!"},{"$f":"COUNTIF(D329:$AL329,\"NE\")/$AV$1","v":{"$error":"#DIV/0!"}},{"$error":"#DIV/0!"}]
[330,{"$nulls":38},{"$error":"#DIV/0!"},{"$error":"#DIV/0!"},{"$error":"#DIV/0!"},{"$error":"#DIV/0!"},{"$f":"COUNTIF(D330:$AL330,\"NE\")/$AV$1","v":{"$error":"#DIV/0!"}},{"$error":"#DIV/0!"}]
[331,{"$nulls":38},{"$error":"#DIV/0!"},{"$error":"#DIV/0!"},{"$error":"#DIV/0!"},{"$error":"#DIV/0!"},{"$f":"COUNTIF(D331:$AL331,\"NE\")/$AV$1","v":{"$error":"#DIV/0!"}},{"$error":"#DIV/0!"}]
[332,{"$nulls":38},{"$error":"#DIV/0!"},{"$error":"#DIV/0!"},{"$error":"#DIV/0!"},{"$error":"#DIV/0!"},{"$f":"COUNTIF(D332:$AL332,\"NE\")/$AV$1","v":{"$error":"#DIV/0!"}},{"$error":"#DIV/0!"}]
[333,{"$nulls":38},{"$error":"#DIV/0!"},{"$error":"#DIV/0!"},{"$error":"#DIV/0!"},{"$error":"#DIV/0!"},{"$f":"COUNTIF(D333:$AL333,\"NE\")/$AV$1","v":{"$error":"#DIV/0!"}},{"$error":"#DIV/0!"}]
[334,{"$nulls":38},{"$error":"#DIV/0!"},{"$error":"#DIV/0!"},{"$error":"#DIV/0!"},{"$error":"#DIV/0!"},{"$f":"COUNTIF(D334:$AL334,\"NE\")/$AV$1","v":{"$error":"#DIV/0!"}},{"$error":"#DIV/0!"}]
[335,{"$nulls":38},{"$error":"#DIV/0!"},{"$error":"#DIV/0!"},{"$error":"#DIV/0!"},{"$error":"#DIV/0!"},{"$f":"COUNTIF(D335:$AL335,\"NE\")/$AV$1","v":{"$error":"#DIV/0!"}},{"$error":"#DIV/0!"}]
[336,{"$nulls":38},{"$error":"#DIV/0!"},{"$error":"#DIV/0!"},{"$error":"#DIV/0!"},{"$error":"#DIV/0!"},{"$f":"COUNTIF(D336:$AL336,\"NE\")/$AV$1","v":{"$error":"#DIV/0!"}},{"$error":"#DIV/0!"}]
[337,{"$nulls":38},{"$error":"#DIV/0!"},{"$error":"#DIV/0!"},{"$error":"#DIV/0!"},{"$error":"#DIV/0!"},{"$f":"COUNTIF(D337:$AL337,\"NE\")/$AV$1","v":{"$error":"#DIV/0!"}},{"$error":"#DIV/0!"}]
[338,{"$nulls":38},{"$error":"#DIV/0!"},{"$error":"#DIV/0!"},{"$error":"#DIV/0!"},{"$error":"#DIV/0!"},{"$f":"COUNTIF(D338:$AL338,\"NE\")/$AV$1","v":{"$error":"#DIV/0!"}},{"$error":"#DIV/0!"}]
[339,{"$nulls":38},{"$error":"#DIV/0!"},{"$error":"#DIV/0!"},{"$error":"#DIV/0!"},{"$error":"#DIV/0!"},{"$f":"COUNTIF(D339:$AL339,\"NE\")/$AV$1","v":{"$error":"#DIV/0!"}},{"$error":"#DIV/0!"}]
[340,{"$nulls":38},{"$error":"#DIV/0!"},{"$error":"#DIV/0!"},{"$error":"#DIV/0!"},{"$error":"#DIV/0!"},{"$f":"COUNTIF(D340:$AL340,\"NE\")/$AV$1","v":{"$error":"#DIV/0!"}},{"$error":"#DIV/0!"}]
[341,{"$nulls":38},{"$error":"#DIV/0!"},{"$error":"#DIV/0!"},{"$error":"#DIV/0!"},{"$error":"#DIV/0!"},{"$f":"COUNTIF(D341:$AL341,\"NE\")/$AV$1","v":{"$error":"#DIV/0!"}},{"$error":"#DIV/0!"}]
[342,{"$nulls":38},{"$error":"#DIV/0!"},{"$error":"#DIV/0!"},{"$error":"#DIV/0!"},{"$error":"#DIV/0!"},{"$f":"COUNTIF(D342:$AL342,\"NE\")/$AV$1","v":{"$error":"#DIV/0!"}},{"$error":"#DIV/0!"}]
[343,{"$nulls":38},{"$error":"#DIV/0!"},{"$error":"#DIV/0!"},{"$error":"#DIV/0!"},{"$error":"#DIV/0!"},{"$f":"COUNTIF(D343:$AL343,\"NE\")/$AV$1","v":{"$error":"#DIV/0!"}},{"$error":"#DIV/0!"}]
[344,{"$nulls":38},{"$error":"#DIV/0!"},{"$error":"#DIV/0!"},{"$error":"#DIV/0!"},{"$error":"#DIV/0!"},{"$f":"COUNTIF(D344:$AL344,\"NE\")/$AV$1","v":{"$error":"#DIV/0!"}},{"$error":"#DIV/0!"}]
[345,{"$nulls":38},{"$error":"#DIV/0!"},{"$error":"#DIV/0!"},{"$error":"#DIV/0!"},{"$error":"#DIV/0!"},{"$f":"COUNTIF(D345:$AL345,\"NE\")/$AV$1","v":{"$error":"#DIV/0!"}},{"$error":"#DIV/0!"}]
[346,{"$nulls":38},{"$error":"#DIV/0!"},{"$error":"#DIV/0!"},{"$error":"#DIV/0!"},{"$error":"#DIV/0!"},{"$f":"COUNTIF(D346:$AL346,\"NE\")/$AV$1","v":{"$error":"#DIV/0!"}},{"$error":"#DIV/0!"}]
[347,{"$nulls":38},{"$error":"#DIV/0!"},{"$error":"#DIV/0!"},{"$error":"#DIV/0!"},{"$error":"#DIV/0!"},{"$f":"COUNTIF(D347:$AL347,\"NE\")/$AV$1","v":{"$error":"#DIV/0!"}},{"$error":"#DIV/0!"}]
[348,{"$nulls":38},{"$error":"#DIV/0!"},{"$error":"#DIV/0!"},{"$error":"#DIV/0!"},{"$error":"#DIV/0!"},{"$f":"COUNTIF(D348:$AL348,\"NE\")/$AV$1","v":{"$error":"#DIV/0!"}},{"$error":"#DIV/0!"}]
[349,{"$nulls":38},{"$error":"#DIV/0!"},{"$error":"#DIV/0!"},{"$error":"#DIV/0!"},{"$error":"#DIV/0!"},{"$f":"COUNTIF(D349:$AL349,\"NE\")/$AV$1","v":{"$error":"#DIV/0!"}},{"$error":"#DIV/0!"}]
[350,{"$nulls":38},{"$error":"#DIV/0!"},{"$error":"#DIV/0!"},{"$error":"#DIV/0!"},{"$error":"#DIV/0!"},{"$f":"COUNTIF(D350:$AL350,\"NE\")/$AV$1","v":{"$error":"#DIV/0!"}},{"$error":"#DIV/0!"}]
[351,{"$nulls":38},{"$error":"#DIV/0!"},{"$error":"#DIV/0!"},{"$error":"#DIV/0!"},{"$error":"#DIV/0!"},{"$f":"COUNTIF(D351:$AL351,\"NE\")/$AV$1","v":{"$error":"#DIV/0!"}},{"$error":"#DIV/0!"}]
[352,{"$nulls":38},{"$error":"#DIV/0!"},{"$error":"#DIV/0!"},{"$error":"#DIV/0!"},{"$error":"#DIV/0!"},{"$f":"COUNTIF(D352:$AL352,\"NE\")/$AV$1","v":{"$error":"#DIV/0!"}},{"$error":"#DIV/0!"}]
[353,{"$nulls":38},{"$error":"#DIV/0!"},{"$error":"#DIV/0!"},{"$error":"#DIV/0!"},{"$error":"#DIV/0!"},{"$f":"COUNTIF(D353:$AL353,\"NE\")/$AV$1","v":{"$error":"#DIV/0!"}},{"$error":"#DIV/0!"}]
[354,{"$nulls":38},{"$error":"#DIV/0!"},{"$error":"#DIV/0!"},{"$error":"#DIV/0!"},{"$error":"#DIV/0!"},{"$f":"COUNTIF(D354:$AL354,\"NE\")/$AV$1","v":{"$error":"#DIV/0!"}},{"$error":"#DIV/0!"}]
[355,{"$nulls":38},{"$error":"#DIV/0!"},{"$error":"#DIV/0!"},{"$error":"#DIV/0!"},{"$error":"#DIV/0!"},{"$f":"COUNTIF(D355:$AL355,\"NE\")/$AV$1","v":{"$error":"#DIV/0!"}},{"$error":"#DIV/0!"}]
[356,{"$nulls":38},{"$error":"#DIV/0!"},{"$error":"#DIV/0!"},{"$error":"#DIV/0!"},{"$error":"#DIV/0!"},{"$f":"COUNTIF(D356:$AL356,\"NE\")/$AV$1","v":{"$error":"#DIV/0!"}},{"$error":"#DIV/0!"}]
[357,{"$nulls":38},{"$error":"#DIV/0!"},{"$error":"#DIV/0!"},{"$error":"#DIV/0!"},{"$error":"#DIV/0!"},{"$f":"COUNTIF(D357:$AL357,\"NE\")/$AV$1","v":{"$error":"#DIV/0!"}},{"$error":"#DIV/0!"}]
[358,{"$nulls":38},{"$error":"#DIV/0!"},{"$error":"#DIV/0!"},{"$error":"#DIV/0!"},{"$error":"#DIV/0!"},{"$f":"COUNTIF(D358:$AL358,\"NE\")/$AV$1","v":{"$error":"#DIV/0!"}},{"$error":"#DIV/0!"}]
[359,{"$nulls":38},{"$error":"#DIV/0!"},{"$error":"#DIV/0!"},{"$error":"#DIV/0!"},{"$error":"#DIV/0!"},{"$f":"COUNTIF(D359:$AL359,\"NE\")/$AV$1","v":{"$error":"#DIV/0!"}},{"$error":"#DIV/0!"}]
[360,{"$nulls":38},{"$error":"#DIV/0!"},{"$error":"#DIV/0!"},{"$error":"#DIV/0!"},{"$error":"#DIV/0!"},{"$f":"COUNTIF(D360:$AL360,\"NE\")/$AV$1","v":{"$error":"#DIV/0!"}},{"$error":"#DIV/0!"}]
[361,{"$nulls":38},{"$error":"#DIV/0!"},{"$error":"#DIV/0!"},{"$error":"#DIV/0!"},{"$error":"#DIV/0!"},{"$f":"COUNTIF(D361:$AL361,\"NE\")/$AV$1","v":{"$error":"#DIV/0!"}},{"$error":"#DIV/0!"}]
[362,{"$nulls":38},{"$error":"#DIV/0!"},{"$error":"#DIV/0!"},{"$error":"#DIV/0!"},{"$error":"#DIV/0!"},{"$f":"COUNTIF(D362:$AL362,\"NE\")/$AV$1","v":{"$error":"#DIV/0!"}},{"$error":"#DIV/0!"}]
[363,{"$nulls":38},{"$error":"#DIV/0!"},{"$error":"#DIV/0!"},{"$error":"#DIV/0!"},{"$error":"#DIV/0!"},{"$f":"COUNTIF(D363:$AL363,\"NE\")/$AV$1","v":{"$error":"#DIV/0!"}},{"$error":"#DIV/0!"}]
[364,{"$nulls":38},{"$error":"#DIV/0!"},{"$error":"#DIV/0!"},{"$error":"#DIV/0!"},{"$error":"#DIV/0!"},{"$f":"COUNTIF(D364:$AL364,\"NE\")/$AV$1","v":{"$error":"#DIV/0!"}},{"$error":"#DIV/0!"}]
[365,{"$nulls":38},{"$error":"#DIV/0!"},{"$error":"#DIV/0!"},{"$error":"#DIV/0!"},{"$error":"#DIV/0!"},{"$f":"COUNTIF(D365:$AL365,\"NE\")/$AV$1","v":{"$error":"#DIV/0!"}},{"$error":"#DIV/0!"}]
[366,{"$nulls":38},{"$error":"#DIV/0!"},{"$error":"#DIV/0!"},{"$error":"#DIV/0!"},{"$error":"#DIV/0!"},{"$f":"COUNTIF(D366:$AL366,\"NE\")/$AV$1","v":{"$error":"#DIV/0!"}},{"$error":"#DIV/0!"}]
[367,{"$nulls":38},{"$error":"#DIV/0!"},{"$error":"#DIV/0!"},{"$error":"#DIV/0!"},{"$error":"#DIV/0!"},{"$f":"COUNTIF(D367:$AL367,\"NE\")/$AV$1","v":{"$error":"#DIV/0!"}},{"$error":"#DIV/0!"}]
[368,{"$nulls":38},{"$error":"#DIV/0!"},{"$error":"#DIV/0!"},{"$error":"#DIV/0!"},{"$error":"#DIV/0!"},{"$f":"COUNTIF(D368:$AL368,\"NE\")/$AV$1","v":{"$error":"#DIV/0!"}},{"$error":"#DIV/0!"}]
[369,{"$nulls":38},{"$error":"#DIV/0!"},{"$error":"#DIV/0!"},{"$error":"#DIV/0!"},{"$error":"#DIV/0!"},{"$f":"COUNTIF(D369:$AL369,\"NE\")/$AV$1","v":{"$error":"#DIV/0!"}},{"$error":"#DIV/0!"}]
[370,{"$nulls":38},{"$error":"#DIV/0!"},{"$error":"#DIV/0!"},{"$error":"#DIV/0!"},{"$error":"#DIV/0!"},{"$f":"COUNTIF(D370:$AL370,\"NE\")/$AV$1","v":{"$error":"#DIV/0!"}},{"$error":"#DIV/0!"}]
[371,{"$nulls":38},{"$error":"#DIV/0!"},{"$error":"#DIV/0!"},{"$error":"#DIV/0!"},{"$error":"#DIV/0!"},{"$f":"COUNTIF(D371:$AL371,\"NE\")/$AV$1","v":{"$error":"#DIV/0!"}},{"$error":"#DIV/0!"}]
[372,{"$nulls":38},{"$error":"#DIV/0!"},{"$error":"#DIV/0!"},{"$error":"#DIV/0!"},{"$error":"#DIV/0!"},{"$f":"COUNTIF(D372:$AL372,\"NE\")/$AV$1","v":{"$error":"#DIV/0!"}},{"$error":"#DIV/0!"}]
[373,{"$nulls":38},{"$error":"#DIV/0!"},{"$error":"#DIV/0!"},{"$error":"#DIV/0!"},{"$error":"#DIV/0!"},{"$f":"COUNTIF(D373:$AL373,\"NE\")/$AV$1","v":{"$error":"#DIV/0!"}},{"$error":"#DIV/0!"}]
[374,{"$nulls":38},{"$error":"#DIV/0!"},{"$error":"#DIV/0!"},{"$error":"#DIV/0!"},{"$error":"#DIV/0!"},{"$f":"COUNTIF(D374:$AL374,\"NE\")/$AV$1","v":{"$error":"#DIV/0!"}},{"$error":"#DIV/0!"}]
[375,{"$nulls":38},{"$error":"#DIV/0!"},{"$error":"#DIV/0!"},{"$error":"#DIV/0!"},{"$error":"#DIV/0!"},{"$f":"COUNTIF(D375:$AL375,\"NE\")/$AV$1","v":{"$error":"#DIV/0!"}},{"$error":"#DIV/0!"}]
[376,{"$nulls":38},{"$error":"#DIV/0!"},{"$error":"#DIV/0!"},{"$error":"#DIV/0!"},{"$error":"#DIV/0!"},{"$f":"COUNTIF(D376:$AL376,\"NE\")/$AV$1","v":{"$error":"#DIV/0!"}},{"$error":"#DIV/0!"}]
[377,{"$nulls":38},{"$error":"#DIV/0!"},{"$error":"#DIV/0!"},{"$error":"#DIV/0!"},{"$error":"#DIV/0!"},{"$f":"COUNTIF(D377:$AL377,\"NE\")/$AV$1","v":{"$error":"#DIV/0!"}},{"$error":"#DIV/0!"}]
[378,{"$nulls":38},{"$error":"#DIV/0!"},{"$error":"#DIV/0!"},{"$error":"#DIV/0!"},{"$error":"#DIV/0!"},{"$f":"COUNTIF(D378:$AL378,\"NE\")/$AV$1","v":{"$error":"#DIV/0!"}},{"$error":"#DIV/0!"}]
[379,{"$nulls":38},{"$error":"#DIV/0!"},{"$error":"#DIV/0!"},{"$error":"#DIV/0!"},{"$error":"#DIV/0!"},{"$f":"COUNTIF(D379:$AL379,\"NE\")/$AV$1","v":{"$error":"#DIV/0!"}},{"$error":"#DIV/0!"}]
[380,{"$nulls":38},{"$error":"#DIV/0!"},{"$error":"#DIV/0!"},{"$error":"#DIV/0!"},{"$error":"#DIV/0!"},{"$f":"COUNTIF(D380:$AL380,\"NE\")/$AV$1","v":{"$error":"#DIV/0!"}},{"$error":"#DIV/0!"}]
[381,{"$nulls":38},{"$error":"#DIV/0!"},{"$error":"#DIV/0!"},{"$error":"#DIV/0!"},{"$error":"#DIV/0!"},{"$f":"COUNTIF(D381:$AL381,\"NE\")/$AV$1","v":{"$error":"#DIV/0!"}},{"$error":"#DIV/0!"}]
[382,{"$nulls":38},{"$error":"#DIV/0!"},{"$error":"#DIV/0!"},{"$error":"#DIV/0!"},{"$error":"#DIV/0!"},{"$f":"COUNTIF(D382:$AL382,\"NE\")/$AV$1","v":{"$error":"#DIV/0!"}},{"$error":"#DIV/0!"}]
[383,{"$nulls":38},{"$error":"#DIV/0!"},{"$error":"#DIV/0!"},{"$error":"#DIV/0!"},{"$error":"#DIV/0!"},{"$f":"COUNTIF(D383:$AL383,\"NE\")/$AV$1","v":{"$error":"#DIV/0!"}},{"$error":"#DIV/0!"}]
[384,{"$nulls":38},{"$error":"#DIV/0!"},{"$error":"#DIV/0!"},{"$error":"#DIV/0!"},{"$error":"#DIV/0!"},{"$f":"COUNTIF(D384:$AL384,\"NE\")/$AV$1","v":{"$error":"#DIV/0!"}},{"$error":"#DIV/0!"}]
[385,{"$nulls":38},{"$error":"#DIV/0!"},{"$error":"#DIV/0!"},{"$error":"#DIV/0!"},{"$error":"#DIV/0!"},{"$f":"COUNTIF(D385:$AL385,\"NE\")/$AV$1","v":{"$error":"#DIV/0!"}},{"$error":"#DIV/0!"}]
[386,{"$nulls":38},{"$error":"#DIV/0!"},{"$error":"#DIV/0!"},{"$error":"#DIV/0!"},{"$error":"#DIV/0!"},{"$f":"COUNTIF(D386:$AL386,\"NE\")/$AV$1","v":{"$error":"#DIV/0!"}},{"$error":"#DIV/0!"}]
[387,{"$nulls":38},{"$error":"#DIV/0!"},{"$error":"#DIV/0!"},{"$error":"#DIV/0!"},{"$error":"#DIV/0!"},{"$f":"COUNTIF(D387:$AL387,\"NE\")/$AV$1","v":{"$error":"#DIV/0!"}},{"$error":"#DIV/0!"}]
[388,{"$nulls":38},{"$error":"#DIV/0!"},{"$error":"#DIV/0!"},{"$error":"#DIV/0!"},{"$error":"#DIV/0!"},{"$f":"COUNTIF(D388:$AL388,\"NE\")/$AV$1","v":{"$error":"#DIV/0!"}},{"$error":"#DIV/0!"}]
[389,{"$nulls":38},{"$error":"#DIV/0!"},{"$error":"#DIV/0!"},{"$error":"#DIV/0!"},{"$error":"#DIV/0!"},{"$f":"COUNTIF(D389:$AL389,\"NE\")/$AV$1","v":{"$error":"#DIV/0!"}},{"$error":"#DIV/0!"}]
[390,{"$nulls":38},{"$f":"COUNTIF($D390:$AL390,$AU$1)/$AV$1","v":{"$error":"#DIV/0!"}},{"$f":"COUNTIF($D390:$AL390,$AU$2)/$AV$1","v":{"$error":"#DIV/0!"}},{"$f":"COUNTIF($D390:$AL390,$AU$3)/$AV$1","v":{"$error":"#DIV/0!"}},{"$f":"COUNTIF($D390:$AL390,$AU$4)/$AV$1","v":{"$error":"#DIV/0!"}},{"$f":"COUNTIF(D390:$AL390,\"NE\")/$AV$1","v":{"$error":"#DIV/0!"}},{"$error":"#DIV/0!"}]
[391,{"$nulls":38},{"$error":"#DIV/0!"},{"$error":"#DIV/0!"},{"$error":"#DIV/0!"},{"$error":"#DIV/0!"},{"$f":"COUNTIF(D391:$AL391,\"NE\")/$AV$1","v":{"$error":"#DIV/0!"}},{"$f":"AN391+(AO391*0.66)+(AP391*0.33)","v":{"$error":"#DIV/0!"}}]
[392,{"$nulls":38},{"$error":"#DIV/0!"},{"$error":"#DIV/0!"},{"$error":"#DIV/0!"},{"$error":"#DIV/0!"},{"$f":"COUNTIF(D392:$AL392,\"NE\")/$AV$1","v":{"$error":"#DIV/0!"}},{"$error":"#DIV/0!"}]
[393,{"$nulls":38},{"$error":"#DIV/0!"},{"$error":"#DIV/0!"},{"$error":"#DIV/0!"},{"$error":"#DIV/0!"},{"$f":"COUNTIF(D393:$AL393,\"NE\")/$AV$1","v":{"$error":"#DIV/0!"}},{"$error":"#DIV/0!"}]
[394,{"$nulls":38},{"$error":"#DIV/0!"},{"$error":"#DIV/0!"},{"$error":"#DIV/0!"},{"$error":"#DIV/0!"},{"$f":"COUNTIF(D394:$AL394,\"NE\")/$AV$1","v":{"$error":"#DIV/0!"}},{"$error":"#DIV/0!"}]
[395,{"$nulls":38},{"$error":"#DIV/0!"},{"$error":"#DIV/0!"},{"$error":"#DIV/0!"},{"$error":"#DIV/0!"},{"$f":"COUNTIF(D395:$AL395,\"NE\")/$AV$1","v":{"$error":"#DIV/0!"}},{"$error":"#DIV/0!"}]
[396,{"$nulls":38},{"$error":"#DIV/0!"},{"$error":"#DIV/0!"},{"$error":"#DIV/0!"},{"$error":"#DIV/0!"},{"$f":"COUNTIF(D396:$AL396,\"NE\")/$AV$1","v":{"$error":"#DIV/0!"}},{"$error":"#DIV/0!"}]
[397,{"$nulls":38},{"$error":"#DIV/0!"},{"$error":"#DIV/0!"},{"$error":"#DIV/0!"},{"$error":"#DIV/0!"},{"$f":"COUNTIF(D397:$AL397,\"NE\")/$AV$1","v":{"$error":"#DIV/0!"}},{"$error":"#DIV/0!"}]
[398,{"$nulls":38},{"$error":"#DIV/0!"},{"$error":"#DIV/0!"},{"$error":"#DIV/0!"},{"$error":"#DIV/0!"},{"$f":"COUNTIF(D398:$AL398,\"NE\")/$AV$1","v":{"$error":"#DIV/0!"}},{"$error":"#DIV/0!"}]
[399,{"$nulls":38},{"$error":"#DIV/0!"},{"$error":"#DIV/0!"},{"$error":"#DIV/0!"},{"$error":"#DIV/0!"},{"$f":"COUNTIF(D399:$AL399,\"NE\")/$AV$1","v":{"$error":"#DIV/0!"}},{"$error":"#DIV/0!"}]
[400,{"$nulls":38},{"$error":"#DIV/0!"},{"$error":"#DIV/0!"},{"$error":"#DIV/0!"},{"$error":"#DIV/0!"},{"$f":"COUNTIF(D400:$AL400,\"NE\")/$AV$1","v":{"$error":"#DIV/0!"}},{"$error":"#DIV/0!"}]
[401,{"$nulls":38},{"$error":"#DIV/0!"},{"$error":"#DIV/0!"},{"$error":"#DIV/0!"},{"$error":"#DIV/0!"},{"$f":"COUNTIF(D401:$AL401,\"NE\")/$AV$1","v":{"$error":"#DIV/0!"}},{"$error":"#DIV/0!"}]
[402,{"$nulls":38},{"$error":"#DIV/0!"},{"$error":"#DIV/0!"},{"$error":"#DIV/0!"},{"$error":"#DIV/0!"},{"$f":"COUNTIF(D402:$AL402,\"NE\")/$AV$1","v":{"$error":"#DIV/0!"}},{"$error":"#DIV/0!"}]
[403,{"$nulls":38},{"$error":"#DIV/0!"},{"$error":"#DIV/0!"},{"$error":"#DIV/0!"},{"$error":"#DIV/0!"},{"$f":"COUNTIF(D403:$AL403,\"NE\")/$AV$1","v":{"$error":"#DIV/0!"}},{"$error":"#DIV/0!"}]
[404,{"$nulls":38},{"$error":"#DIV/0!"},{"$error":"#DIV/0!"},{"$error":"#DIV/0!"},{"$error":"#DIV/0!"},{"$f":"COUNTIF(D404:$AL404,\"NE\")/$AV$1","v":{"$error":"#DIV/0!"}},{"$error":"#DIV/0!"}]
[405,{"$nulls":38},{"$error":"#DIV/0!"},{"$error":"#DIV/0!"},{"$error":"#DIV/0!"},{"$error":"#DIV/0!"},{"$f":"COUNTIF(D405:$AL405,\"NE\")/$AV$1","v":{"$error":"#DIV/0!"}},{"$error":"#DIV/0!"}]
[406,{"$nulls":38},{"$error":"#DIV/0!"},{"$error":"#DIV/0!"},{"$error":"#DIV/0!"},{"$error":"#DIV/0!"},{"$f":"COUNTIF(D406:$AL406,\"NE\")/$AV$1","v":{"$error":"#DIV/0!"}},{"$error":"#DIV/0!"}]
[407,{"$nulls":38},{"$error":"#DIV/0!"},{"$error":"#DIV/0!"},{"$error":"#DIV/0!"},{"$error":"#DIV/0!"},{"$f":"COUNTIF(D407:$AL407,\"NE\")/$AV$1","v":{"$error":"#DIV/0!"}},{"$error":"#DIV/0!"}]
[408,{"$nulls":38},{"$error":"#DIV/0!"},{"$error":"#DIV/0!"},{"$error":"#DIV/0!"},{"$error":"#DIV/0!"},{"$f":"COUNTIF(D408:$AL408,\"NE\")/$AV$1","v":{"$error":"#DIV/0!"}},{"$error":"#DIV/0!"}]
[409,{"$nulls":38},{"$error":"#DIV/0!"},{"$error":"#DIV/0!"},{"$error":"#DIV/0!"},{"$error":"#DIV/0!"},{"$f":"COUNTIF(D409:$AL409,\"NE\")/$AV$1","v":{"$error":"#DIV/0!"}},{"$error":"#DIV/0!"}]
[410,{"$nulls":38},{"$error":"#DIV/0!"},{"$error":"#DIV/0!"},{"$error":"#DIV/0!"},{"$error":"#DIV/0!"},{"$f":"COUNTIF(D410:$AL410,\"NE\")/$AV$1","v":{"$error":"#DIV/0!"}},{"$error":"#DIV/0!"}]
[411,{"$nulls":38},{"$error":"#DIV/0!"},{"$error":"#DIV/0!"},{"$error":"#DIV/0!"},{"$error":"#DIV/0!"},{"$f":"COUNTIF(D411:$AL411,\"NE\")/$AV$1","v":{"$error":"#DIV/0!"}},{"$error":"#DIV/0!"}]
[412,{"$nulls":38},{"$error":"#DIV/0!"},{"$error":"#DIV/0!"},{"$error":"#DIV/0!"},{"$error":"#DIV/0!"},{"$f":"COUNTIF(D412:$AL412,\"NE\")/$AV$1","v":{"$error":"#DIV/0!"}},{"$error":"#DIV/0!"}]
[413,{"$nulls":38},{"$error":"#DIV/0!"},{"$error":"#DIV/0!"},{"$error":"#DIV/0!"},{"$error":"#DIV/0!"},{"$f":"COUNTIF(D413:$AL413,\"NE\")/$AV$1","v":{"$error":"#DIV/0!"}},{"$error":"#DIV/0!"}]
[414,{"$nulls":38},{"$error":"#DIV/0!"},{"$error":"#DIV/0!"},{"$error":"#DIV/0!"},{"$error":"#DIV/0!"},{"$f":"COUNTIF(D414:$AL414,\"NE\")/$AV$1","v":{"$error":"#DIV/0!"}},{"$error":"#DIV/0!"}]
[415,{"$nulls":38},{"$error":"#DIV/0!"},{"$error":"#DIV/0!"},{"$error":"#DIV/0!"},{"$error":"#DIV/0!"},{"$f":"COUNTIF(D415:$AL415,\"NE\")/$AV$1","v":{"$error":"#DIV/0!"}},{"$error":"#DIV/0!"}]
[416,{"$nulls":38},{"$error":"#DIV/0!"},{"$error":"#DIV/0!"},{"$error":"#DIV/0!"},{"$error":"#DIV/0!"},{"$f":"COUNTIF(D416:$AL416,\"NE\")/$AV$1","v":{"$error":"#DIV/0!"}},{"$error":"#DIV/0!"}]
[417,{"$nulls":38},{"$error":"#DIV/0!"},{"$error":"#DIV/0!"},{"$error":"#DIV/0!"},{"$error":"#DIV/0!"},{"$f":"COUNTIF(D417:$AL417,\"NE\")/$AV$1","v":{"$error":"#DIV/0!"}},{"$error":"#DIV/0!"}]
[418,{"$nulls":38},{"$error":"#DIV/0!"},{"$error":"#DIV/0!"},{"$error":"#DIV/0!"},{"$error":"#DIV/0!"},{"$f":"COUNTIF(D418:$AL418,\"NE\")/$AV$1","v":{"$error":"#DIV/0!"}},{"$error":"#DIV/0!"}]
[419,{"$nulls":38},{"$error":"#DIV/0!"},{"$error":"#DIV/0!"},{"$error":"#DIV/0!"},{"$error":"#DIV/0!"},{"$f":"COUNTIF(D419:$AL419,\"NE\")/$AV$1","v":{"$error":"#DIV/0!"}},{"$error":"#DIV/0!"}]
[420,{"$nulls":38},{"$error":"#DIV/0!"},{"$error":"#DIV/0!"},{"$error":"#DIV/0!"},{"$error":"#DIV/0!"},{"$f":"COUNTIF(D420:$AL420,\"NE\")/$AV$1","v":{"$error":"#DIV/0!"}},{"$error":"#DIV/0!"}]
[421,{"$nulls":38},{"$error":"#DIV/0!"},{"$error":"#DIV/0!"},{"$error":"#DIV/0!"},{"$error":"#DIV/0!"},{"$f":"COUNTIF(D421:$AL421,\"NE\")/$AV$1","v":{"$error":"#DIV/0!"}},{"$error":"#DIV/0!"}]
[422,{"$nulls":38},{"$error":"#DIV/0!"},{"$error":"#DIV/0!"},{"$error":"#DIV/0!"},{"$error":"#DIV/0!"},{"$f":"COUNTIF(D422:$AL422,\"NE\")/$AV$1","v":{"$error":"#DIV/0!"}},{"$error":"#DIV/0!"}]
[423,{"$nulls":38},{"$error":"#DIV/0!"},{"$error":"#DIV/0!"},{"$error":"#DIV/0!"},{"$error":"#DIV/0!"},{"$f":"COUNTIF(D423:$AL423,\"NE\")/$AV$1","v":{"$error":"#DIV/0!"}},{"$error":"#DIV/0!"}]
[424,{"$nulls":38},{"$error":"#DIV/0!"},{"$error":"#DIV/0!"},{"$error":"#DIV/0!"},{"$error":"#DIV/0!"},{"$f":"COUNTIF(D424:$AL424,\"NE\")/$AV$1","v":{"$error":"#DIV/0!"}},{"$error":"#DIV/0!"}]
[425,{"$nulls":38},{"$error":"#DIV/0!"},{"$error":"#DIV/0!"},{"$error":"#DIV/0!"},{"$error":"#DIV/0!"},{"$f":"COUNTIF(D425:$AL425,\"NE\")/$AV$1","v":{"$error":"#DIV/0!"}},{"$error":"#DIV/0!"}]
[426,{"$nulls":38},{"$error":"#DIV/0!"},{"$error":"#DIV/0!"},{"$error":"#DIV/0!"},{"$error":"#DIV/0!"},{"$f":"COUNTIF(D426:$AL426,\"NE\")/$AV$1","v":{"$error":"#DIV/0!"}},{"$error":"#DIV/0!"}]
[427,{"$nulls":38},{"$error":"#DIV/0!"},{"$error":"#DIV/0!"},{"$error":"#DIV/0!"},{"$error":"#DIV/0!"},{"$f":"COUNTIF(D427:$AL427,\"NE\")/$AV$1","v":{"$error":"#DIV/0!"}},{"$error":"#DIV/0!"}]
[428,{"$nulls":38},{"$error":"#DIV/0!"},{"$error":"#DIV/0!"},{"$error":"#DIV/0!"},{"$error":"#DIV/0!"},{"$f":"COUNTIF(D428:$AL428,\"NE\")/$AV$1","v":{"$error":"#DIV/0!"}},{"$error":"#DIV/0!"}]
[429,{"$nulls":38},{"$error":"#DIV/0!"},{"$error":"#DIV/0!"},{"$error":"#DIV/0!"},{"$error":"#DIV/0!"},{"$f":"COUNTIF(D429:$AL429,\"NE\")/$AV$1","v":{"$error":"#DIV/0!"}},{"$error":"#DIV/0!"}]
[430,{"$nulls":38},{"$error":"#DIV/0!"},{"$error":"#DIV/0!"},{"$error":"#DIV/0!"},{"$error":"#DIV/0!"},{"$f":"COUNTIF(D430:$AL430,\"NE\")/$AV$1","v":{"$error":"#DIV/0!"}},{"$error":"#DIV/0!"}]
[431,{"$nulls":38},{"$error":"#DIV/0!"},{"$error":"#DIV/0!"},{"$error":"#DIV/0!"},{"$error":"#DIV/0!"},{"$f":"COUNTIF(D431:$AL431,\"NE\")/$AV$1","v":{"$error":"#DIV/0!"}},{"$error":"#DIV/0!"}]
[432,{"$nulls":38},{"$error":"#DIV/0!"},{"$error":"#DIV/0!"},{"$error":"#DIV/0!"},{"$error":"#DIV/0!"},{"$f":"COUNTIF(D432:$AL432,\"NE\")/$AV$1","v":{"$error":"#DIV/0!"}},{"$error":"#DIV/0!"}]
[433,{"$nulls":38},{"$error":"#DIV/0!"},{"$error":"#DIV/0!"},{"$error":"#DIV/0!"},{"$error":"#DIV/0!"},{"$f":"COUNTIF(D433:$AL433,\"NE\")/$AV$1","v":{"$error":"#DIV/0!"}},{"$error":"#DIV/0!"}]
[434,{"$nulls":38},{"$error":"#DIV/0!"},{"$error":"#DIV/0!"},{"$error":"#DIV/0!"},{"$error":"#DIV/0!"},{"$f":"COUNTIF(D434:$AL434,\"NE\")/$AV$1","v":{"$error":"#DIV/0!"}},{"$error":"#DIV/0!"}]
[435,{"$nulls":38},{"$error":"#DIV/0!"},{"$error":"#DIV/0!"},{"$error":"#DIV/0!"},{"$error":"#DIV/0!"},{"$f":"COUNTIF(D435:$AL435,\"NE\")/$AV$1","v":{"$error":"#DIV/0!"}},{"$error":"#DIV/0!"}]
[436,{"$nulls":38},{"$error":"#DIV/0!"},{"$error":"#DIV/0!"},{"$error":"#DIV/0!"},{"$error":"#DIV/0!"},{"$f":"COUNTIF(D436:$AL436,\"NE\")/$AV$1","v":{"$error":"#DIV/0!"}},{"$error":"#DIV/0!"}]
[437,{"$nulls":38},{"$error":"#DIV/0!"},{"$error":"#DIV/0!"},{"$error":"#DIV/0!"},{"$error":"#DIV/0!"},{"$f":"COUNTIF(D437:$AL437,\"NE\")/$AV$1","v":{"$error":"#DIV/0!"}},{"$error":"#DIV/0!"}]
[438,{"$nulls":38},{"$error":"#DIV/0!"},{"$error":"#DIV/0!"},{"$error":"#DIV/0!"},{"$error":"#DIV/0!"},{"$f":"COUNTIF(D438:$AL438,\"NE\")/$AV$1","v":{"$error":"#DIV/0!"}},{"$error":"#DIV/0!"}]
[439,{"$nulls":38},{"$error":"#DIV/0!"},{"$error":"#DIV/0!"},{"$error":"#DIV/0!"},{"$error":"#DIV/0!"},{"$f":"COUNTIF(D439:$AL439,\"NE\")/$AV$1","v":{"$error":"#DIV/0!"}},{"$error":"#DIV/0!"}]
[440,{"$nulls":38},{"$error":"#DIV/0!"},{"$error":"#DIV/0!"},{"$error":"#DIV/0!"},{"$error":"#DIV/0!"},{"$f":"COUNTIF(D440:$AL440,\"NE\")/$AV$1","v":{"$error":"#DIV/0!"}},{"$error":"#DIV/0!"}]
[441,{"$nulls":38},{"$error":"#DIV/0!"},{"$error":"#DIV/0!"},{"$error":"#DIV/0!"},{"$error":"#DIV/0!"},{"$f":"COUNTIF(D441:$AL441,\"NE\")/$AV$1","v":{"$error":"#DIV/0!"}},{"$error":"#DIV/0!"}]
[442,{"$nulls":38},{"$error":"#DIV/0!"},{"$error":"#DIV/0!"},{"$error":"#DIV/0!"},{"$error":"#DIV/0!"},{"$f":"COUNTIF(D442:$AL442,\"NE\")/$AV$1","v":{"$error":"#DIV/0!"}},{"$error":"#DIV/0!"}]
[443,{"$nulls":38},{"$error":"#DIV/0!"},{"$error":"#DIV/0!"},{"$error":"#DIV/0!"},{"$error":"#DIV/0!"},{"$f":"COUNTIF(D443:$AL443,\"NE\")/$AV$1","v":{"$error":"#DIV/0!"}},{"$error":"#DIV/0!"}]
[444,{"$nulls":38},{"$error":"#DIV/0!"},{"$error":"#DIV/0!"},{"$error":"#DIV/0!"},{"$error":"#DIV/0!"},{"$f":"COUNTIF(D444:$AL444,\"NE\")/$AV$1","v":{"$error":"#DIV/0!"}},{"$error":"#DIV/0!"}]
[445,{"$nulls":38},{"$error":"#DIV/0!"},{"$error":"#DIV/0!"},{"$error":"#DIV/0!"},{"$error":"#DIV/0!"},{"$f":"COUNTIF(D445:$AL445,\"NE\")/$AV$1","v":{"$error":"#DIV/0!"}},{"$error":"#DIV/0!"}]
[446,{"$nulls":38},{"$error":"#DIV/0!"},{"$error":"#DIV/0!"},{"$error":"#DIV/0!"},{"$error":"#DIV/0!"},{"$f":"COUNTIF(D446:$AL446,\"NE\")/$AV$1","v":{"$error":"#DIV/0!"}},{"$error":"#DIV/0!"}]
[447,{"$nulls":38},{"$error":"#DIV/0!"},{"$error":"#DIV/0!"},{"$error":"#DIV/0!"},{"$error":"#DIV/0!"},{"$f":"COUNTIF(D447:$AL447,\"NE\")/$AV$1","v":{"$error":"#DIV/0!"}},{"$error":"#DIV/0!"}]
[448,{"$nulls":38},{"$error":"#DIV/0!"},{"$error":"#DIV/0!"},{"$error":"#DIV/0!"},{"$error":"#DIV/0!"},{"$f":"COUNTIF(D448:$AL448,\"NE\")/$AV$1","v":{"$error":"#DIV/0!"}},{"$error":"#DIV/0!"}]
[449,{"$nulls":38},{"$error":"#DIV/0!"},{"$error":"#DIV/0!"},{"$error":"#DIV/0!"},{"$error":"#DIV/0!"},{"$f":"COUNTIF(D449:$AL449,\"NE\")/$AV$1","v":{"$error":"#DIV/0!"}},{"$error":"#DIV/0!"}]
[450,{"$nulls":38},{"$error":"#DIV/0!"},{"$error":"#DIV/0!"},{"$error":"#DIV/0!"},{"$error":"#DIV/0!"},{"$f":"COUNTIF(D450:$AL450,\"NE\")/$AV$1","v":{"$error":"#DIV/0!"}},{"$error":"#DIV/0!"}]
[451,{"$nulls":38},{"$error":"#DIV/0!"},{"$error":"#DIV/0!"},{"$error":"#DIV/0!"},{"$error":"#DIV/0!"},{"$f":"COUNTIF(D451:$AL451,\"NE\")/$AV$1","v":{"$error":"#DIV/0!"}},{"$error":"#DIV/0!"}]
[452,{"$nulls":38},{"$error":"#DIV/0!"},{"$error":"#DIV/0!"},{"$error":"#DIV/0!"},{"$error":"#DIV/0!"},{"$f":"COUNTIF(D452:$AL452,\"NE\")/$AV$1","v":{"$error":"#DIV/0!"}},{"$error":"#DIV/0!"}]
[453,{"$nulls":38},{"$error":"#DIV/0!"},{"$error":"#DIV/0!"},{"$error":"#DIV/0!"},{"$error":"#DIV/0!"},{"$f":"COUNTIF(D453:$AL453,\"NE\")/$AV$1","v":{"$error":"#DIV/0!"}},{"$error":"#DIV/0!"}]
[454,{"$nulls":38},{"$f":"COUNTIF($D454:$AL454,$AU$1)/$AV$1","v":{"$error":"#DIV/0!"}},{"$f":"COUNTIF($D454:$AL454,$AU$2)/$AV$1","v":{"$error":"#DIV/0!"}},{"$f":"COUNTIF($D454:$AL454,$AU$3)/$AV$1","v":{"$error":"#DIV/0!"}},{"$f":"COUNTIF($D454:$AL454,$AU$4)/$AV$1","v":{"$error":"#DIV/0!"}},{"$f":"COUNTIF(D454:$AL454,\"NE\")/$AV$1","v":{"$error":"#DIV/0!"}},{"$error":"#DIV/0!"}]
[455,{"$nulls":38},{"$error":"#DIV/0!"},{"$error":"#DIV/0!"},{"$error":"#DIV/0!"},{"$error":"#DIV/0!"},{"$f":"COUNTIF(D455:$AL455,\"NE\")/$AV$1","v":{"$error":"#DIV/0!"}},{"$f":"AN455+(AO455*0.66)+(AP455*0.33)","v":{"$error":"#DIV/0!"}}]
[456,{"$nulls":38},{"$error":"#DIV/0!"},{"$error":"#DIV/0!"},{"$error":"#DIV/0!"},{"$error":"#DIV/0!"},{"$f":"COUNTIF(D456:$AL456,\"NE\")/$AV$1","v":{"$error":"#DIV/0!"}},{"$error":"#DIV/0!"}]
[457,{"$nulls":38},{"$error":"#DIV/0!"},{"$error":"#DIV/0!"},{"$error":"#DIV/0!"},{"$error":"#DIV/0!"},{"$f":"COUNTIF(D457:$AL457,\"NE\")/$AV$1","v":{"$error":"#DIV/0!"}},{"$error":"#DIV/0!"}]
[458,{"$nulls":38},{"$error":"#DIV/0!"},{"$error":"#DIV/0!"},{"$error":"#DIV/0!"},{"$error":"#DIV/0!"},{"$f":"COUNTIF(D458:$AL458,\"NE\")/$AV$1","v":{"$error":"#DIV/0!"}},{"$error":"#DIV/0!"}]
[459,{"$nulls":38},{"$error":"#DIV/0!"},{"$error":"#DIV/0!"},{"$error":"#DIV/0!"},{"$error":"#DIV/0!"},{"$f":"COUNTIF(D459:$AL459,\"NE\")/$AV$1","v":{"$error":"#DIV/0!"}},{"$error":"#DIV/0!"}]
[460,{"$nulls":38},{"$error":"#DIV/0!"},{"$error":"#DIV/0!"},{"$error":"#DIV/0!"},{"$error":"#DIV/0!"},{"$f":"COUNTIF(D460:$AL460,\"NE\")/$AV$1","v":{"$error":"#DIV/0!"}},{"$error":"#DIV/0!"}]
[461,{"$nulls":38},{"$error":"#DIV/0!"},{"$error":"#DIV/0!"},{"$error":"#DIV/0!"},{"$error":"#DIV/0!"},{"$f":"COUNTIF(D461:$AL461,\"NE\")/$AV$1","v":{"$error":"#DIV/0!"}},{"$error":"#DIV/0!"}]
[462,{"$nulls":38},{"$error":"#DIV/0!"},{"$error":"#DIV/0!"},{"$error":"#DIV/0!"},{"$error":"#DIV/0!"},{"$f":"COUNTIF(D462:$AL462,\"NE\")/$AV$1","v":{"$error":"#DIV/0!"}},{"$error":"#DIV/0!"}]
[463,{"$nulls":38},{"$error":"#DIV/0!"},{"$error":"#DIV/0!"},{"$error":"#DIV/0!"},{"$error":"#DIV/0!"},{"$f":"COUNTIF(D463:$AL463,\"NE\")/$AV$1","v":{"$error":"#DIV/0!"}},{"$error":"#DIV/0!"}]
[464,{"$nulls":38},{"$error":"#DIV/0!"},{"$error":"#DIV/0!"},{"$error":"#DIV/0!"},{"$error":"#DIV/0!"},{"$f":"COUNTIF(D464:$AL464,\"NE\")/$AV$1","v":{"$error":"#DIV/0!"}},{"$error":"#DIV/0!"}]
[465,{"$nulls":38},{"$error":"#DIV/0!"},{"$error":"#DIV/0!"},{"$error":"#DIV/0!"},{"$error":"#DIV/0!"},{"$f":"COUNTIF(D465:$AL465,\"NE\")/$AV$1","v":{"$error":"#DIV/0!"}},{"$error":"#DIV/0!"}]
[466,{"$nulls":38},{"$error":"#DIV/0!"},{"$error":"#DIV/0!"},{"$error":"#DIV/0!"},{"$error":"#DIV/0!"},{"$f":"COUNTIF(D466:$AL466,\"NE\")/$AV$1","v":{"$error":"#DIV/0!"}},{"$error":"#DIV/0!"}]
[467,{"$nulls":38},{"$error":"#DIV/0!"},{"$error":"#DIV/0!"},{"$error":"#DIV/0!"},{"$error":"#DIV/0!"},{"$f":"COUNTIF(D467:$AL467,\"NE\")/$AV$1","v":{"$error":"#DIV/0!"}},{"$error":"#DIV/0!"}]
[468,{"$nulls":38},{"$error":"#DIV/0!"},{"$error":"#DIV/0!"},{"$error":"#DIV/0!"},{"$error":"#DIV/0!"},{"$f":"COUNTIF(D468:$AL468,\"NE\")/$AV$1","v":{"$error":"#DIV/0!"}},{"$error":"#DIV/0!"}]
[469,{"$nulls":38},{"$error":"#DIV/0!"},{"$error":"#DIV/0!"},{"$error":"#DIV/0!"},{"$error":"#DIV/0!"},{"$f":"COUNTIF(D469:$AL469,\"NE\")/$AV$1","v":{"$error":"#DIV/0!"}},{"$error":"#DIV/0!"}]
[470,{"$nulls":38},{"$error":"#DIV/0!"},{"$error":"#DIV/0!"},{"$error":"#DIV/0!"},{"$error":"#DIV/0!"},{"$f":"COUNTIF(D470:$AL470,\"NE\")/$AV$1","v":{"$error":"#DIV/0!"}},{"$error":"#DIV/0!"}]
[471,{"$nulls":38},{"$error":"#DIV/0!"},{"$error":"#DIV/0!"},{"$error":"#DIV/0!"},{"$error":"#DIV/0!"},{"$f":"COUNTIF(D471:$AL471,\"NE\")/$AV$1","v":{"$error":"#DIV/0!"}},{"$error":"#DIV/0!"}]
[472,{"$nulls":38},{"$error":"#DIV/0!"},{"$error":"#DIV/0!"},{"$error":"#DIV/0!"},{"$error":"#DIV/0!"},{"$f":"COUNTIF(D472:$AL472,\"NE\")/$AV$1","v":{"$error":"#DIV/0!"}},{"$error":"#DIV/0!"}]
[473,{"$nulls":38},{"$error":"#DIV/0!"},{"$error":"#DIV/0!"},{"$error":"#DIV/0!"},{"$error":"#DIV/0!"},{"$f":"COUNTIF(D473:$AL473,\"NE\")/$AV$1","v":{"$error":"#DIV/0!"}},{"$error":"#DIV/0!"}]
[474,{"$nulls":38},{"$error":"#DIV/0!"},{"$error":"#DIV/0!"},{"$error":"#DIV/0!"},{"$error":"#DIV/0!"},{"$f":"COUNTIF(D474:$AL474,\"NE\")/$AV$1","v":{"$error":"#DIV/0!"}},{"$error":"#DIV/0!"}]
[475,{"$nulls":38},{"$error":"#DIV/0!"},{"$error":"#DIV/0!"},{"$error":"#DIV/0!"},{"$error":"#DIV/0!"},{"$f":"COUNTIF(D475:$AL475,\"NE\")/$AV$1","v":{"$error":"#DIV/0!"}},{"$error":"#DIV/0!"}]
[476,{"$nulls":38},{"$error":"#DIV/0!"},{"$error":"#DIV/0!"},{"$error":"#DIV/0!"},{"$error":"#DIV/0!"},{"$f":"COUNTIF(D476:$AL476,\"NE\")/$AV$1","v":{"$error":"#DIV/0!"}},{"$error":"#DIV/0!"}]
[477,{"$nulls":38},{"$error":"#DIV/0!"},{"$error":"#DIV/0!"},{"$error":"#DIV/0!"},{"$error":"#DIV/0!"},{"$f":"COUNTIF(D477:$AL477,\"NE\")/$AV$1","v":{"$error":"#DIV/0!"}},{"$error":"#DIV/0!"}]
[478,{"$nulls":38},{"$error":"#DIV/0!"},{"$error":"#DIV/0!"},{"$error":"#DIV/0!"},{"$error":"#DIV/0!"},{"$f":"COUNTIF(D478:$AL478,\"NE\")/$AV$1","v":{"$error":"#DIV/0!"}},{"$error":"#DIV/0!"}]
[479,{"$nulls":38},{"$error":"#DIV/0!"},{"$error":"#DIV/0!"},{"$error":"#DIV/0!"},{"$error":"#DIV/0!"},{"$f":"COUNTIF(D479:$AL479,\"NE\")/$AV$1","v":{"$error":"#DIV/0!"}},{"$error":"#DIV/0!"}]
[480,{"$nulls":38},{"$error":"#DIV/0!"},{"$error":"#DIV/0!"},{"$error":"#DIV/0!"},{"$error":"#DIV/0!"},{"$f":"COUNTIF(D480:$AL480,\"NE\")/$AV$1","v":{"$error":"#DIV/0!"}},{"$error":"#DIV/0!"}]
[481,{"$nulls":38},{"$error":"#DIV/0!"},{"$error":"#DIV/0!"},{"$error":"#DIV/0!"},{"$error":"#DIV/0!"},{"$f":"COUNTIF(D481:$AL481,\"NE\")/$AV$1","v":{"$error":"#DIV/0!"}},{"$error":"#DIV/0!"}]
[482,{"$nulls":38},{"$error":"#DIV/0!"},{"$error":"#DIV/0!"},{"$error":"#DIV/0!"},{"$error":"#DIV/0!"},{"$f":"COUNTIF(D482:$AL482,\"NE\")/$AV$1","v":{"$error":"#DIV/0!"}},{"$error":"#DIV/0!"}]
[483,{"$nulls":38},{"$error":"#DIV/0!"},{"$error":"#DIV/0!"},{"$error":"#DIV/0!"},{"$error":"#DIV/0!"},{"$f":"COUNTIF(D483:$AL483,\"NE\")/$AV$1","v":{"$error":"#DIV/0!"}},{"$error":"#DIV/0!"}]
[484,{"$nulls":38},{"$error":"#DIV/0!"},{"$error":"#DIV/0!"},{"$error":"#DIV/0!"},{"$error":"#DIV/0!"},{"$f":"COUNTIF(D484:$AL484,\"NE\")/$AV$1","v":{"$error":"#DIV/0!"}},{"$error":"#DIV/0!"}]
[485,{"$nulls":38},{"$error":"#DIV/0!"},{"$error":"#DIV/0!"},{"$error":"#DIV/0!"},{"$error":"#DIV/0!"},{"$f":"COUNTIF(D485:$AL485,\"NE\")/$AV$1","v":{"$error":"#DIV/0!"}},{"$error":"#DIV/0!"}]
[486,{"$nulls":38},{"$error":"#DIV/0!"},{"$error":"#DIV/0!"},{"$error":"#DIV/0!"},{"$error":"#DIV/0!"},{"$f":"COUNTIF(D486:$AL486,\"NE\")/$AV$1","v":{"$error":"#DIV/0!"}},{"$error":"#DIV/0!"}]
[487,{"$nulls":38},{"$error":"#DIV/0!"},{"$error":"#DIV/0!"},{"$error":"#DIV/0!"},{"$error":"#DIV/0!"},{"$f":"COUNTIF(D487:$AL487,\"NE\")/$AV$1","v":{"$error":"#DIV/0!"}},{"$error":"#DIV/0!"}]
[488,{"$nulls":38},{"$error":"#DIV/0!"},{"$error":"#DIV/0!"},{"$error":"#DIV/0!"},{"$error":"#DIV/0!"},{"$f":"COUNTIF(D488:$AL488,\"NE\")/$AV$1","v":{"$error":"#DIV/0!"}},{"$error":"#DIV/0!"}]
[489,{"$nulls":38},{"$error":"#DIV/0!"},{"$error":"#DIV/0!"},{"$error":"#DIV/0!"},{"$error":"#DIV/0!"},{"$f":"COUNTIF(D489:$AL489,\"NE\")/$AV$1","v":{"$error":"#DIV/0!"}},{"$error":"#DIV/0!"}]
[490,{"$nulls":38},{"$error":"#DIV/0!"},{"$error":"#DIV/0!"},{"$error":"#DIV/0!"},{"$error":"#DIV/0!"},{"$f":"COUNTIF(D490:$AL490,\"NE\")/$AV$1","v":{"$error":"#DIV/0!"}},{"$error":"#DIV/0!"}]
[491,{"$nulls":38},{"$error":"#DIV/0!"},{"$error":"#DIV/0!"},{"$error":"#DIV/0!"},{"$error":"#DIV/0!"},{"$f":"COUNTIF(D491:$AL491,\"NE\")/$AV$1","v":{"$error":"#DIV/0!"}},{"$error":"#DIV/0!"}]
[492,{"$nulls":38},{"$error":"#DIV/0!"},{"$error":"#DIV/0!"},{"$error":"#DIV/0!"},{"$error":"#DIV/0!"},{"$f":"COUNTIF(D492:$AL492,\"NE\")/$AV$1","v":{"$error":"#DIV/0!"}},{"$error":"#DIV/0!"}]
[493,{"$nulls":38},{"$error":"#DIV/0!"},{"$error":"#DIV/0!"},{"$error":"#DIV/0!"},{"$error":"#DIV/0!"},{"$f":"COUNTIF(D493:$AL493,\"NE\")/$AV$1","v":{"$error":"#DIV/0!"}},{"$error":"#DIV/0!"}]
[494,{"$nulls":38},{"$error":"#DIV/0!"},{"$error":"#DIV/0!"},{"$error":"#DIV/0!"},{"$error":"#DIV/0!"},{"$f":"COUNTIF(D494:$AL494,\"NE\")/$AV$1","v":{"$error":"#DIV/0!"}},{"$error":"#DIV/0!"}]
[495,{"$nulls":38},{"$error":"#DIV/0!"},{"$error":"#DIV/0!"},{"$error":"#DIV/0!"},{"$error":"#DIV/0!"},{"$f":"COUNTIF(D495:$AL495,\"NE\")/$AV$1","v":{"$error":"#DIV/0!"}},{"$error":"#DIV/0!"}]
[496,{"$nulls":38},{"$error":"#DIV/0!"},{"$error":"#DIV/0!"},{"$error":"#DIV/0!"},{"$error":"#DIV/0!"},{"$f":"COUNTIF(D496:$AL496,\"NE\")/$AV$1","v":{"$error":"#DIV/0!"}},{"$error":"#DIV/0!"}]
[497,{"$nulls":38},{"$error":"#DIV/0!"},{"$error":"#DIV/0!"},{"$error":"#DIV/0!"},{"$error":"#DIV/0!"},{"$f":"COUNTIF(D497:$AL497,\"NE\")/$AV$1","v":{"$error":"#DIV/0!"}},{"$error":"#DIV/0!"}]
[498,{"$nulls":38},{"$error":"#DIV/0!"},{"$error":"#DIV/0!"},{"$error":"#DIV/0!"},{"$error":"#DIV/0!"},{"$f":"COUNTIF(D498:$AL498,\"NE\")/$AV$1","v":{"$error":"#DIV/0!"}},{"$error":"#DIV/0!"}]
[499,{"$nulls":38},{"$error":"#DIV/0!"},{"$error":"#DIV/0!"},{"$error":"#DIV/0!"},{"$error":"#DIV/0!"},{"$f":"COUNTIF(D499:$AL499,\"NE\")/$AV$1","v":{"$error":"#DIV/0!"}},{"$error":"#DIV/0!"}]
[500,{"$nulls":38},{"$error":"#DIV/0!"},{"$error":"#DIV/0!"},{"$error":"#DIV/0!"},{"$error":"#DIV/0!"},{"$f":"COUNTIF(D500:$AL500,\"NE\")/$AV$1","v":{"$error":"#DIV/0!"}},{"$error":"#DIV/0!"}]
[501,{"$nulls":38},{"$error":"#DIV/0!"},{"$error":"#DIV/0!"},{"$error":"#DIV/0!"},{"$error":"#DIV/0!"},{"$f":"COUNTIF(D501:$AL501,\"NE\")/$AV$1","v":{"$error":"#DIV/0!"}},{"$error":"#DIV/0!"}]
[502,{"$nulls":38},{"$error":"#DIV/0!"},{"$error":"#DIV/0!"},{"$error":"#DIV/0!"},{"$error":"#DIV/0!"},{"$f":"COUNTIF(D502:$AL502,\"NE\")/$AV$1","v":{"$error":"#DIV/0!"}},{"$error":"#DIV/0!"}]
[503,{"$nulls":38},{"$error":"#DIV/0!"},{"$error":"#DIV/0!"},{"$error":"#DIV/0!"},{"$error":"#DIV/0!"},{"$f":"COUNTIF(D503:$AL503,\"NE\")/$AV$1","v":{"$error":"#DIV/0!"}},{"$error":"#DIV/0!"}]
[504,{"$nulls":38},{"$error":"#DIV/0!"},{"$error":"#DIV/0!"},{"$error":"#DIV/0!"},{"$error":"#DIV/0!"},{"$f":"COUNTIF(D504:$AL504,\"NE\")/$AV$1","v":{"$error":"#DIV/0!"}},{"$error":"#DIV/0!"}]
[505,{"$nulls":38},{"$error":"#DIV/0!"},{"$error":"#DIV/0!"},{"$error":"#DIV/0!"},{"$error":"#DIV/0!"},{"$f":"COUNTIF(D505:$AL505,\"NE\")/$AV$1","v":{"$error":"#DIV/0!"}},{"$error":"#DIV/0!"}]
[506,{"$nulls":38},{"$error":"#DIV/0!"},{"$error":"#DIV/0!"},{"$error":"#DIV/0!"},{"$error":"#DIV/0!"},{"$f":"COUNTIF(D506:$AL506,\"NE\")/$AV$1","v":{"$error":"#DIV/0!"}},{"$error":"#DIV/0!"}]
[507,{"$nulls":38},{"$error":"#DIV/0!"},{"$error":"#DIV/0!"},{"$error":"#DIV/0!"},{"$error":"#DIV/0!"},{"$f":"COUNTIF(D507:$AL507,\"NE\")/$AV$1","v":{"$error":"#DIV/0!"}},{"$error":"#DIV/0!"}]
[508,{"$nulls":38},{"$error":"#DIV/0!"},{"$error":"#DIV/0!"},{"$error":"#DIV/0!"},{"$error":"#DIV/0!"},{"$f":"COUNTIF(D508:$AL508,\"NE\")/$AV$1","v":{"$error":"#DIV/0!"}},{"$error":"#DIV/0!"}]
[509,{"$nulls":38},{"$error":"#DIV/0!"},{"$error":"#DIV/0!"},{"$error":"#DIV/0!"},{"$error":"#DIV/0!"},{"$f":"COUNTIF(D509:$AL509,\"NE\")/$AV$1","v":{"$error":"#DIV/0!"}},{"$error":"#DIV/0!"}]
[510,{"$nulls":38},{"$error":"#DIV/0!"},{"$error":"#DIV/0!"},{"$error":"#DIV/0!"},{"$error":"#DIV/0!"},{"$f":"COUNTIF(D510:$AL510,\"NE\")/$AV$1","v":{"$error":"#DIV/0!"}},{"$error":"#DIV/0!"}]
[511,{"$nulls":38},{"$error":"#DIV/0!"},{"$error":"#DIV/0!"},{"$error":"#DIV/0!"},{"$error":"#DIV/0!"},{"$f":"COUNTIF(D511:$AL511,\"NE\")/$AV$1","v":{"$error":"#DIV/0!"}},{"$error":"#DIV/0!"}]
[512,{"$nulls":38},{"$error":"#DIV/0!"},{"$error":"#DIV/0!"},{"$error":"#DIV/0!"},{"$error":"#DIV/0!"},{"$f":"COUNTIF(D512:$AL512,\"NE\")/$AV$1","v":{"$error":"#DIV/0!"}},{"$error":"#DIV/0!"}]
[513,{"$nulls":38},{"$error":"#DIV/0!"},{"$error":"#DIV/0!"},{"$error":"#DIV/0!"},{"$error":"#DIV/0!"},{"$f":"COUNTIF(D513:$AL513,\"NE\")/$AV$1","v":{"$error":"#DIV/0!"}},{"$error":"#DIV/0!"}]
[514,{"$nulls":38},{"$error":"#DIV/0!"},{"$error":"#DIV/0!"},{"$error":"#DIV/0!"},{"$error":"#DIV/0!"},{"$f":"COUNTIF(D514:$AL514,\"NE\")/$AV$1","v":{"$error":"#DIV/0!"}},{"$error":"#DIV/0!"}]
[515,{"$nulls":38},{"$error":"#DIV/0!"},{"$error":"#DIV/0!"},{"$error":"#DIV/0!"},{"$error":"#DIV/0!"},{"$f":"COUNTIF(D515:$AL515,\"NE\")/$AV$1","v":{"$error":"#DIV/0!"}},{"$error":"#DIV/0!"}]
[516,{"$nulls":38},{"$error":"#DIV/0!"},{"$error":"#DIV/0!"},{"$error":"#DIV/0!"},{"$error":"#DIV/0!"},{"$f":"COUNTIF(D516:$AL516,\"NE\")/$AV$1","v":{"$error":"#DIV/0!"}},{"$error":"#DIV/0!"}]
[517,{"$nulls":38},{"$error":"#DIV/0!"},{"$error":"#DIV/0!"},{"$error":"#DIV/0!"},{"$error":"#DIV/0!"},{"$f":"COUNTIF(D517:$AL517,\"NE\")/$AV$1","v":{"$error":"#DIV/0!"}},{"$error":"#DIV/0!"}]
[518,{"$nulls":38},{"$f":"COUNTIF($D518:$AL518,$AU$1)/$AV$1","v":{"$error":"#DIV/0!"}},{"$f":"COUNTIF($D518:$AL518,$AU$2)/$AV$1","v":{"$error":"#DIV/0!"}},{"$f":"COUNTIF($D518:$AL518,$AU$3)/$AV$1","v":{"$error":"#DIV/0!"}},{"$f":"COUNTIF($D518:$AL518,$AU$4)/$AV$1","v":{"$error":"#DIV/0!"}},{"$f":"COUNTIF(D518:$AL518,\"NE\")/$AV$1","v":{"$error":"#DIV/0!"}},{"$error":"#DIV/0!"}]
[519,{"$nulls":38},{"$error":"#DIV/0!"},{"$error":"#DIV/0!"},{"$error":"#DIV/0!"},{"$error":"#DIV/0!"},{"$f":"COUNTIF(D519:$AL519,\"NE\")/$AV$1","v":{"$error":"#DIV/0!"}},{"$f":"AN519+(AO519*0.66)+(AP519*0.33)","v":{"$error":"#DIV/0!"}}]
[520,{"$nulls":38},{"$error":"#DIV/0!"},{"$error":"#DIV/0!"},{"$error":"#DIV/0!"},{"$error":"#DIV/0!"},{"$f":"COUNTIF(D520:$AL520,\"NE\")/$AV$1","v":{"$error":"#DIV/0!"}},{"$error":"#DIV/0!"}]
[521,{"$nulls":38},{"$error":"#DIV/0!"},{"$error":"#DIV/0!"},{"$error":"#DIV/0!"},{"$error":"#DIV/0!"},{"$f":"COUNTIF(D521:$AL521,\"NE\")/$AV$1","v":{"$error":"#DIV/0!"}},{"$error":"#DIV/0!"}]
[522,{"$nulls":38},{"$error":"#DIV/0!"},{"$error":"#DIV/0!"},{"$error":"#DIV/0!"},{"$error":"#DIV/0!"},{"$f":"COUNTIF(D522:$AL522,\"NE\")/$AV$1","v":{"$error":"#DIV/0!"}},{"$error":"#DIV/0!"}]
[523,{"$nulls":38},{"$error":"#DIV/0!"},{"$error":"#DIV/0!"},{"$error":"#DIV/0!"},{"$error":"#DIV/0!"},{"$f":"COUNTIF(D523:$AL523,\"NE\")/$AV$1","v":{"$error":"#DIV/0!"}},{"$error":"#DIV/0!"}]
[524,{"$nulls":38},{"$error":"#DIV/0!"},{"$error":"#DIV/0!"},{"$error":"#DIV/0!"},{"$error":"#DIV/0!"},{"$f":"COUNTIF(D524:$AL524,\"NE\")/$AV$1","v":{"$error":"#DIV/0!"}},{"$error":"#DIV/0!"}]
[525,{"$nulls":38},{"$error":"#DIV/0!"},{"$error":"#DIV/0!"},{"$error":"#DIV/0!"},{"$error":"#DIV/0!"},{"$f":"COUNTIF(D525:$AL525,\"NE\")/$AV$1","v":{"$error":"#DIV/0!"}},{"$error":"#DIV/0!"}]
[526,{"$nulls":38},{"$error":"#DIV/0!"},{"$error":"#DIV/0!"},{"$error":"#DIV/0!"},{"$error":"#DIV/0!"},{"$f":"COUNTIF(D526:$AL526,\"NE\")/$AV$1","v":{"$error":"#DIV/0!"}},{"$error":"#DIV/0!"}]
[527,{"$nulls":38},{"$error":"#DIV/0!"},{"$error":"#DIV/0!"},{"$error":"#DIV/0!"},{"$error":"#DIV/0!"},{"$f":"COUNTIF(D527:$AL527,\"NE\")/$AV$1","v":{"$error":"#DIV/0!"}},{"$error":"#DIV/0!"}]
[528,{"$nulls":38},{"$error":"#DIV/0!"},{"$error":"#DIV/0!"},{"$error":"#DIV/0!"},{"$error":"#DIV/0!"},{"$f":"COUNTIF(D528:$AL528,\"NE\")/$AV$1","v":{"$error":"#DIV/0!"}},{"$error":"#DIV/0!"}]
[529,{"$nulls":38},{"$error":"#DIV/0!"},{"$error":"#DIV/0!"},{"$error":"#DIV/0!"},{"$error":"#DIV/0!"},{"$f":"COUNTIF(D529:$AL529,\"NE\")/$AV$1","v":{"$error":"#DIV/0!"}},{"$error":"#DIV/0!"}]
[530,{"$nulls":38},{"$error":"#DIV/0!"},{"$error":"#DIV/0!"},{"$error":"#DIV/0!"},{"$error":"#DIV/0!"},{"$f":"COUNTIF(D530:$AL530,\"NE\")/$AV$1","v":{"$error":"#DIV/0!"}},{"$error":"#DIV/0!"}]
[531,{"$nulls":38},{"$error":"#DIV/0!"},{"$error":"#DIV/0!"},{"$error":"#DIV/0!"},{"$error":"#DIV/0!"},{"$f":"COUNTIF(D531:$AL531,\"NE\")/$AV$1","v":{"$error":"#DIV/0!"}},{"$error":"#DIV/0!"}]
[532,{"$nulls":38},{"$error":"#DIV/0!"},{"$error":"#DIV/0!"},{"$error":"#DIV/0!"},{"$error":"#DIV/0!"},{"$f":"COUNTIF(D532:$AL532,\"NE\")/$AV$1","v":{"$error":"#DIV/0!"}},{"$error":"#DIV/0!"}]
[533,{"$nulls":38},{"$error":"#DIV/0!"},{"$error":"#DIV/0!"},{"$error":"#DIV/0!"},{"$error":"#DIV/0!"},{"$f":"COUNTIF(D533:$AL533,\"NE\")/$AV$1","v":{"$error":"#DIV/0!"}},{"$error":"#DIV/0!"}]
[534,{"$nulls":38},{"$error":"#DIV/0!"},{"$error":"#DIV/0!"},{"$error":"#DIV/0!"},{"$error":"#DIV/0!"},{"$f":"COUNTIF(D534:$AL534,\"NE\")/$AV$1","v":{"$error":"#DIV/0!"}},{"$error":"#DIV/0!"}]
[535,{"$nulls":38},{"$error":"#DIV/0!"},{"$error":"#DIV/0!"},{"$error":"#DIV/0!"},{"$error":"#DIV/0!"},{"$f":"COUNTIF(D535:$AL535,\"NE\")/$AV$1","v":{"$error":"#DIV/0!"}},{"$error":"#DIV/0!"}]
[536,{"$nulls":38},{"$error":"#DIV/0!"},{"$error":"#DIV/0!"},{"$error":"#DIV/0!"},{"$error":"#DIV/0!"},{"$f":"COUNTIF(D536:$AL536,\"NE\")/$AV$1","v":{"$error":"#DIV/0!"}},{"$error":"#DIV/0!"}]
[537,{"$nulls":38},{"$error":"#DIV/0!"},{"$error":"#DIV/0!"},{"$error":"#DIV/0!"},{"$error":"#DIV/0!"},{"$f":"COUNTIF(D537:$AL537,\"NE\")/$AV$1","v":{"$error":"#DIV/0!"}},{"$error":"#DIV/0!"}]
[538,{"$nulls":38},{"$error":"#DIV/0!"},{"$error":"#DIV/0!"},{"$error":"#DIV/0!"},{"$error":"#DIV/0!"},{"$f":"COUNTIF(D538:$AL538,\"NE\")/$AV$1","v":{"$error":"#DIV/0!"}},{"$error":"#DIV/0!"}]
[539,{"$nulls":38},{"$error":"#DIV/0!"},{"$error":"#DIV/0!"},{"$error":"#DIV/0!"},{"$error":"#DIV/0!"},{"$f":"COUNTIF(D539:$AL539,\"NE\")/$AV$1","v":{"$error":"#DIV/0!"}},{"$error":"#DIV/0!"}]
[540,{"$nulls":38},{"$error":"#DIV/0!"},{"$error":"#DIV/0!"},{"$error":"#DIV/0!"},{"$error":"#DIV/0!"},{"$f":"COUNTIF(D540:$AL540,\"NE\")/$AV$1","v":{"$error":"#DIV/0!"}},{"$error":"#DIV/0!"}]
[541,{"$nulls":38},{"$error":"#DIV/0!"},{"$error":"#DIV/0!"},{"$error":"#DIV/0!"},{"$error":"#DIV/0!"},{"$f":"COUNTIF(D541:$AL541,\"NE\")/$AV$1","v":{"$error":"#DIV/0!"}},{"$error":"#DIV/0!"}]
[542,{"$nulls":38},{"$error":"#DIV/0!"},{"$error":"#DIV/0!"},{"$error":"#DIV/0!"},{"$error":"#DIV/0!"},{"$f":"COUNTIF(D542:$AL542,\"NE\")/$AV$1","v":{"$error":"#DIV/0!"}},{"$error":"#DIV/0!"}]
[543,{"$nulls":38},{"$error":"#DIV/0!"},{"$error":"#DIV/0!"},{"$error":"#DIV/0!"},{"$error":"#DIV/0!"},{"$f":"COUNTIF(D543:$AL543,\"NE\")/$AV$1","v":{"$error":"#DIV/0!"}},{"$error":"#DIV/0!"}]
[544,{"$nulls":38},{"$error":"#DIV/0!"},{"$error":"#DIV/0!"},{"$error":"#DIV/0!"},{"$error":"#DIV/0!"},{"$f":"COUNTIF(D544:$AL544,\"NE\")/$AV$1","v":{"$error":"#DIV/0!"}},{"$error":"#DIV/0!"}]
[545,{"$nulls":38},{"$error":"#DIV/0!"},{"$error":"#DIV/0!"},{"$error":"#DIV/0!"},{"$error":"#DIV/0!"},{"$f":"COUNTIF(D545:$AL545,\"NE\")/$AV$1","v":{"$error":"#DIV/0!"}},{"$error":"#DIV/0!"}]
[546,{"$nulls":38},{"$error":"#DIV/0!"},{"$error":"#DIV/0!"},{"$error":"#DIV/0!"},{"$error":"#DIV/0!"},{"$f":"COUNTIF(D546:$AL546,\"NE\")/$AV$1","v":{"$error":"#DIV/0!"}},{"$error":"#DIV/0!"}]
[547,{"$nulls":38},{"$error":"#DIV/0!"},{"$error":"#DIV/0!"},{"$error":"#DIV/0!"},{"$error":"#DIV/0!"},{"$f":"COUNTIF(D547:$AL547,\"NE\")/$AV$1","v":{"$error":"#DIV/0!"}},{"$error":"#DIV/0!"}]
[548,{"$nulls":38},{"$error":"#DIV/0!"},{"$error":"#DIV/0!"},{"$error":"#DIV/0!"},{"$error":"#DIV/0!"},{"$f":"COUNTIF(D548:$AL548,\"NE\")/$AV$1","v":{"$error":"#DIV/0!"}},{"$error":"#DIV/0!"}]
[549,{"$nulls":38},{"$error":"#DIV/0!"},{"$error":"#DIV/0!"},{"$error":"#DIV/0!"},{"$error":"#DIV/0!"},{"$f":"COUNTIF(D549:$AL549,\"NE\")/$AV$1","v":{"$error":"#DIV/0!"}},{"$error":"#DIV/0!"}]
[550,{"$nulls":38},{"$error":"#DIV/0!"},{"$error":"#DIV/0!"},{"$error":"#DIV/0!"},{"$error":"#DIV/0!"},{"$f":"COUNTIF(D550:$AL550,\"NE\")/$AV$1","v":{"$error":"#DIV/0!"}},{"$error":"#DIV/0!"}]
[551,{"$nulls":38},{"$error":"#DIV/0!"},{"$error":"#DIV/0!"},{"$error":"#DIV/0!"},{"$error":"#DIV/0!"},{"$f":"COUNTIF(D551:$AL551,\"NE\")/$AV$1","v":{"$error":"#DIV/0!"}},{"$error":"#DIV/0!"}]
[552,{"$nulls":38},{"$error":"#DIV/0!"},{"$error":"#DIV/0!"},{"$error":"#DIV/0!"},{"$error":"#DIV/0!"},{"$f":"COUNTIF(D552:$AL552,\"NE\")/$AV$1","v":{"$error":"#DIV/0!"}},{"$error":"#DIV/0!"}]
[553,{"$nulls":38},{"$error":"#DIV/0!"},{"$error":"#DIV/0!"},{"$error":"#DIV/0!"},{"$error":"#DIV/0!"},{"$f":"COUNTIF(D553:$AL553,\"NE\")/$AV$1","v":{"$error":"#DIV/0!"}},{"$error":"#DIV/0!"}]
[554,{"$nulls":38},{"$error":"#DIV/0!"},{"$error":"#DIV/0!"},{"$error":"#DIV/0!"},{"$error":"#DIV/0!"},{"$f":"COUNTIF(D554:$AL554,\"NE\")/$AV$1","v":{"$error":"#DIV/0!"}},{"$error":"#DIV/0!"}]
[555,{"$nulls":38},{"$error":"#DIV/0!"},{"$error":"#DIV/0!"},{"$error":"#DIV/0!"},{"$error":"#DIV/0!"},{"$f":"COUNTIF(D555:$AL555,\"NE\")/$AV$1","v":{"$error":"#DIV/0!"}},{"$error":"#DIV/0!"}]
[556,{"$nulls":38},{"$error":"#DIV/0!"},{"$error":"#DIV/0!"},{"$error":"#DIV/0!"},{"$error":"#DIV/0!"},{"$f":"COUNTIF(D556:$AL556,\"NE\")/$AV$1","v":{"$error":"#DIV/0!"}},{"$error":"#DIV/0!"}]
[557,{"$nulls":38},{"$error":"#DIV/0!"},{"$error":"#DIV/0!"},{"$error":"#DIV/0!"},{"$error":"#DIV/0!"},{"$f":"COUNTIF(D557:$AL557,\"NE\")/$AV$1","v":{"$error":"#DIV/0!"}},{"$error":"#DIV/0!"}]
[558,{"$nulls":38},{"$error":"#DIV/0!"},{"$error":"#DIV/0!"},{"$error":"#DIV/0!"},{"$error":"#DIV/0!"},{"$f":"COUNTIF(D558:$AL558,\"NE\")/$AV$1","v":{"$error":"#DIV/0!"}},{"$error":"#DIV/0!"}]
[559,{"$nulls":38},{"$error":"#DIV/0!"},{"$error":"#DIV/0!"},{"$error":"#DIV/0!"},{"$error":"#DIV/0!"},{"$f":"COUNTIF(D559:$AL559,\"NE\")/$AV$1","v":{"$error":"#DIV/0!"}},{"$error":"#DIV/0!"}]
[560,{"$nulls":38},{"$error":"#DIV/0!"},{"$error":"#DIV/0!"},{"$error":"#DIV/0!"},{"$error":"#DIV/0!"},{"$f":"COUNTIF(D560:$AL560,\"NE\")/$AV$1","v":{"$error":"#DIV/0!"}},{"$error":"#DIV/0!"}]
[561,{"$nulls":38},{"$error":"#DIV/0!"},{"$error":"#DIV/0!"},{"$error":"#DIV/0!"},{"$error":"#DIV/0!"},{"$f":"COUNTIF(D561:$AL561,\"NE\")/$AV$1","v":{"$error":"#DIV/0!"}},{"$error":"#DIV/0!"}]
[562,{"$nulls":38},{"$error":"#DIV/0!"},{"$error":"#DIV/0!"},{"$error":"#DIV/0!"},{"$error":"#DIV/0!"},{"$f":"COUNTIF(D562:$AL562,\"NE\")/$AV$1","v":{"$error":"#DIV/0!"}},{"$error":"#DIV/0!"}]
[563,{"$nulls":38},{"$error":"#DIV/0!"},{"$error":"#DIV/0!"},{"$error":"#DIV/0!"},{"$error":"#DIV/0!"},{"$f":"COUNTIF(D563:$AL563,\"NE\")/$AV$1","v":{"$error":"#DIV/0!"}},{"$error":"#DIV/0!"}]
[564,{"$nulls":38},{"$error":"#DIV/0!"},{"$error":"#DIV/0!"},{"$error":"#DIV/0!"},{"$error":"#DIV/0!"},{"$f":"COUNTIF(D564:$AL564,\"NE\")/$AV$1","v":{"$error":"#DIV/0!"}},{"$error":"#DIV/0!"}]
[565,{"$nulls":38},{"$error":"#DIV/0!"},{"$error":"#DIV/0!"},{"$error":"#DIV/0!"},{"$error":"#DIV/0!"},{"$f":"COUNTIF(D565:$AL565,\"NE\")/$AV$1","v":{"$error":"#DIV/0!"}},{"$error":"#DIV/0!"}]
[566,{"$nulls":38},{"$error":"#DIV/0!"},{"$error":"#DIV/0!"},{"$error":"#DIV/0!"},{"$error":"#DIV/0!"},{"$f":"COUNTIF(D566:$AL566,\"NE\")/$AV$1","v":{"$error":"#DIV/0!"}},{"$error":"#DIV/0!"}]
[567,{"$nulls":38},{"$error":"#DIV/0!"},{"$error":"#DIV/0!"},{"$error":"#DIV/0!"},{"$error":"#DIV/0!"},{"$f":"COUNTIF(D567:$AL567,\"NE\")/$AV$1","v":{"$error":"#DIV/0!"}},{"$error":"#DIV/0!"}]
[568,{"$nulls":38},{"$error":"#DIV/0!"},{"$error":"#DIV/0!"},{"$error":"#DIV/0!"},{"$error":"#DIV/0!"},{"$f":"COUNTIF(D568:$AL568,\"NE\")/$AV$1","v":{"$error":"#DIV/0!"}},{"$error":"#DIV/0!"}]
[569,{"$nulls":38},{"$error":"#DIV/0!"},{"$error":"#DIV/0!"},{"$error":"#DIV/0!"},{"$error":"#DIV/0!"},{"$f":"COUNTIF(D569:$AL569,\"NE\")/$AV$1","v":{"$error":"#DIV/0!"}},{"$error":"#DIV/0!"}]
[570,{"$nulls":38},{"$error":"#DIV/0!"},{"$error":"#DIV/0!"},{"$error":"#DIV/0!"},{"$error":"#DIV/0!"},{"$f":"COUNTIF(D570:$AL570,\"NE\")/$AV$1","v":{"$error":"#DIV/0!"}},{"$error":"#DIV/0!"}]
[571,{"$nulls":38},{"$error":"#DIV/0!"},{"$error":"#DIV/0!"},{"$error":"#DIV/0!"},{"$error":"#DIV/0!"},{"$f":"COUNTIF(D571:$AL571,\"NE\")/$AV$1","v":{"$error":"#DIV/0!"}},{"$error":"#DIV/0!"}]
[572,{"$nulls":38},{"$error":"#DIV/0!"},{"$error":"#DIV/0!"},{"$error":"#DIV/0!"},{"$error":"#DIV/0!"},{"$f":"COUNTIF(D572:$AL572,\"NE\")/$AV$1","v":{"$error":"#DIV/0!"}},{"$error":"#DIV/0!"}]
[573,{"$nulls":38},{"$error":"#DIV/0!"},{"$error":"#DIV/0!"},{"$error":"#DIV/0!"},{"$error":"#DIV/0!"},{"$f":"COUNTIF(D573:$AL573,\"NE\")/$AV$1","v":{"$error":"#DIV/0!"}},{"$error":"#DIV/0!"}]
[574,{"$nulls":38},{"$error":"#DIV/0!"},{"$error":"#DIV/0!"},{"$error":"#DIV/0!"},{"$error":"#DIV/0!"},{"$f":"COUNTIF(D574:$AL574,\"NE\")/$AV$1","v":{"$error":"#DIV/0!"}},{"$error":"#DIV/0!"}]
[575,{"$nulls":38},{"$error":"#DIV/0!"},{"$error":"#DIV/0!"},{"$error":"#DIV/0!"},{"$error":"#DIV/0!"},{"$f":"COUNTIF(D575:$AL575,\"NE\")/$AV$1","v":{"$error":"#DIV/0!"}},{"$error":"#DIV/0!"}]
[576,{"$nulls":38},{"$error":"#DIV/0!"},{"$error":"#DIV/0!"},{"$error":"#DIV/0!"},{"$error":"#DIV/0!"},{"$f":"COUNTIF(D576:$AL576,\"NE\")/$AV$1","v":{"$error":"#DIV/0!"}},{"$error":"#DIV/0!"}]
[577,{"$nulls":38},{"$error":"#DIV/0!"},{"$error":"#DIV/0!"},{"$error":"#DIV/0!"},{"$error":"#DIV/0!"},{"$f":"COUNTIF(D577:$AL577,\"NE\")/$AV$1","v":{"$error":"#DIV/0!"}},{"$error":"#DIV/0!"}]
[578,{"$nulls":38},{"$error":"#DIV/0!"},{"$error":"#DIV/0!"},{"$error":"#DIV/0!"},{"$error":"#DIV/0!"},{"$f":"COUNTIF(D578:$AL578,\"NE\")/$AV$1","v":{"$error":"#DIV/0!"}},{"$error":"#DIV/0!"}]
[579,{"$nulls":38},{"$error":"#DIV/0!"},{"$error":"#DIV/0!"},{"$error":"#DIV/0!"},{"$error":"#DIV/0!"},{"$f":"COUNTIF(D579:$AL579,\"NE\")/$AV$1","v":{"$error":"#DIV/0!"}},{"$error":"#DIV/0!"}]
[580,{"$nulls":38},{"$error":"#DIV/0!"},{"$error":"#DIV/0!"},{"$error":"#DIV/0!"},{"$error":"#DIV/0!"},{"$f":"COUNTIF(D580:$AL580,\"NE\")/$AV$1","v":{"$error":"#DIV/0!"}},{"$error":"#DIV/0!"}]
[581,{"$nulls":38},{"$error":"#DIV/0!"},{"$error":"#DIV/0!"},{"$error":"#DIV/0!"},{"$error":"#DIV/0!"},{"$f":"COUNTIF(D581:$AL581,\"NE\")/$AV$1","v":{"$error":"#DIV/0!"}},{"$error":"#DIV/0!"}]
[582,{"$nulls":38},{"$f":"COUNTIF($D582:$AL582,$AU$1)/$AV$1","v":{"$error":"#DIV/0!"}},{"$f":"COUNTIF($D582:$AL582,$AU$2)/$AV$1","v":{"$error":"#DIV/0!"}},{"$f":"COUNTIF($D582:$AL582,$AU$3)/$AV$1","v":{"$error":"#DIV/0!"}},{"$f":"COUNTIF($D582:$AL582,$AU$4)/$AV$1","v":{"$error":"#DIV/0!"}},{"$f":"COUNTIF(D582:$AL582,\"NE\")/$AV$1","v":{"$error":"#DIV/0!"}},{"$error":"#DIV/0!"}]
[583,{"$nulls":38},{"$error":"#DIV/0!"},{"$error":"#DIV/0!"},{"$error":"#DIV/0!"},{"$error":"#DIV/0!"},{"$f":"COUNTIF(D583:$AL583,\"NE\")/$AV$1","v":{"$error":"#DIV/0!"}},{"$f":"AN583+(AO583*0.66)+(AP583*0.33)","v":{"$error":"#DIV/0!"}}]
[584,{"$nulls":38},{"$error":"#DIV/0!"},{"$error":"#DIV/0!"},{"$error":"#DIV/0!"},{"$error":"#DIV/0!"},{"$f":"COUNTIF(D584:$AL584,\"NE\")/$AV$1","v":{"$error":"#DIV/0!"}},{"$error":"#DIV/0!"}]
[585,{"$nulls":38},{"$error":"#DIV/0!"},{"$error":"#DIV/0!"},{"$error":"#DIV/0!"},{"$error":"#DIV/0!"},{"$f":"COUNTIF(D585:$AL585,\"NE\")/$AV$1","v":{"$error":"#DIV/0!"}},{"$error":"#DIV/0!"}]
[586,{"$nulls":38},{"$error":"#DIV/0!"},{"$error":"#DIV/0!"},{"$error":"#DIV/0!"},{"$error":"#DIV/0!"},{"$f":"COUNTIF(D586:$AL586,\"NE\")/$AV$1","v":{"$error":"#DIV/0!"}},{"$error":"#DIV/0!"}]
[587,{"$nulls":38},{"$error":"#DIV/0!"},{"$error":"#DIV/0!"},{"$error":"#DIV/0!"},{"$error":"#DIV/0!"},{"$f":"COUNTIF(D587:$AL587,\"NE\")/$AV$1","v":{"$error":"#DIV/0!"}},{"$error":"#DIV/0!"}]
[588,{"$nulls":38},{"$error":"#DIV/0!"},{"$error":"#DIV/0!"},{"$error":"#DIV/0!"},{"$error":"#DIV/0!"},{"$f":"COUNTIF(D588:$AL588,\"NE\")/$AV$1","v":{"$error":"#DIV/0!"}},{"$error":"#DIV/0!"}]
[589,{"$nulls":38},{"$error":"#DIV/0!"},{"$error":"#DIV/0!"},{"$error":"#DIV/0!"},{"$error":"#DIV/0!"},{"$f":"COUNTIF(D589:$AL589,\"NE\")/$AV$1","v":{"$error":"#DIV/0!"}},{"$error":"#DIV/0!"}]
[590,{"$nulls":38},{"$error":"#DIV/0!"},{"$error":"#DIV/0!"},{"$error":"#DIV/0!"},{"$error":"#DIV/0!"},{"$f":"COUNTIF(D590:$AL590,\"NE\")/$AV$1","v":{"$error":"#DIV/0!"}},{"$error":"#DIV/0!"}]
[591,{"$nulls":38},{"$error":"#DIV/0!"},{"$error":"#DIV/0!"},{"$error":"#DIV/0!"},{"$error":"#DIV/0!"},{"$f":"COUNTIF(D591:$AL591,\"NE\")/$AV$1","v":{"$error":"#DIV/0!"}},{"$error":"#DIV/0!"}]
[592,{"$nulls":38},{"$error":"#DIV/0!"},{"$error":"#DIV/0!"},{"$error":"#DIV/0!"},{"$error":"#DIV/0!"},{"$f":"COUNTIF(D592:$AL592,\"NE\")/$AV$1","v":{"$error":"#DIV/0!"}},{"$error":"#DIV/0!"}]
[593,{"$nulls":38},{"$error":"#DIV/0!"},{"$error":"#DIV/0!"},{"$error":"#DIV/0!"},{"$error":"#DIV/0!"},{"$f":"COUNTIF(D593:$AL593,\"NE\")/$AV$1","v":{"$error":"#DIV/0!"}},{"$error":"#DIV/0!"}]
[594,{"$nulls":38},{"$error":"#DIV/0!"},{"$error":"#DIV/0!"},{"$error":"#DIV/0!"},{"$error":"#DIV/0!"},{"$f":"COUNTIF(D594:$AL594,\"NE\")/$AV$1","v":{"$error":"#DIV/0!"}},{"$error":"#DIV/0!"}]
[595,{"$nulls":38},{"$error":"#DIV/0!"},{"$error":"#DIV/0!"},{"$error":"#DIV/0!"},{"$error":"#DIV/0!"},{"$f":"COUNTIF(D595:$AL595,\"NE\")/$AV$1","v":{"$error":"#DIV/0!"}},{"$error":"#DIV/0!"}]
[596,{"$nulls":38},{"$error":"#DIV/0!"},{"$error":"#DIV/0!"},{"$error":"#DIV/0!"},{"$error":"#DIV/0!"},{"$f":"COUNTIF(D596:$AL596,\"NE\")/$AV$1","v":{"$error":"#DIV/0!"}},{"$error":"#DIV/0!"}]
[597,{"$nulls":38},{"$error":"#DIV/0!"},{"$error":"#DIV/0!"},{"$error":"#DIV/0!"},{"$error":"#DIV/0!"},{"$f":"COUNTIF(D597:$AL597,\"NE\")/$AV$1","v":{"$error":"#DIV/0!"}},{"$error":"#DIV/0!"}]
[598,{"$nulls":38},{"$error":"#DIV/0!"},{"$error":"#DIV/0!"},{"$error":"#DIV/0!"},{"$error":"#DIV/0!"},{"$f":"COUNTIF(D598:$AL598,\"NE\")/$AV$1","v":{"$error":"#DIV/0!"}},{"$error":"#DIV/0!"}]
[599,{"$nulls":38},{"$error":"#DIV/0!"},{"$error":"#DIV/0!"},{"$error":"#DIV/0!"},{"$error":"#DIV/0!"},{"$f":"COUNTIF(D599:$AL599,\"NE\")/$AV$1","v":{"$error":"#DIV/0!"}},{"$error":"#DIV/0!"}]
[600,{"$nulls":38},{"$error":"#DIV/0!"},{"$error":"#DIV/0!"},{"$error":"#DIV/0!"},{"$error":"#DIV/0!"},{"$f":"COUNTIF(D600:$AL600,\"NE\")/$AV$1","v":{"$error":"#DIV/0!"}},{"$error":"#DIV/0!"}]
[601,{"$nulls":38},{"$error":"#DIV/0!"},{"$error":"#DIV/0!"},{"$error":"#DIV/0!"},{"$error":"#DIV/0!"},{"$f":"COUNTIF(D601:$AL601,\"NE\")/$AV$1","v":{"$error":"#DIV/0!"}},{"$error":"#DIV/0!"}]
[602,{"$nulls":38},{"$error":"#DIV/0!"},{"$error":"#DIV/0!"},{"$error":"#DIV/0!"},{"$error":"#DIV/0!"},{"$f":"COUNTIF(D602:$AL602,\"NE\")/$AV$1","v":{"$error":"#DIV/0!"}},{"$error":"#DIV/0!"}]
[603,{"$nulls":38},{"$error":"#DIV/0!"},{"$error":"#DIV/0!"},{"$error":"#DIV/0!"},{"$error":"#DIV/0!"},{"$f":"COUNTIF(D603:$AL603,\"NE\")/$AV$1","v":{"$error":"#DIV/0!"}},{"$error":"#DIV/0!"}]
[604,{"$nulls":38},{"$error":"#DIV/0!"},{"$error":"#DIV/0!"},{"$error":"#DIV/0!"},{"$error":"#DIV/0!"},{"$f":"COUNTIF(D604:$AL604,\"NE\")/$AV$1","v":{"$error":"#DIV/0!"}},{"$error":"#DIV/0!"}]
[605,{"$nulls":38},{"$error":"#DIV/0!"},{"$error":"#DIV/0!"},{"$error":"#DIV/0!"},{"$error":"#DIV/0!"},{"$f":"COUNTIF(D605:$AL605,\"NE\")/$AV$1","v":{"$error":"#DIV/0!"}},{"$error":"#DIV/0!"}]
[606,{"$nulls":38},{"$error":"#DIV/0!"},{"$error":"#DIV/0!"},{"$error":"#DIV/0!"},{"$error":"#DIV/0!"},{"$f":"COUNTIF(D606:$AL606,\"NE\")/$AV$1","v":{"$error":"#DIV/0!"}},{"$error":"#DIV/0!"}]
[607,{"$nulls":38},{"$error":"#DIV/0!"},{"$error":"#DIV/0!"},{"$error":"#DIV/0!"},{"$error":"#DIV/0!"},{"$f":"COUNTIF(D607:$AL607,\"NE\")/$AV$1","v":{"$error":"#DIV/0!"}},{"$error":"#DIV/0!"}]
[608,{"$nulls":38},{"$error":"#DIV/0!"},{"$error":"#DIV/0!"},{"$error":"#DIV/0!"},{"$error":"#DIV/0!"},{"$f":"COUNTIF(D608:$AL608,\"NE\")/$AV$1","v":{"$error":"#DIV/0!"}},{"$error":"#DIV/0!"}]
[609,{"$nulls":38},{"$error":"#DIV/0!"},{"$error":"#DIV/0!"},{"$error":"#DIV/0!"},{"$error":"#DIV/0!"},{"$f":"COUNTIF(D609:$AL609,\"NE\")/$AV$1","v":{"$error":"#DIV/0!"}},{"$error":"#DIV/0!"}]
[610,{"$nulls":38},{"$error":"#DIV/0!"},{"$error":"#DIV/0!"},{"$error":"#DIV/0!"},{"$error":"#DIV/0!"},{"$f":"COUNTIF(D610:$AL610,\"NE\")/$AV$1","v":{"$error":"#DIV/0!"}},{"$error":"#DIV/0!"}]
[611,{"$nulls":38},{"$error":"#DIV/0!"},{"$error":"#DIV/0!"},{"$error":"#DIV/0!"},{"$error":"#DIV/0!"},{"$f":"COUNTIF(D611:$AL611,\"NE\")/$AV$1","v":{"$error":"#DIV/0!"}},{"$error":"#DIV/0!"}]
[612,{"$nulls":38},{"$error":"#DIV/0!"},{"$error":"#DIV/0!"},{"$error":"#DIV/0!"},{"$error":"#DIV/0!"},{"$f":"COUNTIF(D612:$AL612,\"NE\")/$AV$1","v":{"$error":"#DIV/0!"}},{"$error":"#DIV/0!"}]
[613,{"$nulls":38},{"$error":"#DIV/0!"},{"$error":"#DIV/0!"},{"$error":"#DIV/0!"},{"$error":"#DIV/0!"},{"$f":"COUNTIF(D613:$AL613,\"NE\")/$AV$1","v":{"$error":"#DIV/0!"}},{"$error":"#DIV/0!"}]
[614,{"$nulls":38},{"$error":"#DIV/0!"},{"$error":"#DIV/0!"},{"$error":"#DIV/0!"},{"$error":"#DIV/0!"},{"$f":"COUNTIF(D614:$AL614,\"NE\")/$AV$1","v":{"$error":"#DIV/0!"}},{"$error":"#DIV/0!"}]
[615,{"$nulls":38},{"$error":"#DIV/0!"},{"$error":"#DIV/0!"},{"$error":"#DIV/0!"},{"$error":"#DIV/0!"},{"$f":"COUNTIF(D615:$AL615,\"NE\")/$AV$1","v":{"$error":"#DIV/0!"}},{"$error":"#DIV/0!"}]
[616,{"$nulls":38},{"$error":"#DIV/0!"},{"$error":"#DIV/0!"},{"$error":"#DIV/0!"},{"$error":"#DIV/0!"},{"$f":"COUNTIF(D616:$AL616,\"NE\")/$AV$1","v":{"$error":"#DIV/0!"}},{"$error":"#DIV/0!"}]
[617,{"$nulls":38},{"$error":"#DIV/0!"},{"$error":"#DIV/0!"},{"$error":"#DIV/0!"},{"$error":"#DIV/0!"},{"$f":"COUNTIF(D617:$AL617,\"NE\")/$AV$1","v":{"$error":"#DIV/0!"}},{"$error":"#DIV/0!"}]
[618,{"$nulls":38},{"$error":"#DIV/0!"},{"$error":"#DIV/0!"},{"$error":"#DIV/0!"},{"$error":"#DIV/0!"},{"$f":"COUNTIF(D618:$AL618,\"NE\")/$AV$1","v":{"$error":"#DIV/0!"}},{"$error":"#DIV/0!"}]
[619,{"$nulls":38},{"$error":"#DIV/0!"},{"$error":"#DIV/0!"},{"$error":"#DIV/0!"},{"$error":"#DIV/0!"},{"$f":"COUNTIF(D619:$AL619,\"NE\")/$AV$1","v":{"$error":"#DIV/0!"}},{"$error":"#DIV/0!"}]
[620,{"$nulls":38},{"$error":"#DIV/0!"},{"$error":"#DIV/0!"},{"$error":"#DIV/0!"},{"$error":"#DIV/0!"},{"$f":"COUNTIF(D620:$AL620,\"NE\")/$AV$1","v":{"$error":"#DIV/0!"}},{"$error":"#DIV/0!"}]
[621,{"$nulls":38},{"$error":"#DIV/0!"},{"$error":"#DIV/0!"},{"$error":"#DIV/0!"},{"$error":"#DIV/0!"},{"$f":"COUNTIF(D621:$AL621,\"NE\")/$AV$1","v":{"$error":"#DIV/0!"}},{"$error":"#DIV/0!"}]
[622,{"$nulls":38},{"$error":"#DIV/0!"},{"$error":"#DIV/0!"},{"$error":"#DIV/0!"},{"$error":"#DIV/0!"},{"$f":"COUNTIF(D622:$AL622,\"NE\")/$AV$1","v":{"$error":"#DIV/0!"}},{"$error":"#DIV/0!"}]
[623,{"$nulls":38},{"$error":"#DIV/0!"},{"$error":"#DIV/0!"},{"$error":"#DIV/0!"},{"$error":"#DIV/0!"},{"$f":"COUNTIF(D623:$AL623,\"NE\")/$AV$1","v":{"$error":"#DIV/0!"}},{"$error":"#DIV/0!"}]
[624,{"$nulls":38},{"$error":"#DIV/0!"},{"$error":"#DIV/0!"},{"$error":"#DIV/0!"},{"$error":"#DIV/0!"},{"$f":"COUNTIF(D624:$AL624,\"NE\")/$AV$1","v":{"$error":"#DIV/0!"}},{"$error":"#DIV/0!"}]
[625,{"$nulls":38},{"$error":"#DIV/0!"},{"$error":"#DIV/0!"},{"$error":"#DIV/0!"},{"$error":"#DIV/0!"},{"$f":"COUNTIF(D625:$AL625,\"NE\")/$AV$1","v":{"$error":"#DIV/0!"}},{"$error":"#DIV/0!"}]
[626,{"$nulls":38},{"$error":"#DIV/0!"},{"$error":"#DIV/0!"},{"$error":"#DIV/0!"},{"$error":"#DIV/0!"},{"$f":"COUNTIF(D626:$AL626,\"NE\")/$AV$1","v":{"$error":"#DIV/0!"}},{"$error":"#DIV/0!"}]
[627,{"$nulls":38},{"$error":"#DIV/0!"},{"$error":"#DIV/0!"},{"$error":"#DIV/0!"},{"$error":"#DIV/0!"},{"$f":"COUNTIF(D627:$AL627,\"NE\")/$AV$1","v":{"$error":"#DIV/0!"}},{"$error":"#DIV/0!"}]
[628,{"$nulls":38},{"$error":"#DIV/0!"},{"$error":"#DIV/0!"},{"$error":"#DIV/0!"},{"$error":"#DIV/0!"},{"$f":"COUNTIF(D628:$AL628,\"NE\")/$AV$1","v":{"$error":"#DIV/0!"}},{"$error":"#DIV/0!"}]
[629,{"$nulls":38},{"$error":"#DIV/0!"},{"$error":"#DIV/0!"},{"$error":"#DIV/0!"},{"$error":"#DIV/0!"},{"$f":"COUNTIF(D629:$AL629,\"NE\")/$AV$1","v":{"$error":"#DIV/0!"}},{"$error":"#DIV/0!"}]
[630,{"$nulls":38},{"$error":"#DIV/0!"},{"$error":"#DIV/0!"},{"$error":"#DIV/0!"},{"$error":"#DIV/0!"},{"$f":"COUNTIF(D630:$AL630,\"NE\")/$AV$1","v":{"$error":"#DIV/0!"}},{"$error":"#DIV/0!"}]
[631,{"$nulls":38},{"$error":"#DIV/0!"},{"$error":"#DIV/0!"},{"$error":"#DIV/0!"},{"$error":"#DIV/0!"},{"$f":"COUNTIF(D631:$AL631,\"NE\")/$AV$1","v":{"$error":"#DIV/0!"}},{"$error":"#DIV/0!"}]
[632,{"$nulls":38},{"$error":"#DIV/0!"},{"$error":"#DIV/0!"},{"$error":"#DIV/0!"},{"$error":"#DIV/0!"},{"$f":"COUNTIF(D632:$AL632,\"NE\")/$AV$1","v":{"$error":"#DIV/0!"}},{"$error":"#DIV/0!"}]
[633,{"$nulls":38},{"$error":"#DIV/0!"},{"$error":"#DIV/0!"},{"$error":"#DIV/0!"},{"$error":"#DIV/0!"},{"$f":"COUNTIF(D633:$AL633,\"NE\")/$AV$1","v":{"$error":"#DIV/0!"}},{"$error":"#DIV/0!"}]
[634,{"$nulls":38},{"$error":"#DIV/0!"},{"$error":"#DIV/0!"},{"$error":"#DIV/0!"},{"$error":"#DIV/0!"},{"$f":"COUNTIF(D634:$AL634,\"NE\")/$AV$1","v":{"$error":"#DIV/0!"}},{"$error":"#DIV/0!"}]
[635,{"$nulls":38},{"$error":"#DIV/0!"},{"$error":"#DIV/0!"},{"$error":"#DIV/0!"},{"$error":"#DIV/0!"},{"$f":"COUNTIF(D635:$AL635,\"NE\")/$AV$1","v":{"$error":"#DIV/0!"}},{"$error":"#DIV/0!"}]
[636,{"$nulls":38},{"$error":"#DIV/0!"},{"$error":"#DIV/0!"},{"$error":"#DIV/0!"},{"$error":"#DIV/0!"},{"$f":"COUNTIF(D636:$AL636,\"NE\")/$AV$1","v":{"$error":"#DIV/0!"}},{"$error":"#DIV/0!"}]
[637,{"$nulls":38},{"$error":"#DIV/0!"},{"$error":"#DIV/0!"},{"$error":"#DIV/0!"},{"$error":"#DIV/0!"},{"$f":"COUNTIF(D637:$AL637,\"NE\")/$AV$1","v":{"$error":"#DIV/0!"}},{"$error":"#DIV/0!"}]
[638,{"$nulls":38},{"$error":"#DIV/0!"},{"$error":"#DIV/0!"},{"$error":"#DIV/0!"},{"$error":"#DIV/0!"},{"$f":"COUNTIF(D638:$AL638,\"NE\")/$AV$1","v":{"$error":"#DIV/0!"}},{"$error":"#DIV/0!"}]
[639,{"$nulls":38},{"$error":"#DIV/0!"},{"$error":"#DIV/0!"},{"$error":"#DIV/0!"},{"$error":"#DIV/0!"},{"$f":"COUNTIF(D639:$AL639,\"NE\")/$AV$1","v":{"$error":"#DIV/0!"}},{"$error":"#DIV/0!"}]
[640,{"$nulls":38},{"$error":"#DIV/0!"},{"$error":"#DIV/0!"},{"$error":"#DIV/0!"},{"$error":"#DIV/0!"},{"$f":"COUNTIF(D640:$AL640,\"NE\")/$AV$1","v":{"$error":"#DIV/0!"}},{"$error":"#DIV/0!"}]
[641,{"$nulls":38},{"$error":"#DIV/0!"},{"$error":"#DIV/0!"},{"$error":"#DIV/0!"},{"$error":"#DIV/0!"},{"$f":"COUNTIF(D641:$AL641,\"NE\")/$AV$1","v":{"$error":"#DIV/0!"}},{"$error":"#DIV/0!"}]
[642,{"$nulls":38},{"$error":"#DIV/0!"},{"$error":"#DIV/0!"},{"$error":"#DIV/0!"},{"$error":"#DIV/0!"},{"$f":"COUNTIF(D642:$AL642,\"NE\")/$AV$1","v":{"$error":"#DIV/0!"}},{"$error":"#DIV/0!"}]
[643,{"$nulls":38},{"$error":"#DIV/0!"},{"$error":"#DIV/0!"},{"$error":"#DIV/0!"},{"$error":"#DIV/0!"},{"$f":"COUNTIF(D643:$AL643,\"NE\")/$AV$1","v":{"$error":"#DIV/0!"}},{"$error":"#DIV/0!"}]
[644,{"$nulls":38},{"$error":"#DIV/0!"},{"$error":"#DIV/0!"},{"$error":"#DIV/0!"},{"$error":"#DIV/0!"},{"$f":"COUNTIF(D644:$AL644,\"NE\")/$AV$1","v":{"$error":"#DIV/0!"}},{"$error":"#DIV/0!"}]
[645,{"$nulls":38},{"$error":"#DIV/0!"},{"$error":"#DIV/0!"},{"$error":"#DIV/0!"},{"$error":"#DIV/0!"},{"$f":"COUNTIF(D645:$AL645,\"NE\")/$AV$1","v":{"$error":"#DIV/0!"}},{"$error":"#DIV/0!"}]
[646,{"$nulls":38},{"$f":"COUNTIF($D646:$AL646,$AU$1)/$AV$1","v":{"$error":"#DIV/0!"}},{"$f":"COUNTIF($D646:$AL646,$AU$2)/$AV$1","v":{"$error":"#DIV/0!"}},{"$f":"COUNTIF($D646:$AL646,$AU$3)/$AV$1","v":{"$error":"#DIV/0!"}},{"$f":"COUNTIF($D646:$AL646,$AU$4)/$AV$1","v":{"$error":"#DIV/0!"}},{"$f":"COUNTIF(D646:$AL646,\"NE\")/$AV$1","v":{"$error":"#DIV/0!"}},{"$error":"#DIV/0!"}]
[647,{"$nulls":38},{"$error":"#DIV/0!"},{"$error":"#DIV/0!"},{"$error":"#DIV/0!"},{"$error":"#DIV/0!"},{"$f":"COUNTIF(D647:$AL647,\"NE\")/$AV$1","v":{"$error":"#DIV/0!"}},{"$f":"AN647+(AO647*0.66)+(AP647*0.33)","v":{"$error":"#DIV/0!"}}]
[648,{"$nulls":38},{"$error":"#DIV/0!"},{"$error":"#DIV/0!"},{"$error":"#DIV/0!"},{"$error":"#DIV/0!"},{"$f":"COUNTIF(D648:$AL648,\"NE\")/$AV$1","v":{"$error":"#DIV/0!"}},{"$error":"#DIV/0!"}]
[649,{"$nulls":38},{"$error":"#DIV/0!"},{"$error":"#DIV/0!"},{"$error":"#DIV/0!"},{"$error":"#DIV/0!"},{"$f":"COUNTIF(D649:$AL649,\"NE\")/$AV$1","v":{"$error":"#DIV/0!"}},{"$error":"#DIV/0!"}]
[650,{"$nulls":38},{"$error":"#DIV/0!"},{"$error":"#DIV/0!"},{"$error":"#DIV/0!"},{"$error":"#DIV/0!"},{"$f":"COUNTIF(D650:$AL650,\"NE\")/$AV$1","v":{"$error":"#DIV/0!"}},{"$error":"#DIV/0!"}]
[651,{"$nulls":38},{"$error":"#DIV/0!"},{"$error":"#DIV/0!"},{"$error":"#DIV/0!"},{"$error":"#DIV/0!"},{"$f":"COUNTIF(D651:$AL651,\"NE\")/$AV$1","v":{"$error":"#DIV/0!"}},{"$error":"#DIV/0!"}]
[652,{"$nulls":38},{"$error":"#DIV/0!"},{"$error":"#DIV/0!"},{"$error":"#DIV/0!"},{"$error":"#DIV/0!"},{"$f":"COUNTIF(D652:$AL652,\"NE\")/$AV$1","v":{"$error":"#DIV/0!"}},{"$error":"#DIV/0!"}]
[653,{"$nulls":38},{"$error":"#DIV/0!"},{"$error":"#DIV/0!"},{"$error":"#DIV/0!"},{"$error":"#DIV/0!"},{"$f":"COUNTIF(D653:$AL653,\"NE\")/$AV$1","v":{"$error":"#DIV/0!"}},{"$error":"#DIV/0!"}]
[654,{"$nulls":38},{"$error":"#DIV/0!"},{"$error":"#DIV/0!"},{"$error":"#DIV/0!"},{"$error":"#DIV/0!"},{"$f":"COUNTIF(D654:$AL654,\"NE\")/$AV$1","v":{"$error":"#DIV/0!"}},{"$error":"#DIV/0!"}]
[655,{"$nulls":38},{"$error":"#DIV/0!"},{"$error":"#DIV/0!"},{"$error":"#DIV/0!"},{"$error":"#DIV/0!"},{"$f":"COUNTIF(D655:$AL655,\"NE\")/$AV$1","v":{"$error":"#DIV/0!"}},{"$error":"#DIV/0!"}]
[656,{"$nulls":38},{"$error":"#DIV/0!"},{"$error":"#DIV/0!"},{"$error":"#DIV/0!"},{"$error":"#DIV/0!"},{"$f":"COUNTIF(D656:$AL656,\"NE\")/$AV$1","v":{"$error":"#DIV/0!"}},{"$error":"#DIV/0!"}]
[657,{"$nulls":38},{"$error":"#DIV/0!"},{"$error":"#DIV/0!"},{"$error":"#DIV/0!"},{"$error":"#DIV/0!"},{"$f":"COUNTIF(D657:$AL657,\"NE\")/$AV$1","v":{"$error":"#DIV/0!"}},{"$error":"#DIV/0!"}]
[658,{"$nulls":38},{"$error":"#DIV/0!"},{"$error":"#DIV/0!"},{"$error":"#DIV/0!"},{"$error":"#DIV/0!"},{"$f":"COUNTIF(D658:$AL658,\"NE\")/$AV$1","v":{"$error":"#DIV/0!"}},{"$error":"#DIV/0!"}]
[659,{"$nulls":38},{"$error":"#DIV/0!"},{"$error":"#DIV/0!"},{"$error":"#DIV/0!"},{"$error":"#DIV/0!"},{"$f":"COUNTIF(D659:$AL659,\"NE\")/$AV$1","v":{"$error":"#DIV/0!"}},{"$error":"#DIV/0!"}]
[660,{"$nulls":38},{"$error":"#DIV/0!"},{"$error":"#DIV/0!"},{"$error":"#DIV/0!"},{"$error":"#DIV/0!"},{"$f":"COUNTIF(D660:$AL660,\"NE\")/$AV$1","v":{"$error":"#DIV/0!"}},{"$error":"#DIV/0!"}]
[661,{"$nulls":38},{"$error":"#DIV/0!"},{"$error":"#DIV/0!"},{"$error":"#DIV/0!"},{"$error":"#DIV/0!"},{"$f":"COUNTIF(D661:$AL661,\"NE\")/$AV$1","v":{"$error":"#DIV/0!"}},{"$error":"#DIV/0!"}]
[662,{"$nulls":38},{"$error":"#DIV/0!"},{"$error":"#DIV/0!"},{"$error":"#DIV/0!"},{"$error":"#DIV/0!"},{"$f":"COUNTIF(D662:$AL662,\"NE\")/$AV$1","v":{"$error":"#DIV/0!"}},{"$error":"#DIV/0!"}]
[663,{"$nulls":38},{"$error":"#DIV/0!"},{"$error":"#DIV/0!"},{"$error":"#DIV/0!"},{"$error":"#DIV/0!"},{"$f":"COUNTIF(D663:$AL663,\"NE\")/$AV$1","v":{"$error":"#DIV/0!"}},{"$error":"#DIV/0!"}]
[664,{"$nulls":38},{"$error":"#DIV/0!"},{"$error":"#DIV/0!"},{"$error":"#DIV/0!"},{"$error":"#DIV/0!"},{"$f":"COUNTIF(D664:$AL664,\"NE\")/$AV$1","v":{"$error":"#DIV/0!"}},{"$error":"#DIV/0!"}]
[665,{"$nulls":38},{"$error":"#DIV/0!"},{"$error":"#DIV/0!"},{"$error":"#DIV/0!"},{"$error":"#DIV/0!"},{"$f":"COUNTIF(D665:$AL665,\"NE\")/$AV$1","v":{"$error":"#DIV/0!"}},{"$error":"#DIV/0!"}]
[666,{"$nulls":38},{"$error":"#DIV/0!"},{"$error":"#DIV/0!"},{"$error":"#DIV/0!"},{"$error":"#DIV/0!"},{"$f":"COUNTIF(D666:$AL666,\"NE\")/$AV$1","v":{"$error":"#DIV/0!"}},{"$error":"#DIV/0!"}]
[667,{"$nulls":38},{"$error":"#DIV/0!"},{"$error":"#DIV/0!"},{"$error":"#DIV/0!"},{"$error":"#DIV/0!"},{"$f":"COUNTIF(D667:$AL667,\"NE\")/$AV$1","v":{"$error":"#DIV/0!"}},{"$error":"#DIV/0!"}]
[668,{"$nulls":38},{"$error":"#DIV/0!"},{"$error":"#DIV/0!"},{"$error":"#DIV/0!"},{"$error":"#DIV/0!"},{"$f":"COUNTIF(D668:$AL668,\"NE\")/$AV$1","v":{"$error":"#DIV/0!"}},{"$error":"#DIV/0!"}]
[669,{"$nulls":38},{"$error":"#DIV/0!"},{"$error":"#DIV/0!"},{"$error":"#DIV/0!"},{"$error":"#DIV/0!"},{"$f":"COUNTIF(D669:$AL669,\"NE\")/$AV$1","v":{"$error":"#DIV/0!"}},{"$error":"#DIV/0!"}]
[670,{"$nulls":38},{"$error":"#DIV/0!"},{"$error":"#DIV/0!"},{"$error":"#DIV/0!"},{"$error":"#DIV/0!"},{"$f":"COUNTIF(D670:$AL670,\"NE\")/$AV$1","v":{"$error":"#DIV/0!"}},{"$error":"#DIV/0!"}]
[671,{"$nulls":38},{"$error":"#DIV/0!"},{"$error":"#DIV/0!"},{"$error":"#DIV/0!"},{"$error":"#DIV/0!"},{"$f":"COUNTIF(D671:$AL671,\"NE\")/$AV$1","v":{"$error":"#DIV/0!"}},{"$error":"#DIV/0!"}]
[672,{"$nulls":38},{"$error":"#DIV/0!"},{"$error":"#DIV/0!"},{"$error":"#DIV/0!"},{"$error":"#DIV/0!"},{"$f":"COUNTIF(D672:$AL672,\"NE\")/$AV$1","v":{"$error":"#DIV/0!"}},{"$error":"#DIV/0!"}]
[673,{"$nulls":38},{"$error":"#DIV/0!"},{"$error":"#DIV/0!"},{"$error":"#DIV/0!"},{"$error":"#DIV/0!"},{"$f":"COUNTIF(D673:$AL673,\"NE\")/$AV$1","v":{"$error":"#DIV/0!"}},{"$error":"#DIV/0!"}]
[674,{"$nulls":38},{"$error":"#DIV/0!"},{"$error":"#DIV/0!"},{"$error":"#DIV/0!"},{"$error":"#DIV/0!"},{"$f":"COUNTIF(D674:$AL674,\"NE\")/$AV$1","v":{"$error":"#DIV/0!"}},{"$error":"#DIV/0!"}]
[675,{"$nulls":38},{"$error":"#DIV/0!"},{"$error":"#DIV/0!"},{"$error":"#DIV/0!"},{"$error":"#DIV/0!"},{"$f":"COUNTIF(D675:$AL675,\"NE\")/$AV$1","v":{"$error":"#DIV/0!"}},{"$error":"#DIV/0!"}]
[676,{"$nulls":38},{"$error":"#DIV/0!"},{"$error":"#DIV/0!"},{"$error":"#DIV/0!"},{"$error":"#DIV/0!"},{"$f":"COUNTIF(D676:$AL676,\"NE\")/$AV$1","v":{"$error":"#DIV/0!"}},{"$error":"#DIV/0!"}]
[677,{"$nulls":38},{"$error":"#DIV/0!"},{"$error":"#DIV/0!"},{"$error":"#DIV/0!"},{"$error":"#DIV/0!"},{"$f":"COUNTIF(D677:$AL677,\"NE\")/$AV$1","v":{"$error":"#DIV/0!"}},{"$error":"#DIV/0!"}]
[678,{"$nulls":38},{"$error":"#DIV/0!"},{"$error":"#DIV/0!"},{"$error":"#DIV/0!"},{"$error":"#DIV/0!"},{"$f":"COUNTIF(D678:$AL678,\"NE\")/$AV$1","v":{"$error":"#DIV/0!"}},{"$error":"#DIV/0!"}]
[679,{"$nulls":38},{"$error":"#DIV/0!"},{"$error":"#DIV/0!"},{"$error":"#DIV/0!"},{"$error":"#DIV/0!"},{"$f":"COUNTIF(D679:$AL679,\"NE\")/$AV$1","v":{"$error":"#DIV/0!"}},{"$error":"#DIV/0!"}]
[680,{"$nulls":38},{"$error":"#DIV/0!"},{"$error":"#DIV/0!"},{"$error":"#DIV/0!"},{"$error":"#DIV/0!"},{"$f":"COUNTIF(D680:$AL680,\"NE\")/$AV$1","v":{"$error":"#DIV/0!"}},{"$error":"#DIV/0!"}]
[681,{"$nulls":38},{"$error":"#DIV/0!"},{"$error":"#DIV/0!"},{"$error":"#DIV/0!"},{"$error":"#DIV/0!"},{"$f":"COUNTIF(D681:$AL681,\"NE\")/$AV$1","v":{"$error":"#DIV/0!"}},{"$error":"#DIV/0!"}]
[682,{"$nulls":38},{"$error":"#DIV/0!"},{"$error":"#DIV/0!"},{"$error":"#DIV/0!"},{"$error":"#DIV/0!"},{"$f":"COUNTIF(D682:$AL682,\"NE\")/$AV$1","v":{"$error":"#DIV/0!"}},{"$error":"#DIV/0!"}]
[683,{"$nulls":38},{"$error":"#DIV/0!"},{"$error":"#DIV/0!"},{"$error":"#DIV/0!"},{"$error":"#DIV/0!"},{"$f":"COUNTIF(D683:$AL683,\"NE\")/$AV$1","v":{"$error":"#DIV/0!"}},{"$error":"#DIV/0!"}]
[684,{"$nulls":38},{"$error":"#DIV/0!"},{"$error":"#DIV/0!"},{"$error":"#DIV/0!"},{"$error":"#DIV/0!"},{"$f":"COUNTIF(D684:$AL684,\"NE\")/$AV$1","v":{"$error":"#DIV/0!"}},{"$error":"#DIV/0!"}]
[685,{"$nulls":38},{"$error":"#DIV/0!"},{"$error":"#DIV/0!"},{"$error":"#DIV/0!"},{"$error":"#DIV/0!"},{"$f":"COUNTIF(D685:$AL685,\"NE\")/$AV$1","v":{"$error":"#DIV/0!"}},{"$error":"#DIV/0!"}]
[686,{"$nulls":38},{"$error":"#DIV/0!"},{"$error":"#DIV/0!"},{"$error":"#DIV/0!"},{"$error":"#DIV/0!"},{"$f":"COUNTIF(D686:$AL686,\"NE\")/$AV$1","v":{"$error":"#DIV/0!"}},{"$error":"#DIV/0!"}]
[687,{"$nulls":38},{"$error":"#DIV/0!"},{"$error":"#DIV/0!"},{"$error":"#DIV/0!"},{"$error":"#DIV/0!"},{"$f":"COUNTIF(D687:$AL687,\"NE\")/$AV$1","v":{"$error":"#DIV/0!"}},{"$error":"#DIV/0!"}]
[688,{"$nulls":38},{"$error":"#DIV/0!"},{"$error":"#DIV/0!"},{"$error":"#DIV/0!"},{"$error":"#DIV/0!"},{"$f":"COUNTIF(D688:$AL688,\"NE\")/$AV$1","v":{"$error":"#DIV/0!"}},{"$error":"#DIV/0!"}]
[689,{"$nulls":38},{"$error":"#DIV/0!"},{"$error":"#DIV/0!"},{"$error":"#DIV/0!"},{"$error":"#DIV/0!"},{"$f":"COUNTIF(D689:$AL689,\"NE\")/$AV$1","v":{"$error":"#DIV/0!"}},{"$error":"#DIV/0!"}]
[690,{"$nulls":38},{"$error":"#DIV/0!"},{"$error":"#DIV/0!"},{"$error":"#DIV/0!"},{"$error":"#DIV/0!"},{"$f":"COUNTIF(D690:$AL690,\"NE\")/$AV$1","v":{"$error":"#DIV/0!"}},{"$error":"#DIV/0!"}]
[691,{"$nulls":38},{"$error":"#DIV/0!"},{"$error":"#DIV/0!"},{"$error":"#DIV/0!"},{"$error":"#DIV/0!"},{"$f":"COUNTIF(D691:$AL691,\"NE\")/$AV$1","v":{"$error":"#DIV/0!"}},{"$error":"#DIV/0!"}]
[692,{"$nulls":38},{"$error":"#DIV/0!"},{"$error":"#DIV/0!"},{"$error":"#DIV/0!"},{"$error":"#DIV/0!"},{"$f":"COUNTIF(D692:$AL692,\"NE\")/$AV$1","v":{"$error":"#DIV/0!"}},{"$error":"#DIV/0!"}]
[693,{"$nulls":38},{"$error":"#DIV/0!"},{"$error":"#DIV/0!"},{"$error":"#DIV/0!"},{"$error":"#DIV/0!"},{"$f":"COUNTIF(D693:$AL693,\"NE\")/$AV$1","v":{"$error":"#DIV/0!"}},{"$error":"#DIV/0!"}]
[694,{"$nulls":38},{"$error":"#DIV/0!"},{"$error":"#DIV/0!"},{"$error":"#DIV/0!"},{"$error":"#DIV/0!"},{"$f":"COUNTIF(D694:$AL694,\"NE\")/$AV$1","v":{"$error":"#DIV/0!"}},{"$error":"#DIV/0!"}]
[695,{"$nulls":38},{"$error":"#DIV/0!"},{"$error":"#DIV/0!"},{"$error":"#DIV/0!"},{"$error":"#DIV/0!"},{"$f":"COUNTIF(D695:$AL695,\"NE\")/$AV$1","v":{"$error":"#DIV/0!"}},{"$error":"#DIV/0!"}]
[696,{"$nulls":38},{"$error":"#DIV/0!"},{"$error":"#DIV/0!"},{"$error":"#DIV/0!"},{"$error":"#DIV/0!"},{"$f":"COUNTIF(D696:$AL696,\"NE\")/$AV$1","v":{"$error":"#DIV/0!"}},{"$error":"#DIV/0!"}]
[697,{"$nulls":38},{"$error":"#DIV/0!"},{"$error":"#DIV/0!"},{"$error":"#DIV/0!"},{"$error":"#DIV/0!"},{"$f":"COUNTIF(D697:$AL697,\"NE\")/$AV$1","v":{"$error":"#DIV/0!"}},{"$error":"#DIV/0!"}]
[698,{"$nulls":38},{"$error":"#DIV/0!"},{"$error":"#DIV/0!"},{"$error":"#DIV/0!"},{"$error":"#DIV/0!"},{"$f":"COUNTIF(D698:$AL698,\"NE\")/$AV$1","v":{"$error":"#DIV/0!"}},{"$error":"#DIV/0!"}]
[699,{"$nulls":38},{"$error":"#DIV/0!"},{"$error":"#DIV/0!"},{"$error":"#DIV/0!"},{"$error":"#DIV/0!"},{"$f":"COUNTIF(D699:$AL699,\"NE\")/$AV$1","v":{"$error":"#DIV/0!"}},{"$error":"#DIV/0!"}]
[700,{"$nulls":38},{"$error":"#DIV/0!"},{"$error":"#DIV/0!"},{"$error":"#DIV/0!"},{"$error":"#DIV/0!"},{"$f":"COUNTIF(D700:$AL700,\"NE\")/$AV$1","v":{"$error":"#DIV/0!"}},{"$error":"#DIV/0!"}]
[701,{"$nulls":38},{"$error":"#DIV/0!"},{"$error":"#DIV/0!"},{"$error":"#DIV/0!"},{"$error":"#DIV/0!"},{"$f":"COUNTIF(D701:$AL701,\"NE\")/$AV$1","v":{"$error":"#DIV/0!"}},{"$error":"#DIV/0!"}]
[702,{"$nulls":38},{"$error":"#DIV/0!"},{"$error":"#DIV/0!"},{"$error":"#DIV/0!"},{"$error":"#DIV/0!"},{"$f":"COUNTIF(D702:$AL702,\"NE\")/$AV$1","v":{"$error":"#DIV/0!"}},{"$error":"#DIV/0!"}]
[703,{"$nulls":38},{"$error":"#DIV/0!"},{"$error":"#DIV/0!"},{"$error":"#DIV/0!"},{"$error":"#DIV/0!"},{"$f":"COUNTIF(D703:$AL703,\"NE\")/$AV$1","v":{"$error":"#DIV/0!"}},{"$error":"#DIV/0!"}]
[704,{"$nulls":38},{"$error":"#DIV/0!"},{"$error":"#DIV/0!"},{"$error":"#DIV/0!"},{"$error":"#DIV/0!"},{"$f":"COUNTIF(D704:$AL704,\"NE\")/$AV$1","v":{"$error":"#DIV/0!"}},{"$error":"#DIV/0!"}]
[705,{"$nulls":38},{"$error":"#DIV/0!"},{"$error":"#DIV/0!"},{"$error":"#DIV/0!"},{"$error":"#DIV/0!"},{"$f":"COUNTIF(D705:$AL705,\"NE\")/$AV$1","v":{"$error":"#DIV/0!"}},{"$error":"#DIV/0!"}]
[706,{"$nulls":38},{"$error":"#DIV/0!"},{"$error":"#DIV/0!"},{"$error":"#DIV/0!"},{"$error":"#DIV/0!"},{"$f":"COUNTIF(D706:$AL706,\"NE\")/$AV$1","v":{"$error":"#DIV/0!"}},{"$error":"#DIV/0!"}]
[707,{"$nulls":38},{"$error":"#DIV/0!"},{"$error":"#DIV/0!"},{"$error":"#DIV/0!"},{"$error":"#DIV/0!"},{"$f":"COUNTIF(D707:$AL707,\"NE\")/$AV$1","v":{"$error":"#DIV/0!"}},{"$error":"#DIV/0!"}]
[708,{"$nulls":38},{"$error":"#DIV/0!"},{"$error":"#DIV/0!"},{"$error":"#DIV/0!"},{"$error":"#DIV/0!"},{"$f":"COUNTIF(D708:$AL708,\"NE\")/$AV$1","v":{"$error":"#DIV/0!"}},{"$error":"#DIV/0!"}]
[709,{"$nulls":38},{"$error":"#DIV/0!"},{"$error":"#DIV/0!"},{"$error":"#DIV/0!"},{"$error":"#DIV/0!"},{"$f":"COUNTIF(D709:$AL709,\"NE\")/$AV$1","v":{"$error":"#DIV/0!"}},{"$error":"#DIV/0!"}]
[710,{"$nulls":38},{"$f":"COUNTIF($D710:$AL710,$AU$1)/$AV$1","v":{"$error":"#DIV/0!"}},{"$f":"COUNTIF($D710:$AL710,$AU$2)/$AV$1","v":{"$error":"#DIV/0!"}},{"$f":"COUNTIF($D710:$AL710,$AU$3)/$AV$1","v":{"$error":"#DIV/0!"}},{"$f":"COUNTIF($D710:$AL710,$AU$4)/$AV$1","v":{"$error":"#DIV/0!"}},{"$f":"COUNTIF(D710:$AL710,\"NE\")/$AV$1","v":{"$error":"#DIV/0!"}},{"$error":"#DIV/0!"}]
[711,{"$nulls":38},{"$error":"#DIV/0!"},{"$error":"#DIV/0!"},{"$error":"#DIV/0!"},{"$error":"#DIV/0!"},{"$f":"COUNTIF(D711:$AL711,\"NE\")/$AV$1","v":{"$error":"#DIV/0!"}},{"$f":"AN711+(AO711*0.66)+(AP711*0.33)","v":{"$error":"#DIV/0!"}}]
[712,{"$nulls":38},{"$error":"#DIV/0!"},{"$error":"#DIV/0!"},{"$error":"#DIV/0!"},{"$error":"#DIV/0!"},{"$f":"COUNTIF(D712:$AL712,\"NE\")/$AV$1","v":{"$error":"#DIV/0!"}},{"$error":"#DIV/0!"}]
[713,{"$nulls":38},{"$error":"#DIV/0!"},{"$error":"#DIV/0!"},{"$error":"#DIV/0!"},{"$error":"#DIV/0!"},{"$f":"COUNTIF(D713:$AL713,\"NE\")/$AV$1","v":{"$error":"#DIV/0!"}},{"$error":"#DIV/0!"}]
[714,{"$nulls":38},{"$error":"#DIV/0!"},{"$error":"#DIV/0!"},{"$error":"#DIV/0!"},{"$error":"#DIV/0!"},{"$f":"COUNTIF(D714:$AL714,\"NE\")/$AV$1","v":{"$error":"#DIV/0!"}},{"$error":"#DIV/0!"}]
[715,{"$nulls":38},{"$error":"#DIV/0!"},{"$error":"#DIV/0!"},{"$error":"#DIV/0!"},{"$error":"#DIV/0!"},{"$f":"COUNTIF(D715:$AL715,\"NE\")/$AV$1","v":{"$error":"#DIV/0!"}},{"$error":"#DIV/0!"}]
[716,{"$nulls":38},{"$error":"#DIV/0!"},{"$error":"#DIV/0!"},{"$error":"#DIV/0!"},{"$error":"#DIV/0!"},{"$f":"COUNTIF(D716:$AL716,\"NE\")/$AV$1","v":{"$error":"#DIV/0!"}},{"$error":"#DIV/0!"}]
[717,{"$nulls":38},{"$error":"#DIV/0!"},{"$error":"#DIV/0!"},{"$error":"#DIV/0!"},{"$error":"#DIV/0!"},{"$f":"COUNTIF(D717:$AL717,\"NE\")/$AV$1","v":{"$error":"#DIV/0!"}},{"$error":"#DIV/0!"}]
[718,{"$nulls":38},{"$error":"#DIV/0!"},{"$error":"#DIV/0!"},{"$error":"#DIV/0!"},{"$error":"#DIV/0!"},{"$f":"COUNTIF(D718:$AL718,\"NE\")/$AV$1","v":{"$error":"#DIV/0!"}},{"$error":"#DIV/0!"}]
[719,{"$nulls":38},{"$error":"#DIV/0!"},{"$error":"#DIV/0!"},{"$error":"#DIV/0!"},{"$error":"#DIV/0!"},{"$f":"COUNTIF(D719:$AL719,\"NE\")/$AV$1","v":{"$error":"#DIV/0!"}},{"$error":"#DIV/0!"}]
[720,{"$nulls":38},{"$error":"#DIV/0!"},{"$error":"#DIV/0!"},{"$error":"#DIV/0!"},{"$error":"#DIV/0!"},{"$f":"COUNTIF(D720:$AL720,\"NE\")/$AV$1","v":{"$error":"#DIV/0!"}},{"$error":"#DIV/0!"}]
[721,{"$nulls":38},{"$error":"#DIV/0!"},{"$error":"#DIV/0!"},{"$error":"#DIV/0!"},{"$error":"#DIV/0!"},{"$f":"COUNTIF(D721:$AL721,\"NE\")/$AV$1","v":{"$error":"#DIV/0!"}},{"$error":"#DIV/0!"}]
[722,{"$nulls":38},{"$error":"#DIV/0!"},{"$error":"#DIV/0!"},{"$error":"#DIV/0!"},{"$error":"#DIV/0!"},{"$f":"COUNTIF(D722:$AL722,\"NE\")/$AV$1","v":{"$error":"#DIV/0!"}},{"$error":"#DIV/0!"}]
[723,{"$nulls":38},{"$error":"#DIV/0!"},{"$error":"#DIV/0!"},{"$error":"#DIV/0!"},{"$error":"#DIV/0!"},{"$f":"COUNTIF(D723:$AL723,\"NE\")/$AV$1","v":{"$error":"#DIV/0!"}},{"$error":"#DIV/0!"}]
[724,{"$nulls":38},{"$error":"#DIV/0!"},{"$error":"#DIV/0!"},{"$error":"#DIV/0!"},{"$error":"#DIV/0!"},{"$f":"COUNTIF(D724:$AL724,\"NE\")/$AV$1","v":{"$error":"#DIV/0!"}},{"$error":"#DIV/0!"}]
[725,{"$nulls":38},{"$error":"#DIV/0!"},{"$error":"#DIV/0!"},{"$error":"#DIV/0!"},{"$error":"#DIV/0!"},{"$f":"COUNTIF(D725:$AL725,\"NE\")/$AV$1","v":{"$error":"#DIV/0!"}},{"$error":"#DIV/0!"}]
[726,{"$nulls":38},{"$error":"#DIV/0!"},{"$error":"#DIV/0!"},{"$error":"#DIV/0!"},{"$error":"#DIV/0!"},{"$f":"COUNTIF(D726:$AL726,\"NE\")/$AV$1","v":{"$error":"#DIV/0!"}},{"$error":"#DIV/0!"}]
[727,{"$nulls":38},{"$error":"#DIV/0!"},{"$error":"#DIV/0!"},{"$error":"#DIV/0!"},{"$error":"#DIV/0!"},{"$f":"COUNTIF(D727:$AL727,\"NE\")/$AV$1","v":{"$error":"#DIV/0!"}},{"$error":"#DIV/0!"}]
[728,{"$nulls":38},{"$error":"#DIV/0!"},{"$error":"#DIV/0!"},{"$error":"#DIV/0!"},{"$error":"#DIV/0!"},{"$f":"COUNTIF(D728:$AL728,\"NE\")/$AV$1","v":{"$error":"#DIV/0!"}},{"$error":"#DIV/0!"}]
[729,{"$nulls":38},{"$error":"#DIV/0!"},{"$error":"#DIV/0!"},{"$error":"#DIV/0!"},{"$error":"#DIV/0!"},{"$f":"COUNTIF(D729:$AL729,\"NE\")/$AV$1","v":{"$error":"#DIV/0!"}},{"$error":"#DIV/0!"}]
[730,{"$nulls":38},{"$error":"#DIV/0!"},{"$error":"#DIV/0!"},{"$error":"#DIV/0!"},{"$error":"#DIV/0!"},{"$f":"COUNTIF(D730:$AL730,\"NE\")/$AV$1","v":{"$error":"#DIV/0!"}},{"$error":"#DIV/0!"}]
[731,{"$nulls":38},{"$error":"#DIV/0!"},{"$error":"#DIV/0!"},{"$error":"#DIV/0!"},{"$error":"#DIV/0!"},{"$f":"COUNTIF(D731:$AL731,\"NE\")/$AV$1","v":{"$error":"#DIV/0!"}},{"$error":"#DIV/0!"}]
[732,{"$nulls":38},{"$error":"#DIV/0!"},{"$error":"#DIV/0!"},{"$error":"#DIV/0!"},{"$error":"#DIV/0!"},{"$f":"COUNTIF(D732:$AL732,\"NE\")/$AV$1","v":{"$error":"#DIV/0!"}},{"$error":"#DIV/0!"}]
[733,{"$nulls":38},{"$error":"#DIV/0!"},{"$error":"#DIV/0!"},{"$error":"#DIV/0!"},{"$error":"#DIV/0!"},{"$f":"COUNTIF(D733:$AL733,\"NE\")/$AV$1","v":{"$error":"#DIV/0!"}},{"$error":"#DIV/0!"}]
[734,{"$nulls":38},{"$error":"#DIV/0!"},{"$error":"#DIV/0!"},{"$error":"#DIV/0!"},{"$error":"#DIV/0!"},{"$f":"COUNTIF(D734:$AL734,\"NE\")/$AV$1","v":{"$error":"#DIV/0!"}},{"$error":"#DIV/0!"}]
[735,{"$nulls":38},{"$error":"#DIV/0!"},{"$error":"#DIV/0!"},{"$error":"#DIV/0!"},{"$error":"#DIV/0!"},{"$f":"COUNTIF(D735:$AL735,\"NE\")/$AV$1","v":{"$error":"#DIV/0!"}},{"$error":"#DIV/0!"}]
[736,{"$nulls":38},{"$error":"#DIV/0!"},{"$error":"#DIV/0!"},{"$error":"#DIV/0!"},{"$error":"#DIV/0!"},{"$f":"COUNTIF(D736:$AL736,\"NE\")/$AV$1","v":{"$error":"#DIV/0!"}},{"$error":"#DIV/0!"}]
[737,{"$nulls":38},{"$error":"#DIV/0!"},{"$error":"#DIV/0!"},{"$error":"#DIV/0!"},{"$error":"#DIV/0!"},{"$f":"COUNTIF(D737:$AL737,\"NE\")/$AV$1","v":{"$error":"#DIV/0!"}},{"$error":"#DIV/0!"}]
[738,{"$nulls":38},{"$error":"#DIV/0!"},{"$error":"#DIV/0!"},{"$error":"#DIV/0!"},{"$error":"#DIV/0!"},{"$f":"COUNTIF(D738:$AL738,\"NE\")/$AV$1","v":{"$error":"#DIV/0!"}},{"$error":"#DIV/0!"}]
[739,{"$nulls":38},{"$error":"#DIV/0!"},{"$error":"#DIV/0!"},{"$error":"#DIV/0!"},{"$error":"#DIV/0!"},{"$f":"COUNTIF(D739:$AL739,\"NE\")/$AV$1","v":{"$error":"#DIV/0!"}},{"$error":"#DIV/0!"}]
[740,{"$nulls":38},{"$error":"#DIV/0!"},{"$error":"#DIV/0!"},{"$error":"#DIV/0!"},{"$error":"#DIV/0!"},{"$f":"COUNTIF(D740:$AL740,\"NE\")/$AV$1","v":{"$error":"#DIV/0!"}},{"$error":"#DIV/0!"}]
[741,{"$nulls":38},{"$error":"#DIV/0!"},{"$error":"#DIV/0!"},{"$error":"#DIV/0!"},{"$error":"#DIV/0!"},{"$f":"COUNTIF(D741:$AL741,\"NE\")/$AV$1","v":{"$error":"#DIV/0!"}},{"$error":"#DIV/0!"}]
[742,{"$nulls":38},{"$error":"#DIV/0!"},{"$error":"#DIV/0!"},{"$error":"#DIV/0!"},{"$error":"#DIV/0!"},{"$f":"COUNTIF(D742:$AL742,\"NE\")/$AV$1","v":{"$error":"#DIV/0!"}},{"$error":"#DIV/0!"}]
[743,{"$nulls":38},{"$error":"#DIV/0!"},{"$error":"#DIV/0!"},{"$error":"#DIV/0!"},{"$error":"#DIV/0!"},{"$f":"COUNTIF(D743:$AL743,\"NE\")/$AV$1","v":{"$error":"#DIV/0!"}},{"$error":"#DIV/0!"}]
[744,{"$nulls":38},{"$error":"#DIV/0!"},{"$error":"#DIV/0!"},{"$error":"#DIV/0!"},{"$error":"#DIV/0!"},{"$f":"COUNTIF(D744:$AL744,\"NE\")/$AV$1","v":{"$error":"#DIV/0!"}},{"$error":"#DIV/0!"}]
[745,{"$nulls":38},{"$error":"#DIV/0!"},{"$error":"#DIV/0!"},{"$error":"#DIV/0!"},{"$error":"#DIV/0!"},{"$f":"COUNTIF(D745:$AL745,\"NE\")/$AV$1","v":{"$error":"#DIV/0!"}},{"$error":"#DIV/0!"}]
[746,{"$nulls":38},{"$error":"#DIV/0!"},{"$error":"#DIV/0!"},{"$error":"#DIV/0!"},{"$error":"#DIV/0!"},{"$f":"COUNTIF(D746:$AL746,\"NE\")/$AV$1","v":{"$error":"#DIV/0!"}},{"$error":"#DIV/0!"}]
[747,{"$nulls":38},{"$error":"#DIV/0!"},{"$error":"#DIV/0!"},{"$error":"#DIV/0!"},{"$error":"#DIV/0!"},{"$f":"COUNTIF(D747:$AL747,\"NE\")/$AV$1","v":{"$error":"#DIV/0!"}},{"$error":"#DIV/0!"}]
[748,{"$nulls":38},{"$error":"#DIV/0!"},{"$error":"#DIV/0!"},{"$error":"#DIV/0!"},{"$error":"#DIV/0!"},{"$f":"COUNTIF(D748:$AL748,\"NE\")/$AV$1","v":{"$error":"#DIV/0!"}},{"$error":"#DIV/0!"}]
[749,{"$nulls":38},{"$error":"#DIV/0!"},{"$error":"#DIV/0!"},{"$error":"#DIV/0!"},{"$error":"#DIV/0!"},{"$f":"COUNTIF(D749:$AL749,\"NE\")/$AV$1","v":{"$error":"#DIV/0!"}},{"$error":"#DIV/0!"}]
[750,{"$nulls":38},{"$error":"#DIV/0!"},{"$error":"#DIV/0!"},{"$error":"#DIV/0!"},{"$error":"#DIV/0!"},{"$f":"COUNTIF(D750:$AL750,\"NE\")/$AV$1","v":{"$error":"#DIV/0!"}},{"$error":"#DIV/0!"}]
[751,{"$nulls":38},{"$error":"#DIV/0!"},{"$error":"#DIV/0!"},{"$error":"#DIV/0!"},{"$error":"#DIV/0!"},{"$f":"COUNTIF(D751:$AL751,\"NE\")/$AV$1","v":{"$error":"#DIV/0!"}},{"$error":"#DIV/0!"}]
[752,{"$nulls":38},{"$error":"#DIV/0!"},{"$error":"#DIV/0!"},{"$error":"#DIV/0!"},{"$error":"#DIV/0!"},{"$f":"COUNTIF(D752:$AL752,\"NE\")/$AV$1","v":{"$error":"#DIV/0!"}},{"$error":"#DIV/0!"}]
[753,{"$nulls":38},{"$error":"#DIV/0!"},{"$error":"#DIV/0!"},{"$error":"#DIV/0!"},{"$error":"#DIV/0!"},{"$f":"COUNTIF(D753:$AL753,\"NE\")/$AV$1","v":{"$error":"#DIV/0!"}},{"$error":"#DIV/0!"}]
[754,{"$nulls":38},{"$error":"#DIV/0!"},{"$error":"#DIV/0!"},{"$error":"#DIV/0!"},{"$error":"#DIV/0!"},{"$f":"COUNTIF(D754:$AL754,\"NE\")/$AV$1","v":{"$error":"#DIV/0!"}},{"$error":"#DIV/0!"}]
[755,{"$nulls":38},{"$error":"#DIV/0!"},{"$error":"#DIV/0!"},{"$error":"#DIV/0!"},{"$error":"#DIV/0!"},{"$f":"COUNTIF(D755:$AL755,\"NE\")/$AV$1","v":{"$error":"#DIV/0!"}},{"$error":"#DIV/0!"}]
[756,{"$nulls":38},{"$error":"#DIV/0!"},{"$error":"#DIV/0!"},{"$error":"#DIV/0!"},{"$error":"#DIV/0!"},{"$f":"COUNTIF(D756:$AL756,\"NE\")/$AV$1","v":{"$error":"#DIV/0!"}},{"$error":"#DIV/0!"}]
[757,{"$nulls":38},{"$error":"#DIV/0!"},{"$error":"#DIV/0!"},{"$error":"#DIV/0!"},{"$error":"#DIV/0!"},{"$f":"COUNTIF(D757:$AL757,\"NE\")/$AV$1","v":{"$error":"#DIV/0!"}},{"$error":"#DIV/0!"}]
[758,{"$nulls":38},{"$error":"#DIV/0!"},{"$error":"#DIV/0!"},{"$error":"#DIV/0!"},{"$error":"#DIV/0!"},{"$f":"COUNTIF(D758:$AL758,\"NE\")/$AV$1","v":{"$error":"#DIV/0!"}},{"$error":"#DIV/0!"}]
[759,{"$nulls":38},{"$error":"#DIV/0!"},{"$error":"#DIV/0!"},{"$error":"#DIV/0!"},{"$error":"#DIV/0!"},{"$f":"COUNTIF(D759:$AL759,\"NE\")/$AV$1","v":{"$error":"#DIV/0!"}},{"$error":"#DIV/0!"}]
[760,{"$nulls":38},{"$error":"#DIV/0!"},{"$error":"#DIV/0!"},{"$error":"#DIV/0!"},{"$error":"#DIV/0!"},{"$f":"COUNTIF(D760:$AL760,\"NE\")/$AV$1","v":{"$error":"#DIV/0!"}},{"$error":"#DIV/0!"}]
[761,{"$nulls":38},{"$error":"#DIV/0!"},{"$error":"#DIV/0!"},{"$error":"#DIV/0!"},{"$error":"#DIV/0!"},{"$f":"COUNTIF(D761:$AL761,\"NE\")/$AV$1","v":{"$error":"#DIV/0!"}},{"$error":"#DIV/0!"}]
[762,{"$nulls":38},{"$error":"#DIV/0!"},{"$error":"#DIV/0!"},{"$error":"#DIV/0!"},{"$error":"#DIV/0!"},{"$f":"COUNTIF(D762:$AL762,\"NE\")/$AV$1","v":{"$error":"#DIV/0!"}},{"$error":"#DIV/0!"}]
[763,{"$nulls":38},{"$error":"#DIV/0!"},{"$error":"#DIV/0!"},{"$error":"#DIV/0!"},{"$error":"#DIV/0!"},{"$f":"COUNTIF(D763:$AL763,\"NE\")/$AV$1","v":{"$error":"#DIV/0!"}},{"$error":"#DIV/0!"}]
[764,{"$nulls":38},{"$error":"#DIV/0!"},{"$error":"#DIV/0!"},{"$error":"#DIV/0!"},{"$error":"#DIV/0!"},{"$f":"COUNTIF(D764:$AL764,\"NE\")/$AV$1","v":{"$error":"#DIV/0!"}},{"$error":"#DIV/0!"}]
[765,{"$nulls":38},{"$error":"#DIV/0!"},{"$error":"#DIV/0!"},{"$error":"#DIV/0!"},{"$error":"#DIV/0!"},{"$f":"COUNTIF(D765:$AL765,\"NE\")/$AV$1","v":{"$error":"#DIV/0!"}},{"$error":"#DIV/0!"}]
[766,{"$nulls":38},{"$error":"#DIV/0!"},{"$error":"#DIV/0!"},{"$error":"#DIV/0!"},{"$error":"#DIV/0!"},{"$f":"COUNTIF(D766:$AL766,\"NE\")/$AV$1","v":{"$error":"#DIV/0!"}},{"$error":"#DIV/0!"}]
[767,{"$nulls":38},{"$error":"#DIV/0!"},{"$error":"#DIV/0!"},{"$error":"#DIV/0!"},{"$error":"#DIV/0!"},{"$f":"COUNTIF(D767:$AL767,\"NE\")/$AV$1","v":{"$error":"#DIV/0!"}},{"$error":"#DIV/0!"}]
[768,{"$nulls":38},{"$error":"#DIV/0!"},{"$error":"#DIV/0!"},{"$error":"#DIV/0!"},{"$error":"#DIV/0!"},{"$f":"COUNTIF(D768:$AL768,\"NE\")/$AV$1","v":{"$error":"#DIV/0!"}},{"$error":"#DIV/0!"}]
[769,{"$nulls":38},{"$error":"#DIV/0!"},{"$error":"#DIV/0!"},{"$error":"#DIV/0!"},{"$error":"#DIV/0!"},{"$f":"COUNTIF(D769:$AL769,\"NE\")/$AV$1","v":{"$error":"#DIV/0!"}},{"$error":"#DIV/0!"}]
[770,{"$nulls":38},{"$error":"#DIV/0!"},{"$error":"#DIV/0!"},{"$error":"#DIV/0!"},{"$error":"#DIV/0!"},{"$f":"COUNTIF(D770:$AL770,\"NE\")/$AV$1","v":{"$error":"#DIV/0!"}},{"$error":"#DIV/0!"}]
[771,{"$nulls":38},{"$error":"#DIV/0!"},{"$error":"#DIV/0!"},{"$error":"#DIV/0!"},{"$error":"#DIV/0!"},{"$f":"COUNTIF(D771:$AL771,\"NE\")/$AV$1","v":{"$error":"#DIV/0!"}},{"$error":"#DIV/0!"}]
[772,{"$nulls":38},{"$error":"#DIV/0!"},{"$error":"#DIV/0!"},{"$error":"#DIV/0!"},{"$error":"#DIV/0!"},{"$f":"COUNTIF(D772:$AL772,\"NE\")/$AV$1","v":{"$error":"#DIV/0!"}},{"$error":"#DIV/0!"}]
[773,{"$nulls":38},{"$error":"#DIV/0!"},{"$error":"#DIV/0!"},{"$error":"#DIV/0!"},{"$error":"#DIV/0!"},{"$f":"COUNTIF(D773:$AL773,\"NE\")/$AV$1","v":{"$error":"#DIV/0!"}},{"$error":"#DIV/0!"}]
[774,{"$nulls":38},{"$f":"COUNTIF($D774:$AL774,$AU$1)/$AV$1","v":{"$error":"#DIV/0!"}},{"$f":"COUNTIF($D774:$AL774,$AU$2)/$AV$1","v":{"$error":"#DIV/0!"}},{"$f":"COUNTIF($D774:$AL774,$AU$3)/$AV$1","v":{"$error":"#DIV/0!"}},{"$f":"COUNTIF($D774:$AL774,$AU$4)/$AV$1","v":{"$error":"#DIV/0!"}},{"$f":"COUNTIF(D774:$AL774,\"NE\")/$AV$1","v":{"$error":"#DIV/0!"}},{"$error":"#DIV/0!"}]
[775,{"$nulls":38},{"$error":"#DIV/0!"},{"$error":"#DIV/0!"},{"$error":"#DIV/0!"},{"$error":"#DIV/0!"},{"$f":"COUNTIF(D775:$AL775,\"NE\")/$AV$1","v":{"$error":"#DIV/0!"}},{"$f":"AN775+(AO775*0.66)+(AP775*0.33)","v":{"$error":"#DIV/0!"}}]
[776,{"$nulls":38},{"$error":"#DIV/0!"},{"$error":"#DIV/0!"},{"$error":"#DIV/0!"},{"$error":"#DIV/0!"},{"$f":"COUNTIF(D776:$AL776,\"NE\")/$AV$1","v":{"$error":"#DIV/0!"}},{"$error":"#DIV/0!"}]
[777,{"$nulls":38},{"$error":"#DIV/0!"},{"$error":"#DIV/0!"},{"$error":"#DIV/0!"},{"$error":"#DIV/0!"},{"$f":"COUNTIF(D777:$AL777,\"NE\")/$AV$1","v":{"$error":"#DIV/0!"}},{"$error":"#DIV/0!"}]
[778,{"$nulls":38},{"$error":"#DIV/0!"},{"$error":"#DIV/0!"},{"$error":"#DIV/0!"},{"$error":"#DIV/0!"},{"$f":"COUNTIF(D778:$AL778,\"NE\")/$AV$1","v":{"$error":"#DIV/0!"}},{"$error":"#DIV/0!"}]
[779,{"$nulls":38},{"$error":"#DIV/0!"},{"$error":"#DIV/0!"},{"$error":"#DIV/0!"},{"$error":"#DIV/0!"},{"$f":"COUNTIF(D779:$AL779,\"NE\")/$AV$1","v":{"$error":"#DIV/0!"}},{"$error":"#DIV/0!"}]
[780,{"$nulls":38},{"$error":"#DIV/0!"},{"$error":"#DIV/0!"},{"$error":"#DIV/0!"},{"$error":"#DIV/0!"},{"$f":"COUNTIF(D780:$AL780,\"NE\")/$AV$1","v":{"$error":"#DIV/0!"}},{"$error":"#DIV/0!"}]
[781,{"$nulls":38},{"$error":"#DIV/0!"},{"$error":"#DIV/0!"},{"$error":"#DIV/0!"},{"$error":"#DIV/0!"},{"$f":"COUNTIF(D781:$AL781,\"NE\")/$AV$1","v":{"$error":"#DIV/0!"}},{"$error":"#DIV/0!"}]
[782,{"$nulls":38},{"$error":"#DIV/0!"},{"$error":"#DIV/0!"},{"$error":"#DIV/0!"},{"$error":"#DIV/0!"},{"$f":"COUNTIF(D782:$AL782,\"NE\")/$AV$1","v":{"$error":"#DIV/0!"}},{"$error":"#DIV/0!"}]
[783,{"$nulls":38},{"$error":"#DIV/0!"},{"$error":"#DIV/0!"},{"$error":"#DIV/0!"},{"$error":"#DIV/0!"},{"$f":"COUNTIF(D783:$AL783,\"NE\")/$AV$1","v":{"$error":"#DIV/0!"}},{"$error":"#DIV/0!"}]
[784,{"$nulls":38},{"$error":"#DIV/0!"},{"$error":"#DIV/0!"},{"$error":"#DIV/0!"},{"$error":"#DIV/0!"},{"$f":"COUNTIF(D784:$AL784,\"NE\")/$AV$1","v":{"$error":"#DIV/0!"}},{"$error":"#DIV/0!"}]
[785,{"$nulls":38},{"$error":"#DIV/0!"},{"$error":"#DIV/0!"},{"$error":"#DIV/0!"},{"$error":"#DIV/0!"},{"$f":"COUNTIF(D785:$AL785,\"NE\")/$AV$1","v":{"$error":"#DIV/0!"}},{"$error":"#DIV/0!"}]
[786,{"$nulls":38},{"$error":"#DIV/0!"},{"$error":"#DIV/0!"},{"$error":"#DIV/0!"},{"$error":"#DIV/0!"},{"$f":"COUNTIF(D786:$AL786,\"NE\")/$AV$1","v":{"$error":"#DIV/0!"}},{"$error":"#DIV/0!"}]
[787,{"$nulls":38},{"$error":"#DIV/0!"},{"$error":"#DIV/0!"},{"$error":"#DIV/0!"},{"$error":"#DIV/0!"},{"$f":"COUNTIF(D787:$AL787,\"NE\")/$AV$1","v":{"$error":"#DIV/0!"}},{"$error":"#DIV/0!"}]
[788,{"$nulls":38},{"$error":"#DIV/0!"},{"$error":"#DIV/0!"},{"$error":"#DIV/0!"},{"$error":"#DIV/0!"},{"$f":"COUNTIF(D788:$AL788,\"NE\")/$AV$1","v":{"$error":"#DIV/0!"}},{"$error":"#DIV/0!"}]
[789,{"$nulls":38},{"$error":"#DIV/0!"},{"$error":"#DIV/0!"},{"$error":"#DIV/0!"},{"$error":"#DIV/0!"},{"$f":"COUNTIF(D789:$AL789,\"NE\")/$AV$1","v":{"$error":"#DIV/0!"}},{"$error":"#DIV/0!"}]
[790,{"$nulls":38},{"$error":"#DIV/0!"},{"$error":"#DIV/0!"},{"$error":"#DIV/0!"},{"$error":"#DIV/0!"},{"$f":"COUNTIF(D790:$AL790,\"NE\")/$AV$1","v":{"$error":"#DIV/0!"}},{"$error":"#DIV/0!"}]
[791,{"$nulls":38},{"$error":"#DIV/0!"},{"$error":"#DIV/0!"},{"$error":"#DIV/0!"},{"$error":"#DIV/0!"},{"$f":"COUNTIF(D791:$AL791,\"NE\")/$AV$1","v":{"$error":"#DIV/0!"}},{"$error":"#DIV/0!"}]
[792,{"$nulls":38},{"$error":"#DIV/0!"},{"$error":"#DIV/0!"},{"$error":"#DIV/0!"},{"$error":"#DIV/0!"},{"$f":"COUNTIF(D792:$AL792,\"NE\")/$AV$1","v":{"$error":"#DIV/0!"}},{"$error":"#DIV/0!"}]
[793,{"$nulls":38},{"$error":"#DIV/0!"},{"$error":"#DIV/0!"},{"$error":"#DIV/0!"},{"$error":"#DIV/0!"},{"$f":"COUNTIF(D793:$AL793,\"NE\")/$AV$1","v":{"$error":"#DIV/0!"}},{"$error":"#DIV/0!"}]
[794,{"$nulls":38},{"$error":"#DIV/0!"},{"$error":"#DIV/0!"},{"$error":"#DIV/0!"},{"$error":"#DIV/0!"},{"$f":"COUNTIF(D794:$AL794,\"NE\")/$AV$1","v":{"$error":"#DIV/0!"}},{"$error":"#DIV/0!"}]
[795,{"$nulls":38},{"$error":"#DIV/0!"},{"$error":"#DIV/0!"},{"$error":"#DIV/0!"},{"$error":"#DIV/0!"},{"$f":"COUNTIF(D795:$AL795,\"NE\")/$AV$1","v":{"$error":"#DIV/0!"}},{"$error":"#DIV/0!"}]
[796,{"$nulls":38},{"$error":"#DIV/0!"},{"$error":"#DIV/0!"},{"$error":"#DIV/0!"},{"$error":"#DIV/0!"},{"$f":"COUNTIF(D796:$AL796,\"NE\")/$AV$1","v":{"$error":"#DIV/0!"}},{"$error":"#DIV/0!"}]
[797,{"$nulls":38},{"$error":"#DIV/0!"},{"$error":"#DIV/0!"},{"$error":"#DIV/0!"},{"$error":"#DIV/0!"},{"$f":"COUNTIF(D797:$AL797,\"NE\")/$AV$1","v":{"$error":"#DIV/0!"}},{"$error":"#DIV/0!"}]
[798,{"$nulls":38},{"$error":"#DIV/0!"},{"$error":"#DIV/0!"},{"$error":"#DIV/0!"},{"$error":"#DIV/0!"},{"$f":"COUNTIF(D798:$AL798,\"NE\")/$AV$1","v":{"$error":"#DIV/0!"}},{"$error":"#DIV/0!"}]
[799,{"$nulls":38},{"$error":"#DIV/0!"},{"$error":"#DIV/0!"},{"$error":"#DIV/0!"},{"$error":"#DIV/0!"},{"$f":"COUNTIF(D799:$AL799,\"NE\")/$AV$1","v":{"$error":"#DIV/0!"}},{"$error":"#DIV/0!"}]
[800,{"$nulls":38},{"$error":"#DIV/0!"},{"$error":"#DIV/0!"},{"$error":"#DIV/0!"},{"$error":"#DIV/0!"},{"$f":"COUNTIF(D800:$AL800,\"NE\")/$AV$1","v":{"$error":"#DIV/0!"}},{"$error":"#DIV/0!"}]

{"sheet":"Appréciations","index":8,"n_rows":36,"n_cols":16,"rows_kept":36}
[]
[{"$nulls":4},"PERIODE 1","Jours d'absences","PERIODE 2 \n","Jours d'absences","PERIODE 3","Jours d'absences","PERIODE 4\n","Jours d'absences","PERIODE 5\n","Jours d'absences","Décision du conseil des maîtres concernant les passages","Jours d'absences l'année"]
[]
[null,{"$f":"Renseignements!C16","v":"Marc"},{"$f":"Renseignements!D16","v":"Aurèle"},null,"appreciation P1",3,"appréciation P2",4,"appréciation P3",5,"appréciation P4",6,"appréciation P5",7,"Passe en CM2",{"$f":"N4+L4+J4+H4+F4","v":25}]
[null,{"$f":"Renseignements!C17","v":"Jérôme"},{"$f":"Renseignements!D17","v":"Lenoir"},null,"appréciation lenoir P1",null,"appréciation lenoir P2",null,"appréciation lenoir P3",null,"appréciation lenoir P4",null,"appréciation lenoir P5",null,null,{"$f":"N5+L5+J5+H5+F5","v":0}]
[null,{"$f":"Renseignements!C18","v":"Fabien"},{"$f":"Renseignements!D18","v":"Léglise"},{"$nulls":12},0]
[null,{"$f":"Renseignements!C19","v":"Aicha"},{"$f":"Renseignements!D19","v":"Samarahoui"},{"$nulls":12},0]
[null,{"$f":"Renseignements!C20","v":"Karim"},{"$f":"Renseignements!D20","v":"Maha"},{"$nulls":12},0]
[null,{"$f":"Renseignements!C21","v":0},{"$f":"Renseignements!D21","v":0},{"$nulls":12},0]
[null,{"$f":"Renseignements!C22","v":0},{"$f":"Renseignements!D22","v":0},{"$nulls":12},0]
[null,{"$f":"Renseignements!C23","v":0},{"$f":"Renseignements!D23","v":0},{"$nulls":12},0]
[null,{"$f":"Renseignements!C24","v":0},{"$f":"Renseignements!D24","v":0},{"$nulls":12},0]
[null,{"$f":"Renseignements!C25","v":0},{"$f":"Renseignements!D25","v":0},{"$nulls":12},0]
[null,{"$f":"Renseignements!C26","v":0},{"$f":"Renseignements!D26","v":0},{"$nulls":12},0]
[null,{"$f":"Renseignements!C27","v":0},{"$f":"Renseignements!D27","v":0},{"$nulls":12},0]
[null,{"$f":"Renseignements!C28","v":0},{"$f":"Renseignements!D28","v":0},{"$nulls":12},0]
[null,{"$f":"Renseignements!C29","v":0},{"$f":"Renseignements!D29","v":0},{"$nulls":12},0]
[null,{"$f":"Renseignements!C30","v":0},{"$f":"Renseignements!D30","v":0},{"$nulls":12},0]
[null,{"$f":"Renseignements!C31","v":0},{"$f":"Renseignements!D31","v":0},{"$nulls":12},0]
[null,{"$f":"Renseignements!C32","v":0},{"$f":"Renseignements!D32","v":0},{"$nulls":12},0]
[null,{"$f":"Renseignements!C33","v":0},{"$f":"Renseignements!D33","v":0},{"$nulls":12},0]
[null,{"$f":"Renseignements!C34","v":0},{"$f":"Renseignements!D34","v":0},{"$nulls":12},0]
[null,{"$f":"Renseignements!C35","v":0},{"$f":"Renseignements!D35","v":0},{"$nulls":12},0]
[null,{"$f":"Renseignements!C36","v":0},{"$f":"Renseignements!D36","v":0},{"$nulls":12},0]
[null,{"$f":"Renseignements!C37","v":0},{"$f":"Renseignements!D37","v":0},{"$nulls":12},0]
[null,{"$f":"Renseignements!C38","v":0},{"$f":"Renseignements!D38","v":0},{"$nulls":12},0]
[null,{"$f":"Renseignements!C39","v":0},{"$f":"Renseignements!D39","v":0},{"$nulls":12},0]
[null,{"$f":"Renseignements!C40","v":0},{"$f":"Renseignements!D40","v":0},{"$nulls":12},0]
[null,{"$f":"Renseignements!C41","v":0},{"$f":"Renseignements!D41","v":0},{"$nulls":12},0]
[null,{"$f":"Renseignements!C42","v":0},{"$f":"Renseignements!D42","v":0},{"$nulls":12},0]
[null,{"$f":"Renseignements!C43","v":0},{"$f":"Renseignements!D43","v":0},{"$nulls":12},0]
[null,{"$f":"Renseignements!C44","v":0},{"$f":"Renseignements!D44","v":0},{"$nulls":12},0]
[null,{"$f":"Renseignements!C45","v":0},{"$f":"Renseignements!D45","v":0},{"$nulls":12},0]
[null,{"$f":"Renseignements!C46","v":0},{"$f":"Renseignements!D46","v":0},{"$nulls":12},0]
[null,{"$f":"Renseignements!C47","v":0},{"$f":"Renseignements!D47","v":0},{"$nulls":12},0]
[null,{"$f":"Renseignements!C48","v":0},{"$f":"Renseignements!D48","v":0},{"$nulls":12},0]

{"sheet":"Socle","index":9,"n_rows":181,"n_cols":76,"rows_kept":181,"merged":[[5,36,21,41],[7,43,13,43],[7,44,13,44],[7,45,13,45],[7,46,13,46],[7,47,13,47],[7,48,13,48],[7,49,13,49],[7,50,13,50],[7,51,13,51],[7,52,13,52],[7,53,13,53],[7,54,13,54],[7,55,13,55],[7,56,13,56],[7,57,13,57],[7,58,13,58],[7,59,13,59],[7,60,13,60],[7,61,13,61],[7,62,13,62],[7,63,13,63],[7,64,13,64],[7,65,13,65],[7,66,13,66],[7,67,13,67],[7,68,13,68],[7,69,13,69],[7,70,13,70],[7,71,13,71],[7,72,13,72],[7,73,13,73],[7,74,13,74],[7,75,13,75]]}
[{"$nulls":43},1,{"$f":"AR1+1","v":2},{"$f":"AS1+1","v":3},4,5,6,7,8,9,10,11,12,13,14,15,16,17,18,19,20,21,22,23,24,25,26,27,28,29,30,31,32,33]
[{"$nulls":15},{"$f":"Période!AU1","v":"A"},{"$f":"Période!AU2","v":"B"},{"$f":"Période!AU3","v":"C"},null,{"v":1,"d":"1 "},null,{"v":1,"d":"1 "},null,{"$f":"INDEX(NOMS,nomenfant,1)","v":"Marc  Aurèle"},{"$nulls":4},{"v":5,"d":"5 "}]
[]
[]
[{"$nulls":43},1,{"$f":"AR5+1","v":2},{"$f":"AS5+1","v":3},4,5,6,7,8,9,10,11,12,13,14,15,16,17,18,19,20,21,22,23,24,25,26,27,28,29,30,31,32,33]
[{"$nulls":12},{"$f":"CONCATENATE(\"Ecole  \"&ecole)","v":"Ecole  Léonard de Vinci"},{"$nulls":23},"                             VALIDER LE SOCLE\n\nValidation automatique\nQuand vous cliquez sur le bouton ci dessus, les compétences du socle qui sont réussies seront validées à la date du jour. \n\nCette validation est définitive,  la date ne changera plus, sauf si vous effacez le tableau de droite.\n\nCette opération de validation demande un certain temps de calcul.\n\nValidation manuelle\nEn écrivant une date dans la case du tableau de droite correspondant à la compétence et à l'élève, vous forcez le OUI et validez manuellement cette compétence."]
[]
[{"$nulls":12},"Attestation de maîtrise des connaissances et compétences\n au cours moyen deuxième année",{"$nulls":30},{"$f":"IF(ISBLANK(INDEX(nom,lignenom,1)),\"\",(INDEX(nom,lignenom,1))&\" \" &(INDEX(prénom,lignenom,1)))","v":"Aurèle Prénom"},"Lenoir Marc","Léglise Jérôme","Samarahoui Fabien","Maha Aicha","","","","","","","","","","","","","","","","","","","","","","","","","","","",""]
[]
[null," ",{"$nulls":10},{"$f":"X2","v":"Marc  Aurèle"}]
[]
[{"$nulls":12},"La maîtrise de la langue française"]
[null,{"$f":"IF(T1<20,\"-\",IF(T1<25,\"Bronze\",IF(T1<30,\"Argent\",\"Vermeil\" )))","v":"-"},{"$nulls":29},"oui","Date"]
[{"$nulls":12},"DIRE"]
[null,null,1,250,250,250,250,250,250,250,null,null,"S'exprimer à l'oral comme à l'écrit dans un vocabulaire approprié et précis",{"$f":"IF(INDEX(synt,socle1,nomenfant)=\"\",\"\",INDEX(synt,socle1,nomenfant))","v":{"$error":"#REF!"}},{"$f":"IF(N15=P2,1,IF(N15=Q2,0.65,IF(N15=R2,0.35,\"\")))","v":{"$error":"#REF!"}},{"$f":"IF(INDEX(synt,socle2,nomenfant)=\"\",\"\",INDEX(synt,socle2,nomenfant))","v":{"$error":"#REF!"}},{"$f":"IF(P15=P2,1,IF(P15=Q2,0.65,IF(P15=R2,0.35,\"\")))","v":{"$error":"#REF!"}},{"$f":"IF(INDEX(synt,socle3,nomenfant)=\"\",\"\",INDEX(synt,socle3,nomenfant))","v":{"$error":"#REF!"}},{"$f":"IF(R15=P2,1,IF(R15=Q2,0.65,IF(R15=R2,0.35,\"\")))","v":{"$error":"#REF!"}},{"$f":"IF(INDEX(synt,socle4,nomenfant)=\"\",\"\",INDEX(synt,socle4,nomenfant))","v":{"$error":"#REF!"}},{"$f":"IF(T15=P2,1,IF(T15=Q2,0.65,IF(T15=R2,0.35,\"\")))","v":{"$error":"#REF!"}},{"$f":"IF(INDEX(synt,socle5,nomenfant)=\"\",\"\",INDEX(synt,socle5,nomenfant))","v":{"$error":"#REF!"}},{"$f":"IF(V15=P2,1,IF(V15=Q2,0.65,IF(V15=R2,0.35,\"\")))","v":{"$error":"#REF!"}},{"$f":"IF(INDEX(synt,socle6,nomenfant)=\"\",\"\",INDEX(synt,socle6,nomenfant))","v":{"$error":"#REF!"}},{"$f":"IF(X15=P2,1,IF(X15=Q2,0.65,IF(X15=R2,0.35,\"\")))","v":{"$error":"#REF!"}},{"$f":"IF(INDEX(synt,socle7,nomenfant)=\"\",\"\",INDEX(synt,socle7,nomenfant))","v":{"$error":"#REF!"}},{"$f":"IF(Z15=P2,1,IF(Z15=Q2,0.65,IF(Z15=R2,0.35,\"\")))","v":{"$error":"#REF!"}},{"$f":"IF(INDEX(synt,socle8,nomenfant)=\"\",\"\",INDEX(synt,socle8,nomenfant))","v":{"$error":"#REF!"}},{"$f":"IF(AB15=P2,1,IF(AB15=Q2,0.65,IF(AB15=R2,0.35,\"\")))","v":{"$error":"#REF!"}},{"$f":"IF(SUM(N15:AC15)=0,0,SUM(N15:AC15)/COUNTIF(N15:AC15,\">0\"))","v":{"$error":"#REF!"}},null,{"$f":"IF(OR(AD15>0.7,AG15>0),\"OUI\",\"\")","v":{"$error":"#REF!"}},{"$f":"INDEX(validationsocle,AI15,nomenfant)","v":"00:00:00"},null,1]
[null,null,2,3,4,250,250,250,250,250,null,null,"Prendre la parole en respectant le niveau de langue adapté",{"$f":"IF(INDEX(synt,socle1,nomenfant)=\"\",\"\",INDEX(synt,socle1,nomenfant))","v":{"$error":"#REF!"}},{"$f":"IF(N16=P2,1,IF(N16=Q2,0.65,IF(N16=R2,0.35,\"\")))","v":{"$error":"#REF!"}},{"$f":"IF(INDEX(synt,socle2,nomenfant)=\"\",\"\",INDEX(synt,socle2,nomenfant))","v":{"$error":"#REF!"}},{"$f":"IF(P16=P2,1,IF(P16=Q2,0.65,IF(P16=R2,0.35,\"\")))","v":{"$error":"#REF!"}},{"$f":"IF(INDEX(synt,socle3,nomenfant)=\"\",\"\",INDEX(synt,socle3,nomenfant))","v":{"$error":"#REF!"}},{"$f":"IF(R16=P2,1,IF(R16=Q2,0.65,IF(R16=R2,0.35,\"\")))","v":{"$error":"#REF!"}},{"$f":"IF(INDEX(synt,socle4,nomenfant)=\"\",\"\",INDEX(synt,socle4,nomenfant))","v":{"$error":"#REF!"}},{"$f":"IF(T16=P2,1,IF(T16=Q2,0.65,IF(T16=R2,0.35,\"\")))","v":{"$error":"#REF!"}},{"$f":"IF(INDEX(synt,socle5,nomenfant)=\"\",\"\",INDEX(synt,socle5,nomenfant))","v":{"$error":"#REF!"}},{"$f":"IF(V16=P2,1,IF(V16=Q2,0.65,IF(V16=R2,0.35,\"\")))","v":{"$error":"#REF!"}},{"$f":"IF(INDEX(synt,socle6,nomenfant)=\"\",\"\",INDEX(synt,socle6,nomenfant))","v":{"$error":"#REF!"}},{"$f":"IF(X16=P2,1,IF(X16=Q2,0.65,IF(X16=R2,0.35,\"\")))","v":{"$error":"#REF!"}},{"$f":"IF(INDEX(synt,socle7,nomenfant)=\"\",\"\",INDEX(synt,socle7,nomenfant))","v":{"$error":"#REF!"}},{"$f":"IF(Z16=P2,1,IF(Z16=Q2,0.65,IF(Z16=R2,0.35,\"\")))","v":{"$error":"#REF!"}},{"$f":"IF(INDEX(synt,socle8,nomenfant)=\"\",\"\",INDEX(synt,socle8,nomenfant))","v":{"$error":"#REF!"}},{"$f":"IF(AB16=P2,1,IF(AB16=Q2,0.65,IF(AB16=R2,0.35,\"\")))","v":{"$error":"#REF!"}},{"$f":"IF(SUM(N16:AC16)=0,0,SUM(N16:AC16)/COUNTIF(N16:AC16,\">0\"))","v":{"$error":"#REF!"}},null,{"$f":"IF(OR(AD16>0.7,AG16>0),\"OUI\",\"\")","v":{"$error":"#REF!"}},{"$f":"INDEX(validationsocle,AI16,nomenfant)","v":"00:00:00"},null,2]
[null,null,5,250,250,250,250,250,250,250,null,null,"Répondre à une question par une phrase complète à l’oral",{"$f":"IF(INDEX(synt,socle1,nomenfant)=\"\",\"\",INDEX(synt,socle1,nomenfant))","v":{"$error":"#REF!"}},{"$f":"IF(N17=P2,1,IF(N17=Q2,0.65,IF(N17=R2,0.35,\"\")))","v":{"$error":"#REF!"}},{"$f":"IF(INDEX(synt,socle2,nomenfant)=\"\",\"\",INDEX(synt,socle2,nomenfant))","v":{"$error":"#REF!"}},{"$f":"IF(P17=P2,1,IF(P17=Q2,0.65,IF(P17=R2,0.35,\"\")))","v":{"$error":"#REF!"}},{"$f":"IF(INDEX(synt,socle3,nomenfant)=\"\",\"\",INDEX(synt,socle3,nomenfant))","v":{"$error":"#REF!"}},{"$f":"IF(R17=P2,1,IF(R17=Q2,0.65,IF(R17=R2,0.35,\"\")))","v":{"$error":"#REF!"}},{"$f":"IF(INDEX(synt,socle4,nomenfant)=\"\",\"\",INDEX(synt,socle4,nomenfant))","v":{"$error":"#REF!"}},{"$f":"IF(T17=P2,1,IF(T17=Q2,0.65,IF(T17=R2,0.35,\"\")))","v":{"$error":"#REF!"}},{"$f":"IF(INDEX(synt,socle5,nomenfant)=\"\",\"\",INDEX(synt,socle5,nomenfant))","v":{"$error":"#REF!"}},{"$f":"IF(V17=P2,1,IF(V17=Q2,0.65,IF(V17=R2,0.35,\"\")))","v":{"$error":"#REF!"}},{"$f":"IF(INDEX(synt,socle6,nomenfant)=\"\",\"\",INDEX(synt,socle6,nomenfant))","v":{"$error":"#REF!"}},{"$f":"IF(X17=P2,1,IF(X17=Q2,0.65,IF(X17=R2,0.35,\"\")))","v":{"$error":"#REF!"}},{"$f":"IF(INDEX(synt,socle7,nomenfant)=\"\",\"\",INDEX(synt,socle7,nomenfant))","v":{"$error":"#REF!"}},{"$f":"IF(Z17=P2,1,IF(Z17=Q2,0.65,IF(Z17=R2,0.35,\"\")))","v":{"$error":"#REF!"}},{"$f":"IF(INDEX(synt,socle8,nomenfant)=\"\",\"\",INDEX(synt,socle8,nomenfant))","v":{"$error":"#REF!"}},{"$f":"IF(AB17=P2,1,IF(AB17=Q2,0.65,IF(AB17=R2,0.35,\"\")))","v":{"$error":"#REF!"}},{"$f":"IF(SUM(N17:AC17)=0,0,SUM(N17:AC17)/COUNTIF(N17:AC17,\">0\"))","v":{"$error":"#REF!"}},null,{"$f":"IF(OR(AD17>0.7,AG17>0),\"OUI\",\"\")","v":{"$error":"#REF!"}},{"$f":"INDEX(validationsocle,AI17,nomenfant)","v":"00:00:00"},null,{"$f":"AI16+1","v":3}]
[null,null,6,250,250,250,250,250,250,250,null,null,"Prendre part à un dialogue : prendre la parole devant les autres, écouter autrui, formuler et justifier un point de vue",{"$f":"IF(INDEX(synt,socle1,nomenfant)=\"\",\"\",INDEX(synt,socle1,nomenfant))","v":{"$error":"#REF!"}},{"$f":"IF(N18=P2,1,IF(N18=Q2,0.65,IF(N18=R2,0.35,\"\")))","v":{"$error":"#REF!"}},{"$f":"IF(INDEX(synt,socle2,nomenfant)=\"\",\"\",INDEX(synt,socle2,nomenfant))","v":{"$error":"#REF!"}},{"$f":"IF(P18=P2,1,IF(P18=Q2,0.65,IF(P18=R2,0.35,\"\")))","v":{"$error":"#REF!"}},{"$f":"IF(INDEX(synt,socle3,nomenfant)=\"\",\"\",INDEX(synt,socle3,nomenfant))","v":{"$error":"#REF!"}},{"$f":"IF(R18=P2,1,IF(R18=Q2,0.65,IF(R18=R2,0.35,\"\")))","v":{"$error":"#REF!"}},{"$f":"IF(INDEX(synt,socle4,nomenfant)=\"\",\"\",INDEX(synt,socle4,nomenfant))","v":{"$error":"#REF!"}},{"$f":"IF(T18=P2,1,IF(T18=Q2,0.65,IF(T18=R2,0.35,\"\")))","v":{"$error":"#REF!"}},{"$f":"IF(INDEX(synt,socle5,nomenfant)=\"\",\"\",INDEX(synt,socle5,nomenfant))","v":{"$error":"#REF!"}},{"$f":"IF(V18=P2,1,IF(V18=Q2,0.65,IF(V18=R2,0.35,\"\")))","v":{"$error":"#REF!"}},{"$f":"IF(INDEX(synt,socle6,nomenfant)=\"\",\"\",INDEX(synt,socle6,nomenfant))","v":{"$error":"#REF!"}},{"$f":"IF(X18=P2,1,IF(X18=Q2,0.65,IF(X18=R2,0.35,\"\")))","v":{"$error":"#REF!"}},{"$f":"IF(INDEX(synt,socle7,nomenfant)=\"\",\"\",INDEX(synt,socle7,nomenfant))","v":{"$error":"#REF!"}},{"$f":"IF(Z18=P2,1,IF(Z18=Q2,0.65,IF(Z18=R2,0.35,\"\")))","v":{"$error":"#REF!"}},{"$f":"IF(INDEX(synt,socle8,nomenfant)=\"\",\"\",INDEX(synt,socle8,nomenfant))","v":{"$error":"#REF!"}},{"$f":"IF(AB18=P2,1,IF(AB18=Q2,0.65,IF(AB18=R2,0.35,\"\")))","v":{"$error":"#REF!"}},{"$f":"IF(SUM(N18:AC18)=0,0,SUM(N18:AC18)/COUNTIF(N18:AC18,\">0\"))","v":{"$error":"#REF!"}},null,{"$f":"IF(OR(AD18>0.7,AG18>0),\"OUI\",\"\")","v":{"$error":"#REF!"}},{"$f":"INDEX(validationsocle,AI18,nomenfant)","v":"00:00:00"},null,4]
[null,null,7,250,250,250,250,250,250,250,null,null,"Dire de mémoire, de façon expressive une dizaine de poèmes et de textes en prose",{"$f":"IF(INDEX(synt,socle1,nomenfant)=\"\",\"\",INDEX(synt,socle1,nomenfant))","v":{"$error":"#REF!"}},{"$f":"IF(N19=P2,1,IF(N19=Q2,0.65,IF(N19=R2,0.35,\"\")))","v":{"$error":"#REF!"}},{"$f":"IF(INDEX(synt,socle2,nomenfant)=\"\",\"\",INDEX(synt,socle2,nomenfant))","v":{"$error":"#REF!"}},{"$f":"IF(P19=P2,1,IF(P19=Q2,0.65,IF(P19=R2,0.35,\"\")))","v":{"$error":"#REF!"}},{"$f":"IF(INDEX(synt,socle3,nomenfant)=\"\",\"\",INDEX(synt,socle3,nomenfant))","v":{"$error":"#REF!"}},{"$f":"IF(R19=P2,1,IF(R19=Q2,0.65,IF(R19=R2,0.35,\"\")))","v":{"$error":"#REF!"}},{"$f":"IF(INDEX(synt,socle4,nomenfant)=\"\",\"\",INDEX(synt,socle4,nomenfant))","v":{"$error":"#REF!"}},{"$f":"IF(T19=P2,1,IF(T19=Q2,0.65,IF(T19=R2,0.35,\"\")))","v":{"$error":"#REF!"}},{"$f":"IF(INDEX(synt,socle5,nomenfant)=\"\",\"\",INDEX(synt,socle5,nomenfant))","v":{"$error":"#REF!"}},{"$f":"IF(V19=P2,1,IF(V19=Q2,0.65,IF(V19=R2,0.35,\"\")))","v":{"$error":"#REF!"}},{"$f":"IF(INDEX(synt,socle6,nomenfant)=\"\",\"\",INDEX(synt,socle6,nomenfant))","v":{"$error":"#REF!"}},{"$f":"IF(X19=P2,1,IF(X19=Q2,0.65,IF(X19=R2,0.35,\"\")))","v":{"$error":"#REF!"}},{"$f":"IF(INDEX(synt,socle7,nomenfant)=\"\",\"\",INDEX(synt,socle7,nomenfant))","v":{"$error":"#REF!"}},{"$f":"IF(Z19=P2,1,IF(Z19=Q2,0.65,IF(Z19=R2,0.35,\"\")))","v":{"$error":"#REF!"}},{"$f":"IF(INDEX(synt,socle8,nomenfant)=\"\",\"\",INDEX(synt,socle8,nomenfant))","v":{"$error":"#REF!"}},{"$f":"IF(AB19=P2,1,IF(AB19=Q2,0.65,IF(AB19=R2,0.35,\"\")))","v":{"$error":"#REF!"}},{"$f":"IF(SUM(N19:AC19)=0,0,SUM(N19:AC19)/COUNTIF(N19:AC19,\">0\"))","v":{"$error":"#REF!"}},null,{"$f":"IF(OR(AD19>0.7,AG19>0),\"OUI\",\"\")","v":{"$error":"#REF!"}},{"$f":"INDEX(validationsocle,AI19,nomenfant)","v":"00:00:00"},null,5]
[{"$nulls":12},"LIRE",{"$nulls":21},6]
[null,null,8,9,10,250,250,250,250,250,null,null,"Lire avec aisance, (à haute voix, silencieusement) un texte",{"$f":"IF(INDEX(synt,socle1,nomenfant)=\"\",\"\",INDEX(synt,socle1,nomenfant))","v":{"$error":"#REF!"}},{"$f":"IF(N21=P2,1,IF(N21=Q2,0.65,IF(N21=R2,0.35,\"\")))","v":{"$error":"#REF!"}},{"$f":"IF(INDEX(synt,socle2,nomenfant)=\"\",\"\",INDEX(synt,socle2,nomenfant))","v":{"$error":"#REF!"}},{"$f":"IF(P21=P2,1,IF(P21=Q2,0.65,IF(P21=R2,0.35,\"\")))","v":{"$error":"#REF!"}},{"$f":"IF(INDEX(synt,socle3,nomenfant)=\"\",\"\",INDEX(synt,socle3,nomenfant))","v":{"$error":"#REF!"}},{"$f":"IF(R21=P2,1,IF(R21=Q2,0.65,IF(R21=R2,0.35,\"\")))","v":{"$error":"#REF!"}},{"$f":"IF(INDEX(synt,socle4,nomenfant)=\"\",\"\",INDEX(synt,socle4,nomenfant))","v":{"$error":"#REF!"}},{"$f":"IF(T21=P2,1,IF(T21=Q2,0.65,IF(T21=R2,0.35,\"\")))","v":{"$error":"#REF!"}},{"$f":"IF(INDEX(synt,socle5,nomenfant)=\"\",\"\",INDEX(synt,socle5,nomenfant))","v":{"$error":"#REF!"}},{"$f":"IF(V21=P2,1,IF(V21=Q2,0.65,IF(V21=R2,0.35,\"\")))","v":{"$error":"#REF!"}},{"$f":"IF(INDEX(synt,socle6,nomenfant)=\"\",\"\",INDEX(synt,socle6,nomenfant))","v":{"$error":"#REF!"}},{"$f":"IF(X21=P2,1,IF(X21=Q2,0.65,IF(X21=R2,0.35,\"\")))","v":{"$error":"#REF!"}},{"$f":"IF(INDEX(synt,socle7,nomenfant)=\"\",\"\",INDEX(synt,socle7,nomenfant))","v":{"$error":"#REF!"}},{"$f":"IF(Z21=P2,1,IF(Z21=Q2,0.65,IF(Z21=R2,0.35,\"\")))","v":{"$error":"#REF!"}},{"$f":"IF(INDEX(synt,socle8,nomenfant)=\"\",\"\",INDEX(synt,socle8,nomenfant))","v":{"$error":"#REF!"}},{"$f":"IF(AB21=P2,1,IF(AB21=Q2,0.65,IF(AB21=R2,0.35,\"\")))","v":{"$error":"#REF!"}},{"$f":"IF(SUM(N21:AC21)=0,0,SUM(N21:AC21)/COUNTIF(N21:AC21,\">0\"))","v":{"$error":"#REF!"}},null,{"$f":"IF(OR(AD21>0.7,AG21>0),\"OUI\",\"\")","v":{"$error":"#REF!"}},{"$f":"INDEX(validationsocle,AI21,nomenfant)","v":"00:00:00"},null,7]
[null,null,19,20,250,250,250,250,250,250,null,null,"Lire seul des textes du patrimoine et des œuvres intégrales de la littérature de jeunesse, adaptés à son âge",{"$error":"#REF!"},{"$f":"IF(N22=P2,1,IF(N22=Q2,0.65,IF(N22=R2,0.35,\"\")))","v":{"$error":"#REF!"}},{"$error":"#REF!"},{"$f":"IF(P22=P2,1,IF(P22=Q2,0.65,IF(P22=R2,0.35,\"\")))","v":{"$error":"#REF!"}},{"$error":"#REF!"},{"$f":"IF(R22=P2,1,IF(R22=Q2,0.65,IF(R22=R2,0.35,\"\")))","v":{"$error":"#REF!"}},{"$error":"#REF!"},{"$f":"IF(T22=P2,1,IF(T22=Q2,0.65,IF(T22=R2,0.35,\"\")))","v":{"$error":"#REF!"}},{"$error":"#REF!"},{"$f":"IF(V22=P2,1,IF(V22=Q2,0.65,IF(V22=R2,0.35,\"\")))","v":{"$error":"#REF!"}},{"$error":"#REF!"},{"$f":"IF(X22=P2,1,IF(X22=Q2,0.65,IF(X22=R2,0.35,\"\")))","v":{"$error":"#REF!"}},{"$error":"#REF!"},{"$f":"IF(Z22=P2,1,IF(Z22=Q2,0.65,IF(Z22=R2,0.35,\"\")))","v":{"$error":"#REF!"}},{"$error":"#REF!"},{"$f":"IF(AB22=P2,1,IF(AB22=Q2,0.65,IF(AB22=R2,0.35,\"\")))","v":{"$error":"#REF!"}},{"$f":"IF(SUM(N22:AC22)=0,0,SUM(N22:AC22)/COUNTIF(N22:AC22,\">0\"))","v":{"$error":"#REF!"}},null,{"$error":"#REF!"},"00:00:00",null,8]
[null,null,8,250,250,250,250,250,250,250,null,null,"Lire seul et comprendre un énoncé, une consigne",{"$error":"#REF!"},{"$f":"IF(N23=P2,1,IF(N23=Q2,0.65,IF(N23=R2,0.35,\"\")))","v":{"$error":"#REF!"}},{"$error":"#REF!"},{"$f":"IF(P23=P2,1,IF(P23=Q2,0.65,IF(P23=R2,0.35,\"\")))","v":{"$error":"#REF!"}},{"$error":"#REF!"},{"$f":"IF(R23=P2,1,IF(R23=Q2,0.65,IF(R23=R2,0.35,\"\")))","v":{"$error":"#REF!"}},{"$error":"#REF!"},{"$f":"IF(T23=P2,1,IF(T23=Q2,0.65,IF(T23=R2,0.35,\"\")))","v":{"$error":"#REF!"}},{"$error":"#REF!"},{"$f":"IF(V23=P2,1,IF(V23=Q2,0.65,IF(V23=R2,0.35,\"\")))","v":{"$error":"#REF!"}},{"$error":"#REF!"},{"$f":"IF(X23=P2,1,IF(X23=Q2,0.65,IF(X23=R2,0.35,\"\")))","v":{"$error":"#REF!"}},{"$error":"#REF!"},{"$f":"IF(Z23=P2,1,IF(Z23=Q2,0.65,IF(Z23=R2,0.35,\"\")))","v":{"$error":"#REF!"}},{"$error":"#REF!"},{"$f":"IF(AB23=P2,1,IF(AB23=Q2,0.65,IF(AB23=R2,0.35,\"\")))","v":{"$error":"#REF!"}},{"$error":"#REF!"},null,{"$error":"#REF!"},"00:00:00",null,9]
[null,null,22,23,250,250,250,250,250,250,null,null,"Dégager le thème d'un texte",{"$error":"#REF!"},{"$f":"IF(N24=P2,1,IF(N24=Q2,0.65,IF(N24=R2,0.35,\"\")))","v":{"$error":"#REF!"}},{"$error":"#REF!"},{"$f":"IF(P24=P2,1,IF(P24=Q2,0.65,IF(P24=R2,0.35,\"\")))","v":{"$error":"#REF!"}},{"$error":"#REF!"},{"$f":"IF(R24=P2,1,IF(R24=Q2,0.65,IF(R24=R2,0.35,\"\")))","v":{"$error":"#REF!"}},{"$error":"#REF!"},{"$f":"IF(T24=P2,1,IF(T24=Q2,0.65,IF(T24=R2,0.35,\"\")))","v":{"$error":"#REF!"}},{"$error":"#REF!"},{"$f":"IF(V24=P2,1,IF(V24=Q2,0.65,IF(V24=R2,0.35,\"\")))","v":{"$error":"#REF!"}},{"$error":"#REF!"},{"$f":"IF(X24=P2,1,IF(X24=Q2,0.65,IF(X24=R2,0.35,\"\")))","v":{"$error":"#REF!"}},{"$error":"#REF!"},{"$f":"IF(Z24=P2,1,IF(Z24=Q2,0.65,IF(Z24=R2,0.35,\"\")))","v":{"$error":"#REF!"}},{"$error":"#REF!"},{"$f":"IF(AB24=P2,1,IF(AB24=Q2,0.65,IF(AB24=R2,0.35,\"\")))","v":{"$error":"#REF!"}},{"$error":"#REF!"},null,{"$error":"#REF!"},"00:00:00",null,10]
[null,null,8,250,250,250,250,250,250,250,null,null,"Repérer dans un texte des informations explicites",{"$error":"#REF!"},{"$f":"IF(N25=P2,1,IF(N25=Q2,0.65,IF(N25=R2,0.35,\"\")))","v":{"$error":"#REF!"}},{"$error":"#REF!"},{"$f":"IF(P25=P2,1,IF(P25=Q2,0.65,IF(P25=R2,0.35,\"\")))","v":{"$error":"#REF!"}},{"$error":"#REF!"},{"$f":"IF(R25=P2,1,IF(R25=Q2,0.65,IF(R25=R2,0.35,\"\")))","v":{"$error":"#REF!"}},{"$error":"#REF!"},{"$f":"IF(T25=P2,1,IF(T25=Q2,0.65,IF(T25=R2,0.35,\"\")))","v":{"$error":"#REF!"}},{"$error":"#REF!"},{"$f":"IF(V25=P2,1,IF(V25=Q2,0.65,IF(V25=R2,0.35,\"\")))","v":{"$error":"#REF!"}},{"$error":"#REF!"},{"$f":"IF(X25=P2,1,IF(X25=Q2,0.65,IF(X25=R2,0.35,\"\")))","v":{"$error":"#REF!"}},{"$error":"#REF!"},{"$f":"IF(Z25=P2,1,IF(Z25=Q2,0.65,IF(Z25=R2,0.35,\"\")))","v":{"$error":"#REF!"}},{"$error":"#REF!"},{"$f":"IF(AB25=P2,1,IF(AB25=Q2,0.65,IF(AB25=R2,0.35,\"\")))","v":{"$error":"#REF!"}},{"$error":"#REF!"},null,{"$error":"#REF!"},"00:00:00",null,11]
[null,null,9,10,250,250,250,250,250,250,null,null,"Inférer des informations nouvelles (implicites)",{"$error":"#REF!"},{"$f":"IF(N26=P2,1,IF(N26=Q2,0.65,IF(N26=R2,0.35,\"\")))","v":{"$error":"#REF!"}},{"$error":"#REF!"},{"$f":"IF(P26=P2,1,IF(P26=Q2,0.65,IF(P26=R2,0.35,\"\")))","v":{"$error":"#REF!"}},{"$error":"#REF!"},{"$f":"IF(R26=P2,1,IF(R26=Q2,0.65,IF(R26=R2,0.35,\"\")))","v":{"$error":"#REF!"}},{"$error":"#REF!"},{"$f":"IF(T26=P2,1,IF(T26=Q2,0.65,IF(T26=R2,0.35,\"\")))","v":{"$error":"#REF!"}},{"$error":"#REF!"},{"$f":"IF(V26=P2,1,IF(V26=Q2,0.65,IF(V26=R2,0.35,\"\")))","v":{"$error":"#REF!"}},{"$error":"#REF!"},{"$f":"IF(X26=P2,1,IF(X26=Q2,0.65,IF(X26=R2,0.35,\"\")))","v":{"$error":"#REF!"}},{"$error":"#REF!"},{"$f":"IF(Z26=P2,1,IF(Z26=Q2,0.65,IF(Z26=R2,0.35,\"\")))","v":{"$error":"#REF!"}},{"$error":"#REF!"},{"$f":"IF(AB26=P2,1,IF(AB26=Q2,0.65,IF(AB26=R2,0.35,\"\")))","v":{"$error":"#REF!"}},{"$f":"IF(SUM(N26:AC26)=0,0,SUM(N26:AC26)/COUNTIF(N26:AC26,\">0\"))","v":{"$error":"#REF!"}},null,{"$error":"#REF!"},"00:00:00",null,12]
[null,null,11,250,250,250,250,250,250,250,null,null,"Repérer les effets de choix formels (emploi de certains mots, utilisation d'un niveau de langue)",{"$error":"#REF!"},{"$f":"IF(N27=P2,1,IF(N27=Q2,0.65,IF(N27=R2,0.35,\"\")))","v":{"$error":"#REF!"}},{"$error":"#REF!"},{"$f":"IF(P27=P2,1,IF(P27=Q2,0.65,IF(P27=R2,0.35,\"\")))","v":{"$error":"#REF!"}},{"$error":"#REF!"},{"$f":"IF(R27=P2,1,IF(R27=Q2,0.65,IF(R27=R2,0.35,\"\")))","v":{"$error":"#REF!"}},{"$error":"#REF!"},{"$f":"IF(T27=P2,1,IF(T27=Q2,0.65,IF(T27=R2,0.35,\"\")))","v":{"$error":"#REF!"}},{"$error":"#REF!"},{"$f":"IF(V27=P2,1,IF(V27=Q2,0.65,IF(V27=R2,0.35,\"\")))","v":{"$error":"#REF!"}},{"$error":"#REF!"},{"$f":"IF(X27=P2,1,IF(X27=Q2,0.65,IF(X27=R2,0.35,\"\")))","v":{"$error":"#REF!"}},{"$error":"#REF!"},{"$f":"IF(Z27=P2,1,IF(Z27=Q2,0.65,IF(Z27=R2,0.35,\"\")))","v":{"$error":"#REF!"}},{"$error":"#REF!"},{"$f":"IF(AB27=P2,1,IF(AB27=Q2,0.65,IF(AB27=R2,0.35,\"\")))","v":{"$error":"#REF!"}},{"$error":"#REF!"},null,{"$error":"#REF!"},"00:00:00",null,13]
[null,null,10,20,250,250,250,250,250,250,null,null,"Utiliser ses connaissances pour réfléchir sur un texte, mieux le comprendre",{"$error":"#REF!"},{"$f":"IF(N28=P2,1,IF(N28=Q2,0.65,IF(N28=R2,0.35,\"\")))","v":{"$error":"#REF!"}},{"$error":"#REF!"},{"$f":"IF(P28=P2,1,IF(P28=Q2,0.65,IF(P28=R2,0.35,\"\")))","v":{"$error":"#REF!"}},{"$error":"#REF!"},{"$f":"IF(R28=P2,1,IF(R28=Q2,0.65,IF(R28=R2,0.35,\"\")))","v":{"$error":"#REF!"}},{"$error":"#REF!"},{"$f":"IF(T28=P2,1,IF(T28=Q2,0.65,IF(T28=R2,0.35,\"\")))","v":{"$error":"#REF!"}},{"$error":"#REF!"},{"$f":"IF(V28=P2,1,IF(V28=Q2,0.65,IF(V28=R2,0.35,\"\")))","v":{"$error":"#REF!"}},{"$error":"#REF!"},{"$f":"IF(X28=P2,1,IF(X28=Q2,0.65,IF(X28=R2,0.35,\"\")))","v":{"$error":"#REF!"}},{"$error":"#REF!"},{"$f":"IF(Z28=P2,1,IF(Z28=Q2,0.65,IF(Z28=R2,0.35,\"\")))","v":{"$error":"#REF!"}},{"$error":"#REF!"},{"$f":"IF(AB28=P2,1,IF(AB28=Q2,0.65,IF(AB28=R2,0.35,\"\")))","v":{"$error":"#REF!"}},{"$error":"#REF!"},null,{"$error":"#REF!"},"00:00:00",null,14]
[null,null,12,250,250,250,250,250,250,250,null,null,"Effectuer, seul, des recherches dans des ouvrages documentaires (livres, produits multimédia)",{"$error":"#REF!"},{"$f":"IF(N29=P2,1,IF(N29=Q2,0.65,IF(N29=R2,0.35,\"\")))","v":{"$error":"#REF!"}},{"$error":"#REF!"},{"$f":"IF(P29=P2,1,IF(P29=Q2,0.65,IF(P29=R2,0.35,\"\")))","v":{"$error":"#REF!"}},{"$error":"#REF!"},{"$f":"IF(R29=P2,1,IF(R29=Q2,0.65,IF(R29=R2,0.35,\"\")))","v":{"$error":"#REF!"}},{"$error":"#REF!"},{"$f":"IF(T29=P2,1,IF(T29=Q2,0.65,IF(T29=R2,0.35,\"\")))","v":{"$error":"#REF!"}},{"$error":"#REF!"},{"$f":"IF(V29=P2,1,IF(V29=Q2,0.65,IF(V29=R2,0.35,\"\")))","v":{"$error":"#REF!"}},{"$error":"#REF!"},{"$f":"IF(X29=P2,1,IF(X29=Q2,0.65,IF(X29=R2,0.35,\"\")))","v":{"$error":"#REF!"}},{"$error":"#REF!"},{"$f":"IF(Z29=P2,1,IF(Z29=Q2,0.65,IF(Z29=R2,0.35,\"\")))","v":{"$error":"#REF!"}},{"$error":"#REF!"},{"$f":"IF(AB29=P2,1,IF(AB29=Q2,0.65,IF(AB29=R2,0.35,\"\")))","v":{"$error":"#REF!"}},{"$error":"#REF!"},null,{"$error":"#REF!"},"00:00:00",null,15]
[null,null,13,250,250,250,250,250,250,250,null,null,"Se repérer dans une bibliothèque, une médiathèque",{"$error":"#REF!"},{"$f":"IF(N30=P2,1,IF(N30=Q2,0.65,IF(N30=R2,0.35,\"\")))","v":{"$error":"#REF!"}},{"$error":"#REF!"},{"$f":"IF(P30=P2,1,IF(P30=Q2,0.65,IF(P30=R2,0.35,\"\")))","v":{"$error":"#REF!"}},{"$error":"#REF!"},{"$f":"IF(R30=P2,1,IF(R30=Q2,0.65,IF(R30=R2,0.35,\"\")))","v":{"$error":"#REF!"}},{"$error":"#REF!"},{"$f":"IF(T30=P2,1,IF(T30=Q2,0.65,IF(T30=R2,0.35,\"\")))","v":{"$error":"#REF!"}},{"$error":"#REF!"},{"$f":"IF(V30=P2,1,IF(V30=Q2,0.65,IF(V30=R2,0.35,\"\")))","v":{"$error":"#REF!"}},{"$error":"#REF!"},{"$f":"IF(X30=P2,1,IF(X30=Q2,0.65,IF(X30=R2,0.35,\"\")))","v":{"$error":"#REF!"}},{"$error":"#REF!"},{"$f":"IF(Z30=P2,1,IF(Z30=Q2,0.65,IF(Z30=R2,0.35,\"\")))","v":{"$error":"#REF!"}},{"$error":"#REF!"},{"$f":"IF(AB30=P2,1,IF(AB30=Q2,0.65,IF(AB30=R2,0.35,\"\")))","v":{"$error":"#REF!"}},{"$error":"#REF!"},null,{"$error":"#REF!"},"00:00:00",null,16]
[{"$nulls":12},"ÉCRIRE",{"$nulls":21},17]
[null,null,14,15,250,250,250,250,250,250,null,null,"Copier sans erreur un texte d'au moins quinze lignes en lui donnant une présentation adaptée",{"$f":"IF(INDEX(synt,socle1,nomenfant)=\"\",\"\",INDEX(synt,socle1,nomenfant))","v":{"$error":"#REF!"}},{"$f":"IF(N32=P2,1,IF(N32=Q2,0.65,IF(N32=R2,0.35,\"\")))","v":{"$error":"#REF!"}},{"$f":"IF(INDEX(synt,socle2,nomenfant)=\"\",\"\",INDEX(synt,socle2,nomenfant))","v":{"$error":"#REF!"}},{"$f":"IF(P32=P2,1,IF(P32=Q2,0.65,IF(P32=R2,0.35,\"\")))","v":{"$error":"#REF!"}},{"$f":"IF(INDEX(synt,socle3,nomenfant)=\"\",\"\",INDEX(synt,socle3,nomenfant))","v":{"$error":"#REF!"}},{"$f":"IF(R32=P2,1,IF(R32=Q2,0.65,IF(R32=R2,0.35,\"\")))","v":{"$error":"#REF!"}},{"$f":"IF(INDEX(synt,socle4,nomenfant)=\"\",\"\",INDEX(synt,socle4,nomenfant))","v":{"$error":"#REF!"}},{"$f":"IF(T32=P2,1,IF(T32=Q2,0.65,IF(T32=R2,0.35,\"\")))","v":{"$error":"#REF!"}},{"$f":"IF(INDEX(synt,socle5,nomenfant)=\"\",\"\",INDEX(synt,socle5,nomenfant))","v":{"$error":"#REF!"}},{"$f":"IF(V32=P2,1,IF(V32=Q2,0.65,IF(V32=R2,0.35,\"\")))","v":{"$error":"#REF!"}},{"$f":"IF(INDEX(synt,socle6,nomenfant)=\"\",\"\",INDEX(synt,socle6,nomenfant))","v":{"$error":"#REF!"}},{"$f":"IF(X32=P2,1,IF(X32=Q2,0.65,IF(X32=R2,0.35,\"\")))","v":{"$error":"#REF!"}},{"$f":"IF(INDEX(synt,socle7,nomenfant)=\"\",\"\",INDEX(synt,socle7,nomenfant))","v":{"$error":"#REF!"}},{"$f":"IF(Z32=P2,1,IF(Z32=Q2,0.65,IF(Z32=R2,0.35,\"\")))","v":{"$error":"#REF!"}},{"$f":"IF(INDEX(synt,socle8,nomenfant)=\"\",\"\",INDEX(synt,socle8,nomenfant))","v":{"$error":"#REF!"}},{"$f":"IF(AB32=P2,1,IF(AB32=Q2,0.65,IF(AB32=R2,0.35,\"\")))","v":{"$error":"#REF!"}},{"$error":"#REF!"},null,{"$f":"IF(OR(AD32>0.7,AG32>0),\"OUI\",\"\")","v":{"$error":"#REF!"}},{"$f":"INDEX(validationsocle,AI32,nomenfant)","v":"00:00:00"},null,18]
[null,null,18,250,250,250,250,250,250,250,null,null,"Utiliser ses connaissances pour réfléchir sur un texte, mieux l’écrire",{"$f":"IF(INDEX(synt,socle1,nomenfant)=\"\",\"\",INDEX(synt,socle1,nomenfant))","v":{"$error":"#REF!"}},{"$f":"IF(N33=P2,1,IF(N33=Q2,0.65,IF(N33=R2,0.35,\"\")))","v":{"$error":"#REF!"}},{"$f":"IF(INDEX(synt,socle2,nomenfant)=\"\",\"\",INDEX(synt,socle2,nomenfant))","v":{"$error":"#REF!"}},{"$f":"IF(P33=P2,1,IF(P33=Q2,0.65,IF(P33=R2,0.35,\"\")))","v":{"$error":"#REF!"}},{"$f":"IF(INDEX(synt,socle3,nomenfant)=\"\",\"\",INDEX(synt,socle3,nomenfant))","v":{"$error":"#REF!"}},{"$f":"IF(R33=P2,1,IF(R33=Q2,0.65,IF(R33=R2,0.35,\"\")))","v":{"$error":"#REF!"}},{"$f":"IF(INDEX(synt,socle4,nomenfant)=\"\",\"\",INDEX(synt,socle4,nomenfant))","v":{"$error":"#REF!"}},{"$f":"IF(T33=P2,1,IF(T33=Q2,0.65,IF(T33=R2,0.35,\"\")))","v":{"$error":"#REF!"}},{"$f":"IF(INDEX(synt,socle5,nomenfant)=\"\",\"\",INDEX(synt,socle5,nomenfant))","v":{"$error":"#REF!"}},{"$f":"IF(V33=P2,1,IF(V33=Q2,0.65,IF(V33=R2,0.35,\"\")))","v":{"$error":"#REF!"}},{"$f":"IF(INDEX(synt,socle6,nomenfant)=\"\",\"\",INDEX(synt,socle6,nomenfant))","v":{"$error":"#REF!"}},{"$f":"IF(X33=P2,1,IF(X33=Q2,0.65,IF(X33=R2,0.35,\"\")))","v":{"$error":"#REF!"}},{"$f":"IF(INDEX(synt,socle7,nomenfant)=\"\",\"\",INDEX(synt,socle7,nomenfant))","v":{"$error":"#REF!"}},{"$f":"IF(Z33=P2,1,IF(Z33=Q2,0.65,IF(Z33=R2,0.35,\"\")))","v":{"$error":"#REF!"}},{"$f":"IF(INDEX(synt,socle8,nomenfant)=\"\",\"\",INDEX(synt,socle8,nomenfant))","v":{"$error":"#REF!"}},{"$f":"IF(AB33=P2,1,IF(AB33=Q2,0.65,IF(AB33=R2,0.35,\"\")))","v":{"$error":"#REF!"}},{"$error":"#REF!"},null,{"$f":"IF(OR(AD33>0.7,AG33>0),\"OUI\",\"\")","v":{"$error":"#REF!"}},{"$f":"INDEX(validationsocle,AI33,nomenfant)","v":"00:00:00"},null,19]
[null,null,17,18,250,250,250,250,250,250,null,null,"Répondre à une question par une phrase complète à l’écrit",{"$f":"IF(INDEX(synt,socle1,nomenfant)=\"\",\"\",INDEX(synt,socle1,nomenfant))","v":{"$error":"#REF!"}},{"$f":"IF(N34=P2,1,IF(N34=Q2,0.65,IF(N34=R2,0.35,\"\")))","v":{"$error":"#REF!"}},{"$f":"IF(INDEX(synt,socle2,nomenfant)=\"\",\"\",INDEX(synt,socle2,nomenfant))","v":{"$error":"#REF!"}},{"$f":"IF(P34=P2,1,IF(P34=Q2,0.65,IF(P34=R2,0.35,\"\")))","v":{"$error":"#REF!"}},{"$f":"IF(INDEX(synt,socle3,nomenfant)=\"\",\"\",INDEX(synt,socle3,nomenfant))","v":{"$error":"#REF!"}},{"$f":"IF(R34=P2,1,IF(R34=Q2,0.65,IF(R34=R2,0.35,\"\")))","v":{"$error":"#REF!"}},{"$f":"IF(INDEX(synt,socle4,nomenfant)=\"\",\"\",INDEX(synt,socle4,nomenfant))","v":{"$error":"#REF!"}},{"$f":"IF(T34=P2,1,IF(T34=Q2,0.65,IF(T34=R2,0.35,\"\")))","v":{"$error":"#REF!"}},{"$f":"IF(INDEX(synt,socle5,nomenfant)=\"\",\"\",INDEX(synt,socle5,nomenfant))","v":{"$error":"#REF!"}},{"$f":"IF(V34=P2,1,IF(V34=Q2,0.65,IF(V34=R2,0.35,\"\")))","v":{"$error":"#REF!"}},{"$f":"IF(INDEX(synt,socle6,nomenfant)=\"\",\"\",INDEX(synt,socle6,nomenfant))","v":{"$error":"#REF!"}},{"$f":"IF(X34=P2,1,IF(X34=Q2,0.65,IF(X34=R2,0.35,\"\")))","v":{"$error":"#REF!"}},{"$f":"IF(INDEX(synt,socle7,nomenfant)=\"\",\"\",INDEX(synt,socle7,nomenfant))","v":{"$error":"#REF!"}},{"$f":"IF(Z34=P2,1,IF(Z34=Q2,0.65,IF(Z34=R2,0.35,\"\")))","v":{"$error":"#REF!"}},{"$f":"IF(INDEX(synt,socle8,nomenfant)=\"\",\"\",INDEX(synt,socle8,nomenfant))","v":{"$error":"#REF!"}},{"$f":"IF(AB34=P2,1,IF(AB34=Q2,0.65,IF(AB34=R2,0.35,\"\")))","v":{"$error":"#REF!"}},{"$error":"#REF!"},null,{"$f":"IF(OR(AD34>0.7,AG34>0),\"OUI\",\"\")","v":{"$error":"#REF!"}},{"$f":"INDEX(validationsocle,AI34,nomenfant)","v":"00:00:00"},null,20]
[null,null,17,18,250,250,250,250,250,250,null,null,"Rédiger un texte d'une quinzaine de lignes (récit, description, dialogue, texte poétique, compte rendu) en utilisant ses connaissances en vocabulaire et en grammaire",{"$f":"IF(INDEX(synt,socle1,nomenfant)=\"\",\"\",INDEX(synt,socle1,nomenfant))","v":{"$error":"#REF!"}},{"$f":"IF(N35=P2,1,IF(N35=Q2,0.65,IF(N35=R2,0.35,\"\")))","v":{"$error":"#REF!"}},{"$f":"IF(INDEX(synt,socle2,nomenfant)=\"\",\"\",INDEX(synt,socle2,nomenfant))","v":{"$error":"#REF!"}},{"$f":"IF(P35=P2,1,IF(P35=Q2,0.65,IF(P35=R2,0.35,\"\")))","v":{"$error":"#REF!"}},{"$f":"IF(INDEX(synt,socle3,nomenfant)=\"\",\"\",INDEX(synt,socle3,nomenfant))","v":{"$error":"#REF!"}},{"$f":"IF(R35=P2,1,IF(R35=Q2,0.65,IF(R35=R2,0.35,\"\")))","v":{"$error":"#REF!"}},{"$f":"IF(INDEX(synt,socle4,nomenfant)=\"\",\"\",INDEX(synt,socle4,nomenfant))","v":{"$error":"#REF!"}},{"$f":"IF(T35=P2,1,IF(T35=Q2,0.65,IF(T35=R2,0.35,\"\")))","v":{"$error":"#REF!"}},{"$f":"IF(INDEX(synt,socle5,nomenfant)=\"\",\"\",INDEX(synt,socle5,nomenfant))","v":{"$error":"#REF!"}},{"$f":"IF(V35=P2,1,IF(V35=Q2,0.65,IF(V35=R2,0.35,\"\")))","v":{"$error":"#REF!"}},{"$f":"IF(INDEX(synt,socle6,nomenfant)=\"\",\"\",INDEX(synt,socle6,nomenfant))","v":{"$error":"#REF!"}},{"$f":"IF(X35=P2,1,IF(X35=Q2,0.65,IF(X35=R2,0.35,\"\")))","v":{"$error":"#REF!"}},{"$f":"IF(INDEX(synt,socle7,nomenfant)=\"\",\"\",INDEX(synt,socle7,nomenfant))","v":{"$error":"#REF!"}},{"$f":"IF(Z35=P2,1,IF(Z35=Q2,0.65,IF(Z35=R2,0.35,\"\")))","v":{"$error":"#REF!"}},{"$f":"IF(INDEX(synt,socle8,nomenfant)=\"\",\"\",INDEX(synt,socle8,nomenfant))","v":{"$error":"#REF!"}},{"$f":"IF(AB35=P2,1,IF(AB35=Q2,0.65,IF(AB35=R2,0.35,\"\")))","v":{"$error":"#REF!"}},{"$error":"#REF!"},null,{"$f":"IF(OR(AD35>0.7,AG35>0),\"OUI\",\"\")","v":{"$error":"#REF!"}},{"$f":"INDEX(validationsocle,AI35,nomenfant)","v":"00:00:00"},null,21]
[{"$nulls":12},"ÉTUDE DE LA LANGUE : VOCABULAIRE",{"$nulls":21},22]
[null,null,24,25,26,250,250,250,250,250,null,null,"Comprendre des mots nouveaux et les utiliser à bon escient",{"$f":"IF(INDEX(synt,socle1,nomenfant)=\"\",\"\",INDEX(synt,socle1,nomenfant))","v":{"$error":"#REF!"}},{"$f":"IF(N37=P2,1,IF(N37=Q2,0.65,IF(N37=R2,0.35,\"\")))","v":{"$error":"#REF!"}},{"$f":"IF(INDEX(synt,socle2,nomenfant)=\"\",\"\",INDEX(synt,socle2,nomenfant))","v":{"$error":"#REF!"}},{"$f":"IF(P37=P2,1,IF(P37=Q2,0.65,IF(P37=R2,0.35,\"\")))","v":{"$error":"#REF!"}},{"$f":"IF(INDEX(synt,socle3,nomenfant)=\"\",\"\",INDEX(synt,socle3,nomenfant))","v":{"$error":"#REF!"}},{"$f":"IF(R37=P2,1,IF(R37=Q2,0.65,IF(R37=R2,0.35,\"\")))","v":{"$error":"#REF!"}},{"$f":"IF(INDEX(synt,socle4,nomenfant)=\"\",\"\",INDEX(synt,socle4,nomenfant))","v":{"$error":"#REF!"}},{"$f":"IF(T37=P2,1,IF(T37=Q2,0.65,IF(T37=R2,0.35,\"\")))","v":{"$error":"#REF!"}},{"$f":"IF(INDEX(synt,socle5,nomenfant)=\"\",\"\",INDEX(synt,socle5,nomenfant))","v":{"$error":"#REF!"}},{"$f":"IF(V37=P2,1,IF(V37=Q2,0.65,IF(V37=R2,0.35,\"\")))","v":{"$error":"#REF!"}},{"$f":"IF(INDEX(synt,socle6,nomenfant)=\"\",\"\",INDEX(synt,socle6,nomenfant))","v":{"$error":"#REF!"}},{"$f":"IF(X37=P2,1,IF(X37=Q2,0.65,IF(X37=R2,0.35,\"\")))","v":{"$error":"#REF!"}},{"$f":"IF(INDEX(synt,socle7,nomenfant)=\"\",\"\",INDEX(synt,socle7,nomenfant))","v":{"$error":"#REF!"}},{"$f":"IF(Z37=P2,1,IF(Z37=Q2,0.65,IF(Z37=R2,0.35,\"\")))","v":{"$error":"#REF!"}},{"$f":"IF(INDEX(synt,socle8,nomenfant)=\"\",\"\",INDEX(synt,socle8,nomenfant))","v":{"$error":"#REF!"}},{"$f":"IF(AB37=P2,1,IF(AB37=Q2,0.65,IF(AB37=R2,0.35,\"\")))","v":{"$error":"#REF!"}},{"$error":"#REF!"},null,{"$f":"IF(OR(AD37>0.7,AG37>0),\"OUI\",\"\")","v":{"$error":"#REF!"}},{"$f":"INDEX(validationsocle,AI37,nomenfant)","v":"00:00:00"},null,23]
[null,null,27,28,250,250,250,250,250,250,null,null,"Maîtriser quelques relations de sens entre les mots",{"$f":"IF(INDEX(synt,socle1,nomenfant)=\"\",\"\",INDEX(synt,socle1,nomenfant))","v":{"$error":"#REF!"}},{"$f":"IF(N38=P2,1,IF(N38=Q2,0.65,IF(N38=R2,0.35,\"\")))","v":{"$error":"#REF!"}},{"$f":"IF(INDEX(synt,socle2,nomenfant)=\"\",\"\",INDEX(synt,socle2,nomenfant))","v":{"$error":"#REF!"}},{"$f":"IF(P38=P2,1,IF(P38=Q2,0.65,IF(P38=R2,0.35,\"\")))","v":{"$error":"#REF!"}},{"$f":"IF(INDEX(synt,socle3,nomenfant)=\"\",\"\",INDEX(synt,socle3,nomenfant))","v":{"$error":"#REF!"}},{"$f":"IF(R38=P2,1,IF(R38=Q2,0.65,IF(R38=R2,0.35,\"\")))","v":{"$error":"#REF!"}},{"$f":"IF(INDEX(synt,socle4,nomenfant)=\"\",\"\",INDEX(synt,socle4,nomenfant))","v":{"$error":"#REF!"}},{"$f":"IF(T38=P2,1,IF(T38=Q2,0.65,IF(T38=R2,0.35,\"\")))","v":{"$error":"#REF!"}},{"$f":"IF(INDEX(synt,socle5,nomenfant)=\"\",\"\",INDEX(synt,socle5,nomenfant))","v":{"$error":"#REF!"}},{"$f":"IF(V38=P2,1,IF(V38=Q2,0.65,IF(V38=R2,0.35,\"\")))","v":{"$error":"#REF!"}},{"$f":"IF(INDEX(synt,socle6,nomenfant)=\"\",\"\",INDEX(synt,socle6,nomenfant))","v":{"$error":"#REF!"}},{"$f":"IF(X38=P2,1,IF(X38=Q2,0.65,IF(X38=R2,0.35,\"\")))","v":{"$error":"#REF!"}},{"$f":"IF(INDEX(synt,socle7,nomenfant)=\"\",\"\",INDEX(synt,socle7,nomenfant))","v":{"$error":"#REF!"}},{"$f":"IF(Z38=P2,1,IF(Z38=Q2,0.65,IF(Z38=R2,0.35,\"\")))","v":{"$error":"#REF!"}},{"$f":"IF(INDEX(synt,socle8,nomenfant)=\"\",\"\",INDEX(synt,socle8,nomenfant))","v":{"$error":"#REF!"}},{"$f":"IF(AB38=P2,1,IF(AB38=Q2,0.65,IF(AB38=R2,0.35,\"\")))","v":{"$error":"#REF!"}},{"$error":"#REF!"},null,{"$f":"IF(OR(AD38>0.7,AG38>0),\"OUI\",\"\")","v":{"$error":"#REF!"}},{"$f":"INDEX(validationsocle,AI38,nomenfant)","v":"00:00:00"},null,24]
[null,null,29,250,250,250,250,250,250,250,null,null,"Maîtriser quelques relations concernant la forme et le sens des mots",{"$f":"IF(INDEX(synt,socle1,nomenfant)=\"\",\"\",INDEX(synt,socle1,nomenfant))","v":{"$error":"#REF!"}},{"$f":"IF(N39=P2,1,IF(N39=Q2,0.65,IF(N39=R2,0.35,\"\")))","v":{"$error":"#REF!"}},{"$f":"IF(INDEX(synt,socle2,nomenfant)=\"\",\"\",INDEX(synt,socle2,nomenfant))","v":{"$error":"#REF!"}},{"$f":"IF(P39=P2,1,IF(P39=Q2,0.65,IF(P39=R2,0.35,\"\")))","v":{"$error":"#REF!"}},{"$f":"IF(INDEX(synt,socle3,nomenfant)=\"\",\"\",INDEX(synt,socle3,nomenfant))","v":{"$error":"#REF!"}},{"$f":"IF(R39=P2,1,IF(R39=Q2,0.65,IF(R39=R2,0.35,\"\")))","v":{"$error":"#REF!"}},{"$f":"IF(INDEX(synt,socle4,nomenfant)=\"\",\"\",INDEX(synt,socle4,nomenfant))","v":{"$error":"#REF!"}},{"$f":"IF(T39=P2,1,IF(T39=Q2,0.65,IF(T39=R2,0.35,\"\")))","v":{"$error":"#REF!"}},{"$f":"IF(INDEX(synt,socle5,nomenfant)=\"\",\"\",INDEX(synt,socle5,nomenfant))","v":{"$error":"#REF!"}},{"$f":"IF(V39=P2,1,IF(V39=Q2,0.65,IF(V39=R2,0.35,\"\")))","v":{"$error":"#REF!"}},{"$f":"IF(INDEX(synt,socle6,nomenfant)=\"\",\"\",INDEX(synt,socle6,nomenfant))","v":{"$error":"#REF!"}},{"$f":"IF(X39=P2,1,IF(X39=Q2,0.65,IF(X39=R2,0.35,\"\")))","v":{"$error":"#REF!"}},{"$f":"IF(INDEX(synt,socle7,nomenfant)=\"\",\"\",INDEX(synt,socle7,nomenfant))","v":{"$error":"#REF!"}},{"$f":"IF(Z39=P2,1,IF(Z39=Q2,0.65,IF(Z39=R2,0.35,\"\")))","v":{"$error":"#REF!"}},{"$f":"IF(INDEX(synt,socle8,nomenfant)=\"\",\"\",INDEX(synt,socle8,nomenfant))","v":{"$error":"#REF!"}},{"$f":"IF(AB39=P2,1,IF(AB39=Q2,0.65,IF(AB39=R2,0.35,\"\")))","v":{"$error":"#REF!"}},{"$error":"#REF!"},null,{"$f":"IF(OR(AD39>0.7,AG39>0),\"OUI\",\"\")","v":{"$error":"#REF!"}},{"$f":"INDEX(validationsocle,AI39,nomenfant)","v":"00:00:00"},null,25]
[null,null,30,31,250,250,250,250,250,250,null,null,"Savoir utiliser un dictionnaire papier ou numérique",{"$f":"IF(INDEX(synt,socle1,nomenfant)=\"\",\"\",INDEX(synt,socle1,nomenfant))","v":{"$error":"#REF!"}},{"$f":"IF(N40=P2,1,IF(N40=Q2,0.65,IF(N40=R2,0.35,\"\")))","v":{"$error":"#REF!"}},{"$f":"IF(INDEX(synt,socle2,nomenfant)=\"\",\"\",INDEX(synt,socle2,nomenfant))","v":{"$error":"#REF!"}},{"$f":"IF(P40=P2,1,IF(P40=Q2,0.65,IF(P40=R2,0.35,\"\")))","v":{"$error":"#REF!"}},{"$f":"IF(INDEX(synt,socle3,nomenfant)=\"\",\"\",INDEX(synt,socle3,nomenfant))","v":{"$error":"#REF!"}},{"$f":"IF(R40=P2,1,IF(R40=Q2,0.65,IF(R40=R2,0.35,\"\")))","v":{"$error":"#REF!"}},{"$f":"IF(INDEX(synt,socle4,nomenfant)=\"\",\"\",INDEX(synt,socle4,nomenfant))","v":{"$error":"#REF!"}},{"$f":"IF(T40=P2,1,IF(T40=Q2,0.65,IF(T40=R2,0.35,\"\")))","v":{"$error":"#REF!"}},{"$f":"IF(INDEX(synt,socle5,nomenfant)=\"\",\"\",INDEX(synt,socle5,nomenfant))","v":{"$error":"#REF!"}},{"$f":"IF(V40=P2,1,IF(V40=Q2,0.65,IF(V40=R2,0.35,\"\")))","v":{"$error":"#REF!"}},{"$f":"IF(INDEX(synt,socle6,nomenfant)=\"\",\"\",INDEX(synt,socle6,nomenfant))","v":{"$error":"#REF!"}},{"$f":"IF(X40=P2,1,IF(X40=Q2,0.65,IF(X40=R2,0.35,\"\")))","v":{"$error":"#REF!"}},{"$f":"IF(INDEX(synt,socle7,nomenfant)=\"\",\"\",INDEX(synt,socle7,nomenfant))","v":{"$error":"#REF!"}},{"$f":"IF(Z40=P2,1,IF(Z40=Q2,0.65,IF(Z40=R2,0.35,\"\")))","v":{"$error":"#REF!"}},{"$f":"IF(INDEX(synt,socle8,nomenfant)=\"\",\"\",INDEX(synt,socle8,nomenfant))","v":{"$error":"#REF!"}},{"$f":"IF(AB40=P2,1,IF(AB40=Q2,0.65,IF(AB40=R2,0.35,\"\")))","v":{"$error":"#REF!"}},{"$error":"#REF!"},null,{"$f":"IF(OR(AD40>0.7,AG40>0),\"OUI\",\"\")","v":{"$error":"#REF!"}},{"$f":"INDEX(validationsocle,AI40,nomenfant)","v":"00:00:00"},null,26]
[{"$nulls":12},"ÉTUDE DE LA LANGUE : GRAMMAIRE",{"$nulls":21},27]
[null,null,32,250,250,250,250,250,250,250,null,null,"Distinguer les mots selon leur nature",{"$f":"IF(INDEX(synt,socle1,nomenfant)=\"\",\"\",INDEX(synt,socle1,nomenfant))","v":{"$error":"#REF!"}},{"$f":"IF(N42=P2,1,IF(N42=Q2,0.65,IF(N42=R2,0.35,\"\")))","v":{"$error":"#REF!"}},{"$f":"IF(INDEX(synt,socle2,nomenfant)=\"\",\"\",INDEX(synt,socle2,nomenfant))","v":{"$error":"#REF!"}},{"$f":"IF(P42=P2,1,IF(P42=Q2,0.65,IF(P42=R2,0.35,\"\")))","v":{"$error":"#REF!"}},{"$f":"IF(INDEX(synt,socle3,nomenfant)=\"\",\"\",INDEX(synt,socle3,nomenfant))","v":{"$error":"#REF!"}},{"$f":"IF(R42=P2,1,IF(R42=Q2,0.65,IF(R42=R2,0.35,\"\")))","v":{"$error":"#REF!"}},{"$f":"IF(INDEX(synt,socle4,nomenfant)=\"\",\"\",INDEX(synt,socle4,nomenfant))","v":{"$error":"#REF!"}},{"$f":"IF(T42=P2,1,IF(T42=Q2,0.65,IF(T42=R2,0.35,\"\")))","v":{"$error":"#REF!"}},{"$f":"IF(INDEX(synt,socle5,nomenfant)=\"\",\"\",INDEX(synt,socle5,nomenfant))","v":{"$error":"#REF!"}},{"$f":"IF(V42=P2,1,IF(V42=Q2,0.65,IF(V42=R2,0.35,\"\")))","v":{"$error":"#REF!"}},{"$f":"IF(INDEX(synt,socle6,nomenfant)=\"\",\"\",INDEX(synt,socle6,nomenfant))","v":{"$error":"#REF!"}},{"$f":"IF(X42=P2,1,IF(X42=Q2,0.65,IF(X42=R2,0.35,\"\")))","v":{"$error":"#REF!"}},{"$f":"IF(INDEX(synt,socle7,nomenfant)=\"\",\"\",INDEX(synt,socle7,nomenfant))","v":{"$error":"#REF!"}},{"$f":"IF(Z42=P2,1,IF(Z42=Q2,0.65,IF(Z42=R2,0.35,\"\")))","v":{"$error":"#REF!"}},{"$f":"IF(INDEX(synt,socle8,nomenfant)=\"\",\"\",INDEX(synt,socle8,nomenfant))","v":{"$error":"#REF!"}},{"$f":"IF(AB42=P2,1,IF(AB42=Q2,0.65,IF(AB42=R2,0.35,\"\")))","v":{"$error":"#REF!"}},{"$error":"#REF!"},null,{"$f":"IF(OR(AD42>0.7,AG42>0),\"OUI\",\"\")","v":{"$error":"#REF!"}},{"$f":"INDEX(validationsocle,AI42,nomenfant)","v":"00:00:00"},null,28]
[null,null,33,34,250,250,250,250,250,250,null,null,"Identifier les fonctions des mots dans la phrase",{"$f":"IF(INDEX(synt,socle1,nomenfant)=\"\",\"\",INDEX(synt,socle1,nomenfant))","v":{"$error":"#REF!"}},{"$f":"IF(N43=P2,1,IF(N43=Q2,0.65,IF(N43=R2,0.35,\"\")))","v":{"$error":"#REF!"}},{"$f":"IF(INDEX(synt,socle2,nomenfant)=\"\",\"\",INDEX(synt,socle2,nomenfant))","v":{"$error":"#REF!"}},{"$f":"IF(P43=P2,1,IF(P43=Q2,0.65,IF(P43=R2,0.35,\"\")))","v":{"$error":"#REF!"}},{"$f":"IF(INDEX(synt,socle3,nomenfant)=\"\",\"\",INDEX(synt,socle3,nomenfant))","v":{"$error":"#REF!"}},{"$f":"IF(R43=P2,1,IF(R43=Q2,0.65,IF(R43=R2,0.35,\"\")))","v":{"$error":"#REF!"}},{"$f":"IF(INDEX(synt,socle4,nomenfant)=\"\",\"\",INDEX(synt,socle4,nomenfant))","v":{"$error":"#REF!"}},{"$f":"IF(T43=P2,1,IF(T43=Q2,0.65,IF(T43=R2,0.35,\"\")))","v":{"$error":"#REF!"}},{"$f":"IF(INDEX(synt,socle5,nomenfant)=\"\",\"\",INDEX(synt,socle5,nomenfant))","v":{"$error":"#REF!"}},{"$f":"IF(V43=P2,1,IF(V43=Q2,0.65,IF(V43=R2,0.35,\"\")))","v":{"$error":"#REF!"}},{"$f":"IF(INDEX(synt,socle6,nomenfant)=\"\",\"\",INDEX(synt,socle6,nomenfant))","v":{"$error":"#REF!"}},{"$f":"IF(X43=P2,1,IF(X43=Q2,0.65,IF(X43=R2,0.35,\"\")))","v":{"$error":"#REF!"}},{"$f":"IF(INDEX(synt,socle7,nomenfant)=\"\",\"\",INDEX(synt,socle7,nomenfant))","v":{"$error":"#REF!"}},{"$f":"IF(Z43=P2,1,IF(Z43=Q2,0.65,IF(Z43=R2,0.35,\"\")))","v":{"$error":"#REF!"}},{"$f":"IF(INDEX(synt,socle8,nomenfant)=\"\",\"\",INDEX(synt,socle8,nomenfant))","v":{"$error":"#REF!"}},{"$f":"IF(AB43=P2,1,IF(AB43=Q2,0.65,IF(AB43=R2,0.35,\"\")))","v":{"$error":"#REF!"}},{"$error":"#REF!"},null,{"$f":"IF(OR(AD43>0.7,AG43>0),\"OUI\",\"\")","v":{"$error":"#REF!"}},{"$f":"INDEX(validationsocle,AI43,nomenfant)","v":"00:00:00"},null,29]
[null,null,{"v":35.35,"d":"35"},36,250,250,250,250,250,250,null,null,"Conjuguer les verbes, utiliser les temps à bon escient",{"$f":"IF(INDEX(synt,socle1,nomenfant)=\"\",\"\",INDEX(synt,socle1,nomenfant))","v":{"$error":"#REF!"}},{"$f":"IF(N44=P2,1,IF(N44=Q2,0.65,IF(N44=R2,0.35,\"\")))","v":{"$error":"#REF!"}},{"$f":"IF(INDEX(synt,socle2,nomenfant)=\"\",\"\",INDEX(synt,socle2,nomenfant))","v":{"$error":"#REF!"}},{"$f":"IF(P44=P2,1,IF(P44=Q2,0.65,IF(P44=R2,0.35,\"\")))","v":{"$error":"#REF!"}},{"$f":"IF(INDEX(synt,socle3,nomenfant)=\"\",\"\",INDEX(synt,socle3,nomenfant))","v":{"$error":"#REF!"}},{"$f":"IF(R44=P2,1,IF(R44=Q2,0.65,IF(R44=R2,0.35,\"\")))","v":{"$error":"#REF!"}},{"$f":"IF(INDEX(synt,socle4,nomenfant)=\"\",\"\",INDEX(synt,socle4,nomenfant))","v":{"$error":"#REF!"}},{"$f":"IF(T44=P2,1,IF(T44=Q2,0.65,IF(T44=R2,0.35,\"\")))","v":{"$error":"#REF!"}},{"$f":"IF(INDEX(synt,socle5,nomenfant)=\"\",\"\",INDEX(synt,socle5,nomenfant))","v":{"$error":"#REF!"}},{"$f":"IF(V44=P2,1,IF(V44=Q2,0.65,IF(V44=R2,0.35,\"\")))","v":{"$error":"#REF!"}},{"$f":"IF(INDEX(synt,socle6,nomenfant)=\"\",\"\",INDEX(synt,socle6,nomenfant))","v":{"$error":"#REF!"}},{"$f":"IF(X44=P2,1,IF(X44=Q2,0.65,IF(X44=R2,0.35,\"\")))","v":{"$error":"#REF!"}},{"$f":"IF(INDEX(synt,socle7,nomenfant)=\"\",\"\",INDEX(synt,socle7,nomenfant))","v":{"$error":"#REF!"}},{"$f":"IF(Z44=P2,1,IF(Z44=Q2,0.65,IF(Z44=R2,0.35,\"\")))","v":{"$error":"#REF!"}},{"$f":"IF(INDEX(synt,socle8,nomenfant)=\"\",\"\",INDEX(synt,socle8,nomenfant))","v":{"$error":"#REF!"}},{"$f":"IF(AB44=P2,1,IF(AB44=Q2,0.65,IF(AB44=R2,0.35,\"\")))","v":{"$error":"#REF!"}},{"$error":"#REF!"},null,{"$f":"IF(OR(AD44>0.7,AG44>0),\"OUI\",\"\")","v":{"$error":"#REF!"}},{"$f":"INDEX(validationsocle,AI44,nomenfant)","v":"00:00:00"},null,30]
[{"$nulls":12},"ÉTUDE DE LA LANGUE : ORTHOGRAPHE",{"$nulls":21},31]
[null,null,37,40,42,250,250,250,250,250,null,null,"Maîtriser l'orthographe grammaticale",{"$f":"IF(INDEX(synt,socle1,nomenfant)=\"\",\"\",INDEX(synt,socle1,nomenfant))","v":{"$error":"#REF!"}},{"$f":"IF(N46=P2,1,IF(N46=Q2,0.65,IF(N46=R2,0.35,\"\")))","v":{"$error":"#REF!"}},{"$f":"IF(INDEX(synt,socle2,nomenfant)=\"\",\"\",INDEX(synt,socle2,nomenfant))","v":{"$error":"#REF!"}},{"$f":"IF(P46=P2,1,IF(P46=Q2,0.65,IF(P46=R2,0.35,\"\")))","v":{"$error":"#REF!"}},{"$f":"IF(INDEX(synt,socle3,nomenfant)=\"\",\"\",INDEX(synt,socle3,nomenfant))","v":{"$error":"#REF!"}},{"$f":"IF(R46=P2,1,IF(R46=Q2,0.65,IF(R46=R2,0.35,\"\")))","v":{"$error":"#REF!"}},{"$f":"IF(INDEX(synt,socle4,nomenfant)=\"\",\"\",INDEX(synt,socle4,nomenfant))","v":{"$error":"#REF!"}},{"$f":"IF(T46=P2,1,IF(T46=Q2,0.65,IF(T46=R2,0.35,\"\")))","v":{"$error":"#REF!"}},{"$f":"IF(INDEX(synt,socle5,nomenfant)=\"\",\"\",INDEX(synt,socle5,nomenfant))","v":{"$error":"#REF!"}},{"$f":"IF(V46=P2,1,IF(V46=Q2,0.65,IF(V46=R2,0.35,\"\")))","v":{"$error":"#REF!"}},{"$f":"IF(INDEX(synt,socle6,nomenfant)=\"\",\"\",INDEX(synt,socle6,nomenfant))","v":{"$error":"#REF!"}},{"$f":"IF(X46=P2,1,IF(X46=Q2,0.65,IF(X46=R2,0.35,\"\")))","v":{"$error":"#REF!"}},{"$f":"IF(INDEX(synt,socle7,nomenfant)=\"\",\"\",INDEX(synt,socle7,nomenfant))","v":{"$error":"#REF!"}},{"$f":"IF(Z46=P2,1,IF(Z46=Q2,0.65,IF(Z46=R2,0.35,\"\")))","v":{"$error":"#REF!"}},{"$f":"IF(INDEX(synt,socle8,nomenfant)=\"\",\"\",INDEX(synt,socle8,nomenfant))","v":{"$error":"#REF!"}},{"$f":"IF(AB46=P2,1,IF(AB46=Q2,0.65,IF(AB46=R2,0.35,\"\")))","v":{"$error":"#REF!"}},{"$error":"#REF!"},null,{"$f":"IF(OR(AD46>0.7,AG46>0),\"OUI\",\"\")","v":{"$error":"#REF!"}},{"$f":"INDEX(validationsocle,AI46,nomenfant)","v":"00:00:00"},null,32]
[null,null,39,43,44,250,250,250,250,250,null,null,"Maîtriser l'orthographe lexicale",{"$f":"IF(INDEX(synt,socle1,nomenfant)=\"\",\"\",INDEX(synt,socle1,nomenfant))","v":{"$error":"#REF!"}},{"$f":"IF(N47=P2,1,IF(N47=Q2,0.65,IF(N47=R2,0.35,\"\")))","v":{"$error":"#REF!"}},{"$f":"IF(INDEX(synt,socle2,nomenfant)=\"\",\"\",INDEX(synt,socle2,nomenfant))","v":{"$error":"#REF!"}},{"$f":"IF(P47=P2,1,IF(P47=Q2,0.65,IF(P47=R2,0.35,\"\")))","v":{"$error":"#REF!"}},{"$f":"IF(INDEX(synt,socle3,nomenfant)=\"\",\"\",INDEX(synt,socle3,nomenfant))","v":{"$error":"#REF!"}},{"$f":"IF(R47=P2,1,IF(R47=Q2,0.65,IF(R47=R2,0.35,\"\")))","v":{"$error":"#REF!"}},{"$f":"IF(INDEX(synt,socle4,nomenfant)=\"\",\"\",INDEX(synt,socle4,nomenfant))","v":{"$error":"#REF!"}},{"$f":"IF(T47=P2,1,IF(T47=Q2,0.65,IF(T47=R2,0.35,\"\")))","v":{"$error":"#REF!"}},{"$f":"IF(INDEX(synt,socle5,nomenfant)=\"\",\"\",INDEX(synt,socle5,nomenfant))","v":{"$error":"#REF!"}},{"$f":"IF(V47=P2,1,IF(V47=Q2,0.65,IF(V47=R2,0.35,\"\")))","v":{"$error":"#REF!"}},{"$f":"IF(INDEX(synt,socle6,nomenfant)=\"\",\"\",INDEX(synt,socle6,nomenfant))","v":{"$error":"#REF!"}},{"$f":"IF(X47=P2,1,IF(X47=Q2,0.65,IF(X47=R2,0.35,\"\")))","v":{"$error":"#REF!"}},{"$f":"IF(INDEX(synt,socle7,nomenfant)=\"\",\"\",INDEX(synt,socle7,nomenfant))","v":{"$error":"#REF!"}},{"$f":"IF(Z47=P2,1,IF(Z47=Q2,0.65,IF(Z47=R2,0.35,\"\")))","v":{"$error":"#REF!"}},{"$f":"IF(INDEX(synt,socle8,nomenfant)=\"\",\"\",INDEX(synt,socle8,nomenfant))","v":{"$error":"#REF!"}},{"$f":"IF(AB47=P2,1,IF(AB47=Q2,0.65,IF(AB47=R2,0.35,\"\")))","v":{"$error":"#REF!"}},{"$error":"#REF!"},null,{"$f":"IF(OR(AD47>0.7,AG47>0),\"OUI\",\"\")","v":{"$error":"#REF!"}},{"$f":"INDEX(validationsocle,AI47,nomenfant)","v":"00:00:00"},null,33]
[null,null,38,45,250,250,250,250,250,250,null,null,"Orthographier correctement un texte simple de dix lignes – lors de sa rédaction ou de sa dictée – en se référant aux règles connues d'orthographe et de grammaire ainsi qu'à la connaissance du vocabulaire",{"$f":"IF(INDEX(synt,socle1,nomenfant)=\"\",\"\",INDEX(synt,socle1,nomenfant))","v":{"$error":"#REF!"}},{"$f":"IF(N48=P2,1,IF(N48=Q2,0.65,IF(N48=R2,0.35,\"\")))","v":{"$error":"#REF!"}},{"$f":"IF(INDEX(synt,socle2,nomenfant)=\"\",\"\",INDEX(synt,socle2,nomenfant))","v":{"$error":"#REF!"}},{"$f":"IF(P48=P2,1,IF(P48=Q2,0.65,IF(P48=R2,0.35,\"\")))","v":{"$error":"#REF!"}},{"$f":"IF(INDEX(synt,socle3,nomenfant)=\"\",\"\",INDEX(synt,socle3,nomenfant))","v":{"$error":"#REF!"}},{"$f":"IF(R48=P2,1,IF(R48=Q2,0.65,IF(R48=R2,0.35,\"\")))","v":{"$error":"#REF!"}},{"$f":"IF(INDEX(synt,socle4,nomenfant)=\"\",\"\",INDEX(synt,socle4,nomenfant))","v":{"$error":"#REF!"}},{"$f":"IF(T48=P2,1,IF(T48=Q2,0.65,IF(T48=R2,0.35,\"\")))","v":{"$error":"#REF!"}},{"$f":"IF(INDEX(synt,socle5,nomenfant)=\"\",\"\",INDEX(synt,socle5,nomenfant))","v":{"$error":"#REF!"}},{"$f":"IF(V48=P2,1,IF(V48=Q2,0.65,IF(V48=R2,0.35,\"\")))","v":{"$error":"#REF!"}},{"$f":"IF(INDEX(synt,socle6,nomenfant)=\"\",\"\",INDEX(synt,socle6,nomenfant))","v":{"$error":"#REF!"}},{"$f":"IF(X48=P2,1,IF(X48=Q2,0.65,IF(X48=R2,0.35,\"\")))","v":{"$error":"#REF!"}},{"$f":"IF(INDEX(synt,socle7,nomenfant)=\"\",\"\",INDEX(synt,socle7,nomenfant))","v":{"$error":"#REF!"}},{"$f":"IF(Z48=P2,1,IF(Z48=Q2,0.65,IF(Z48=R2,0.35,\"\")))","v":{"$error":"#REF!"}},{"$f":"IF(INDEX(synt,socle8,nomenfant)=\"\",\"\",INDEX(synt,socle8,nomenfant))","v":{"$error":"#REF!"}},{"$f":"IF(AB48=P2,1,IF(AB48=Q2,0.65,IF(AB48=R2,0.35,\"\")))","v":{"$error":"#REF!"}},{"$error":"#REF!"},null,{"$f":"IF(OR(AD48>0.7,AG48>0),\"OUI\",\"\")","v":{"$error":"#REF!"}},{"$f":"INDEX(validationsocle,AI48,nomenfant)","v":"00:00:00"},null,34]
[{"$nulls":34},35]
[{"$nulls":34},36]
[{"$nulls":12},"Les principaux éléments de mathématiques",{"$nulls":21},37]
[{"$nulls":34},38]
[{"$nulls":12},"NOMBRES ET CALCUL",{"$nulls":21},39]
[null,null,46,47,250,250,250,250,250,250,null,null,"Écrire, nommer, comparer et utiliser les nombres entiers, les nombres décimaux (jusqu’au centième) et quelques fractions simples",{"$f":"IF(INDEX(synt,socle1,nomenfant)=\"\",\"\",INDEX(synt,socle1,nomenfant))","v":{"$error":"#REF!"}},{"$f":"IF(N54=P2,1,IF(N54=Q2,0.65,IF(N54=R2,0.35,\"\")))","v":{"$error":"#REF!"}},{"$f":"IF(INDEX(synt,socle2,nomenfant)=\"\",\"\",INDEX(synt,socle2,nomenfant))","v":{"$error":"#REF!"}},{"$f":"IF(P54=P2,1,IF(P54=Q2,0.65,IF(P54=R2,0.35,\"\")))","v":{"$error":"#REF!"}},{"$f":"IF(INDEX(synt,socle3,nomenfant)=\"\",\"\",INDEX(synt,socle3,nomenfant))","v":{"$error":"#REF!"}},{"$f":"IF(R54=P2,1,IF(R54=Q2,0.65,IF(R54=R2,0.35,\"\")))","v":{"$error":"#REF!"}},{"$f":"IF(INDEX(synt,socle4,nomenfant)=\"\",\"\",INDEX(synt,socle4,nomenfant))","v":{"$error":"#REF!"}},{"$f":"IF(T54=P2,1,IF(T54=Q2,0.65,IF(T54=R2,0.35,\"\")))","v":{"$error":"#REF!"}},{"$f":"IF(INDEX(synt,socle5,nomenfant)=\"\",\"\",INDEX(synt,socle5,nomenfant))","v":{"$error":"#REF!"}},{"$f":"IF(V54=P2,1,IF(V54=Q2,0.65,IF(V54=R2,0.35,\"\")))","v":{"$error":"#REF!"}},{"$f":"IF(INDEX(synt,socle6,nomenfant)=\"\",\"\",INDEX(synt,socle6,nomenfant))","v":{"$error":"#REF!"}},{"$f":"IF(X54=P2,1,IF(X54=Q2,0.65,IF(X54=R2,0.35,\"\")))","v":{"$error":"#REF!"}},{"$f":"IF(INDEX(synt,socle7,nomenfant)=\"\",\"\",INDEX(synt,socle7,nomenfant))","v":{"$error":"#REF!"}},{"$f":"IF(Z54=P2,1,IF(Z54=Q2,0.65,IF(Z54=R2,0.35,\"\")))","v":{"$error":"#REF!"}},{"$f":"IF(INDEX(synt,socle8,nomenfant)=\"\",\"\",INDEX(synt,socle8,nomenfant))","v":{"$error":"#REF!"}},{"$f":"IF(AB54=P2,1,IF(AB54=Q2,0.65,IF(AB54=R2,0.35,\"\")))","v":{"$error":"#REF!"}},{"$f":"IF(SUM(N54:AC54)=0,0,SUM(N54:AC54)/COUNTIF(N54:AC54,\">0\"))","v":{"$error":"#REF!"}},null,{"$f":"IF(OR(AD54>0.7,AG54>0),\"OUI\",\"\")","v":{"$error":"#REF!"}},{"$f":"INDEX(validationsocle,AI54,nomenfant)","v":"00:00:00"},null,40]
[null,null,50,250,250,250,250,250,250,250,null,null,"Restituer les tables d’addition et de multiplication de 2 à 9",{"$error":"#REF!"},{"$f":"IF(N55=P2,1,IF(N55=Q2,0.65,IF(N55=R2,0.35,\"\")))","v":{"$error":"#REF!"}},{"$error":"#REF!"},{"$f":"IF(P55=P2,1,IF(P55=Q2,0.65,IF(P55=R2,0.35,\"\")))","v":{"$error":"#REF!"}},{"$error":"#REF!"},{"$f":"IF(R55=P2,1,IF(R55=Q2,0.65,IF(R55=R2,0.35,\"\")))","v":{"$error":"#REF!"}},{"$error":"#REF!"},{"$f":"IF(T55=P2,1,IF(T55=Q2,0.65,IF(T55=R2,0.35,\"\")))","v":{"$error":"#REF!"}},{"$error":"#REF!"},{"$f":"IF(V55=P2,1,IF(V55=Q2,0.65,IF(V55=R2,0.35,\"\")))","v":{"$error":"#REF!"}},{"$error":"#REF!"},{"$f":"IF(X55=P2,1,IF(X55=Q2,0.65,IF(X55=R2,0.35,\"\")))","v":{"$error":"#REF!"}},{"$error":"#REF!"},{"$f":"IF(Z55=P2,1,IF(Z55=Q2,0.65,IF(Z55=R2,0.35,\"\")))","v":{"$error":"#REF!"}},{"$error":"#REF!"},{"$f":"IF(AB55=P2,1,IF(AB55=Q2,0.65,IF(AB55=R2,0.35,\"\")))","v":{"$error":"#REF!"}},{"$error":"#REF!"},null,{"$error":"#REF!"},"00:00:00",null,41]
[null,null,52,53,54,55,250,250,250,250,null,null,"Utiliser les techniques opératoires des quatre opérations sur les nombres entiers et décimaux (pour la division, le diviseur est un nombre entier)",{"$error":"#REF!"},{"$f":"IF(N56=P2,1,IF(N56=Q2,0.65,IF(N56=R2,0.35,\"\")))","v":{"$error":"#REF!"}},{"$error":"#REF!"},{"$f":"IF(P56=P2,1,IF(P56=Q2,0.65,IF(P56=R2,0.35,\"\")))","v":{"$error":"#REF!"}},{"$error":"#REF!"},{"$f":"IF(R56=P2,1,IF(R56=Q2,0.65,IF(R56=R2,0.35,\"\")))","v":{"$error":"#REF!"}},{"$error":"#REF!"},{"$f":"IF(T56=P2,1,IF(T56=Q2,0.65,IF(T56=R2,0.35,\"\")))","v":{"$error":"#REF!"}},{"$error":"#REF!"},{"$f":"IF(V56=P2,1,IF(V56=Q2,0.65,IF(V56=R2,0.35,\"\")))","v":{"$error":"#REF!"}},{"$error":"#REF!"},{"$f":"IF(X56=P2,1,IF(X56=Q2,0.65,IF(X56=R2,0.35,\"\")))","v":{"$error":"#REF!"}},{"$error":"#REF!"},{"$f":"IF(Z56=P2,1,IF(Z56=Q2,0.65,IF(Z56=R2,0.35,\"\")))","v":{"$error":"#REF!"}},{"$error":"#REF!"},{"$f":"IF(AB56=P2,1,IF(AB56=Q2,0.65,IF(AB56=R2,0.35,\"\")))","v":{"$error":"#REF!"}},{"$error":"#REF!"},null,{"$error":"#REF!"},"00:00:00",null,42]
[null,null,48,250,250,250,250,250,250,250,null,null,"Ajouter deux fractions décimales ou deux fractions simples de même dénominateur",{"$error":"#REF!"},{"$f":"IF(N57=P2,1,IF(N57=Q2,0.65,IF(N57=R2,0.35,\"\")))","v":{"$error":"#REF!"}},{"$error":"#REF!"},{"$f":"IF(P57=P2,1,IF(P57=Q2,0.65,IF(P57=R2,0.35,\"\")))","v":{"$error":"#REF!"}},{"$error":"#REF!"},{"$f":"IF(R57=P2,1,IF(R57=Q2,0.65,IF(R57=R2,0.35,\"\")))","v":{"$error":"#REF!"}},{"$error":"#REF!"},{"$f":"IF(T57=P2,1,IF(T57=Q2,0.65,IF(T57=R2,0.35,\"\")))","v":{"$error":"#REF!"}},{"$error":"#REF!"},{"$f":"IF(V57=P2,1,IF(V57=Q2,0.65,IF(V57=R2,0.35,\"\")))","v":{"$error":"#REF!"}},{"$error":"#REF!"},{"$f":"IF(X57=P2,1,IF(X57=Q2,0.65,IF(X57=R2,0.35,\"\")))","v":{"$error":"#REF!"}},{"$error":"#REF!"},{"$f":"IF(Z57=P2,1,IF(Z57=Q2,0.65,IF(Z57=R2,0.35,\"\")))","v":{"$error":"#REF!"}},{"$error":"#REF!"},{"$f":"IF(AB57=P2,1,IF(AB57=Q2,0.65,IF(AB57=R2,0.35,\"\")))","v":{"$error":"#REF!"}},{"$error":"#REF!"},null,{"$error":"#REF!"},"00:00:00",null,43]
[null,null,50,51,52,250,250,250,250,250,null,null,"Calculer mentalement en utilisant les quatre opérations",{"$error":"#REF!"},{"$f":"IF(N58=P2,1,IF(N58=Q2,0.65,IF(N58=R2,0.35,\"\")))","v":{"$error":"#REF!"}},{"$error":"#REF!"},{"$f":"IF(P58=P2,1,IF(P58=Q2,0.65,IF(P58=R2,0.35,\"\")))","v":{"$error":"#REF!"}},{"$error":"#REF!"},{"$f":"IF(R58=P2,1,IF(R58=Q2,0.65,IF(R58=R2,0.35,\"\")))","v":{"$error":"#REF!"}},{"$error":"#REF!"},{"$f":"IF(T58=P2,1,IF(T58=Q2,0.65,IF(T58=R2,0.35,\"\")))","v":{"$error":"#REF!"}},{"$error":"#REF!"},{"$f":"IF(V58=P2,1,IF(V58=Q2,0.65,IF(V58=R2,0.35,\"\")))","v":{"$error":"#REF!"}},{"$error":"#REF!"},{"$f":"IF(X58=P2,1,IF(X58=Q2,0.65,IF(X58=R2,0.35,\"\")))","v":{"$error":"#REF!"}},{"$error":"#REF!"},{"$f":"IF(Z58=P2,1,IF(Z58=Q2,0.65,IF(Z58=R2,0.35,\"\")))","v":{"$error":"#REF!"}},{"$error":"#REF!"},{"$f":"IF(AB58=P2,1,IF(AB58=Q2,0.65,IF(AB58=R2,0.35,\"\")))","v":{"$error":"#REF!"}},{"$error":"#REF!"},null,{"$error":"#REF!"},"00:00:00",null,44]
[null,null,49,250,250,250,250,250,250,250,null,null,"Estimer l’ordre de grandeur d’un résultat",{"$error":"#REF!"},{"$f":"IF(N59=P2,1,IF(N59=Q2,0.65,IF(N59=R2,0.35,\"\")))","v":{"$error":"#REF!"}},{"$error":"#REF!"},{"$f":"IF(P59=P2,1,IF(P59=Q2,0.65,IF(P59=R2,0.35,\"\")))","v":{"$error":"#REF!"}},{"$error":"#REF!"},{"$f":"IF(R59=P2,1,IF(R59=Q2,0.65,IF(R59=R2,0.35,\"\")))","v":{"$error":"#REF!"}},{"$error":"#REF!"},{"$f":"IF(T59=P2,1,IF(T59=Q2,0.65,IF(T59=R2,0.35,\"\")))","v":{"$error":"#REF!"}},{"$error":"#REF!"},{"$f":"IF(V59=P2,1,IF(V59=Q2,0.65,IF(V59=R2,0.35,\"\")))","v":{"$error":"#REF!"}},{"$error":"#REF!"},{"$f":"IF(X59=P2,1,IF(X59=Q2,0.65,IF(X59=R2,0.35,\"\")))","v":{"$error":"#REF!"}},{"$error":"#REF!"},{"$f":"IF(Z59=P2,1,IF(Z59=Q2,0.65,IF(Z59=R2,0.35,\"\")))","v":{"$error":"#REF!"}},{"$error":"#REF!"},{"$f":"IF(AB59=P2,1,IF(AB59=Q2,0.65,IF(AB59=R2,0.35,\"\")))","v":{"$error":"#REF!"}},{"$error":"#REF!"},null,{"$error":"#REF!"},"00:00:00",null,45]
[null,null,60,61,62,250,250,250,250,250,null,null,"Résoudre des problèmes relevant des quatre opérations",{"$error":"#REF!"},{"$f":"IF(N60=P2,1,IF(N60=Q2,0.65,IF(N60=R2,0.35,\"\")))","v":{"$error":"#REF!"}},{"$error":"#REF!"},{"$f":"IF(P60=P2,1,IF(P60=Q2,0.65,IF(P60=R2,0.35,\"\")))","v":{"$error":"#REF!"}},{"$error":"#REF!"},{"$f":"IF(R60=P2,1,IF(R60=Q2,0.65,IF(R60=R2,0.35,\"\")))","v":{"$error":"#REF!"}},{"$error":"#REF!"},{"$f":"IF(T60=P2,1,IF(T60=Q2,0.65,IF(T60=R2,0.35,\"\")))","v":{"$error":"#REF!"}},{"$error":"#REF!"},{"$f":"IF(V60=P2,1,IF(V60=Q2,0.65,IF(V60=R2,0.35,\"\")))","v":{"$error":"#REF!"}},{"$error":"#REF!"},{"$f":"IF(X60=P2,1,IF(X60=Q2,0.65,IF(X60=R2,0.35,\"\")))","v":{"$error":"#REF!"}},{"$error":"#REF!"},{"$f":"IF(Z60=P2,1,IF(Z60=Q2,0.65,IF(Z60=R2,0.35,\"\")))","v":{"$error":"#REF!"}},{"$error":"#REF!"},{"$f":"IF(AB60=P2,1,IF(AB60=Q2,0.65,IF(AB60=R2,0.35,\"\")))","v":{"$error":"#REF!"}},{"$error":"#REF!"},null,{"$error":"#REF!"},"00:00:00",null,46]
[null,null,59,250,250,250,250,250,250,250,null,null,"Utiliser une calculatrice",{"$error":"#REF!"},{"$f":"IF(N61=P2,1,IF(N61=Q2,0.65,IF(N61=R2,0.35,\"\")))","v":{"$error":"#REF!"}},{"$error":"#REF!"},{"$f":"IF(P61=P2,1,IF(P61=Q2,0.65,IF(P61=R2,0.35,\"\")))","v":{"$error":"#REF!"}},{"$error":"#REF!"},{"$f":"IF(R61=P2,1,IF(R61=Q2,0.65,IF(R61=R2,0.35,\"\")))","v":{"$error":"#REF!"}},{"$error":"#REF!"},{"$f":"IF(T61=P2,1,IF(T61=Q2,0.65,IF(T61=R2,0.35,\"\")))","v":{"$error":"#REF!"}},{"$error":"#REF!"},{"$f":"IF(V61=P2,1,IF(V61=Q2,0.65,IF(V61=R2,0.35,\"\")))","v":{"$error":"#REF!"}},{"$error":"#REF!"},{"$f":"IF(X61=P2,1,IF(X61=Q2,0.65,IF(X61=R2,0.35,\"\")))","v":{"$error":"#REF!"}},{"$error":"#REF!"},{"$f":"IF(Z61=P2,1,IF(Z61=Q2,0.65,IF(Z61=R2,0.35,\"\")))","v":{"$error":"#REF!"}},{"$error":"#REF!"},{"$f":"IF(AB61=P2,1,IF(AB61=Q2,0.65,IF(AB61=R2,0.35,\"\")))","v":{"$error":"#REF!"}},{"$error":"#REF!"},null,{"$error":"#REF!"},"00:00:00",null,47]
[{"$nulls":12},"GÉOMÉTRIE",{"$nulls":21},48]
[null,null,63,64,250,250,250,250,250,250,null,null,"Reconnaître, décrire et nommer les figures et solides usuels",{"$f":"IF(INDEX(synt,socle1,nomenfant)=\"\",\"\",INDEX(synt,socle1,nomenfant))","v":{"$error":"#REF!"}},{"$f":"IF(N63=P2,1,IF(N63=Q2,0.65,IF(N63=R2,0.35,\"\")))","v":{"$error":"#REF!"}},{"$f":"IF(INDEX(synt,socle2,nomenfant)=\"\",\"\",INDEX(synt,socle2,nomenfant))","v":{"$error":"#REF!"}},{"$f":"IF(P63=P2,1,IF(P63=Q2,0.65,IF(P63=R2,0.35,\"\")))","v":{"$error":"#REF!"}},{"$f":"IF(INDEX(synt,socle3,nomenfant)=\"\",\"\",INDEX(synt,socle3,nomenfant))","v":{"$error":"#REF!"}},{"$f":"IF(R63=P2,1,IF(R63=Q2,0.65,IF(R63=R2,0.35,\"\")))","v":{"$error":"#REF!"}},{"$f":"IF(INDEX(synt,socle4,nomenfant)=\"\",\"\",INDEX(synt,socle4,nomenfant))","v":{"$error":"#REF!"}},{"$f":"IF(T63=P2,1,IF(T63=Q2,0.65,IF(T63=R2,0.35,\"\")))","v":{"$error":"#REF!"}},{"$f":"IF(INDEX(synt,socle5,nomenfant)=\"\",\"\",INDEX(synt,socle5,nomenfant))","v":{"$error":"#REF!"}},{"$f":"IF(V63=P2,1,IF(V63=Q2,0.65,IF(V63=R2,0.35,\"\")))","v":{"$error":"#REF!"}},{"$f":"IF(INDEX(synt,socle6,nomenfant)=\"\",\"\",INDEX(synt,socle6,nomenfant))","v":{"$error":"#REF!"}},{"$f":"IF(X63=P2,1,IF(X63=Q2,0.65,IF(X63=R2,0.35,\"\")))","v":{"$error":"#REF!"}},{"$f":"IF(INDEX(synt,socle7,nomenfant)=\"\",\"\",INDEX(synt,socle7,nomenfant))","v":{"$error":"#REF!"}},{"$f":"IF(Z63=P2,1,IF(Z63=Q2,0.65,IF(Z63=R2,0.35,\"\")))","v":{"$error":"#REF!"}},{"$f":"IF(INDEX(synt,socle8,nomenfant)=\"\",\"\",INDEX(synt,socle8,nomenfant))","v":{"$error":"#REF!"}},{"$f":"IF(AB63=P2,1,IF(AB63=Q2,0.65,IF(AB63=R2,0.35,\"\")))","v":{"$error":"#REF!"}},{"$error":"#REF!"},null,{"$f":"IF(OR(AD63>0.7,AG63>0),\"OUI\",\"\")","v":{"$error":"#REF!"}},{"$f":"INDEX(validationsocle,AI63,nomenfant)","v":"00:00:00"},null,49]
[null,null,69,71,72,250,250,250,250,250,null,null,"Utiliser la règle, l’équerre et le compas pour vérifier la nature de figures planes usuelles et les construire avec soin et précision",{"$f":"IF(INDEX(synt,socle1,nomenfant)=\"\",\"\",INDEX(synt,socle1,nomenfant))","v":{"$error":"#REF!"}},{"$f":"IF(N64=P2,1,IF(N64=Q2,0.65,IF(N64=R2,0.35,\"\")))","v":{"$error":"#REF!"}},{"$f":"IF(INDEX(synt,socle2,nomenfant)=\"\",\"\",INDEX(synt,socle2,nomenfant))","v":{"$error":"#REF!"}},{"$f":"IF(P64=P2,1,IF(P64=Q2,0.65,IF(P64=R2,0.35,\"\")))","v":{"$error":"#REF!"}},{"$f":"IF(INDEX(synt,socle3,nomenfant)=\"\",\"\",INDEX(synt,socle3,nomenfant))","v":{"$error":"#REF!"}},{"$f":"IF(R64=P2,1,IF(R64=Q2,0.65,IF(R64=R2,0.35,\"\")))","v":{"$error":"#REF!"}},{"$f":"IF(INDEX(synt,socle4,nomenfant)=\"\",\"\",INDEX(synt,socle4,nomenfant))","v":{"$error":"#REF!"}},{"$f":"IF(T64=P2,1,IF(T64=Q2,0.65,IF(T64=R2,0.35,\"\")))","v":{"$error":"#REF!"}},{"$f":"IF(INDEX(synt,socle5,nomenfant)=\"\",\"\",INDEX(synt,socle5,nomenfant))","v":{"$error":"#REF!"}},{"$f":"IF(V64=P2,1,IF(V64=Q2,0.65,IF(V64=R2,0.35,\"\")))","v":{"$error":"#REF!"}},{"$f":"IF(INDEX(synt,socle6,nomenfant)=\"\",\"\",INDEX(synt,socle6,nomenfant))","v":{"$error":"#REF!"}},{"$f":"IF(X64=P2,1,IF(X64=Q2,0.65,IF(X64=R2,0.35,\"\")))","v":{"$error":"#REF!"}},{"$f":"IF(INDEX(synt,socle7,nomenfant)=\"\",\"\",INDEX(synt,socle7,nomenfant))","v":{"$error":"#REF!"}},{"$f":"IF(Z64=P2,1,IF(Z64=Q2,0.65,IF(Z64=R2,0.35,\"\")))","v":{"$error":"#REF!"}},{"$f":"IF(INDEX(synt,socle8,nomenfant)=\"\",\"\",INDEX(synt,socle8,nomenfant))","v":{"$error":"#REF!"}},{"$f":"IF(AB64=P2,1,IF(AB64=Q2,0.65,IF(AB64=R2,0.35,\"\")))","v":{"$error":"#REF!"}},{"$error":"#REF!"},null,{"$f":"IF(OR(AD64>0.7,AG64>0),\"OUI\",\"\")","v":{"$error":"#REF!"}},{"$f":"INDEX(validationsocle,AI64,nomenfant)","v":"00:00:00"},null,50]
[null,null,65,250,250,250,250,250,250,250,null,null,"Percevoir et reconnaitre parallèles et perpendiculaires",{"$f":"IF(INDEX(synt,socle1,nomenfant)=\"\",\"\",INDEX(synt,socle1,nomenfant))","v":{"$error":"#REF!"}},{"$f":"IF(N65=P2,1,IF(N65=Q2,0.65,IF(N65=R2,0.35,\"\")))","v":{"$error":"#REF!"}},{"$f":"IF(INDEX(synt,socle2,nomenfant)=\"\",\"\",INDEX(synt,socle2,nomenfant))","v":{"$error":"#REF!"}},{"$f":"IF(P65=P2,1,IF(P65=Q2,0.65,IF(P65=R2,0.35,\"\")))","v":{"$error":"#REF!"}},{"$f":"IF(INDEX(synt,socle3,nomenfant)=\"\",\"\",INDEX(synt,socle3,nomenfant))","v":{"$error":"#REF!"}},{"$f":"IF(R65=P2,1,IF(R65=Q2,0.65,IF(R65=R2,0.35,\"\")))","v":{"$error":"#REF!"}},{"$f":"IF(INDEX(synt,socle4,nomenfant)=\"\",\"\",INDEX(synt,socle4,nomenfant))","v":{"$error":"#REF!"}},{"$f":"IF(T65=P2,1,IF(T65=Q2,0.65,IF(T65=R2,0.35,\"\")))","v":{"$error":"#REF!"}},{"$f":"IF(INDEX(synt,socle5,nomenfant)=\"\",\"\",INDEX(synt,socle5,nomenfant))","v":{"$error":"#REF!"}},{"$f":"IF(V65=P2,1,IF(V65=Q2,0.65,IF(V65=R2,0.35,\"\")))","v":{"$error":"#REF!"}},{"$f":"IF(INDEX(synt,socle6,nomenfant)=\"\",\"\",INDEX(synt,socle6,nomenfant))","v":{"$error":"#REF!"}},{"$f":"IF(X65=P2,1,IF(X65=Q2,0.65,IF(X65=R2,0.35,\"\")))","v":{"$error":"#REF!"}},{"$f":"IF(INDEX(synt,socle7,nomenfant)=\"\",\"\",INDEX(synt,socle7,nomenfant))","v":{"$error":"#REF!"}},{"$f":"IF(Z65=P2,1,IF(Z65=Q2,0.65,IF(Z65=R2,0.35,\"\")))","v":{"$error":"#REF!"}},{"$f":"IF(INDEX(synt,socle8,nomenfant)=\"\",\"\",INDEX(synt,socle8,nomenfant))","v":{"$error":"#REF!"}},{"$f":"IF(AB65=P2,1,IF(AB65=Q2,0.65,IF(AB65=R2,0.35,\"\")))","v":{"$error":"#REF!"}},{"$error":"#REF!"},null,{"$f":"IF(OR(AD65>0.7,AG65>0),\"OUI\",\"\")","v":{"$error":"#REF!"}},{"$f":"INDEX(validationsocle,AI65,nomenfant)","v":"00:00:00"},null,51]
[null,null,66,250,250,250,250,250,250,250,null,null,"Résoudre des problèmes de reproduction, de construction",{"$f":"IF(INDEX(synt,socle1,nomenfant)=\"\",\"\",INDEX(synt,socle1,nomenfant))","v":{"$error":"#REF!"}},{"$f":"IF(N66=P2,1,IF(N66=Q2,0.65,IF(N66=R2,0.35,\"\")))","v":{"$error":"#REF!"}},{"$f":"IF(INDEX(synt,socle2,nomenfant)=\"\",\"\",INDEX(synt,socle2,nomenfant))","v":{"$error":"#REF!"}},{"$f":"IF(P66=P2,1,IF(P66=Q2,0.65,IF(P66=R2,0.35,\"\")))","v":{"$error":"#REF!"}},{"$f":"IF(INDEX(synt,socle3,nomenfant)=\"\",\"\",INDEX(synt,socle3,nomenfant))","v":{"$error":"#REF!"}},{"$f":"IF(R66=P2,1,IF(R66=Q2,0.65,IF(R66=R2,0.35,\"\")))","v":{"$error":"#REF!"}},{"$f":"IF(INDEX(synt,socle4,nomenfant)=\"\",\"\",INDEX(synt,socle4,nomenfant))","v":{"$error":"#REF!"}},{"$f":"IF(T66=P2,1,IF(T66=Q2,0.65,IF(T66=R2,0.35,\"\")))","v":{"$error":"#REF!"}},{"$f":"IF(INDEX(synt,socle5,nomenfant)=\"\",\"\",INDEX(synt,socle5,nomenfant))","v":{"$error":"#REF!"}},{"$f":"IF(V66=P2,1,IF(V66=Q2,0.65,IF(V66=R2,0.35,\"\")))","v":{"$error":"#REF!"}},{"$f":"IF(INDEX(synt,socle6,nomenfant)=\"\",\"\",INDEX(synt,socle6,nomenfant))","v":{"$error":"#REF!"}},{"$f":"IF(X66=P2,1,IF(X66=Q2,0.65,IF(X66=R2,0.35,\"\")))","v":{"$error":"#REF!"}},{"$f":"IF(INDEX(synt,socle7,nomenfant)=\"\",\"\",INDEX(synt,socle7,nomenfant))","v":{"$error":"#REF!"}},{"$f":"IF(Z66=P2,1,IF(Z66=Q2,0.65,IF(Z66=R2,0.35,\"\")))","v":{"$error":"#REF!"}},{"$f":"IF(INDEX(synt,socle8,nomenfant)=\"\",\"\",INDEX(synt,socle8,nomenfant))","v":{"$error":"#REF!"}},{"$f":"IF(AB66=P2,1,IF(AB66=Q2,0.65,IF(AB66=R2,0.35,\"\")))","v":{"$error":"#REF!"}},{"$error":"#REF!"},null,{"$f":"IF(OR(AD66>0.7,AG66>0),\"OUI\",\"\")","v":{"$error":"#REF!"}},{"$f":"INDEX(validationsocle,AI66,nomenfant)","v":"00:00:00"},null,52]
[{"$nulls":12},"GRANDEURS ET MESURES",{"$nulls":21},53]
[null,null,65,250,250,250,250,250,250,250,null,null,"Utiliser des instruments de mesure ; effectuer des conversions",{"$f":"IF(INDEX(synt,socle1,nomenfant)=\"\",\"\",INDEX(synt,socle1,nomenfant))","v":{"$error":"#REF!"}},{"$f":"IF(N68=P2,1,IF(N68=Q2,0.65,IF(N68=R2,0.35,\"\")))","v":{"$error":"#REF!"}},{"$f":"IF(INDEX(synt,socle2,nomenfant)=\"\",\"\",INDEX(synt,socle2,nomenfant))","v":{"$error":"#REF!"}},{"$f":"IF(P68=P2,1,IF(P68=Q2,0.65,IF(P68=R2,0.35,\"\")))","v":{"$error":"#REF!"}},{"$f":"IF(INDEX(synt,socle3,nomenfant)=\"\",\"\",INDEX(synt,socle3,nomenfant))","v":{"$error":"#REF!"}},{"$f":"IF(R68=P2,1,IF(R68=Q2,0.65,IF(R68=R2,0.35,\"\")))","v":{"$error":"#REF!"}},{"$f":"IF(INDEX(synt,socle4,nomenfant)=\"\",\"\",INDEX(synt,socle4,nomenfant))","v":{"$error":"#REF!"}},{"$f":"IF(T68=P2,1,IF(T68=Q2,0.65,IF(T68=R2,0.35,\"\")))","v":{"$error":"#REF!"}},{"$f":"IF(INDEX(synt,socle5,nomenfant)=\"\",\"\",INDEX(synt,socle5,nomenfant))","v":{"$error":"#REF!"}},{"$f":"IF(V68=P2,1,IF(V68=Q2,0.65,IF(V68=R2,0.35,\"\")))","v":{"$error":"#REF!"}},{"$f":"IF(INDEX(synt,socle6,nomenfant)=\"\",\"\",INDEX(synt,socle6,nomenfant))","v":{"$error":"#REF!"}},{"$f":"IF(X68=P2,1,IF(X68=Q2,0.65,IF(X68=R2,0.35,\"\")))","v":{"$error":"#REF!"}},{"$f":"IF(INDEX(synt,socle7,nomenfant)=\"\",\"\",INDEX(synt,socle7,nomenfant))","v":{"$error":"#REF!"}},{"$f":"IF(Z68=P2,1,IF(Z68=Q2,0.65,IF(Z68=R2,0.35,\"\")))","v":{"$error":"#REF!"}},{"$f":"IF(INDEX(synt,socle8,nomenfant)=\"\",\"\",INDEX(synt,socle8,nomenfant))","v":{"$error":"#REF!"}},{"$f":"IF(AB68=P2,1,IF(AB68=Q2,0.65,IF(AB68=R2,0.35,\"\")))","v":{"$error":"#REF!"}},{"$error":"#REF!"},null,{"$f":"IF(OR(AD68>0.7,AG68>0),\"OUI\",\"\")","v":{"$error":"#REF!"}},{"$f":"INDEX(validationsocle,AI68,nomenfant)","v":"00:00:00"},null,54]
[null,null,70,250,250,250,250,250,250,250,null,null,"Connaître et utiliser les formules du périmètre et de l’aire d’un carré, d’un rectangle et d’un triangle",{"$f":"IF(INDEX(synt,socle1,nomenfant)=\"\",\"\",INDEX(synt,socle1,nomenfant))","v":{"$error":"#REF!"}},{"$f":"IF(N69=P2,1,IF(N69=Q2,0.65,IF(N69=R2,0.35,\"\")))","v":{"$error":"#REF!"}},{"$f":"IF(INDEX(synt,socle2,nomenfant)=\"\",\"\",INDEX(synt,socle2,nomenfant))","v":{"$error":"#REF!"}},{"$f":"IF(P69=P2,1,IF(P69=Q2,0.65,IF(P69=R2,0.35,\"\")))","v":{"$error":"#REF!"}},{"$f":"IF(INDEX(synt,socle3,nomenfant)=\"\",\"\",INDEX(synt,socle3,nomenfant))","v":{"$error":"#REF!"}},{"$f":"IF(R69=P2,1,IF(R69=Q2,0.65,IF(R69=R2,0.35,\"\")))","v":{"$error":"#REF!"}},{"$f":"IF(INDEX(synt,socle4,nomenfant)=\"\",\"\",INDEX(synt,socle4,nomenfant))","v":{"$error":"#REF!"}},{"$f":"IF(T69=P2,1,IF(T69=Q2,0.65,IF(T69=R2,0.35,\"\")))","v":{"$error":"#REF!"}},{"$f":"IF(INDEX(synt,socle5,nomenfant)=\"\",\"\",INDEX(synt,socle5,nomenfant))","v":{"$error":"#REF!"}},{"$f":"IF(V69=P2,1,IF(V69=Q2,0.65,IF(V69=R2,0.35,\"\")))","v":{"$error":"#REF!"}},{"$f":"IF(INDEX(synt,socle6,nomenfant)=\"\",\"\",INDEX(synt,socle6,nomenfant))","v":{"$error":"#REF!"}},{"$f":"IF(X69=P2,1,IF(X69=Q2,0.65,IF(X69=R2,0.35,\"\")))","v":{"$error":"#REF!"}},{"$f":"IF(INDEX(synt,socle7,nomenfant)=\"\",\"\",INDEX(synt,socle7,nomenfant))","v":{"$error":"#REF!"}},{"$f":"IF(Z69=P2,1,IF(Z69=Q2,0.65,IF(Z69=R2,0.35,\"\")))","v":{"$error":"#REF!"}},{"$f":"IF(INDEX(synt,socle8,nomenfant)=\"\",\"\",INDEX(synt,socle8,nomenfant))","v":{"$error":"#REF!"}},{"$f":"IF(AB69=P2,1,IF(AB69=Q2,0.65,IF(AB69=R2,0.35,\"\")))","v":{"$error":"#REF!"}},{"$error":"#REF!"},null,{"$f":"IF(OR(AD69>0.7,AG69>0),\"OUI\",\"\")","v":{"$error":"#REF!"}},{"$f":"INDEX(validationsocle,AI69,nomenfant)","v":"00:00:00"},null,55]
[null,null,68,250,250,250,250,250,250,250,null,null,"Utiliser les unités de mesures usuelles",{"$f":"IF(INDEX(synt,socle1,nomenfant)=\"\",\"\",INDEX(synt,socle1,nomenfant))","v":{"$error":"#REF!"}},{"$f":"IF(N70=P2,1,IF(N70=Q2,0.65,IF(N70=R2,0.35,\"\")))","v":{"$error":"#REF!"}},{"$f":"IF(INDEX(synt,socle2,nomenfant)=\"\",\"\",INDEX(synt,socle2,nomenfant))","v":{"$error":"#REF!"}},{"$f":"IF(P70=P2,1,IF(P70=Q2,0.65,IF(P70=R2,0.35,\"\")))","v":{"$error":"#REF!"}},{"$f":"IF(INDEX(synt,socle3,nomenfant)=\"\",\"\",INDEX(synt,socle3,nomenfant))","v":{"$error":"#REF!"}},{"$f":"IF(R70=P2,1,IF(R70=Q2,0.65,IF(R70=R2,0.35,\"\")))","v":{"$error":"#REF!"}},{"$f":"IF(INDEX(synt,socle4,nomenfant)=\"\",\"\",INDEX(synt,socle4,nomenfant))","v":{"$error":"#REF!"}},{"$f":"IF(T70=P2,1,IF(T70=Q2,0.65,IF(T70=R2,0.35,\"\")))","v":{"$error":"#REF!"}},{"$f":"IF(INDEX(synt,socle5,nomenfant)=\"\",\"\",INDEX(synt,socle5,nomenfant))","v":{"$error":"#REF!"}},{"$f":"IF(V70=P2,1,IF(V70=Q2,0.65,IF(V70=R2,0.35,\"\")))","v":{"$error":"#REF!"}},{"$f":"IF(INDEX(synt,socle6,nomenfant)=\"\",\"\",INDEX(synt,socle6,nomenfant))","v":{"$error":"#REF!"}},{"$f":"IF(X70=P2,1,IF(X70=Q2,0.65,IF(X70=R2,0.35,\"\")))","v":{"$error":"#REF!"}},{"$f":"IF(INDEX(synt,socle7,nomenfant)=\"\",\"\",INDEX(synt,socle7,nomenfant))","v":{"$error":"#REF!"}},{"$f":"IF(Z70=P2,1,IF(Z70=Q2,0.65,IF(Z70=R2,0.35,\"\")))","v":{"$error":"#REF!"}},{"$f":"IF(INDEX(synt,socle8,nomenfant)=\"\",\"\",INDEX(synt,socle8,nomenfant))","v":{"$error":"#REF!"}},{"$f":"IF(AB70=P2,1,IF(AB70=Q2,0.65,IF(AB70=R2,0.35,\"\")))","v":{"$error":"#REF!"}},{"$error":"#REF!"},null,{"$f":"IF(OR(AD70>0.7,AG70>0),\"OUI\",\"\")","v":{"$error":"#REF!"}},{"$f":"INDEX(validationsocle,AI70,nomenfant)","v":"00:00:00"},null,56]
[null,null,73,250,250,250,250,250,250,250,null,null,"Résoudre des problèmes dont la résolution implique des conversions",{"$f":"IF(INDEX(synt,socle1,nomenfant)=\"\",\"\",INDEX(synt,socle1,nomenfant))","v":{"$error":"#REF!"}},{"$f":"IF(N71=P2,1,IF(N71=Q2,0.65,IF(N71=R2,0.35,\"\")))","v":{"$error":"#REF!"}},{"$f":"IF(INDEX(synt,socle2,nomenfant)=\"\",\"\",INDEX(synt,socle2,nomenfant))","v":{"$error":"#REF!"}},{"$f":"IF(P71=P2,1,IF(P71=Q2,0.65,IF(P71=R2,0.35,\"\")))","v":{"$error":"#REF!"}},{"$f":"IF(INDEX(synt,socle3,nomenfant)=\"\",\"\",INDEX(synt,socle3,nomenfant))","v":{"$error":"#REF!"}},{"$f":"IF(R71=P2,1,IF(R71=Q2,0.65,IF(R71=R2,0.35,\"\")))","v":{"$error":"#REF!"}},{"$f":"IF(INDEX(synt,socle4,nomenfant)=\"\",\"\",INDEX(synt,socle4,nomenfant))","v":{"$error":"#REF!"}},{"$f":"IF(T71=P2,1,IF(T71=Q2,0.65,IF(T71=R2,0.35,\"\")))","v":{"$error":"#REF!"}},{"$f":"IF(INDEX(synt,socle5,nomenfant)=\"\",\"\",INDEX(synt,socle5,nomenfant))","v":{"$error":"#REF!"}},{"$f":"IF(V71=P2,1,IF(V71=Q2,0.65,IF(V71=R2,0.35,\"\")))","v":{"$error":"#REF!"}},{"$f":"IF(INDEX(synt,socle6,nomenfant)=\"\",\"\",INDEX(synt,socle6,nomenfant))","v":{"$error":"#REF!"}},{"$f":"IF(X71=P2,1,IF(X71=Q2,0.65,IF(X71=R2,0.35,\"\")))","v":{"$error":"#REF!"}},{"$f":"IF(INDEX(synt,socle7,nomenfant)=\"\",\"\",INDEX(synt,socle7,nomenfant))","v":{"$error":"#REF!"}},{"$f":"IF(Z71=P2,1,IF(Z71=Q2,0.65,IF(Z71=R2,0.35,\"\")))","v":{"$error":"#REF!"}},{"$f":"IF(INDEX(synt,socle8,nomenfant)=\"\",\"\",INDEX(synt,socle8,nomenfant))","v":{"$error":"#REF!"}},{"$f":"IF(AB71=P2,1,IF(AB71=Q2,0.65,IF(AB71=R2,0.35,\"\")))","v":{"$error":"#REF!"}},{"$error":"#REF!"},null,{"$f":"IF(OR(AD71>0.7,AG71>0),\"OUI\",\"\")","v":{"$error":"#REF!"}},{"$f":"INDEX(validationsocle,AI71,nomenfant)","v":"00:00:00"},null,57]
[{"$nulls":12},"ORGANISATION ET GESTION DE DONNÉES",{"$nulls":21},58]
[null,null,74,75,76,250,250,250,250,250,null,null,"Lire, interpréter et construire quelques représentations simples : tableaux, graphiques",{"$f":"IF(INDEX(synt,socle1,nomenfant)=\"\",\"\",INDEX(synt,socle1,nomenfant))","v":{"$error":"#REF!"}},{"$f":"IF(N73=P2,1,IF(N73=Q2,0.65,IF(N73=R2,0.35,\"\")))","v":{"$error":"#REF!"}},{"$f":"IF(INDEX(synt,socle2,nomenfant)=\"\",\"\",INDEX(synt,socle2,nomenfant))","v":{"$error":"#REF!"}},{"$f":"IF(P73=P2,1,IF(P73=Q2,0.65,IF(P73=R2,0.35,\"\")))","v":{"$error":"#REF!"}},{"$f":"IF(INDEX(synt,socle3,nomenfant)=\"\",\"\",INDEX(synt,socle3,nomenfant))","v":{"$error":"#REF!"}},{"$f":"IF(R73=P2,1,IF(R73=Q2,0.65,IF(R73=R2,0.35,\"\")))","v":{"$error":"#REF!"}},{"$f":"IF(INDEX(synt,socle4,nomenfant)=\"\",\"\",INDEX(synt,socle4,nomenfant))","v":{"$error":"#REF!"}},{"$f":"IF(T73=P2,1,IF(T73=Q2,0.65,IF(T73=R2,0.35,\"\")))","v":{"$error":"#REF!"}},{"$f":"IF(INDEX(synt,socle5,nomenfant)=\"\",\"\",INDEX(synt,socle5,nomenfant))","v":{"$error":"#REF!"}},{"$f":"IF(V73=P2,1,IF(V73=Q2,0.65,IF(V73=R2,0.35,\"\")))","v":{"$error":"#REF!"}},{"$f":"IF(INDEX(synt,socle6,nomenfant)=\"\",\"\",INDEX(synt,socle6,nomenfant))","v":{"$error":"#REF!"}},{"$f":"IF(X73=P2,1,IF(X73=Q2,0.65,IF(X73=R2,0.35,\"\")))","v":{"$error":"#REF!"}},{"$f":"IF(INDEX(synt,socle7,nomenfant)=\"\",\"\",INDEX(synt,socle7,nomenfant))","v":{"$error":"#REF!"}},{"$f":"IF(Z73=P2,1,IF(Z73=Q2,0.65,IF(Z73=R2,0.35,\"\")))","v":{"$error":"#REF!"}},{"$f":"IF(INDEX(synt,socle8,nomenfant)=\"\",\"\",INDEX(synt,socle8,nomenfant))","v":{"$error":"#REF!"}},{"$f":"IF(AB73=P2,1,IF(AB73=Q2,0.65,IF(AB73=R2,0.35,\"\")))","v":{"$error":"#REF!"}},{"$error":"#REF!"},null,{"$f":"IF(OR(AD73>0.7,AG73>0),\"OUI\",\"\")","v":{"$error":"#REF!"}},{"$f":"INDEX(validationsocle,AI73,nomenfant)","v":"00:00:00"},null,59]
[null,null,77,250,250,250,250,250,250,250,null,null,"Savoir organiser des informations numériques ou géométriques, justifier et apprécier la vraisemblance d’un résultat",{"$f":"IF(INDEX(synt,socle1,nomenfant)=\"\",\"\",INDEX(synt,socle1,nomenfant))","v":{"$error":"#REF!"}},{"$f":"IF(N74=P2,1,IF(N74=Q2,0.65,IF(N74=R2,0.35,\"\")))","v":{"$error":"#REF!"}},{"$f":"IF(INDEX(synt,socle2,nomenfant)=\"\",\"\",INDEX(synt,socle2,nomenfant))","v":{"$error":"#REF!"}},{"$f":"IF(P74=P2,1,IF(P74=Q2,0.65,IF(P74=R2,0.35,\"\")))","v":{"$error":"#REF!"}},{"$f":"IF(INDEX(synt,socle3,nomenfant)=\"\",\"\",INDEX(synt,socle3,nomenfant))","v":{"$error":"#REF!"}},{"$f":"IF(R74=P2,1,IF(R74=Q2,0.65,IF(R74=R2,0.35,\"\")))","v":{"$error":"#REF!"}},{"$f":"IF(INDEX(synt,socle4,nomenfant)=\"\",\"\",INDEX(synt,socle4,nomenfant))","v":{"$error":"#REF!"}},{"$f":"IF(T74=P2,1,IF(T74=Q2,0.65,IF(T74=R2,0.35,\"\")))","v":{"$error":"#REF!"}},{"$f":"IF(INDEX(synt,socle5,nomenfant)=\"\",\"\",INDEX(synt,socle5,nomenfant))","v":{"$error":"#REF!"}},{"$f":"IF(V74=P2,1,IF(V74=Q2,0.65,IF(V74=R2,0.35,\"\")))","v":{"$error":"#REF!"}},{"$f":"IF(INDEX(synt,socle6,nomenfant)=\"\",\"\",INDEX(synt,socle6,nomenfant))","v":{"$error":"#REF!"}},{"$f":"IF(X74=P2,1,IF(X74=Q2,0.65,IF(X74=R2,0.35,\"\")))","v":{"$error":"#REF!"}},{"$f":"IF(INDEX(synt,socle7,nomenfant)=\"\",\"\",INDEX(synt,socle7,nomenfant))","v":{"$error":"#REF!"}},{"$f":"IF(Z74=P2,1,IF(Z74=Q2,0.65,IF(Z74=R2,0.35,\"\")))","v":{"$error":"#REF!"}},{"$f":"IF(INDEX(synt,socle8,nomenfant)=\"\",\"\",INDEX(synt,socle8,nomenfant))","v":{"$error":"#REF!"}},{"$f":"IF(AB74=P2,1,IF(AB74=Q2,0.65,IF(AB74=R2,0.35,\"\")))","v":{"$error":"#REF!"}},{"$error":"#REF!"},null,{"$f":"IF(OR(AD74>0.7,AG74>0),\"OUI\",\"\")","v":{"$error":"#REF!"}},{"$f":"INDEX(validationsocle,AI74,nomenfant)","v":"00:00:00"},null,60]
[null,null,78,250,250,250,250,250,250,250,null,null,"Résoudre un problème mettant en jeu une situation de proportionnalité",{"$f":"IF(INDEX(synt,socle1,nomenfant)=\"\",\"\",INDEX(synt,socle1,nomenfant))","v":{"$error":"#REF!"}},{"$f":"IF(N75=P2,1,IF(N75=Q2,0.65,IF(N75=R2,0.35,\"\")))","v":{"$error":"#REF!"}},{"$f":"IF(INDEX(synt,socle2,nomenfant)=\"\",\"\",INDEX(synt,socle2,nomenfant))","v":{"$error":"#REF!"}},{"$f":"IF(P75=P2,1,IF(P75=Q2,0.65,IF(P75=R2,0.35,\"\")))","v":{"$error":"#REF!"}},{"$f":"IF(INDEX(synt,socle3,nomenfant)=\"\",\"\",INDEX(synt,socle3,nomenfant))","v":{"$error":"#REF!"}},{"$f":"IF(R75=P2,1,IF(R75=Q2,0.65,IF(R75=R2,0.35,\"\")))","v":{"$error":"#REF!"}},{"$f":"IF(INDEX(synt,socle4,nomenfant)=\"\",\"\",INDEX(synt,socle4,nomenfant))","v":{"$error":"#REF!"}},{"$f":"IF(T75=P2,1,IF(T75=Q2,0.65,IF(T75=R2,0.35,\"\")))","v":{"$error":"#REF!"}},{"$f":"IF(INDEX(synt,socle5,nomenfant)=\"\",\"\",INDEX(synt,socle5,nomenfant))","v":{"$error":"#REF!"}},{"$f":"IF(V75=P2,1,IF(V75=Q2,0.65,IF(V75=R2,0.35,\"\")))","v":{"$error":"#REF!"}},{"$f":"IF(INDEX(synt,socle6,nomenfant)=\"\",\"\",INDEX(synt,socle6,nomenfant))","v":{"$error":"#REF!"}},{"$f":"IF(X75=P2,1,IF(X75=Q2,0.65,IF(X75=R2,0.35,\"\")))","v":{"$error":"#REF!"}},{"$f":"IF(INDEX(synt,socle7,nomenfant)=\"\",\"\",INDEX(synt,socle7,nomenfant))","v":{"$error":"#REF!"}},{"$f":"IF(Z75=P2,1,IF(Z75=Q2,0.65,IF(Z75=R2,0.35,\"\")))","v":{"$error":"#REF!"}},{"$f":"IF(INDEX(synt,socle8,nomenfant)=\"\",\"\",INDEX(synt,socle8,nomenfant))","v":{"$error":"#REF!"}},{"$f":"IF(AB75=P2,1,IF(AB75=Q2,0.65,IF(AB75=R2,0.35,\"\")))","v":{"$error":"#REF!"}},{"$error":"#REF!"},null,{"$f":"IF(OR(AD75>0.7,AG75>0),\"OUI\",\"\")","v":{"$error":"#REF!"}},{"$f":"INDEX(validationsocle,AI75,nomenfant)","v":"00:00:00"},null,61]
[{"$nulls":34},62]
[{"$nulls":12},"La culture scientifique et technologique",{"$nulls":21},63]
[{"$nulls":34},64]
[{"$nulls":12},"PRATIQUER UNE DÉMARCHE SCIENTIFIQUE OU TECHNOLOGIQUE",{"$nulls":21},65]
[null,null,79,250,250,250,250,250,250,250,null,null,"Pratiquer une démarche d'investigation : savoir observer, questionner",{"$f":"IF(INDEX(synt,socle1,nomenfant)=\"\",\"\",INDEX(synt,socle1,nomenfant))","v":{"$error":"#REF!"}},{"$f":"IF(N80=P2,1,IF(N80=Q2,0.65,IF(N80=R2,0.35,\"\")))","v":{"$error":"#REF!"}},{"$f":"IF(INDEX(synt,socle2,nomenfant)=\"\",\"\",INDEX(synt,socle2,nomenfant))","v":{"$error":"#REF!"}},{"$f":"IF(P80=P2,1,IF(P80=Q2,0.65,IF(P80=R2,0.35,\"\")))","v":{"$error":"#REF!"}},{"$f":"IF(INDEX(synt,socle3,nomenfant)=\"\",\"\",INDEX(synt,socle3,nomenfant))","v":{"$error":"#REF!"}},{"$f":"IF(R80=P2,1,IF(R80=Q2,0.65,IF(R80=R2,0.35,\"\")))","v":{"$error":"#REF!"}},{"$f":"IF(INDEX(synt,socle4,nomenfant)=\"\",\"\",INDEX(synt,socle4,nomenfant))","v":{"$error":"#REF!"}},{"$f":"IF(T80=P2,1,IF(T80=Q2,0.65,IF(T80=R2,0.35,\"\")))","v":{"$error":"#REF!"}},{"$f":"IF(INDEX(synt,socle5,nomenfant)=\"\",\"\",INDEX(synt,socle5,nomenfant))","v":{"$error":"#REF!"}},{"$f":"IF(V80=P2,1,IF(V80=Q2,0.65,IF(V80=R2,0.35,\"\")))","v":{"$error":"#REF!"}},{"$f":"IF(INDEX(synt,socle6,nomenfant)=\"\",\"\",INDEX(synt,socle6,nomenfant))","v":{"$error":"#REF!"}},{"$f":"IF(X80=P2,1,IF(X80=Q2,0.65,IF(X80=R2,0.35,\"\")))","v":{"$error":"#REF!"}},{"$f":"IF(INDEX(synt,socle7,nomenfant)=\"\",\"\",INDEX(synt,socle7,nomenfant))","v":{"$error":"#REF!"}},{"$f":"IF(Z80=P2,1,IF(Z80=Q2,0.65,IF(Z80=R2,0.35,\"\")))","v":{"$error":"#REF!"}},{"$f":"IF(INDEX(synt,socle8,nomenfant)=\"\",\"\",INDEX(synt,socle8,nomenfant))","v":{"$error":"#REF!"}},{"$f":"IF(AB80=P2,1,IF(AB80=Q2,0.65,IF(AB80=R2,0.35,\"\")))","v":{"$error":"#REF!"}},{"$f":"IF(SUM(N80:AC80)=0,0,SUM(N80:AC80)/COUNTIF(N80:AC80,\">0\"))","v":{"$error":"#REF!"}},null,{"$f":"IF(OR(AD80>0.7,AG80>0),\"OUI\",\"\")","v":{"$error":"#REF!"}},{"$f":"INDEX(validationsocle,AI80,nomenfant)","v":"00:00:00"},null,66]
[null,null,80,250,250,250,250,250,250,250,null,null,"Manipuler et expérimenter, formuler une hypothèse et la tester, argumenter, mettre à l'essai plusieurs pistes de solutions",{"$f":"IF(INDEX(synt,socle1,nomenfant)=\"\",\"\",INDEX(synt,socle1,nomenfant))","v":{"$error":"#REF!"}},{"$f":"IF(N81=P2,1,IF(N81=Q2,0.65,IF(N81=R2,0.35,\"\")))","v":{"$error":"#REF!"}},{"$f":"IF(INDEX(synt,socle2,nomenfant)=\"\",\"\",INDEX(synt,socle2,nomenfant))","v":{"$error":"#REF!"}},{"$f":"IF(P81=P2,1,IF(P81=Q2,0.65,IF(P81=R2,0.35,\"\")))","v":{"$error":"#REF!"}},{"$f":"IF(INDEX(synt,socle3,nomenfant)=\"\",\"\",INDEX(synt,socle3,nomenfant))","v":{"$error":"#REF!"}},{"$f":"IF(R81=P2,1,IF(R81=Q2,0.65,IF(R81=R2,0.35,\"\")))","v":{"$error":"#REF!"}},{"$f":"IF(INDEX(synt,socle4,nomenfant)=\"\",\"\",INDEX(synt,socle4,nomenfant))","v":{"$error":"#REF!"}},{"$f":"IF(T81=P2,1,IF(T81=Q2,0.65,IF(T81=R2,0.35,\"\")))","v":{"$error":"#REF!"}},{"$f":"IF(INDEX(synt,socle5,nomenfant)=\"\",\"\",INDEX(synt,socle5,nomenfant))","v":{"$error":"#REF!"}},{"$f":"IF(V81=P2,1,IF(V81=Q2,0.65,IF(V81=R2,0.35,\"\")))","v":{"$error":"#REF!"}},{"$f":"IF(INDEX(synt,socle6,nomenfant)=\"\",\"\",INDEX(synt,socle6,nomenfant))","v":{"$error":"#REF!"}},{"$f":"IF(X81=P2,1,IF(X81=Q2,0.65,IF(X81=R2,0.35,\"\")))","v":{"$error":"#REF!"}},{"$f":"IF(INDEX(synt,socle7,nomenfant)=\"\",\"\",INDEX(synt,socle7,nomenfant))","v":{"$error":"#REF!"}},{"$f":"IF(Z81=P2,1,IF(Z81=Q2,0.65,IF(Z81=R2,0.35,\"\")))","v":{"$error":"#REF!"}},{"$f":"IF(INDEX(synt,socle8,nomenfant)=\"\",\"\",INDEX(synt,socle8,nomenfant))","v":{"$error":"#REF!"}},{"$f":"IF(AB81=P2,1,IF(AB81=Q2,0.65,IF(AB81=R2,0.35,\"\")))","v":{"$error":"#REF!"}},{"$f":"IF(SUM(N81:AC81)=0,0,SUM(N81:AC81)/COUNTIF(N81:AC81,\">0\"))","v":{"$error":"#REF!"}},null,{"$f":"IF(OR(AD81>0.7,AG81>0),\"OUI\",\"\")","v":{"$error":"#REF!"}},{"$f":"INDEX(validationsocle,AI81,nomenfant)","v":"00:00:00"},null,{"$f":"AI80+1","v":67}]
[null,null,81,250,250,250,250,250,250,250,null,null,"Exprimer et exploiter les résultats d'une mesure et d'une recherche en utilisant un vocabulaire scientifique à l'écrit ou à l'oral",{"$f":"IF(INDEX(synt,socle1,nomenfant)=\"\",\"\",INDEX(synt,socle1,nomenfant))","v":{"$error":"#REF!"}},{"$f":"IF(N82=P2,1,IF(N82=Q2,0.65,IF(N82=R2,0.35,\"\")))","v":{"$error":"#REF!"}},{"$f":"IF(INDEX(synt,socle2,nomenfant)=\"\",\"\",INDEX(synt,socle2,nomenfant))","v":{"$error":"#REF!"}},{"$f":"IF(P82=P2,1,IF(P82=Q2,0.65,IF(P82=R2,0.35,\"\")))","v":{"$error":"#REF!"}},{"$f":"IF(INDEX(synt,socle3,nomenfant)=\"\",\"\",INDEX(synt,socle3,nomenfant))","v":{"$error":"#REF!"}},{"$f":"IF(R82=P2,1,IF(R82=Q2,0.65,IF(R82=R2,0.35,\"\")))","v":{"$error":"#REF!"}},{"$f":"IF(INDEX(synt,socle4,nomenfant)=\"\",\"\",INDEX(synt,socle4,nomenfant))","v":{"$error":"#REF!"}},{"$f":"IF(T82=P2,1,IF(T82=Q2,0.65,IF(T82=R2,0.35,\"\")))","v":{"$error":"#REF!"}},{"$f":"IF(INDEX(synt,socle5,nomenfant)=\"\",\"\",INDEX(synt,socle5,nomenfant))","v":{"$error":"#REF!"}},{"$f":"IF(V82=P2,1,IF(V82=Q2,0.65,IF(V82=R2,0.35,\"\")))","v":{"$error":"#REF!"}},{"$f":"IF(INDEX(synt,socle6,nomenfant)=\"\",\"\",INDEX(synt,socle6,nomenfant))","v":{"$error":"#REF!"}},{"$f":"IF(X82=P2,1,IF(X82=Q2,0.65,IF(X82=R2,0.35,\"\")))","v":{"$error":"#REF!"}},{"$f":"IF(INDEX(synt,socle7,nomenfant)=\"\",\"\",INDEX(synt,socle7,nomenfant))","v":{"$error":"#REF!"}},{"$f":"IF(Z82=P2,1,IF(Z82=Q2,0.65,IF(Z82=R2,0.35,\"\")))","v":{"$error":"#REF!"}},{"$f":"IF(INDEX(synt,socle8,nomenfant)=\"\",\"\",INDEX(synt,socle8,nomenfant))","v":{"$error":"#REF!"}},{"$f":"IF(AB82=P2,1,IF(AB82=Q2,0.65,IF(AB82=R2,0.35,\"\")))","v":{"$error":"#REF!"}},{"$f":"IF(SUM(N82:AC82)=0,0,SUM(N82:AC82)/COUNTIF(N82:AC82,\">0\"))","v":{"$error":"#REF!"}},null,{"$f":"IF(OR(AD82>0.7,AG82>0),\"OUI\",\"\")","v":{"$error":"#REF!"}},{"$f":"INDEX(validationsocle,AI82,nomenfant)","v":"00:00:00"},null,68]
[{"$nulls":34},69]
[{"$nulls":12},"MAÎTRISER DES CONNAISSANCES DANS DIVERS DOMAINES SCIENTIFIQUES ET LES MOBILISER DANS DES CONTEXTES SCIENTIFIQUES DIFFÉRENTS ET DANS DES ACTIVITÉS DE LA VIE COURANTE",{"$nulls":21},70]
[null,null,82,83,85,250,250,250,250,250,null,null,"Le ciel et la Terre",{"$f":"IF(INDEX(synt,socle1,nomenfant)=\"\",\"\",INDEX(synt,socle1,nomenfant))","v":{"$error":"#REF!"}},{"$f":"IF(N85=P2,1,IF(N85=Q2,0.65,IF(N85=R2,0.35,\"\")))","v":{"$error":"#REF!"}},{"$f":"IF(INDEX(synt,socle2,nomenfant)=\"\",\"\",INDEX(synt,socle2,nomenfant))","v":{"$error":"#REF!"}},{"$f":"IF(P85=P2,1,IF(P85=Q2,0.65,IF(P85=R2,0.35,\"\")))","v":{"$error":"#REF!"}},{"$f":"IF(INDEX(synt,socle3,nomenfant)=\"\",\"\",INDEX(synt,socle3,nomenfant))","v":{"$error":"#REF!"}},{"$f":"IF(R85=P2,1,IF(R85=Q2,0.65,IF(R85=R2,0.35,\"\")))","v":{"$error":"#REF!"}},{"$f":"IF(INDEX(synt,socle4,nomenfant)=\"\",\"\",INDEX(synt,socle4,nomenfant))","v":{"$error":"#REF!"}},{"$f":"IF(T85=P2,1,IF(T85=Q2,0.65,IF(T85=R2,0.35,\"\")))","v":{"$error":"#REF!"}},{"$f":"IF(INDEX(synt,socle5,nomenfant)=\"\",\"\",INDEX(synt,socle5,nomenfant))","v":{"$error":"#REF!"}},{"$f":"IF(V85=P2,1,IF(V85=Q2,0.65,IF(V85=R2,0.35,\"\")))","v":{"$error":"#REF!"}},{"$f":"IF(INDEX(synt,socle6,nomenfant)=\"\",\"\",INDEX(synt,socle6,nomenfant))","v":{"$error":"#REF!"}},{"$f":"IF(X85=P2,1,IF(X85=Q2,0.65,IF(X85=R2,0.35,\"\")))","v":{"$error":"#REF!"}},{"$f":"IF(INDEX(synt,socle7,nomenfant)=\"\",\"\",INDEX(synt,socle7,nomenfant))","v":{"$error":"#REF!"}},{"$f":"IF(Z85=P2,1,IF(Z85=Q2,0.65,IF(Z85=R2,0.35,\"\")))","v":{"$error":"#REF!"}},{"$f":"IF(INDEX(synt,socle8,nomenfant)=\"\",\"\",INDEX(synt,socle8,nomenfant))","v":{"$error":"#REF!"}},{"$f":"IF(AB85=P2,1,IF(AB85=Q2,0.65,IF(AB85=R2,0.35,\"\")))","v":{"$error":"#REF!"}},{"$f":"IF(SUM(N85:AC85)=0,0,SUM(N85:AC85)/COUNTIF(N85:AC85,\">0\"))","v":{"$error":"#REF!"}},null,{"$f":"IF(OR(AD85>0.7,AG85>0),\"OUI\",\"\")","v":{"$error":"#REF!"}},{"$f":"INDEX(validationsocle,AI85,nomenfant)","v":"00:00:00"},null,71]
[null,null,82,83,84,85,250,250,250,250,null,null,"La matière",{"$error":"#REF!"},{"$f":"IF(N86=P2,1,IF(N86=Q2,0.65,IF(N86=R2,0.35,\"\")))","v":{"$error":"#REF!"}},{"$error":"#REF!"},{"$f":"IF(P86=P2,1,IF(P86=Q2,0.65,IF(P86=R2,0.35,\"\")))","v":{"$error":"#REF!"}},{"$error":"#REF!"},{"$f":"IF(R86=P2,1,IF(R86=Q2,0.65,IF(R86=R2,0.35,\"\")))","v":{"$error":"#REF!"}},{"$error":"#REF!"},{"$f":"IF(T86=P2,1,IF(T86=Q2,0.65,IF(T86=R2,0.35,\"\")))","v":{"$error":"#REF!"}},{"$error":"#REF!"},{"$f":"IF(V86=P2,1,IF(V86=Q2,0.65,IF(V86=R2,0.35,\"\")))","v":{"$error":"#REF!"}},{"$error":"#REF!"},{"$f":"IF(X86=P2,1,IF(X86=Q2,0.65,IF(X86=R2,0.35,\"\")))","v":{"$error":"#REF!"}},{"$error":"#REF!"},{"$f":"IF(Z86=P2,1,IF(Z86=Q2,0.65,IF(Z86=R2,0.35,\"\")))","v":{"$error":"#REF!"}},{"$error":"#REF!"},{"$f":"IF(AB86=P2,1,IF(AB86=Q2,0.65,IF(AB86=R2,0.35,\"\")))","v":{"$error":"#REF!"}},{"$error":"#REF!"},null,{"$error":"#REF!"},"00:00:00",null,72]
[null,null,90,91,250,250,250,250,250,250,null,null,"L’énergie",{"$error":"#REF!"},{"$f":"IF(N87=P2,1,IF(N87=Q2,0.65,IF(N87=R2,0.35,\"\")))","v":{"$error":"#REF!"}},{"$error":"#REF!"},{"$f":"IF(P87=P2,1,IF(P87=Q2,0.65,IF(P87=R2,0.35,\"\")))","v":{"$error":"#REF!"}},{"$error":"#REF!"},{"$f":"IF(R87=P2,1,IF(R87=Q2,0.65,IF(R87=R2,0.35,\"\")))","v":{"$error":"#REF!"}},{"$error":"#REF!"},{"$f":"IF(T87=P2,1,IF(T87=Q2,0.65,IF(T87=R2,0.35,\"\")))","v":{"$error":"#REF!"}},{"$error":"#REF!"},{"$f":"IF(V87=P2,1,IF(V87=Q2,0.65,IF(V87=R2,0.35,\"\")))","v":{"$error":"#REF!"}},{"$error":"#REF!"},{"$f":"IF(X87=P2,1,IF(X87=Q2,0.65,IF(X87=R2,0.35,\"\")))","v":{"$error":"#REF!"}},{"$error":"#REF!"},{"$f":"IF(Z87=P2,1,IF(Z87=Q2,0.65,IF(Z87=R2,0.35,\"\")))","v":{"$error":"#REF!"}},{"$error":"#REF!"},{"$f":"IF(AB87=P2,1,IF(AB87=Q2,0.65,IF(AB87=R2,0.35,\"\")))","v":{"$error":"#REF!"}},{"$error":"#REF!"},null,{"$error":"#REF!"},"00:00:00",null,73]
[null,null,92,93,94,250,250,250,250,250,null,null,"L’unité et la diversité du vivant",{"$error":"#REF!"},{"$f":"IF(N88=P2,1,IF(N88=Q2,0.65,IF(N88=R2,0.35,\"\")))","v":{"$error":"#REF!"}},{"$error":"#REF!"},{"$f":"IF(P88=P2,1,IF(P88=Q2,0.65,IF(P88=R2,0.35,\"\")))","v":{"$error":"#REF!"}},{"$error":"#REF!"},{"$f":"IF(R88=P2,1,IF(R88=Q2,0.65,IF(R88=R2,0.35,\"\")))","v":{"$error":"#REF!"}},{"$error":"#REF!"},{"$f":"IF(T88=P2,1,IF(T88=Q2,0.65,IF(T88=R2,0.35,\"\")))","v":{"$error":"#REF!"}},{"$error":"#REF!"},{"$f":"IF(V88=P2,1,IF(V88=Q2,0.65,IF(V88=R2,0.35,\"\")))","v":{"$error":"#REF!"}},{"$error":"#REF!"},{"$f":"IF(X88=P2,1,IF(X88=Q2,0.65,IF(X88=R2,0.35,\"\")))","v":{"$error":"#REF!"}},{"$error":"#REF!"},{"$f":"IF(Z88=P2,1,IF(Z88=Q2,0.65,IF(Z88=R2,0.35,\"\")))","v":{"$error":"#REF!"}},{"$error":"#REF!"},{"$f":"IF(AB88=P2,1,IF(AB88=Q2,0.65,IF(AB88=R2,0.35,\"\")))","v":{"$error":"#REF!"}},{"$error":"#REF!"},null,{"$error":"#REF!"},"00:00:00",null,74]
[null,null,95,96,250,250,250,250,250,250,null,null,"Le fonctionnement du vivant",{"$error":"#REF!"},{"$f":"IF(N89=P2,1,IF(N89=Q2,0.65,IF(N89=R2,0.35,\"\")))","v":{"$error":"#REF!"}},{"$error":"#REF!"},{"$f":"IF(P89=P2,1,IF(P89=Q2,0.65,IF(P89=R2,0.35,\"\")))","v":{"$error":"#REF!"}},{"$error":"#REF!"},{"$f":"IF(R89=P2,1,IF(R89=Q2,0.65,IF(R89=R2,0.35,\"\")))","v":{"$error":"#REF!"}},{"$error":"#REF!"},{"$f":"IF(T89=P2,1,IF(T89=Q2,0.65,IF(T89=R2,0.35,\"\")))","v":{"$error":"#REF!"}},{"$error":"#REF!"},{"$f":"IF(V89=P2,1,IF(V89=Q2,0.65,IF(V89=R2,0.35,\"\")))","v":{"$error":"#REF!"}},{"$error":"#REF!"},{"$f":"IF(X89=P2,1,IF(X89=Q2,0.65,IF(X89=R2,0.35,\"\")))","v":{"$error":"#REF!"}},{"$error":"#REF!"},{"$f":"IF(Z89=P2,1,IF(Z89=Q2,0.65,IF(Z89=R2,0.35,\"\")))","v":{"$error":"#REF!"}},{"$error":"#REF!"},{"$f":"IF(AB89=P2,1,IF(AB89=Q2,0.65,IF(AB89=R2,0.35,\"\")))","v":{"$error":"#REF!"}},{"$error":"#REF!"},null,{"$error":"#REF!"},"00:00:00",null,75]
[null,null,97,98,99,100,250,250,250,250,null,null,"Le fonctionnement du corps humain et la santé",{"$error":"#REF!"},{"$f":"IF(N90=P2,1,IF(N90=Q2,0.65,IF(N90=R2,0.35,\"\")))","v":{"$error":"#REF!"}},{"$error":"#REF!"},{"$f":"IF(P90=P2,1,IF(P90=Q2,0.65,IF(P90=R2,0.35,\"\")))","v":{"$error":"#REF!"}},{"$error":"#REF!"},{"$f":"IF(R90=P2,1,IF(R90=Q2,0.65,IF(R90=R2,0.35,\"\")))","v":{"$error":"#REF!"}},{"$error":"#REF!"},{"$f":"IF(T90=P2,1,IF(T90=Q2,0.65,IF(T90=R2,0.35,\"\")))","v":{"$error":"#REF!"}},{"$error":"#REF!"},{"$f":"IF(V90=P2,1,IF(V90=Q2,0.65,IF(V90=R2,0.35,\"\")))","v":{"$error":"#REF!"}},{"$error":"#REF!"},{"$f":"IF(X90=P2,1,IF(X90=Q2,0.65,IF(X90=R2,0.35,\"\")))","v":{"$error":"#REF!"}},{"$error":"#REF!"},{"$f":"IF(Z90=P2,1,IF(Z90=Q2,0.65,IF(Z90=R2,0.35,\"\")))","v":{"$error":"#REF!"}},{"$error":"#REF!"},{"$f":"IF(AB90=P2,1,IF(AB90=Q2,0.65,IF(AB90=R2,0.35,\"\")))","v":{"$error":"#REF!"}},{"$error":"#REF!"},null,{"$error":"#REF!"},"00:00:00",null,76]
[null,null,102,103,104,250,250,250,250,250,null,null,"Les êtres vivants dans leur environnement",{"$error":"#REF!"},{"$f":"IF(N91=P2,1,IF(N91=Q2,0.65,IF(N91=R2,0.35,\"\")))","v":{"$error":"#REF!"}},{"$error":"#REF!"},{"$f":"IF(P91=P2,1,IF(P91=Q2,0.65,IF(P91=R2,0.35,\"\")))","v":{"$error":"#REF!"}},{"$error":"#REF!"},{"$f":"IF(R91=P2,1,IF(R91=Q2,0.65,IF(R91=R2,0.35,\"\")))","v":{"$error":"#REF!"}},{"$error":"#REF!"},{"$f":"IF(T91=P2,1,IF(T91=Q2,0.65,IF(T91=R2,0.35,\"\")))","v":{"$error":"#REF!"}},{"$error":"#REF!"},{"$f":"IF(V91=P2,1,IF(V91=Q2,0.65,IF(V91=R2,0.35,\"\")))","v":{"$error":"#REF!"}},{"$error":"#REF!"},{"$f":"IF(X91=P2,1,IF(X91=Q2,0.65,IF(X91=R2,0.35,\"\")))","v":{"$error":"#REF!"}},{"$error":"#REF!"},{"$f":"IF(Z91=P2,1,IF(Z91=Q2,0.65,IF(Z91=R2,0.35,\"\")))","v":{"$error":"#REF!"}},{"$error":"#REF!"},{"$f":"IF(AB91=P2,1,IF(AB91=Q2,0.65,IF(AB91=R2,0.35,\"\")))","v":{"$error":"#REF!"}},{"$error":"#REF!"},null,{"$error":"#REF!"},"00:00:00",null,77]
[null,null,105,106,107,108,250,250,250,250,null,null,"Les objets techniques",{"$error":"#REF!"},{"$f":"IF(N92=P2,1,IF(N92=Q2,0.65,IF(N92=R2,0.35,\"\")))","v":{"$error":"#REF!"}},{"$error":"#REF!"},{"$f":"IF(P92=P2,1,IF(P92=Q2,0.65,IF(P92=R2,0.35,\"\")))","v":{"$error":"#REF!"}},{"$error":"#REF!"},{"$f":"IF(R92=P2,1,IF(R92=Q2,0.65,IF(R92=R2,0.35,\"\")))","v":{"$error":"#REF!"}},{"$error":"#REF!"},{"$f":"IF(T92=P2,1,IF(T92=Q2,0.65,IF(T92=R2,0.35,\"\")))","v":{"$error":"#REF!"}},{"$error":"#REF!"},{"$f":"IF(V92=P2,1,IF(V92=Q2,0.65,IF(V92=R2,0.35,\"\")))","v":{"$error":"#REF!"}},{"$error":"#REF!"},{"$f":"IF(X92=P2,1,IF(X92=Q2,0.65,IF(X92=R2,0.35,\"\")))","v":{"$error":"#REF!"}},{"$error":"#REF!"},{"$f":"IF(Z92=P2,1,IF(Z92=Q2,0.65,IF(Z92=R2,0.35,\"\")))","v":{"$error":"#REF!"}},{"$error":"#REF!"},{"$f":"IF(AB92=P2,1,IF(AB92=Q2,0.65,IF(AB92=R2,0.35,\"\")))","v":{"$error":"#REF!"}},{"$error":"#REF!"},null,{"$error":"#REF!"},"00:00:00",null,78]
[null,null,104,89,250,250,250,250,250,250,null,null,"Mobiliser ses connaissances pour comprendre quelques questions liées à l'environnement et au développement durable et agir en conséquence.",{"$error":"#REF!"},{"$f":"IF(N93=P2,1,IF(N93=Q2,0.65,IF(N93=R2,0.35,\"\")))","v":{"$error":"#REF!"}},{"$error":"#REF!"},{"$f":"IF(P93=P2,1,IF(P93=Q2,0.65,IF(P93=R2,0.35,\"\")))","v":{"$error":"#REF!"}},{"$error":"#REF!"},{"$f":"IF(R93=P2,1,IF(R93=Q2,0.65,IF(R93=R2,0.35,\"\")))","v":{"$error":"#REF!"}},{"$error":"#REF!"},{"$f":"IF(T93=P2,1,IF(T93=Q2,0.65,IF(T93=R2,0.35,\"\")))","v":{"$error":"#REF!"}},{"$error":"#REF!"},{"$f":"IF(V93=P2,1,IF(V93=Q2,0.65,IF(V93=R2,0.35,\"\")))","v":{"$error":"#REF!"}},{"$error":"#REF!"},{"$f":"IF(X93=P2,1,IF(X93=Q2,0.65,IF(X93=R2,0.35,\"\")))","v":{"$error":"#REF!"}},{"$error":"#REF!"},{"$f":"IF(Z93=P2,1,IF(Z93=Q2,0.65,IF(Z93=R2,0.35,\"\")))","v":{"$error":"#REF!"}},{"$error":"#REF!"},{"$f":"IF(AB93=P2,1,IF(AB93=Q2,0.65,IF(AB93=R2,0.35,\"\")))","v":{"$error":"#REF!"}},{"$error":"#REF!"},null,{"$error":"#REF!"},"00:00:00",null,79]
[{"$nulls":34},80]
[{"$nulls":34},81]
[{"$nulls":34},82]
[{"$nulls":12},"La maîtrise des techniques usuelles de l'information et de la communication",{"$nulls":21},83]
[{"$nulls":12},"Brevet informatique et internet : niveau école",{"$nulls":21},84]
[{"$nulls":34},85]
[{"$nulls":12},"S'APPROPRIER UN ENVIRONNEMENT INFORMATIQUE DE TRAVAIL ",{"$nulls":21},86]
[null,null,159,250,250,250,250,250,250,250,null,null,"Connaitre et maîtriser les fonctions de base d’un ordinateur et de ses périphériques : fonction des différents éléments, utilisation de la souris",{"$f":"IF(INDEX(synt,socle1,nomenfant)=\"\",\"\",INDEX(synt,socle1,nomenfant))","v":{"$error":"#REF!"}},{"$f":"IF(N101=P2,1,IF(N101=Q2,0.65,IF(N101=R2,0.35,\"\")))","v":{"$error":"#REF!"}},{"$f":"IF(INDEX(synt,socle2,nomenfant)=\"\",\"\",INDEX(synt,socle2,nomenfant))","v":{"$error":"#REF!"}},{"$f":"IF(P101=P2,1,IF(P101=Q2,0.65,IF(P101=R2,0.35,\"\")))","v":{"$error":"#REF!"}},{"$f":"IF(INDEX(synt,socle3,nomenfant)=\"\",\"\",INDEX(synt,socle3,nomenfant))","v":{"$error":"#REF!"}},{"$f":"IF(R101=P2,1,IF(R101=Q2,0.65,IF(R101=R2,0.35,\"\")))","v":{"$error":"#REF!"}},{"$f":"IF(INDEX(synt,socle4,nomenfant)=\"\",\"\",INDEX(synt,socle4,nomenfant))","v":{"$error":"#REF!"}},{"$f":"IF(T101=P2,1,IF(T101=Q2,0.65,IF(T101=R2,0.35,\"\")))","v":{"$error":"#REF!"}},{"$f":"IF(INDEX(synt,socle5,nomenfant)=\"\",\"\",INDEX(synt,socle5,nomenfant))","v":{"$error":"#REF!"}},{"$f":"IF(V101=P2,1,IF(V101=Q2,0.65,IF(V101=R2,0.35,\"\")))","v":{"$error":"#REF!"}},{"$f":"IF(INDEX(synt,socle6,nomenfant)=\"\",\"\",INDEX(synt,socle6,nomenfant))","v":{"$error":"#REF!"}},{"$f":"IF(X101=P2,1,IF(X101=Q2,0.65,IF(X101=R2,0.35,\"\")))","v":{"$error":"#REF!"}},{"$f":"IF(INDEX(synt,socle7,nomenfant)=\"\",\"\",INDEX(synt,socle7,nomenfant))","v":{"$error":"#REF!"}},{"$f":"IF(Z101=P2,1,IF(Z101=Q2,0.65,IF(Z101=R2,0.35,\"\")))","v":{"$error":"#REF!"}},{"$f":"IF(INDEX(synt,socle8,nomenfant)=\"\",\"\",INDEX(synt,socle8,nomenfant))","v":{"$error":"#REF!"}},{"$f":"IF(AB101=P2,1,IF(AB101=Q2,0.65,IF(AB101=R2,0.35,\"\")))","v":{"$error":"#REF!"}},{"$f":"IF(SUM(N101:AC101)=0,0,SUM(N101:AC101)/COUNTIF(N101:AC101,\">0\"))","v":{"$error":"#REF!"}},null,{"$f":"IF(OR(AD101>0.7,AG101>0),\"OUI\",\"\")","v":{"$error":"#REF!"}},{"$f":"INDEX(validationsocle,AI101,nomenfant)","v":"00:00:00"},null,87]
[{"$nulls":12},"ADOPTER UNE ATTITUDE RESPONSABLE",{"$nulls":21},88]
[null,null,160,250,250,250,250,250,250,250,null,null,"Prendre conscience des enjeux citoyens de l’usage de l’informatique et de l’internet et adopter une attitude critique face aux résultats obtenus",{"$f":"IF(INDEX(synt,socle1,nomenfant)=\"\",\"\",INDEX(synt,socle1,nomenfant))","v":{"$error":"#REF!"}},{"$f":"IF(N103=P2,1,IF(N103=Q2,0.65,IF(N103=R2,0.35,\"\")))","v":{"$error":"#REF!"}},{"$f":"IF(INDEX(synt,socle2,nomenfant)=\"\",\"\",INDEX(synt,socle2,nomenfant))","v":{"$error":"#REF!"}},{"$f":"IF(P103=P2,1,IF(P103=Q2,0.65,IF(P103=R2,0.35,\"\")))","v":{"$error":"#REF!"}},{"$f":"IF(INDEX(synt,socle3,nomenfant)=\"\",\"\",INDEX(synt,socle3,nomenfant))","v":{"$error":"#REF!"}},{"$f":"IF(R103=P2,1,IF(R103=Q2,0.65,IF(R103=R2,0.35,\"\")))","v":{"$error":"#REF!"}},{"$f":"IF(INDEX(synt,socle4,nomenfant)=\"\",\"\",INDEX(synt,socle4,nomenfant))","v":{"$error":"#REF!"}},{"$f":"IF(T103=P2,1,IF(T103=Q2,0.65,IF(T103=R2,0.35,\"\")))","v":{"$error":"#REF!"}},{"$f":"IF(INDEX(synt,socle5,nomenfant)=\"\",\"\",INDEX(synt,socle5,nomenfant))","v":{"$error":"#REF!"}},{"$f":"IF(V103=P2,1,IF(V103=Q2,0.65,IF(V103=R2,0.35,\"\")))","v":{"$error":"#REF!"}},{"$f":"IF(INDEX(synt,socle6,nomenfant)=\"\",\"\",INDEX(synt,socle6,nomenfant))","v":{"$error":"#REF!"}},{"$f":"IF(X103=P2,1,IF(X103=Q2,0.65,IF(X103=R2,0.35,\"\")))","v":{"$error":"#REF!"}},{"$f":"IF(INDEX(synt,socle7,nomenfant)=\"\",\"\",INDEX(synt,socle7,nomenfant))","v":{"$error":"#REF!"}},{"$f":"IF(Z103=P2,1,IF(Z103=Q2,0.65,IF(Z103=R2,0.35,\"\")))","v":{"$error":"#REF!"}},{"$f":"IF(INDEX(synt,socle8,nomenfant)=\"\",\"\",INDEX(synt,socle8,nomenfant))","v":{"$error":"#REF!"}},{"$f":"IF(AB103=P2,1,IF(AB103=Q2,0.65,IF(AB103=R2,0.35,\"\")))","v":{"$error":"#REF!"}},{"$f":"IF(SUM(N103:AC103)=0,0,SUM(N103:AC103)/COUNTIF(N103:AC103,\">0\"))","v":{"$error":"#REF!"}},null,{"$f":"IF(OR(AD103>0.7,AG103>0),\"OUI\",\"\")","v":{"$error":"#REF!"}},{"$f":"INDEX(validationsocle,AI103,nomenfant)","v":"00:00:00"},null,89]
[{"$nulls":12},"CRÉER, PRODUIRE, TRAITER, EXPLOITER DES DONNÉES",{"$nulls":21},90]
[null,null,161,250,250,250,250,250,250,250,null,null,"Produire un document numérique : texte, image, son",{"$f":"IF(INDEX(synt,socle1,nomenfant)=\"\",\"\",INDEX(synt,socle1,nomenfant))","v":{"$error":"#REF!"}},{"$f":"IF(N105=P2,1,IF(N105=Q2,0.65,IF(N105=R2,0.35,\"\")))","v":{"$error":"#REF!"}},{"$f":"IF(INDEX(synt,socle2,nomenfant)=\"\",\"\",INDEX(synt,socle2,nomenfant))","v":{"$error":"#REF!"}},{"$f":"IF(P105=P2,1,IF(P105=Q2,0.65,IF(P105=R2,0.35,\"\")))","v":{"$error":"#REF!"}},{"$f":"IF(INDEX(synt,socle3,nomenfant)=\"\",\"\",INDEX(synt,socle3,nomenfant))","v":{"$error":"#REF!"}},{"$f":"IF(R105=P2,1,IF(R105=Q2,0.65,IF(R105=R2,0.35,\"\")))","v":{"$error":"#REF!"}},{"$f":"IF(INDEX(synt,socle4,nomenfant)=\"\",\"\",INDEX(synt,socle4,nomenfant))","v":{"$error":"#REF!"}},{"$f":"IF(T105=P2,1,IF(T105=Q2,0.65,IF(T105=R2,0.35,\"\")))","v":{"$error":"#REF!"}},{"$f":"IF(INDEX(synt,socle5,nomenfant)=\"\",\"\",INDEX(synt,socle5,nomenfant))","v":{"$error":"#REF!"}},{"$f":"IF(V105=P2,1,IF(V105=Q2,0.65,IF(V105=R2,0.35,\"\")))","v":{"$error":"#REF!"}},{"$f":"IF(INDEX(synt,socle6,nomenfant)=\"\",\"\",INDEX(synt,socle6,nomenfant))","v":{"$error":"#REF!"}},{"$f":"IF(X105=P2,1,IF(X105=Q2,0.65,IF(X105=R2,0.35,\"\")))","v":{"$error":"#REF!"}},{"$f":"IF(INDEX(synt,socle7,nomenfant)=\"\",\"\",INDEX(synt,socle7,nomenfant))","v":{"$error":"#REF!"}},{"$f":"IF(Z105=P2,1,IF(Z105=Q2,0.65,IF(Z105=R2,0.35,\"\")))","v":{"$error":"#REF!"}},{"$f":"IF(INDEX(synt,socle8,nomenfant)=\"\",\"\",INDEX(synt,socle8,nomenfant))","v":{"$error":"#REF!"}},{"$f":"IF(AB105=P2,1,IF(AB105=Q2,0.65,IF(AB105=R2,0.35,\"\")))","v":{"$error":"#REF!"}},{"$f":"IF(SUM(N105:AC105)=0,0,SUM(N105:AC105)/COUNTIF(N105:AC105,\">0\"))","v":{"$error":"#REF!"}},null,{"$f":"IF(OR(AD105>0.7,AG105>0),\"OUI\",\"\")","v":{"$error":"#REF!"}},{"$f":"INDEX(validationsocle,AI105,nomenfant)","v":"00:00:00"},null,91]
[null,null,162,250,250,250,250,250,250,250,null,null,"Utiliser l’outil informatique pour présenter un travail",{"$f":"IF(INDEX(synt,socle1,nomenfant)=\"\",\"\",INDEX(synt,socle1,nomenfant))","v":{"$error":"#REF!"}},{"$f":"IF(N106=P2,1,IF(N106=Q2,0.65,IF(N106=R2,0.35,\"\")))","v":{"$error":"#REF!"}},{"$f":"IF(INDEX(synt,socle2,nomenfant)=\"\",\"\",INDEX(synt,socle2,nomenfant))","v":{"$error":"#REF!"}},{"$f":"IF(P106=P2,1,IF(P106=Q2,0.65,IF(P106=R2,0.35,\"\")))","v":{"$error":"#REF!"}},{"$f":"IF(INDEX(synt,socle3,nomenfant)=\"\",\"\",INDEX(synt,socle3,nomenfant))","v":{"$error":"#REF!"}},{"$f":"IF(R106=P2,1,IF(R106=Q2,0.65,IF(R106=R2,0.35,\"\")))","v":{"$error":"#REF!"}},{"$f":"IF(INDEX(synt,socle4,nomenfant)=\"\",\"\",INDEX(synt,socle4,nomenfant))","v":{"$error":"#REF!"}},{"$f":"IF(T106=P2,1,IF(T106=Q2,0.65,IF(T106=R2,0.35,\"\")))","v":{"$error":"#REF!"}},{"$f":"IF(INDEX(synt,socle5,nomenfant)=\"\",\"\",INDEX(synt,socle5,nomenfant))","v":{"$error":"#REF!"}},{"$f":"IF(V106=P2,1,IF(V106=Q2,0.65,IF(V106=R2,0.35,\"\")))","v":{"$error":"#REF!"}},{"$f":"IF(INDEX(synt,socle6,nomenfant)=\"\",\"\",INDEX(synt,socle6,nomenfant))","v":{"$error":"#REF!"}},{"$f":"IF(X106=P2,1,IF(X106=Q2,0.65,IF(X106=R2,0.35,\"\")))","v":{"$error":"#REF!"}},{"$f":"IF(INDEX(synt,socle7,nomenfant)=\"\",\"\",INDEX(synt,socle7,nomenfant))","v":{"$error":"#REF!"}},{"$f":"IF(Z106=P2,1,IF(Z106=Q2,0.65,IF(Z106=R2,0.35,\"\")))","v":{"$error":"#REF!"}},{"$f":"IF(INDEX(synt,socle8,nomenfant)=\"\",\"\",INDEX(synt,socle8,nomenfant))","v":{"$error":"#REF!"}},{"$f":"IF(AB106=P2,1,IF(AB106=Q2,0.65,IF(AB106=R2,0.35,\"\")))","v":{"$error":"#REF!"}},{"$error":"#REF!"},null,{"$f":"IF(OR(AD106>0.7,AG106>0),\"OUI\",\"\")","v":{"$error":"#REF!"}},{"$f":"INDEX(validationsocle,AI106,nomenfant)","v":"00:00:00"},null,92]
[{"$nulls":12},"S'INFORMER, SE DOCUMENTER",{"$nulls":21},93]
[null,null,163,250,250,250,250,250,250,250,null,null,"Lire un document numérique",{"$f":"IF(INDEX(synt,socle1,nomenfant)=\"\",\"\",INDEX(synt,socle1,nomenfant))","v":{"$error":"#REF!"}},{"$f":"IF(N108=P2,1,IF(N108=Q2,0.65,IF(N108=R2,0.35,\"\")))","v":{"$error":"#REF!"}},{"$f":"IF(INDEX(synt,socle2,nomenfant)=\"\",\"\",INDEX(synt,socle2,nomenfant))","v":{"$error":"#REF!"}},{"$f":"IF(P108=P2,1,IF(P108=Q2,0.65,IF(P108=R2,0.35,\"\")))","v":{"$error":"#REF!"}},{"$f":"IF(INDEX(synt,socle3,nomenfant)=\"\",\"\",INDEX(synt,socle3,nomenfant))","v":{"$error":"#REF!"}},{"$f":"IF(R108=P2,1,IF(R108=Q2,0.65,IF(R108=R2,0.35,\"\")))","v":{"$error":"#REF!"}},{"$f":"IF(INDEX(synt,socle4,nomenfant)=\"\",\"\",INDEX(synt,socle4,nomenfant))","v":{"$error":"#REF!"}},{"$f":"IF(T108=P2,1,IF(T108=Q2,0.65,IF(T108=R2,0.35,\"\")))","v":{"$error":"#REF!"}},{"$f":"IF(INDEX(synt,socle5,nomenfant)=\"\",\"\",INDEX(synt,socle5,nomenfant))","v":{"$error":"#REF!"}},{"$f":"IF(V108=P2,1,IF(V108=Q2,0.65,IF(V108=R2,0.35,\"\")))","v":{"$error":"#REF!"}},{"$f":"IF(INDEX(synt,socle6,nomenfant)=\"\",\"\",INDEX(synt,socle6,nomenfant))","v":{"$error":"#REF!"}},{"$f":"IF(X108=P2,1,IF(X108=Q2,0.65,IF(X108=R2,0.35,\"\")))","v":{"$error":"#REF!"}},{"$f":"IF(INDEX(synt,socle7,nomenfant)=\"\",\"\",INDEX(synt,socle7,nomenfant))","v":{"$error":"#REF!"}},{"$f":"IF(Z108=P2,1,IF(Z108=Q2,0.65,IF(Z108=R2,0.35,\"\")))","v":{"$error":"#REF!"}},{"$f":"IF(INDEX(synt,socle8,nomenfant)=\"\",\"\",INDEX(synt,socle8,nomenfant))","v":{"$error":"#REF!"}},{"$f":"IF(AB108=P2,1,IF(AB108=Q2,0.65,IF(AB108=R2,0.35,\"\")))","v":{"$error":"#REF!"}},{"$error":"#REF!"},null,{"$f":"IF(OR(AD108>0.7,AG108>0),\"OUI\",\"\")","v":{"$error":"#REF!"}},{"$f":"INDEX(validationsocle,AI108,nomenfant)","v":"00:00:00"},null,94]
[null,null,164,250,250,250,250,250,250,250,null,null,"Chercher des informations par voie électronique",{"$f":"IF(INDEX(synt,socle1,nomenfant)=\"\",\"\",INDEX(synt,socle1,nomenfant))","v":{"$error":"#REF!"}},{"$f":"IF(N109=P2,1,IF(N109=Q2,0.65,IF(N109=R2,0.35,\"\")))","v":{"$error":"#REF!"}},{"$f":"IF(INDEX(synt,socle2,nomenfant)=\"\",\"\",INDEX(synt,socle2,nomenfant))","v":{"$error":"#REF!"}},{"$f":"IF(P109=P2,1,IF(P109=Q2,0.65,IF(P109=R2,0.35,\"\")))","v":{"$error":"#REF!"}},{"$f":"IF(INDEX(synt,socle3,nomenfant)=\"\",\"\",INDEX(synt,socle3,nomenfant))","v":{"$error":"#REF!"}},{"$f":"IF(R109=P2,1,IF(R109=Q2,0.65,IF(R109=R2,0.35,\"\")))","v":{"$error":"#REF!"}},{"$f":"IF(INDEX(synt,socle4,nomenfant)=\"\",\"\",INDEX(synt,socle4,nomenfant))","v":{"$error":"#REF!"}},{"$f":"IF(T109=P2,1,IF(T109=Q2,0.65,IF(T109=R2,0.35,\"\")))","v":{"$error":"#REF!"}},{"$f":"IF(INDEX(synt,socle5,nomenfant)=\"\",\"\",INDEX(synt,socle5,nomenfant))","v":{"$error":"#REF!"}},{"$f":"IF(V109=P2,1,IF(V109=Q2,0.65,IF(V109=R2,0.35,\"\")))","v":{"$error":"#REF!"}},{"$f":"IF(INDEX(synt,socle6,nomenfant)=\"\",\"\",INDEX(synt,socle6,nomenfant))","v":{"$error":"#REF!"}},{"$f":"IF(X109=P2,1,IF(X109=Q2,0.65,IF(X109=R2,0.35,\"\")))","v":{"$error":"#REF!"}},{"$f":"IF(INDEX(synt,socle7,nomenfant)=\"\",\"\",INDEX(synt,socle7,nomenfant))","v":{"$error":"#REF!"}},{"$f":"IF(Z109=P2,1,IF(Z109=Q2,0.65,IF(Z109=R2,0.35,\"\")))","v":{"$error":"#REF!"}},{"$f":"IF(INDEX(synt,socle8,nomenfant)=\"\",\"\",INDEX(synt,socle8,nomenfant))","v":{"$error":"#REF!"}},{"$f":"IF(AB109=P2,1,IF(AB109=Q2,0.65,IF(AB109=R2,0.35,\"\")))","v":{"$error":"#REF!"}},{"$error":"#REF!"},null,{"$f":"IF(OR(AD109>0.7,AG109>0),\"OUI\",\"\")","v":{"$error":"#REF!"}},{"$f":"INDEX(validationsocle,AI109,nomenfant)","v":"00:00:00"},null,95]
[null,null,165,250,250,250,250,250,250,250,null,null,"Découvrir les richesses et les limites des ressources de l'internet",{"$f":"IF(INDEX(synt,socle1,nomenfant)=\"\",\"\",INDEX(synt,socle1,nomenfant))","v":{"$error":"#REF!"}},{"$f":"IF(N110=P2,1,IF(N110=Q2,0.65,IF(N110=R2,0.35,\"\")))","v":{"$error":"#REF!"}},{"$f":"IF(INDEX(synt,socle2,nomenfant)=\"\",\"\",INDEX(synt,socle2,nomenfant))","v":{"$error":"#REF!"}},{"$f":"IF(P110=P2,1,IF(P110=Q2,0.65,IF(P110=R2,0.35,\"\")))","v":{"$error":"#REF!"}},{"$f":"IF(INDEX(synt,socle3,nomenfant)=\"\",\"\",INDEX(synt,socle3,nomenfant))","v":{"$error":"#REF!"}},{"$f":"IF(R110=P2,1,IF(R110=Q2,0.65,IF(R110=R2,0.35,\"\")))","v":{"$error":"#REF!"}},{"$f":"IF(INDEX(synt,socle4,nomenfant)=\"\",\"\",INDEX(synt,socle4,nomenfant))","v":{"$error":"#REF!"}},{"$f":"IF(T110=P2,1,IF(T110=Q2,0.65,IF(T110=R2,0.35,\"\")))","v":{"$error":"#REF!"}},{"$f":"IF(INDEX(synt,socle5,nomenfant)=\"\",\"\",INDEX(synt,socle5,nomenfant))","v":{"$error":"#REF!"}},{"$f":"IF(V110=P2,1,IF(V110=Q2,0.65,IF(V110=R2,0.35,\"\")))","v":{"$error":"#REF!"}},{"$f":"IF(INDEX(synt,socle6,nomenfant)=\"\",\"\",INDEX(synt,socle6,nomenfant))","v":{"$error":"#REF!"}},{"$f":"IF(X110=P2,1,IF(X110=Q2,0.65,IF(X110=R2,0.35,\"\")))","v":{"$error":"#REF!"}},{"$f":"IF(INDEX(synt,socle7,nomenfant)=\"\",\"\",INDEX(synt,socle7,nomenfant))","v":{"$error":"#REF!"}},{"$f":"IF(Z110=P2,1,IF(Z110=Q2,0.65,IF(Z110=R2,0.35,\"\")))","v":{"$error":"#REF!"}},{"$f":"IF(INDEX(synt,socle8,nomenfant)=\"\",\"\",INDEX(synt,socle8,nomenfant))","v":{"$error":"#REF!"}},{"$f":"IF(AB110=P2,1,IF(AB110=Q2,0.65,IF(AB110=R2,0.35,\"\")))","v":{"$error":"#REF!"}},{"$error":"#REF!"},null,{"$f":"IF(OR(AD110>0.7,AG110>0),\"OUI\",\"\")","v":{"$error":"#REF!"}},{"$f":"INDEX(validationsocle,AI110,nomenfant)","v":"00:00:00"},null,96]
[{"$nulls":12},"COMMUNIQUER, ÉCHANGER",{"$nulls":21},97]
[null,null,166,250,250,250,250,250,250,250,null,null,"Échanger avec les technologies de l’information et de la communication",{"$f":"IF(INDEX(synt,socle1,nomenfant)=\"\",\"\",INDEX(synt,socle1,nomenfant))","v":{"$error":"#REF!"}},{"$f":"IF(N112=P2,1,IF(N112=Q2,0.65,IF(N112=R2,0.35,\"\")))","v":{"$error":"#REF!"}},{"$f":"IF(INDEX(synt,socle2,nomenfant)=\"\",\"\",INDEX(synt,socle2,nomenfant))","v":{"$error":"#REF!"}},{"$f":"IF(P112=P2,1,IF(P112=Q2,0.65,IF(P112=R2,0.35,\"\")))","v":{"$error":"#REF!"}},{"$f":"IF(INDEX(synt,socle3,nomenfant)=\"\",\"\",INDEX(synt,socle3,nomenfant))","v":{"$error":"#REF!"}},{"$f":"IF(R112=P2,1,IF(R112=Q2,0.65,IF(R112=R2,0.35,\"\")))","v":{"$error":"#REF!"}},{"$f":"IF(INDEX(synt,socle4,nomenfant)=\"\",\"\",INDEX(synt,socle4,nomenfant))","v":{"$error":"#REF!"}},{"$f":"IF(T112=P2,1,IF(T112=Q2,0.65,IF(T112=R2,0.35,\"\")))","v":{"$error":"#REF!"}},{"$f":"IF(INDEX(synt,socle5,nomenfant)=\"\",\"\",INDEX(synt,socle5,nomenfant))","v":{"$error":"#REF!"}},{"$f":"IF(V112=P2,1,IF(V112=Q2,0.65,IF(V112=R2,0.35,\"\")))","v":{"$error":"#REF!"}},{"$f":"IF(INDEX(synt,socle6,nomenfant)=\"\",\"\",INDEX(synt,socle6,nomenfant))","v":{"$error":"#REF!"}},{"$f":"IF(X112=P2,1,IF(X112=Q2,0.65,IF(X112=R2,0.35,\"\")))","v":{"$error":"#REF!"}},{"$f":"IF(INDEX(synt,socle7,nomenfant)=\"\",\"\",INDEX(synt,socle7,nomenfant))","v":{"$error":"#REF!"}},{"$f":"IF(Z112=P2,1,IF(Z112=Q2,0.65,IF(Z112=R2,0.35,\"\")))","v":{"$error":"#REF!"}},{"$f":"IF(INDEX(synt,socle8,nomenfant)=\"\",\"\",INDEX(synt,socle8,nomenfant))","v":{"$error":"#REF!"}},{"$f":"IF(AB112=P2,1,IF(AB112=Q2,0.65,IF(AB112=R2,0.35,\"\")))","v":{"$error":"#REF!"}},{"$error":"#REF!"},null,{"$f":"IF(OR(AD112>0.7,AG112>0),\"OUI\",\"\")","v":{"$error":"#REF!"}},{"$f":"INDEX(validationsocle,AI112,nomenfant)","v":"00:00:00"},null,98]
[{"$nulls":34},99]
[{"$nulls":12},"La culture humaniste",{"$nulls":21},100]
[{"$nulls":34},101]
[{"$nulls":12},"AVOIR DES REPÈRES EN HISTOIRE ET EN GÉOGRAPHIE ",{"$nulls":21},102]
[null,null,130,131,127,77,250,250,250,250,null,null,"Lire et utiliser différents langages : textes, cartes, croquis, graphiques",{"$f":"IF(INDEX(synt,socle1,nomenfant)=\"\",\"\",INDEX(synt,socle1,nomenfant))","v":{"$error":"#REF!"}},{"$f":"IF(N117=P2,1,IF(N117=Q2,0.65,IF(N117=R2,0.35,\"\")))","v":{"$error":"#REF!"}},{"$f":"IF(INDEX(synt,socle2,nomenfant)=\"\",\"\",INDEX(synt,socle2,nomenfant))","v":{"$error":"#REF!"}},{"$f":"IF(P117=P2,1,IF(P117=Q2,0.65,IF(P117=R2,0.35,\"\")))","v":{"$error":"#REF!"}},{"$f":"IF(INDEX(synt,socle3,nomenfant)=\"\",\"\",INDEX(synt,socle3,nomenfant))","v":{"$error":"#REF!"}},{"$f":"IF(R117=P2,1,IF(R117=Q2,0.65,IF(R117=R2,0.35,\"\")))","v":{"$error":"#REF!"}},{"$f":"IF(INDEX(synt,socle4,nomenfant)=\"\",\"\",INDEX(synt,socle4,nomenfant))","v":{"$error":"#REF!"}},{"$f":"IF(T117=P2,1,IF(T117=Q2,0.65,IF(T117=R2,0.35,\"\")))","v":{"$error":"#REF!"}},{"$f":"IF(INDEX(synt,socle5,nomenfant)=\"\",\"\",INDEX(synt,socle5,nomenfant))","v":{"$error":"#REF!"}},{"$f":"IF(V117=P2,1,IF(V117=Q2,0.65,IF(V117=R2,0.35,\"\")))","v":{"$error":"#REF!"}},{"$f":"IF(INDEX(synt,socle6,nomenfant)=\"\",\"\",INDEX(synt,socle6,nomenfant))","v":{"$error":"#REF!"}},{"$f":"IF(X117=P2,1,IF(X117=Q2,0.65,IF(X117=R2,0.35,\"\")))","v":{"$error":"#REF!"}},{"$f":"IF(INDEX(synt,socle7,nomenfant)=\"\",\"\",INDEX(synt,socle7,nomenfant))","v":{"$error":"#REF!"}},{"$f":"IF(Z117=P2,1,IF(Z117=Q2,0.65,IF(Z117=R2,0.35,\"\")))","v":{"$error":"#REF!"}},{"$f":"IF(INDEX(synt,socle8,nomenfant)=\"\",\"\",INDEX(synt,socle8,nomenfant))","v":{"$error":"#REF!"}},{"$f":"IF(AB117=P2,1,IF(AB117=Q2,0.65,IF(AB117=R2,0.35,\"\")))","v":{"$error":"#REF!"}},{"$f":"IF(SUM(N117:AC117)=0,0,SUM(N117:AC117)/COUNTIF(N117:AC117,\">0\"))","v":{"$error":"#REF!"}},null,{"$f":"IF(OR(AD117>0.7,AG117>0),\"OUI\",\"\")","v":{"$error":"#REF!"}},{"$f":"INDEX(validationsocle,AI117,nomenfant)","v":"00:00:00"},null,103]
[null,null,110,112,114,118,119,120,250,250,null,null,"Identifier les périodes de l’histoire au programme",{"$f":"IF(INDEX(synt,socle1,nomenfant)=\"\",\"\",INDEX(synt,socle1,nomenfant))","v":{"$error":"#REF!"}},{"$f":"IF(N118=P2,1,IF(N118=Q2,0.65,IF(N118=R2,0.35,\"\")))","v":{"$error":"#REF!"}},{"$f":"IF(INDEX(synt,socle2,nomenfant)=\"\",\"\",INDEX(synt,socle2,nomenfant))","v":{"$error":"#REF!"}},{"$f":"IF(P118=P2,1,IF(P118=Q2,0.65,IF(P118=R2,0.35,\"\")))","v":{"$error":"#REF!"}},{"$f":"IF(INDEX(synt,socle3,nomenfant)=\"\",\"\",INDEX(synt,socle3,nomenfant))","v":{"$error":"#REF!"}},{"$f":"IF(R118=P2,1,IF(R118=Q2,0.65,IF(R118=R2,0.35,\"\")))","v":{"$error":"#REF!"}},{"$f":"IF(INDEX(synt,socle4,nomenfant)=\"\",\"\",INDEX(synt,socle4,nomenfant))","v":{"$error":"#REF!"}},{"$f":"IF(T118=P2,1,IF(T118=Q2,0.65,IF(T118=R2,0.35,\"\")))","v":{"$error":"#REF!"}},{"$f":"IF(INDEX(synt,socle5,nomenfant)=\"\",\"\",INDEX(synt,socle5,nomenfant))","v":{"$error":"#REF!"}},{"$f":"IF(V118=P2,1,IF(V118=Q2,0.65,IF(V118=R2,0.35,\"\")))","v":{"$error":"#REF!"}},{"$f":"IF(INDEX(synt,socle6,nomenfant)=\"\",\"\",INDEX(synt,socle6,nomenfant))","v":{"$error":"#REF!"}},{"$f":"IF(X118=P2,1,IF(X118=Q2,0.65,IF(X118=R2,0.35,\"\")))","v":{"$error":"#REF!"}},{"$f":"IF(INDEX(synt,socle7,nomenfant)=\"\",\"\",INDEX(synt,socle7,nomenfant))","v":{"$error":"#REF!"}},{"$f":"IF(Z118=P2,1,IF(Z118=Q2,0.65,IF(Z118=R2,0.35,\"\")))","v":{"$error":"#REF!"}},{"$f":"IF(INDEX(synt,socle8,nomenfant)=\"\",\"\",INDEX(synt,socle8,nomenfant))","v":{"$error":"#REF!"}},{"$f":"IF(AB118=P2,1,IF(AB118=Q2,0.65,IF(AB118=R2,0.35,\"\")))","v":{"$error":"#REF!"}},{"$error":"#REF!"},null,{"$f":"IF(OR(AD118>0.7,AG118>0),\"OUI\",\"\")","v":{"$error":"#REF!"}},{"$f":"INDEX(validationsocle,AI118,nomenfant)","v":"00:00:00"},null,104]
[null,null,109,111,113,115,116,117,119,123,null,null,"Connaître et mémoriser les principaux repères chronologiques (évènements et personnages)",{"$f":"IF(INDEX(synt,socle1,nomenfant)=\"\",\"\",INDEX(synt,socle1,nomenfant))","v":{"$error":"#REF!"}},{"$f":"IF(N119=P2,1,IF(N119=Q2,0.65,IF(N119=R2,0.35,\"\")))","v":{"$error":"#REF!"}},{"$f":"IF(INDEX(synt,socle2,nomenfant)=\"\",\"\",INDEX(synt,socle2,nomenfant))","v":{"$error":"#REF!"}},{"$f":"IF(P119=P2,1,IF(P119=Q2,0.65,IF(P119=R2,0.35,\"\")))","v":{"$error":"#REF!"}},{"$f":"IF(INDEX(synt,socle3,nomenfant)=\"\",\"\",INDEX(synt,socle3,nomenfant))","v":{"$error":"#REF!"}},{"$f":"IF(R119=P2,1,IF(R119=Q2,0.65,IF(R119=R2,0.35,\"\")))","v":{"$error":"#REF!"}},{"$f":"IF(INDEX(synt,socle4,nomenfant)=\"\",\"\",INDEX(synt,socle4,nomenfant))","v":{"$error":"#REF!"}},{"$f":"IF(T119=P2,1,IF(T119=Q2,0.65,IF(T119=R2,0.35,\"\")))","v":{"$error":"#REF!"}},{"$f":"IF(INDEX(synt,socle5,nomenfant)=\"\",\"\",INDEX(synt,socle5,nomenfant))","v":{"$error":"#REF!"}},{"$f":"IF(V119=P2,1,IF(V119=Q2,0.65,IF(V119=R2,0.35,\"\")))","v":{"$error":"#REF!"}},{"$f":"IF(INDEX(synt,socle6,nomenfant)=\"\",\"\",INDEX(synt,socle6,nomenfant))","v":{"$error":"#REF!"}},{"$f":"IF(X119=P2,1,IF(X119=Q2,0.65,IF(X119=R2,0.35,\"\")))","v":{"$error":"#REF!"}},{"$f":"IF(INDEX(synt,socle7,nomenfant)=\"\",\"\",INDEX(synt,socle7,nomenfant))","v":{"$error":"#REF!"}},{"$f":"IF(Z119=P2,1,IF(Z119=Q2,0.65,IF(Z119=R2,0.35,\"\")))","v":{"$error":"#REF!"}},{"$f":"IF(INDEX(synt,socle8,nomenfant)=\"\",\"\",INDEX(synt,socle8,nomenfant))","v":{"$error":"#REF!"}},{"$f":"IF(AB119=P2,1,IF(AB119=Q2,0.65,IF(AB119=R2,0.35,\"\")))","v":{"$error":"#REF!"}},{"$error":"#REF!"},null,{"$f":"IF(OR(AD119>0.7,AG119>0),\"OUI\",\"\")","v":{"$error":"#REF!"}},{"$f":"INDEX(validationsocle,AI119,nomenfant)","v":"00:00:00"},null,105]
[null,null,126,128,130,250,250,250,250,250,null,null,"Connaître les principaux caractères géographiques physiques et humains de la région où vit l’élève, de la France et de l’Union Européenne, les repérer sur des cartes à différentes échelles",{"$f":"IF(INDEX(synt,socle1,nomenfant)=\"\",\"\",INDEX(synt,socle1,nomenfant))","v":{"$error":"#REF!"}},{"$f":"IF(N120=P2,1,IF(N120=Q2,0.65,IF(N120=R2,0.35,\"\")))","v":{"$error":"#REF!"}},{"$f":"IF(INDEX(synt,socle2,nomenfant)=\"\",\"\",INDEX(synt,socle2,nomenfant))","v":{"$error":"#REF!"}},{"$f":"IF(P120=P2,1,IF(P120=Q2,0.65,IF(P120=R2,0.35,\"\")))","v":{"$error":"#REF!"}},{"$f":"IF(INDEX(synt,socle3,nomenfant)=\"\",\"\",INDEX(synt,socle3,nomenfant))","v":{"$error":"#REF!"}},{"$f":"IF(R120=P2,1,IF(R120=Q2,0.65,IF(R120=R2,0.35,\"\")))","v":{"$error":"#REF!"}},{"$f":"IF(INDEX(synt,socle4,nomenfant)=\"\",\"\",INDEX(synt,socle4,nomenfant))","v":{"$error":"#REF!"}},{"$f":"IF(T120=P2,1,IF(T120=Q2,0.65,IF(T120=R2,0.35,\"\")))","v":{"$error":"#REF!"}},{"$f":"IF(INDEX(synt,socle5,nomenfant)=\"\",\"\",INDEX(synt,socle5,nomenfant))","v":{"$error":"#REF!"}},{"$f":"IF(V120=P2,1,IF(V120=Q2,0.65,IF(V120=R2,0.35,\"\")))","v":{"$error":"#REF!"}},{"$f":"IF(INDEX(synt,socle6,nomenfant)=\"\",\"\",INDEX(synt,socle6,nomenfant))","v":{"$error":"#REF!"}},{"$f":"IF(X120=P2,1,IF(X120=Q2,0.65,IF(X120=R2,0.35,\"\")))","v":{"$error":"#REF!"}},{"$f":"IF(INDEX(synt,socle7,nomenfant)=\"\",\"\",INDEX(synt,socle7,nomenfant))","v":{"$error":"#REF!"}},{"$f":"IF(Z120=P2,1,IF(Z120=Q2,0.65,IF(Z120=R2,0.35,\"\")))","v":{"$error":"#REF!"}},{"$f":"IF(INDEX(synt,socle8,nomenfant)=\"\",\"\",INDEX(synt,socle8,nomenfant))","v":{"$error":"#REF!"}},{"$f":"IF(AB120=P2,1,IF(AB120=Q2,0.65,IF(AB120=R2,0.35,\"\")))","v":{"$error":"#REF!"}},{"$error":"#REF!"},null,{"$f":"IF(OR(AD120>0.7,AG120>0),\"OUI\",\"\")","v":{"$error":"#REF!"}},{"$f":"INDEX(validationsocle,AI120,nomenfant)","v":"00:00:00"},null,106]
[null,null,124,250,250,250,250,250,250,250,null,null,"Comprendre une ou deux questions liées au développement durable et agir en conséquence (l’eau dans la commune, la réduction et le recyclage des déchets)",{"$f":"IF(INDEX(synt,socle1,nomenfant)=\"\",\"\",INDEX(synt,socle1,nomenfant))","v":{"$error":"#REF!"}},{"$f":"IF(N121=P2,1,IF(N121=Q2,0.65,IF(N121=R2,0.35,\"\")))","v":{"$error":"#REF!"}},{"$f":"IF(INDEX(synt,socle2,nomenfant)=\"\",\"\",INDEX(synt,socle2,nomenfant))","v":{"$error":"#REF!"}},{"$f":"IF(P121=P2,1,IF(P121=Q2,0.65,IF(P121=R2,0.35,\"\")))","v":{"$error":"#REF!"}},{"$f":"IF(INDEX(synt,socle3,nomenfant)=\"\",\"\",INDEX(synt,socle3,nomenfant))","v":{"$error":"#REF!"}},{"$f":"IF(R121=P2,1,IF(R121=Q2,0.65,IF(R121=R2,0.35,\"\")))","v":{"$error":"#REF!"}},{"$f":"IF(INDEX(synt,socle4,nomenfant)=\"\",\"\",INDEX(synt,socle4,nomenfant))","v":{"$error":"#REF!"}},{"$f":"IF(T121=P2,1,IF(T121=Q2,0.65,IF(T121=R2,0.35,\"\")))","v":{"$error":"#REF!"}},{"$f":"IF(INDEX(synt,socle5,nomenfant)=\"\",\"\",INDEX(synt,socle5,nomenfant))","v":{"$error":"#REF!"}},{"$f":"IF(V121=P2,1,IF(V121=Q2,0.65,IF(V121=R2,0.35,\"\")))","v":{"$error":"#REF!"}},{"$f":"IF(INDEX(synt,socle6,nomenfant)=\"\",\"\",INDEX(synt,socle6,nomenfant))","v":{"$error":"#REF!"}},{"$f":"IF(X121=P2,1,IF(X121=Q2,0.65,IF(X121=R2,0.35,\"\")))","v":{"$error":"#REF!"}},{"$f":"IF(INDEX(synt,socle7,nomenfant)=\"\",\"\",INDEX(synt,socle7,nomenfant))","v":{"$error":"#REF!"}},{"$f":"IF(Z121=P2,1,IF(Z121=Q2,0.65,IF(Z121=R2,0.35,\"\")))","v":{"$error":"#REF!"}},{"$f":"IF(INDEX(synt,socle8,nomenfant)=\"\",\"\",INDEX(synt,socle8,nomenfant))","v":{"$error":"#REF!"}},{"$f":"IF(AB121=P2,1,IF(AB121=Q2,0.65,IF(AB121=R2,0.35,\"\")))","v":{"$error":"#REF!"}},{"$error":"#REF!"},null,{"$f":"IF(OR(AD121>0.7,AG121>0),\"OUI\",\"\")","v":{"$error":"#REF!"}},{"$f":"INDEX(validationsocle,AI121,nomenfant)","v":"00:00:00"},null,107]
[{"$nulls":12},"AVOIR DES REPÈRES LITTÉRAIRES",{"$nulls":21},108]
[null,null,23,250,250,250,250,250,250,250,null,null,"Lire des œuvres majeures du patrimoine et de la littérature pour la jeunesse",{"$f":"IF(INDEX(synt,socle1,nomenfant)=\"\",\"\",INDEX(synt,socle1,nomenfant))","v":{"$error":"#REF!"}},{"$f":"IF(N123=P2,1,IF(N123=Q2,0.65,IF(N123=R2,0.35,\"\")))","v":{"$error":"#REF!"}},{"$f":"IF(INDEX(synt,socle2,nomenfant)=\"\",\"\",INDEX(synt,socle2,nomenfant))","v":{"$error":"#REF!"}},{"$f":"IF(P123=P2,1,IF(P123=Q2,0.65,IF(P123=R2,0.35,\"\")))","v":{"$error":"#REF!"}},{"$f":"IF(INDEX(synt,socle3,nomenfant)=\"\",\"\",INDEX(synt,socle3,nomenfant))","v":{"$error":"#REF!"}},{"$f":"IF(R123=P2,1,IF(R123=Q2,0.65,IF(R123=R2,0.35,\"\")))","v":{"$error":"#REF!"}},{"$f":"IF(INDEX(synt,socle4,nomenfant)=\"\",\"\",INDEX(synt,socle4,nomenfant))","v":{"$error":"#REF!"}},{"$f":"IF(T123=P2,1,IF(T123=Q2,0.65,IF(T123=R2,0.35,\"\")))","v":{"$error":"#REF!"}},{"$f":"IF(INDEX(synt,socle5,nomenfant)=\"\",\"\",INDEX(synt,socle5,nomenfant))","v":{"$error":"#REF!"}},{"$f":"IF(V123=P2,1,IF(V123=Q2,0.65,IF(V123=R2,0.35,\"\")))","v":{"$error":"#REF!"}},{"$f":"IF(INDEX(synt,socle6,nomenfant)=\"\",\"\",INDEX(synt,socle6,nomenfant))","v":{"$error":"#REF!"}},{"$f":"IF(X123=P2,1,IF(X123=Q2,0.65,IF(X123=R2,0.35,\"\")))","v":{"$error":"#REF!"}},{"$f":"IF(INDEX(synt,socle7,nomenfant)=\"\",\"\",INDEX(synt,socle7,nomenfant))","v":{"$error":"#REF!"}},{"$f":"IF(Z123=P2,1,IF(Z123=Q2,0.65,IF(Z123=R2,0.35,\"\")))","v":{"$error":"#REF!"}},{"$f":"IF(INDEX(synt,socle8,nomenfant)=\"\",\"\",INDEX(synt,socle8,nomenfant))","v":{"$error":"#REF!"}},{"$f":"IF(AB123=P2,1,IF(AB123=Q2,0.65,IF(AB123=R2,0.35,\"\")))","v":{"$error":"#REF!"}},{"$error":"#REF!"},null,{"$f":"IF(OR(AD123>0.7,AG123>0),\"OUI\",\"\")","v":{"$error":"#REF!"}},{"$f":"INDEX(validationsocle,AI123,nomenfant)","v":"00:00:00"},null,109]
[{"$nulls":3},250,250,250,250,250,250,250,null,null,"Établir des liens entre les textes lus",{"$f":"IF(INDEX(synt,socle1,nomenfant)=\"\",\"\",INDEX(synt,socle1,nomenfant))","v":{"$error":"#REF!"}},{"$f":"IF(N124=P2,1,IF(N124=Q2,0.65,IF(N124=R2,0.35,\"\")))","v":{"$error":"#REF!"}},{"$f":"IF(INDEX(synt,socle2,nomenfant)=\"\",\"\",INDEX(synt,socle2,nomenfant))","v":{"$error":"#REF!"}},{"$f":"IF(P124=P2,1,IF(P124=Q2,0.65,IF(P124=R2,0.35,\"\")))","v":{"$error":"#REF!"}},{"$f":"IF(INDEX(synt,socle3,nomenfant)=\"\",\"\",INDEX(synt,socle3,nomenfant))","v":{"$error":"#REF!"}},{"$f":"IF(R124=P2,1,IF(R124=Q2,0.65,IF(R124=R2,0.35,\"\")))","v":{"$error":"#REF!"}},{"$f":"IF(INDEX(synt,socle4,nomenfant)=\"\",\"\",INDEX(synt,socle4,nomenfant))","v":{"$error":"#REF!"}},{"$f":"IF(T124=P2,1,IF(T124=Q2,0.65,IF(T124=R2,0.35,\"\")))","v":{"$error":"#REF!"}},{"$f":"IF(INDEX(synt,socle5,nomenfant)=\"\",\"\",INDEX(synt,socle5,nomenfant))","v":{"$error":"#REF!"}},{"$f":"IF(V124=P2,1,IF(V124=Q2,0.65,IF(V124=R2,0.35,\"\")))","v":{"$error":"#REF!"}},{"$f":"IF(INDEX(synt,socle6,nomenfant)=\"\",\"\",INDEX(synt,socle6,nomenfant))","v":{"$error":"#REF!"}},{"$f":"IF(X124=P2,1,IF(X124=Q2,0.65,IF(X124=R2,0.35,\"\")))","v":{"$error":"#REF!"}},{"$f":"IF(INDEX(synt,socle7,nomenfant)=\"\",\"\",INDEX(synt,socle7,nomenfant))","v":{"$error":"#REF!"}},{"$f":"IF(Z124=P2,1,IF(Z124=Q2,0.65,IF(Z124=R2,0.35,\"\")))","v":{"$error":"#REF!"}},{"$f":"IF(INDEX(synt,socle8,nomenfant)=\"\",\"\",INDEX(synt,socle8,nomenfant))","v":{"$error":"#REF!"}},{"$f":"IF(AB124=P2,1,IF(AB124=Q2,0.65,IF(AB124=R2,0.35,\"\")))","v":{"$error":"#REF!"}},{"$error":"#REF!"},null,{"$f":"IF(OR(AD124>0.7,AG124>0),\"OUI\",\"\")","v":{"$error":"#REF!"}},{"$f":"INDEX(validationsocle,AI124,nomenfant)","v":"00:00:00"},null,110]
[{"$nulls":12},"PRATIQUER LES ARTS ET AVOIR DES REPÈRES EN HISTOIRE DES ARTS",{"$nulls":21},111]
[null,null,136,250,250,250,250,250,250,250,null,null,"Distinguer les grandes catégories de la création artistique (littérature, musique, danse, théâtre, cinéma, dessin, peinture, sculpture, architecture)",{"$f":"IF(INDEX(synt,socle1,nomenfant)=\"\",\"\",INDEX(synt,socle1,nomenfant))","v":{"$error":"#REF!"}},{"$f":"IF(N126=P2,1,IF(N126=Q2,0.65,IF(N126=R2,0.35,\"\")))","v":{"$error":"#REF!"}},{"$f":"IF(INDEX(synt,socle2,nomenfant)=\"\",\"\",INDEX(synt,socle2,nomenfant))","v":{"$error":"#REF!"}},{"$f":"IF(P126=P2,1,IF(P126=Q2,0.65,IF(P126=R2,0.35,\"\")))","v":{"$error":"#REF!"}},{"$f":"IF(INDEX(synt,socle3,nomenfant)=\"\",\"\",INDEX(synt,socle3,nomenfant))","v":{"$error":"#REF!"}},{"$f":"IF(R126=P2,1,IF(R126=Q2,0.65,IF(R126=R2,0.35,\"\")))","v":{"$error":"#REF!"}},{"$f":"IF(INDEX(synt,socle4,nomenfant)=\"\",\"\",INDEX(synt,socle4,nomenfant))","v":{"$error":"#REF!"}},{"$f":"IF(T126=P2,1,IF(T126=Q2,0.65,IF(T126=R2,0.35,\"\")))","v":{"$error":"#REF!"}},{"$f":"IF(INDEX(synt,socle5,nomenfant)=\"\",\"\",INDEX(synt,socle5,nomenfant))","v":{"$error":"#REF!"}},{"$f":"IF(V126=P2,1,IF(V126=Q2,0.65,IF(V126=R2,0.35,\"\")))","v":{"$error":"#REF!"}},{"$f":"IF(INDEX(synt,socle6,nomenfant)=\"\",\"\",INDEX(synt,socle6,nomenfant))","v":{"$error":"#REF!"}},{"$f":"IF(X126=P2,1,IF(X126=Q2,0.65,IF(X126=R2,0.35,\"\")))","v":{"$error":"#REF!"}},{"$f":"IF(INDEX(synt,socle7,nomenfant)=\"\",\"\",INDEX(synt,socle7,nomenfant))","v":{"$error":"#REF!"}},{"$f":"IF(Z126=P2,1,IF(Z126=Q2,0.65,IF(Z126=R2,0.35,\"\")))","v":{"$error":"#REF!"}},{"$f":"IF(INDEX(synt,socle8,nomenfant)=\"\",\"\",INDEX(synt,socle8,nomenfant))","v":{"$error":"#REF!"}},{"$f":"IF(AB126=P2,1,IF(AB126=Q2,0.65,IF(AB126=R2,0.35,\"\")))","v":{"$error":"#REF!"}},{"$f":"IF(SUM(N126:AC126)=0,0,SUM(N126:AC126)/COUNTIF(N126:AC126,\">0\"))","v":{"$error":"#REF!"}},null,{"$f":"IF(OR(AD126>0.7,AG126>0),\"OUI\",\"\")","v":{"$error":"#REF!"}},{"$f":"INDEX(validationsocle,AI126,nomenfant)","v":"00:00:00"},null,112]
[null,null,137,138,139,250,250,250,250,250,null,null,"Reconnaître et décrire des œuvres préalablement étudiées",{"$f":"IF(INDEX(synt,socle1,nomenfant)=\"\",\"\",INDEX(synt,socle1,nomenfant))","v":{"$error":"#REF!"}},{"$f":"IF(N127=P2,1,IF(N127=Q2,0.65,IF(N127=R2,0.35,\"\")))","v":{"$error":"#REF!"}},{"$f":"IF(INDEX(synt,socle2,nomenfant)=\"\",\"\",INDEX(synt,socle2,nomenfant))","v":{"$error":"#REF!"}},{"$f":"IF(P127=P2,1,IF(P127=Q2,0.65,IF(P127=R2,0.35,\"\")))","v":{"$error":"#REF!"}},{"$f":"IF(INDEX(synt,socle3,nomenfant)=\"\",\"\",INDEX(synt,socle3,nomenfant))","v":{"$error":"#REF!"}},{"$f":"IF(R127=P2,1,IF(R127=Q2,0.65,IF(R127=R2,0.35,\"\")))","v":{"$error":"#REF!"}},{"$f":"IF(INDEX(synt,socle4,nomenfant)=\"\",\"\",INDEX(synt,socle4,nomenfant))","v":{"$error":"#REF!"}},{"$f":"IF(T127=P2,1,IF(T127=Q2,0.65,IF(T127=R2,0.35,\"\")))","v":{"$error":"#REF!"}},{"$f":"IF(INDEX(synt,socle5,nomenfant)=\"\",\"\",INDEX(synt,socle5,nomenfant))","v":{"$error":"#REF!"}},{"$f":"IF(V127=P2,1,IF(V127=Q2,0.65,IF(V127=R2,0.35,\"\")))","v":{"$error":"#REF!"}},{"$f":"IF(INDEX(synt,socle6,nomenfant)=\"\",\"\",INDEX(synt,socle6,nomenfant))","v":{"$error":"#REF!"}},{"$f":"IF(X127=P2,1,IF(X127=Q2,0.65,IF(X127=R2,0.35,\"\")))","v":{"$error":"#REF!"}},{"$f":"IF(INDEX(synt,socle7,nomenfant)=\"\",\"\",INDEX(synt,socle7,nomenfant))","v":{"$error":"#REF!"}},{"$f":"IF(Z127=P2,1,IF(Z127=Q2,0.65,IF(Z127=R2,0.35,\"\")))","v":{"$error":"#REF!"}},{"$f":"IF(INDEX(synt,socle8,nomenfant)=\"\",\"\",INDEX(synt,socle8,nomenfant))","v":{"$error":"#REF!"}},{"$f":"IF(AB127=P2,1,IF(AB127=Q2,0.65,IF(AB127=R2,0.35,\"\")))","v":{"$error":"#REF!"}},{"$error":"#REF!"},null,{"$f":"IF(OR(AD127>0.7,AG127>0),\"OUI\",\"\")","v":{"$error":"#REF!"}},{"$f":"INDEX(validationsocle,AI127,nomenfant)","v":"00:00:00"},null,113]
[null,null,133,250,250,250,250,250,250,250,null,null,"Pratiquer le dessin et diverses formes d’expressions visuelles et plastiques",{"$f":"IF(INDEX(synt,socle1,nomenfant)=\"\",\"\",INDEX(synt,socle1,nomenfant))","v":{"$error":"#REF!"}},{"$f":"IF(N128=P2,1,IF(N128=Q2,0.65,IF(N128=R2,0.35,\"\")))","v":{"$error":"#REF!"}},{"$f":"IF(INDEX(synt,socle2,nomenfant)=\"\",\"\",INDEX(synt,socle2,nomenfant))","v":{"$error":"#REF!"}},{"$f":"IF(P128=P2,1,IF(P128=Q2,0.65,IF(P128=R2,0.35,\"\")))","v":{"$error":"#REF!"}},{"$f":"IF(INDEX(synt,socle3,nomenfant)=\"\",\"\",INDEX(synt,socle3,nomenfant))","v":{"$error":"#REF!"}},{"$f":"IF(R128=P2,1,IF(R128=Q2,0.65,IF(R128=R2,0.35,\"\")))","v":{"$error":"#REF!"}},{"$f":"IF(INDEX(synt,socle4,nomenfant)=\"\",\"\",INDEX(synt,socle4,nomenfant))","v":{"$error":"#REF!"}},{"$f":"IF(T128=P2,1,IF(T128=Q2,0.65,IF(T128=R2,0.35,\"\")))","v":{"$error":"#REF!"}},{"$f":"IF(INDEX(synt,socle5,nomenfant)=\"\",\"\",INDEX(synt,socle5,nomenfant))","v":{"$error":"#REF!"}},{"$f":"IF(V128=P2,1,IF(V128=Q2,0.65,IF(V128=R2,0.35,\"\")))","v":{"$error":"#REF!"}},{"$f":"IF(INDEX(synt,socle6,nomenfant)=\"\",\"\",INDEX(synt,socle6,nomenfant))","v":{"$error":"#REF!"}},{"$f":"IF(X128=P2,1,IF(X128=Q2,0.65,IF(X128=R2,0.35,\"\")))","v":{"$error":"#REF!"}},{"$f":"IF(INDEX(synt,socle7,nomenfant)=\"\",\"\",INDEX(synt,socle7,nomenfant))","v":{"$error":"#REF!"}},{"$f":"IF(Z128=P2,1,IF(Z128=Q2,0.65,IF(Z128=R2,0.35,\"\")))","v":{"$error":"#REF!"}},{"$f":"IF(INDEX(synt,socle8,nomenfant)=\"\",\"\",INDEX(synt,socle8,nomenfant))","v":{"$error":"#REF!"}},{"$f":"IF(AB128=P2,1,IF(AB128=Q2,0.65,IF(AB128=R2,0.35,\"\")))","v":{"$error":"#REF!"}},{"$error":"#REF!"},null,{"$f":"IF(OR(AD128>0.7,AG128>0),\"OUI\",\"\")","v":{"$error":"#REF!"}},{"$f":"INDEX(validationsocle,AI128,nomenfant)","v":"00:00:00"},null,114]
[null,null,135,250,250,250,250,250,250,250,null,null,"Interpréter de mémoire une chanson, participer à un jeu rythmique ; repérer des éléments musicaux caractéristiques, simples",{"$f":"IF(INDEX(synt,socle1,nomenfant)=\"\",\"\",INDEX(synt,socle1,nomenfant))","v":{"$error":"#REF!"}},{"$f":"IF(N129=P2,1,IF(N129=Q2,0.65,IF(N129=R2,0.35,\"\")))","v":{"$error":"#REF!"}},{"$f":"IF(INDEX(synt,socle2,nomenfant)=\"\",\"\",INDEX(synt,socle2,nomenfant))","v":{"$error":"#REF!"}},{"$f":"IF(P129=P2,1,IF(P129=Q2,0.65,IF(P129=R2,0.35,\"\")))","v":{"$error":"#REF!"}},{"$f":"IF(INDEX(synt,socle3,nomenfant)=\"\",\"\",INDEX(synt,socle3,nomenfant))","v":{"$error":"#REF!"}},{"$f":"IF(R129=P2,1,IF(R129=Q2,0.65,IF(R129=R2,0.35,\"\")))","v":{"$error":"#REF!"}},{"$f":"IF(INDEX(synt,socle4,nomenfant)=\"\",\"\",INDEX(synt,socle4,nomenfant))","v":{"$error":"#REF!"}},{"$f":"IF(T129=P2,1,IF(T129=Q2,0.65,IF(T129=R2,0.35,\"\")))","v":{"$error":"#REF!"}},{"$f":"IF(INDEX(synt,socle5,nomenfant)=\"\",\"\",INDEX(synt,socle5,nomenfant))","v":{"$error":"#REF!"}},{"$f":"IF(V129=P2,1,IF(V129=Q2,0.65,IF(V129=R2,0.35,\"\")))","v":{"$error":"#REF!"}},{"$f":"IF(INDEX(synt,socle6,nomenfant)=\"\",\"\",INDEX(synt,socle6,nomenfant))","v":{"$error":"#REF!"}},{"$f":"IF(X129=P2,1,IF(X129=Q2,0.65,IF(X129=R2,0.35,\"\")))","v":{"$error":"#REF!"}},{"$f":"IF(INDEX(synt,socle7,nomenfant)=\"\",\"\",INDEX(synt,socle7,nomenfant))","v":{"$error":"#REF!"}},{"$f":"IF(Z129=P2,1,IF(Z129=Q2,0.65,IF(Z129=R2,0.35,\"\")))","v":{"$error":"#REF!"}},{"$f":"IF(INDEX(synt,socle8,nomenfant)=\"\",\"\",INDEX(synt,socle8,nomenfant))","v":{"$error":"#REF!"}},{"$f":"IF(AB129=P2,1,IF(AB129=Q2,0.65,IF(AB129=R2,0.35,\"\")))","v":{"$error":"#REF!"}},{"$error":"#REF!"},null,{"$f":"IF(OR(AD129>0.7,AG129>0),\"OUI\",\"\")","v":{"$error":"#REF!"}},{"$f":"INDEX(validationsocle,AI129,nomenfant)","v":"00:00:00"},null,115]
[null,null,134,250,250,250,250,250,250,250,null,null,"Inventer et réaliser des textes, des œuvres plastiques, des chorégraphies ou des enchaînements, à visée artistique ou expressive",{"$f":"IF(INDEX(synt,socle1,nomenfant)=\"\",\"\",INDEX(synt,socle1,nomenfant))","v":{"$error":"#REF!"}},{"$f":"IF(N130=P2,1,IF(N130=Q2,0.65,IF(N130=R2,0.35,\"\")))","v":{"$error":"#REF!"}},{"$f":"IF(INDEX(synt,socle2,nomenfant)=\"\",\"\",INDEX(synt,socle2,nomenfant))","v":{"$error":"#REF!"}},{"$f":"IF(P130=P2,1,IF(P130=Q2,0.65,IF(P130=R2,0.35,\"\")))","v":{"$error":"#REF!"}},{"$f":"IF(INDEX(synt,socle3,nomenfant)=\"\",\"\",INDEX(synt,socle3,nomenfant))","v":{"$error":"#REF!"}},{"$f":"IF(R130=P2,1,IF(R130=Q2,0.65,IF(R130=R2,0.35,\"\")))","v":{"$error":"#REF!"}},{"$f":"IF(INDEX(synt,socle4,nomenfant)=\"\",\"\",INDEX(synt,socle4,nomenfant))","v":{"$error":"#REF!"}},{"$f":"IF(T130=P2,1,IF(T130=Q2,0.65,IF(T130=R2,0.35,\"\")))","v":{"$error":"#REF!"}},{"$f":"IF(INDEX(synt,socle5,nomenfant)=\"\",\"\",INDEX(synt,socle5,nomenfant))","v":{"$error":"#REF!"}},{"$f":"IF(V130=P2,1,IF(V130=Q2,0.65,IF(V130=R2,0.35,\"\")))","v":{"$error":"#REF!"}},{"$f":"IF(INDEX(synt,socle6,nomenfant)=\"\",\"\",INDEX(synt,socle6,nomenfant))","v":{"$error":"#REF!"}},{"$f":"IF(X130=P2,1,IF(X130=Q2,0.65,IF(X130=R2,0.35,\"\")))","v":{"$error":"#REF!"}},{"$f":"IF(INDEX(synt,socle7,nomenfant)=\"\",\"\",INDEX(synt,socle7,nomenfant))","v":{"$error":"#REF!"}},{"$f":"IF(Z130=P2,1,IF(Z130=Q2,0.65,IF(Z130=R2,0.35,\"\")))","v":{"$error":"#REF!"}},{"$f":"IF(INDEX(synt,socle8,nomenfant)=\"\",\"\",INDEX(synt,socle8,nomenfant))","v":{"$error":"#REF!"}},{"$f":"IF(AB130=P2,1,IF(AB130=Q2,0.65,IF(AB130=R2,0.35,\"\")))","v":{"$error":"#REF!"}},{"$error":"#REF!"},null,{"$f":"IF(OR(AD130>0.7,AG130>0),\"OUI\",\"\")","v":{"$error":"#REF!"}},{"$f":"INDEX(validationsocle,AI130,nomenfant)","v":"00:00:00"},null,116]
[{"$nulls":34},117]
[{"$nulls":34},118]
[{"$nulls":12},"La pratique d'une langue vivante étrangère",{"$nulls":21},119]
[{"$nulls":34},120]
[{"$nulls":12},"Langue étudiée : ____________________________",{"$nulls":21},121]
[{"$nulls":12},"Niveau A1 du Cadre européen commun de référence pour les Langues",{"$nulls":21},122]
[{"$nulls":12},"RÉAGIR ET DIALOGUER",{"$nulls":21},123]
[null,null,142,250,250,250,250,250,250,250,null,null,"Communiquer, au besoin avec des pauses pour chercher ses mots",{"$f":"IF(INDEX(synt,socle1,nomenfant)=\"\",\"\",INDEX(synt,socle1,nomenfant))","v":{"$error":"#REF!"}},{"$f":"IF(N138=P2,1,IF(N138=Q2,0.65,IF(N138=R2,0.35,\"\")))","v":{"$error":"#REF!"}},{"$f":"IF(INDEX(synt,socle2,nomenfant)=\"\",\"\",INDEX(synt,socle2,nomenfant))","v":{"$error":"#REF!"}},{"$f":"IF(P138=P2,1,IF(P138=Q2,0.65,IF(P138=R2,0.35,\"\")))","v":{"$error":"#REF!"}},{"$f":"IF(INDEX(synt,socle3,nomenfant)=\"\",\"\",INDEX(synt,socle3,nomenfant))","v":{"$error":"#REF!"}},{"$f":"IF(R138=P2,1,IF(R138=Q2,0.65,IF(R138=R2,0.35,\"\")))","v":{"$error":"#REF!"}},{"$f":"IF(INDEX(synt,socle4,nomenfant)=\"\",\"\",INDEX(synt,socle4,nomenfant))","v":{"$error":"#REF!"}},{"$f":"IF(T138=P2,1,IF(T138=Q2,0.65,IF(T138=R2,0.35,\"\")))","v":{"$error":"#REF!"}},{"$f":"IF(INDEX(synt,socle5,nomenfant)=\"\",\"\",INDEX(synt,socle5,nomenfant))","v":{"$error":"#REF!"}},{"$f":"IF(V138=P2,1,IF(V138=Q2,0.65,IF(V138=R2,0.35,\"\")))","v":{"$error":"#REF!"}},{"$f":"IF(INDEX(synt,socle6,nomenfant)=\"\",\"\",INDEX(synt,socle6,nomenfant))","v":{"$error":"#REF!"}},{"$f":"IF(X138=P2,1,IF(X138=Q2,0.65,IF(X138=R2,0.35,\"\")))","v":{"$error":"#REF!"}},{"$f":"IF(INDEX(synt,socle7,nomenfant)=\"\",\"\",INDEX(synt,socle7,nomenfant))","v":{"$error":"#REF!"}},{"$f":"IF(Z138=P2,1,IF(Z138=Q2,0.65,IF(Z138=R2,0.35,\"\")))","v":{"$error":"#REF!"}},{"$f":"IF(INDEX(synt,socle8,nomenfant)=\"\",\"\",INDEX(synt,socle8,nomenfant))","v":{"$error":"#REF!"}},{"$f":"IF(AB138=P2,1,IF(AB138=Q2,0.65,IF(AB138=R2,0.35,\"\")))","v":{"$error":"#REF!"}},{"$f":"IF(SUM(N138:AC138)=0,0,SUM(N138:AC138)/COUNTIF(N138:AC138,\">0\"))","v":{"$error":"#REF!"}},null,{"$f":"IF(OR(AD138>0.7,AG138>0),\"OUI\",\"\")","v":{"$error":"#REF!"}},{"$f":"INDEX(validationsocle,AI138,nomenfant)","v":"00:00:00"},null,124]
[null,null,143,250,250,250,250,250,250,250,null,null,"Se présenter ; présenter quelqu’un ; demander à quelqu’un de ses nouvelles en utilisant les formes de politesse les plus élémentaires ; accueil et prise de congé",{"$f":"IF(INDEX(synt,socle1,nomenfant)=\"\",\"\",INDEX(synt,socle1,nomenfant))","v":{"$error":"#REF!"}},{"$f":"IF(N139=P2,1,IF(N139=Q2,0.65,IF(N139=R2,0.35,\"\")))","v":{"$error":"#REF!"}},{"$f":"IF(INDEX(synt,socle2,nomenfant)=\"\",\"\",INDEX(synt,socle2,nomenfant))","v":{"$error":"#REF!"}},{"$f":"IF(P139=P2,1,IF(P139=Q2,0.65,IF(P139=R2,0.35,\"\")))","v":{"$error":"#REF!"}},{"$f":"IF(INDEX(synt,socle3,nomenfant)=\"\",\"\",INDEX(synt,socle3,nomenfant))","v":{"$error":"#REF!"}},{"$f":"IF(R139=P2,1,IF(R139=Q2,0.65,IF(R139=R2,0.35,\"\")))","v":{"$error":"#REF!"}},{"$f":"IF(INDEX(synt,socle4,nomenfant)=\"\",\"\",INDEX(synt,socle4,nomenfant))","v":{"$error":"#REF!"}},{"$f":"IF(T139=P2,1,IF(T139=Q2,0.65,IF(T139=R2,0.35,\"\")))","v":{"$error":"#REF!"}},{"$f":"IF(INDEX(synt,socle5,nomenfant)=\"\",\"\",INDEX(synt,socle5,nomenfant))","v":{"$error":"#REF!"}},{"$f":"IF(V139=P2,1,IF(V139=Q2,0.65,IF(V139=R2,0.35,\"\")))","v":{"$error":"#REF!"}},{"$f":"IF(INDEX(synt,socle6,nomenfant)=\"\",\"\",INDEX(synt,socle6,nomenfant))","v":{"$error":"#REF!"}},{"$f":"IF(X139=P2,1,IF(X139=Q2,0.65,IF(X139=R2,0.35,\"\")))","v":{"$error":"#REF!"}},{"$f":"IF(INDEX(synt,socle7,nomenfant)=\"\",\"\",INDEX(synt,socle7,nomenfant))","v":{"$error":"#REF!"}},{"$f":"IF(Z139=P2,1,IF(Z139=Q2,0.65,IF(Z139=R2,0.35,\"\")))","v":{"$error":"#REF!"}},{"$f":"IF(INDEX(synt,socle8,nomenfant)=\"\",\"\",INDEX(synt,socle8,nomenfant))","v":{"$error":"#REF!"}},{"$f":"IF(AB139=P2,1,IF(AB139=Q2,0.65,IF(AB139=R2,0.35,\"\")))","v":{"$error":"#REF!"}},{"$error":"#REF!"},null,{"$f":"IF(OR(AD139>0.7,AG139>0),\"OUI\",\"\")","v":{"$error":"#REF!"}},{"$f":"INDEX(validationsocle,AI139,nomenfant)","v":"00:00:00"},null,125]
[null,null,144,250,250,250,250,250,250,250,null,null,"Répondre à des questions et en poser (sujets familiers ou besoins immédiats)",{"$f":"IF(INDEX(synt,socle1,nomenfant)=\"\",\"\",INDEX(synt,socle1,nomenfant))","v":{"$error":"#REF!"}},{"$f":"IF(N140=P2,1,IF(N140=Q2,0.65,IF(N140=R2,0.35,\"\")))","v":{"$error":"#REF!"}},{"$f":"IF(INDEX(synt,socle2,nomenfant)=\"\",\"\",INDEX(synt,socle2,nomenfant))","v":{"$error":"#REF!"}},{"$f":"IF(P140=P2,1,IF(P140=Q2,0.65,IF(P140=R2,0.35,\"\")))","v":{"$error":"#REF!"}},{"$f":"IF(INDEX(synt,socle3,nomenfant)=\"\",\"\",INDEX(synt,socle3,nomenfant))","v":{"$error":"#REF!"}},{"$f":"IF(R140=P2,1,IF(R140=Q2,0.65,IF(R140=R2,0.35,\"\")))","v":{"$error":"#REF!"}},{"$f":"IF(INDEX(synt,socle4,nomenfant)=\"\",\"\",INDEX(synt,socle4,nomenfant))","v":{"$error":"#REF!"}},{"$f":"IF(T140=P2,1,IF(T140=Q2,0.65,IF(T140=R2,0.35,\"\")))","v":{"$error":"#REF!"}},{"$f":"IF(INDEX(synt,socle5,nomenfant)=\"\",\"\",INDEX(synt,socle5,nomenfant))","v":{"$error":"#REF!"}},{"$f":"IF(V140=P2,1,IF(V140=Q2,0.65,IF(V140=R2,0.35,\"\")))","v":{"$error":"#REF!"}},{"$f":"IF(INDEX(synt,socle6,nomenfant)=\"\",\"\",INDEX(synt,socle6,nomenfant))","v":{"$error":"#REF!"}},{"$f":"IF(X140=P2,1,IF(X140=Q2,0.65,IF(X140=R2,0.35,\"\")))","v":{"$error":"#REF!"}},{"$f":"IF(INDEX(synt,socle7,nomenfant)=\"\",\"\",INDEX(synt,socle7,nomenfant))","v":{"$error":"#REF!"}},{"$f":"IF(Z140=P2,1,IF(Z140=Q2,0.65,IF(Z140=R2,0.35,\"\")))","v":{"$error":"#REF!"}},{"$f":"IF(INDEX(synt,socle8,nomenfant)=\"\",\"\",INDEX(synt,socle8,nomenfant))","v":{"$error":"#REF!"}},{"$f":"IF(AB140=P2,1,IF(AB140=Q2,0.65,IF(AB140=R2,0.35,\"\")))","v":{"$error":"#REF!"}},{"$error":"#REF!"},null,{"$f":"IF(OR(AD140>0.7,AG140>0),\"OUI\",\"\")","v":{"$error":"#REF!"}},{"$f":"INDEX(validationsocle,AI140,nomenfant)","v":"00:00:00"},null,126]
[null,null,145,250,250,250,250,250,250,250,null,null,"Épeler des mots familiers",{"$f":"IF(INDEX(synt,socle1,nomenfant)=\"\",\"\",INDEX(synt,socle1,nomenfant))","v":{"$error":"#REF!"}},{"$f":"IF(N141=P2,1,IF(N141=Q2,0.65,IF(N141=R2,0.35,\"\")))","v":{"$error":"#REF!"}},{"$f":"IF(INDEX(synt,socle2,nomenfant)=\"\",\"\",INDEX(synt,socle2,nomenfant))","v":{"$error":"#REF!"}},{"$f":"IF(P141=P2,1,IF(P141=Q2,0.65,IF(P141=R2,0.35,\"\")))","v":{"$error":"#REF!"}},{"$f":"IF(INDEX(synt,socle3,nomenfant)=\"\",\"\",INDEX(synt,socle3,nomenfant))","v":{"$error":"#REF!"}},{"$f":"IF(R141=P2,1,IF(R141=Q2,0.65,IF(R141=R2,0.35,\"\")))","v":{"$error":"#REF!"}},{"$f":"IF(INDEX(synt,socle4,nomenfant)=\"\",\"\",INDEX(synt,socle4,nomenfant))","v":{"$error":"#REF!"}},{"$f":"IF(T141=P2,1,IF(T141=Q2,0.65,IF(T141=R2,0.35,\"\")))","v":{"$error":"#REF!"}},{"$f":"IF(INDEX(synt,socle5,nomenfant)=\"\",\"\",INDEX(synt,socle5,nomenfant))","v":{"$error":"#REF!"}},{"$f":"IF(V141=P2,1,IF(V141=Q2,0.65,IF(V141=R2,0.35,\"\")))","v":{"$error":"#REF!"}},{"$f":"IF(INDEX(synt,socle6,nomenfant)=\"\",\"\",INDEX(synt,socle6,nomenfant))","v":{"$error":"#REF!"}},{"$f":"IF(X141=P2,1,IF(X141=Q2,0.65,IF(X141=R2,0.35,\"\")))","v":{"$error":"#REF!"}},{"$f":"IF(INDEX(synt,socle7,nomenfant)=\"\",\"\",INDEX(synt,socle7,nomenfant))","v":{"$error":"#REF!"}},{"$f":"IF(Z141=P2,1,IF(Z141=Q2,0.65,IF(Z141=R2,0.35,\"\")))","v":{"$error":"#REF!"}},{"$f":"IF(INDEX(synt,socle8,nomenfant)=\"\",\"\",INDEX(synt,socle8,nomenfant))","v":{"$error":"#REF!"}},{"$f":"IF(AB141=P2,1,IF(AB141=Q2,0.65,IF(AB141=R2,0.35,\"\")))","v":{"$error":"#REF!"}},{"$error":"#REF!"},null,{"$f":"IF(OR(AD141>0.7,AG141>0),\"OUI\",\"\")","v":{"$error":"#REF!"}},{"$f":"INDEX(validationsocle,AI141,nomenfant)","v":"00:00:00"},null,127]
[{"$nulls":12},"COMPRENDRE À L’ORAL",{"$nulls":21},128]
[null,null,146,250,250,250,250,250,250,250,null,null,"Comprendre les consignes de classe",{"$f":"IF(INDEX(synt,socle1,nomenfant)=\"\",\"\",INDEX(synt,socle1,nomenfant))","v":{"$error":"#REF!"}},{"$f":"IF(N143=P2,1,IF(N143=Q2,0.65,IF(N143=R2,0.35,\"\")))","v":{"$error":"#REF!"}},{"$f":"IF(INDEX(synt,socle2,nomenfant)=\"\",\"\",INDEX(synt,socle2,nomenfant))","v":{"$error":"#REF!"}},{"$f":"IF(P143=P2,1,IF(P143=Q2,0.65,IF(P143=R2,0.35,\"\")))","v":{"$error":"#REF!"}},{"$f":"IF(INDEX(synt,socle3,nomenfant)=\"\",\"\",INDEX(synt,socle3,nomenfant))","v":{"$error":"#REF!"}},{"$f":"IF(R143=P2,1,IF(R143=Q2,0.65,IF(R143=R2,0.35,\"\")))","v":{"$error":"#REF!"}},{"$f":"IF(INDEX(synt,socle4,nomenfant)=\"\",\"\",INDEX(synt,socle4,nomenfant))","v":{"$error":"#REF!"}},{"$f":"IF(T143=P2,1,IF(T143=Q2,0.65,IF(T143=R2,0.35,\"\")))","v":{"$error":"#REF!"}},{"$f":"IF(INDEX(synt,socle5,nomenfant)=\"\",\"\",INDEX(synt,socle5,nomenfant))","v":{"$error":"#REF!"}},{"$f":"IF(V143=P2,1,IF(V143=Q2,0.65,IF(V143=R2,0.35,\"\")))","v":{"$error":"#REF!"}},{"$f":"IF(INDEX(synt,socle6,nomenfant)=\"\",\"\",INDEX(synt,socle6,nomenfant))","v":{"$error":"#REF!"}},{"$f":"IF(X143=P2,1,IF(X143=Q2,0.65,IF(X143=R2,0.35,\"\")))","v":{"$error":"#REF!"}},{"$f":"IF(INDEX(synt,socle7,nomenfant)=\"\",\"\",INDEX(synt,socle7,nomenfant))","v":{"$error":"#REF!"}},{"$f":"IF(Z143=P2,1,IF(Z143=Q2,0.65,IF(Z143=R2,0.35,\"\")))","v":{"$error":"#REF!"}},{"$f":"IF(INDEX(synt,socle8,nomenfant)=\"\",\"\",INDEX(synt,socle8,nomenfant))","v":{"$error":"#REF!"}},{"$f":"IF(AB143=P2,1,IF(AB143=Q2,0.65,IF(AB143=R2,0.35,\"\")))","v":{"$error":"#REF!"}},{"$error":"#REF!"},null,{"$f":"IF(AD143 > 0.7,\"OUI\",\"\")","v":{"$error":"#REF!"}},{"$f":"INDEX(validationsocle,AI143,nomenfant)","v":"00:00:00"},null,129]
[null,null,147,250,250,250,250,250,250,250,null,null,"Comprendre des mots familiers et des expressions très courantes",{"$f":"IF(INDEX(synt,socle1,nomenfant)=\"\",\"\",INDEX(synt,socle1,nomenfant))","v":{"$error":"#REF!"}},{"$f":"IF(N144=P2,1,IF(N144=Q2,0.65,IF(N144=R2,0.35,\"\")))","v":{"$error":"#REF!"}},{"$f":"IF(INDEX(synt,socle2,nomenfant)=\"\",\"\",INDEX(synt,socle2,nomenfant))","v":{"$error":"#REF!"}},{"$f":"IF(P144=P2,1,IF(P144=Q2,0.65,IF(P144=R2,0.35,\"\")))","v":{"$error":"#REF!"}},{"$f":"IF(INDEX(synt,socle3,nomenfant)=\"\",\"\",INDEX(synt,socle3,nomenfant))","v":{"$error":"#REF!"}},{"$f":"IF(R144=P2,1,IF(R144=Q2,0.65,IF(R144=R2,0.35,\"\")))","v":{"$error":"#REF!"}},{"$f":"IF(INDEX(synt,socle4,nomenfant)=\"\",\"\",INDEX(synt,socle4,nomenfant))","v":{"$error":"#REF!"}},{"$f":"IF(T144=P2,1,IF(T144=Q2,0.65,IF(T144=R2,0.35,\"\")))","v":{"$error":"#REF!"}},{"$f":"IF(INDEX(synt,socle5,nomenfant)=\"\",\"\",INDEX(synt,socle5,nomenfant))","v":{"$error":"#REF!"}},{"$f":"IF(V144=P2,1,IF(V144=Q2,0.65,IF(V144=R2,0.35,\"\")))","v":{"$error":"#REF!"}},{"$f":"IF(INDEX(synt,socle6,nomenfant)=\"\",\"\",INDEX(synt,socle6,nomenfant))","v":{"$error":"#REF!"}},{"$f":"IF(X144=P2,1,IF(X144=Q2,0.65,IF(X144=R2,0.35,\"\")))","v":{"$error":"#REF!"}},{"$f":"IF(INDEX(synt,socle7,nomenfant)=\"\",\"\",INDEX(synt,socle7,nomenfant))","v":{"$error":"#REF!"}},{"$f":"IF(Z144=P2,1,IF(Z144=Q2,0.65,IF(Z144=R2,0.35,\"\")))","v":{"$error":"#REF!"}},{"$f":"IF(INDEX(synt,socle8,nomenfant)=\"\",\"\",INDEX(synt,socle8,nomenfant))","v":{"$error":"#REF!"}},{"$f":"IF(AB144=P2,1,IF(AB144=Q2,0.65,IF(AB144=R2,0.35,\"\")))","v":{"$error":"#REF!"}},{"$error":"#REF!"},null,{"$f":"IF(AD144 > 0.7,\"OUI\",\"\")","v":{"$error":"#REF!"}},{"$f":"INDEX(validationsocle,AI144,nomenfant)","v":"00:00:00"},null,130]
[null,null,148,250,250,250,250,250,250,250,null,null,"Suivre des instructions courtes et simples",{"$f":"IF(INDEX(synt,socle1,nomenfant)=\"\",\"\",INDEX(synt,socle1,nomenfant))","v":{"$error":"#REF!"}},{"$f":"IF(N145=P2,1,IF(N145=Q2,0.65,IF(N145=R2,0.35,\"\")))","v":{"$error":"#REF!"}},{"$f":"IF(INDEX(synt,socle2,nomenfant)=\"\",\"\",INDEX(synt,socle2,nomenfant))","v":{"$error":"#REF!"}},{"$f":"IF(P145=P2,1,IF(P145=Q2,0.65,IF(P145=R2,0.35,\"\")))","v":{"$error":"#REF!"}},{"$f":"IF(INDEX(synt,socle3,nomenfant)=\"\",\"\",INDEX(synt,socle3,nomenfant))","v":{"$error":"#REF!"}},{"$f":"IF(R145=P2,1,IF(R145=Q2,0.65,IF(R145=R2,0.35,\"\")))","v":{"$error":"#REF!"}},{"$f":"IF(INDEX(synt,socle4,nomenfant)=\"\",\"\",INDEX(synt,socle4,nomenfant))","v":{"$error":"#REF!"}},{"$f":"IF(T145=P2,1,IF(T145=Q2,0.65,IF(T145=R2,0.35,\"\")))","v":{"$error":"#REF!"}},{"$f":"IF(INDEX(synt,socle5,nomenfant)=\"\",\"\",INDEX(synt,socle5,nomenfant))","v":{"$error":"#REF!"}},{"$f":"IF(V145=P2,1,IF(V145=Q2,0.65,IF(V145=R2,0.35,\"\")))","v":{"$error":"#REF!"}},{"$f":"IF(INDEX(synt,socle6,nomenfant)=\"\",\"\",INDEX(synt,socle6,nomenfant))","v":{"$error":"#REF!"}},{"$f":"IF(X145=P2,1,IF(X145=Q2,0.65,IF(X145=R2,0.35,\"\")))","v":{"$error":"#REF!"}},{"$f":"IF(INDEX(synt,socle7,nomenfant)=\"\",\"\",INDEX(synt,socle7,nomenfant))","v":{"$error":"#REF!"}},{"$f":"IF(Z145=P2,1,IF(Z145=Q2,0.65,IF(Z145=R2,0.35,\"\")))","v":{"$error":"#REF!"}},{"$f":"IF(INDEX(synt,socle8,nomenfant)=\"\",\"\",INDEX(synt,socle8,nomenfant))","v":{"$error":"#REF!"}},{"$f":"IF(AB145=P2,1,IF(AB145=Q2,0.65,IF(AB145=R2,0.35,\"\")))","v":{"$error":"#REF!"}},{"$error":"#REF!"},null,{"$f":"IF(AD145 > 0.7,\"OUI\",\"\")","v":{"$error":"#REF!"}},{"$f":"INDEX(validationsocle,AI145,nomenfant)","v":"00:00:00"},null,{"$f":"AI144+1","v":131}]
[{"$nulls":12},"PARLER EN CONTINU",{"$nulls":21},132]
[null,null,149,250,250,250,250,250,250,250,null,null,"Reproduire un modèle oral",{"$f":"IF(INDEX(synt,socle1,nomenfant)=\"\",\"\",INDEX(synt,socle1,nomenfant))","v":{"$error":"#REF!"}},{"$f":"IF(N147=P2,1,IF(N147=Q2,0.65,IF(N147=R2,0.35,\"\")))","v":{"$error":"#REF!"}},{"$f":"IF(INDEX(synt,socle2,nomenfant)=\"\",\"\",INDEX(synt,socle2,nomenfant))","v":{"$error":"#REF!"}},{"$f":"IF(P147=P2,1,IF(P147=Q2,0.65,IF(P147=R2,0.35,\"\")))","v":{"$error":"#REF!"}},{"$f":"IF(INDEX(synt,socle3,nomenfant)=\"\",\"\",INDEX(synt,socle3,nomenfant))","v":{"$error":"#REF!"}},{"$f":"IF(R147=P2,1,IF(R147=Q2,0.65,IF(R147=R2,0.35,\"\")))","v":{"$error":"#REF!"}},{"$f":"IF(INDEX(synt,socle4,nomenfant)=\"\",\"\",INDEX(synt,socle4,nomenfant))","v":{"$error":"#REF!"}},{"$f":"IF(T147=P2,1,IF(T147=Q2,0.65,IF(T147=R2,0.35,\"\")))","v":{"$error":"#REF!"}},{"$f":"IF(INDEX(synt,socle5,nomenfant)=\"\",\"\",INDEX(synt,socle5,nomenfant))","v":{"$error":"#REF!"}},{"$f":"IF(V147=P2,1,IF(V147=Q2,0.65,IF(V147=R2,0.35,\"\")))","v":{"$error":"#REF!"}},{"$f":"IF(INDEX(synt,socle6,nomenfant)=\"\",\"\",INDEX(synt,socle6,nomenfant))","v":{"$error":"#REF!"}},{"$f":"IF(X147=P2,1,IF(X147=Q2,0.65,IF(X147=R2,0.35,\"\")))","v":{"$error":"#REF!"}},{"$f":"IF(INDEX(synt,socle7,nomenfant)=\"\",\"\",INDEX(synt,socle7,nomenfant))","v":{"$error":"#REF!"}},{"$f":"IF(Z147=P2,1,IF(Z147=Q2,0.65,IF(Z147=R2,0.35,\"\")))","v":{"$error":"#REF!"}},{"$f":"IF(INDEX(synt,socle8,nomenfant)=\"\",\"\",INDEX(synt,socle8,nomenfant))","v":{"$error":"#REF!"}},{"$f":"IF(AB147=P2,1,IF(AB147=Q2,0.65,IF(AB147=R2,0.35,\"\")))","v":{"$error":"#REF!"}},{"$error":"#REF!"},null,{"$f":"IF(OR(AD147>0.7,AG147>0),\"OUI\",\"\")","v":{"$error":"#REF!"}},{"$f":"INDEX(validationsocle,AI147,nomenfant)","v":"00:00:00"},null,133]
[null,null,150,250,250,250,250,250,250,250,null,null,"Utiliser des expressions et des phrases proches des modèles rencontrés lors des apprentissages",{"$f":"IF(INDEX(synt,socle1,nomenfant)=\"\",\"\",INDEX(synt,socle1,nomenfant))","v":{"$error":"#REF!"}},{"$f":"IF(N148=P2,1,IF(N148=Q2,0.65,IF(N148=R2,0.35,\"\")))","v":{"$error":"#REF!"}},{"$f":"IF(INDEX(synt,socle2,nomenfant)=\"\",\"\",INDEX(synt,socle2,nomenfant))","v":{"$error":"#REF!"}},{"$f":"IF(P148=P2,1,IF(P148=Q2,0.65,IF(P148=R2,0.35,\"\")))","v":{"$error":"#REF!"}},{"$f":"IF(INDEX(synt,socle3,nomenfant)=\"\",\"\",INDEX(synt,socle3,nomenfant))","v":{"$error":"#REF!"}},{"$f":"IF(R148=P2,1,IF(R148=Q2,0.65,IF(R148=R2,0.35,\"\")))","v":{"$error":"#REF!"}},{"$f":"IF(INDEX(synt,socle4,nomenfant)=\"\",\"\",INDEX(synt,socle4,nomenfant))","v":{"$error":"#REF!"}},{"$f":"IF(T148=P2,1,IF(T148=Q2,0.65,IF(T148=R2,0.35,\"\")))","v":{"$error":"#REF!"}},{"$f":"IF(INDEX(synt,socle5,nomenfant)=\"\",\"\",INDEX(synt,socle5,nomenfant))","v":{"$error":"#REF!"}},{"$f":"IF(V148=P2,1,IF(V148=Q2,0.65,IF(V148=R2,0.35,\"\")))","v":{"$error":"#REF!"}},{"$f":"IF(INDEX(synt,socle6,nomenfant)=\"\",\"\",INDEX(synt,socle6,nomenfant))","v":{"$error":"#REF!"}},{"$f":"IF(X148=P2,1,IF(X148=Q2,0.65,IF(X148=R2,0.35,\"\")))","v":{"$error":"#REF!"}},{"$f":"IF(INDEX(synt,socle7,nomenfant)=\"\",\"\",INDEX(synt,socle7,nomenfant))","v":{"$error":"#REF!"}},{"$f":"IF(Z148=P2,1,IF(Z148=Q2,0.65,IF(Z148=R2,0.35,\"\")))","v":{"$error":"#REF!"}},{"$f":"IF(INDEX(synt,socle8,nomenfant)=\"\",\"\",INDEX(synt,socle8,nomenfant))","v":{"$error":"#REF!"}},{"$f":"IF(AB148=P2,1,IF(AB148=Q2,0.65,IF(AB148=R2,0.35,\"\")))","v":{"$error":"#REF!"}},{"$error":"#REF!"},null,{"$f":"IF(OR(AD148>0.7,AG148>0),\"OUI\",\"\")","v":{"$error":"#REF!"}},{"$f":"INDEX(validationsocle,AI148,nomenfant)","v":"00:00:00"},null,134]
[null,null,151,250,250,250,250,250,250,250,null,null,"Lire à haute voix et de manière expressive un texte bref après répétition",{"$f":"IF(INDEX(synt,socle1,nomenfant)=\"\",\"\",INDEX(synt,socle1,nomenfant))","v":{"$error":"#REF!"}},{"$f":"IF(N149=P2,1,IF(N149=Q2,0.65,IF(N149=R2,0.35,\"\")))","v":{"$error":"#REF!"}},{"$f":"IF(INDEX(synt,socle2,nomenfant)=\"\",\"\",INDEX(synt,socle2,nomenfant))","v":{"$error":"#REF!"}},{"$f":"IF(P149=P2,1,IF(P149=Q2,0.65,IF(P149=R2,0.35,\"\")))","v":{"$error":"#REF!"}},{"$f":"IF(INDEX(synt,socle3,nomenfant)=\"\",\"\",INDEX(synt,socle3,nomenfant))","v":{"$error":"#REF!"}},{"$f":"IF(R149=P2,1,IF(R149=Q2,0.65,IF(R149=R2,0.35,\"\")))","v":{"$error":"#REF!"}},{"$f":"IF(INDEX(synt,socle4,nomenfant)=\"\",\"\",INDEX(synt,socle4,nomenfant))","v":{"$error":"#REF!"}},{"$f":"IF(T149=P2,1,IF(T149=Q2,0.65,IF(T149=R2,0.35,\"\")))","v":{"$error":"#REF!"}},{"$f":"IF(INDEX(synt,socle5,nomenfant)=\"\",\"\",INDEX(synt,socle5,nomenfant))","v":{"$error":"#REF!"}},{"$f":"IF(V149=P2,1,IF(V149=Q2,0.65,IF(V149=R2,0.35,\"\")))","v":{"$error":"#REF!"}},{"$f":"IF(INDEX(synt,socle6,nomenfant)=\"\",\"\",INDEX(synt,socle6,nomenfant))","v":{"$error":"#REF!"}},{"$f":"IF(X149=P2,1,IF(X149=Q2,0.65,IF(X149=R2,0.35,\"\")))","v":{"$error":"#REF!"}},{"$f":"IF(INDEX(synt,socle7,nomenfant)=\"\",\"\",INDEX(synt,socle7,nomenfant))","v":{"$error":"#REF!"}},{"$f":"IF(Z149=P2,1,IF(Z149=Q2,0.65,IF(Z149=R2,0.35,\"\")))","v":{"$error":"#REF!"}},{"$f":"IF(INDEX(synt,socle8,nomenfant)=\"\",\"\",INDEX(synt,socle8,nomenfant))","v":{"$error":"#REF!"}},{"$f":"IF(AB149=P2,1,IF(AB149=Q2,0.65,IF(AB149=R2,0.35,\"\")))","v":{"$error":"#REF!"}},{"$error":"#REF!"},null,{"$f":"IF(OR(AD149>0.7,AG149>0),\"OUI\",\"\")","v":{"$error":"#REF!"}},{"$f":"INDEX(validationsocle,AI149,nomenfant)","v":"00:00:00"},null,135]
[{"$nulls":12},"LIRE",{"$nulls":21},136]
[null,null,152,250,250,250,250,250,250,250,null,null,"Comprendre des textes courts et simples en s’appuyant sur des éléments connus (indications, informations)",{"$f":"IF(INDEX(synt,socle1,nomenfant)=\"\",\"\",INDEX(synt,socle1,nomenfant))","v":{"$error":"#REF!"}},{"$f":"IF(N151=P2,1,IF(N151=Q2,0.65,IF(N151=R2,0.35,\"\")))","v":{"$error":"#REF!"}},{"$f":"IF(INDEX(synt,socle2,nomenfant)=\"\",\"\",INDEX(synt,socle2,nomenfant))","v":{"$error":"#REF!"}},{"$f":"IF(P151=P2,1,IF(P151=Q2,0.65,IF(P151=R2,0.35,\"\")))","v":{"$error":"#REF!"}},{"$f":"IF(INDEX(synt,socle3,nomenfant)=\"\",\"\",INDEX(synt,socle3,nomenfant))","v":{"$error":"#REF!"}},{"$f":"IF(R151=P2,1,IF(R151=Q2,0.65,IF(R151=R2,0.35,\"\")))","v":{"$error":"#REF!"}},{"$f":"IF(INDEX(synt,socle4,nomenfant)=\"\",\"\",INDEX(synt,socle4,nomenfant))","v":{"$error":"#REF!"}},{"$f":"IF(T151=P2,1,IF(T151=Q2,0.65,IF(T151=R2,0.35,\"\")))","v":{"$error":"#REF!"}},{"$f":"IF(INDEX(synt,socle5,nomenfant)=\"\",\"\",INDEX(synt,socle5,nomenfant))","v":{"$error":"#REF!"}},{"$f":"IF(V151=P2,1,IF(V151=Q2,0.65,IF(V151=R2,0.35,\"\")))","v":{"$error":"#REF!"}},{"$f":"IF(INDEX(synt,socle6,nomenfant)=\"\",\"\",INDEX(synt,socle6,nomenfant))","v":{"$error":"#REF!"}},{"$f":"IF(X151=P2,1,IF(X151=Q2,0.65,IF(X151=R2,0.35,\"\")))","v":{"$error":"#REF!"}},{"$f":"IF(INDEX(synt,socle7,nomenfant)=\"\",\"\",INDEX(synt,socle7,nomenfant))","v":{"$error":"#REF!"}},{"$f":"IF(Z151=P2,1,IF(Z151=Q2,0.65,IF(Z151=R2,0.35,\"\")))","v":{"$error":"#REF!"}},{"$f":"IF(INDEX(synt,socle8,nomenfant)=\"\",\"\",INDEX(synt,socle8,nomenfant))","v":{"$error":"#REF!"}},{"$f":"IF(AB151=P2,1,IF(AB151=Q2,0.65,IF(AB151=R2,0.35,\"\")))","v":{"$error":"#REF!"}},{"$error":"#REF!"},null,{"$f":"IF(OR(AD151>0.7,AG151>0),\"OUI\",\"\")","v":{"$error":"#REF!"}},{"$f":"INDEX(validationsocle,AI151,nomenfant)","v":"00:00:00"},null,137]
[null,null,153,250,250,250,250,250,250,250,null,null,"Se faire une idée du contenu d’un texte informatif simple, accompagné éventuellement d’un document visuel",{"$f":"IF(INDEX(synt,socle1,nomenfant)=\"\",\"\",INDEX(synt,socle1,nomenfant))","v":{"$error":"#REF!"}},{"$f":"IF(N152=P2,1,IF(N152=Q2,0.65,IF(N152=R2,0.35,\"\")))","v":{"$error":"#REF!"}},{"$f":"IF(INDEX(synt,socle2,nomenfant)=\"\",\"\",INDEX(synt,socle2,nomenfant))","v":{"$error":"#REF!"}},{"$f":"IF(P152=P2,1,IF(P152=Q2,0.65,IF(P152=R2,0.35,\"\")))","v":{"$error":"#REF!"}},{"$f":"IF(INDEX(synt,socle3,nomenfant)=\"\",\"\",INDEX(synt,socle3,nomenfant))","v":{"$error":"#REF!"}},{"$f":"IF(R152=P2,1,IF(R152=Q2,0.65,IF(R152=R2,0.35,\"\")))","v":{"$error":"#REF!"}},{"$f":"IF(INDEX(synt,socle4,nomenfant)=\"\",\"\",INDEX(synt,socle4,nomenfant))","v":{"$error":"#REF!"}},{"$f":"IF(T152=P2,1,IF(T152=Q2,0.65,IF(T152=R2,0.35,\"\")))","v":{"$error":"#REF!"}},{"$f":"IF(INDEX(synt,socle5,nomenfant)=\"\",\"\",INDEX(synt,socle5,nomenfant))","v":{"$error":"#REF!"}},{"$f":"IF(V152=P2,1,IF(V152=Q2,0.65,IF(V152=R2,0.35,\"\")))","v":{"$error":"#REF!"}},{"$f":"IF(INDEX(synt,socle6,nomenfant)=\"\",\"\",INDEX(synt,socle6,nomenfant))","v":{"$error":"#REF!"}},{"$f":"IF(X152=P2,1,IF(X152=Q2,0.65,IF(X152=R2,0.35,\"\")))","v":{"$error":"#REF!"}},{"$f":"IF(INDEX(synt,socle7,nomenfant)=\"\",\"\",INDEX(synt,socle7,nomenfant))","v":{"$error":"#REF!"}},{"$f":"IF(Z152=P2,1,IF(Z152=Q2,0.65,IF(Z152=R2,0.35,\"\")))","v":{"$error":"#REF!"}},{"$f":"IF(INDEX(synt,socle8,nomenfant)=\"\",\"\",INDEX(synt,socle8,nomenfant))","v":{"$error":"#REF!"}},{"$f":"IF(AB152=P2,1,IF(AB152=Q2,0.65,IF(AB152=R2,0.35,\"\")))","v":{"$error":"#REF!"}},{"$error":"#REF!"},null,{"$f":"IF(OR(AD152>0.7,AG152>0),\"OUI\",\"\")","v":{"$error":"#REF!"}},{"$f":"INDEX(validationsocle,AI152,nomenfant)","v":"00:00:00"},null,138]
[{"$nulls":12},"ÉCRIRE",{"$nulls":21},139]
[null,null,154,250,250,250,250,250,250,250,null,null,"Copier des mots isolés et des textes courts",{"$f":"IF(INDEX(synt,socle1,nomenfant)=\"\",\"\",INDEX(synt,socle1,nomenfant))","v":{"$error":"#REF!"}},{"$f":"IF(N154=P2,1,IF(N154=Q2,0.65,IF(N154=R2,0.35,\"\")))","v":{"$error":"#REF!"}},{"$f":"IF(INDEX(synt,socle2,nomenfant)=\"\",\"\",INDEX(synt,socle2,nomenfant))","v":{"$error":"#REF!"}},{"$f":"IF(P154=P2,1,IF(P154=Q2,0.65,IF(P154=R2,0.35,\"\")))","v":{"$error":"#REF!"}},{"$f":"IF(INDEX(synt,socle3,nomenfant)=\"\",\"\",INDEX(synt,socle3,nomenfant))","v":{"$error":"#REF!"}},{"$f":"IF(R154=P2,1,IF(R154=Q2,0.65,IF(R154=R2,0.35,\"\")))","v":{"$error":"#REF!"}},{"$f":"IF(INDEX(synt,socle4,nomenfant)=\"\",\"\",INDEX(synt,socle4,nomenfant))","v":{"$error":"#REF!"}},{"$f":"IF(T154=P2,1,IF(T154=Q2,0.65,IF(T154=R2,0.35,\"\")))","v":{"$error":"#REF!"}},{"$f":"IF(INDEX(synt,socle5,nomenfant)=\"\",\"\",INDEX(synt,socle5,nomenfant))","v":{"$error":"#REF!"}},{"$f":"IF(V154=P2,1,IF(V154=Q2,0.65,IF(V154=R2,0.35,\"\")))","v":{"$error":"#REF!"}},{"$f":"IF(INDEX(synt,socle6,nomenfant)=\"\",\"\",INDEX(synt,socle6,nomenfant))","v":{"$error":"#REF!"}},{"$f":"IF(X154=P2,1,IF(X154=Q2,0.65,IF(X154=R2,0.35,\"\")))","v":{"$error":"#REF!"}},{"$f":"IF(INDEX(synt,socle7,nomenfant)=\"\",\"\",INDEX(synt,socle7,nomenfant))","v":{"$error":"#REF!"}},{"$f":"IF(Z154=P2,1,IF(Z154=Q2,0.65,IF(Z154=R2,0.35,\"\")))","v":{"$error":"#REF!"}},{"$f":"IF(INDEX(synt,socle8,nomenfant)=\"\",\"\",INDEX(synt,socle8,nomenfant))","v":{"$error":"#REF!"}},{"$f":"IF(AB154=P2,1,IF(AB154=Q2,0.65,IF(AB154=R2,0.35,\"\")))","v":{"$error":"#REF!"}},{"$error":"#REF!"},null,{"$f":"IF(OR(AD154>0.7,AG154>0),\"OUI\",\"\")","v":{"$error":"#REF!"}},{"$f":"INDEX(validationsocle,AI154,nomenfant)","v":"00:00:00"},null,140]
[null,null,155,250,250,250,250,250,250,250,null,null,"Écrire un message électronique simple ou une courte carte postale en référence à des modèles",{"$f":"IF(INDEX(synt,socle1,nomenfant)=\"\",\"\",INDEX(synt,socle1,nomenfant))","v":{"$error":"#REF!"}},{"$f":"IF(N155=P2,1,IF(N155=Q2,0.65,IF(N155=R2,0.35,\"\")))","v":{"$error":"#REF!"}},{"$f":"IF(INDEX(synt,socle2,nomenfant)=\"\",\"\",INDEX(synt,socle2,nomenfant))","v":{"$error":"#REF!"}},{"$f":"IF(P155=P2,1,IF(P155=Q2,0.65,IF(P155=R2,0.35,\"\")))","v":{"$error":"#REF!"}},{"$f":"IF(INDEX(synt,socle3,nomenfant)=\"\",\"\",INDEX(synt,socle3,nomenfant))","v":{"$error":"#REF!"}},{"$f":"IF(R155=P2,1,IF(R155=Q2,0.65,IF(R155=R2,0.35,\"\")))","v":{"$error":"#REF!"}},{"$f":"IF(INDEX(synt,socle4,nomenfant)=\"\",\"\",INDEX(synt,socle4,nomenfant))","v":{"$error":"#REF!"}},{"$f":"IF(T155=P2,1,IF(T155=Q2,0.65,IF(T155=R2,0.35,\"\")))","v":{"$error":"#REF!"}},{"$f":"IF(INDEX(synt,socle5,nomenfant)=\"\",\"\",INDEX(synt,socle5,nomenfant))","v":{"$error":"#REF!"}},{"$f":"IF(V155=P2,1,IF(V155=Q2,0.65,IF(V155=R2,0.35,\"\")))","v":{"$error":"#REF!"}},{"$f":"IF(INDEX(synt,socle6,nomenfant)=\"\",\"\",INDEX(synt,socle6,nomenfant))","v":{"$error":"#REF!"}},{"$f":"IF(X155=P2,1,IF(X155=Q2,0.65,IF(X155=R2,0.35,\"\")))","v":{"$error":"#REF!"}},{"$f":"IF(INDEX(synt,socle7,nomenfant)=\"\",\"\",INDEX(synt,socle7,nomenfant))","v":{"$error":"#REF!"}},{"$f":"IF(Z155=P2,1,IF(Z155=Q2,0.65,IF(Z155=R2,0.35,\"\")))","v":{"$error":"#REF!"}},{"$f":"IF(INDEX(synt,socle8,nomenfant)=\"\",\"\",INDEX(synt,socle8,nomenfant))","v":{"$error":"#REF!"}},{"$f":"IF(AB155=P2,1,IF(AB155=Q2,0.65,IF(AB155=R2,0.35,\"\")))","v":{"$error":"#REF!"}},{"$error":"#REF!"},null,{"$f":"IF(OR(AD155>0.7,AG155>0),\"OUI\",\"\")","v":{"$error":"#REF!"}},{"$f":"INDEX(validationsocle,AI155,nomenfant)","v":"00:00:00"},null,141]
[null,null,156,250,250,250,250,250,250,250,null,null,"Renseigner un questionnaire",{"$f":"IF(INDEX(synt,socle1,nomenfant)=\"\",\"\",INDEX(synt,socle1,nomenfant))","v":{"$error":"#REF!"}},{"$f":"IF(N156=P2,1,IF(N156=Q2,0.65,IF(N156=R2,0.35,\"\")))","v":{"$error":"#REF!"}},{"$f":"IF(INDEX(synt,socle2,nomenfant)=\"\",\"\",INDEX(synt,socle2,nomenfant))","v":{"$error":"#REF!"}},{"$f":"IF(P156=P2,1,IF(P156=Q2,0.65,IF(P156=R2,0.35,\"\")))","v":{"$error":"#REF!"}},{"$f":"IF(INDEX(synt,socle3,nomenfant)=\"\",\"\",INDEX(synt,socle3,nomenfant))","v":{"$error":"#REF!"}},{"$f":"IF(R156=P2,1,IF(R156=Q2,0.65,IF(R156=R2,0.35,\"\")))","v":{"$error":"#REF!"}},{"$f":"IF(INDEX(synt,socle4,nomenfant)=\"\",\"\",INDEX(synt,socle4,nomenfant))","v":{"$error":"#REF!"}},{"$f":"IF(T156=P2,1,IF(T156=Q2,0.65,IF(T156=R2,0.35,\"\")))","v":{"$error":"#REF!"}},{"$f":"IF(INDEX(synt,socle5,nomenfant)=\"\",\"\",INDEX(synt,socle5,nomenfant))","v":{"$error":"#REF!"}},{"$f":"IF(V156=P2,1,IF(V156=Q2,0.65,IF(V156=R2,0.35,\"\")))","v":{"$error":"#REF!"}},{"$f":"IF(INDEX(synt,socle6,nomenfant)=\"\",\"\",INDEX(synt,socle6,nomenfant))","v":{"$error":"#REF!"}},{"$f":"IF(X156=P2,1,IF(X156=Q2,0.65,IF(X156=R2,0.35,\"\")))","v":{"$error":"#REF!"}},{"$f":"IF(INDEX(synt,socle7,nomenfant)=\"\",\"\",INDEX(synt,socle7,nomenfant))","v":{"$error":"#REF!"}},{"$f":"IF(Z156=P2,1,IF(Z156=Q2,0.65,IF(Z156=R2,0.35,\"\")))","v":{"$error":"#REF!"}},{"$f":"IF(INDEX(synt,socle8,nomenfant)=\"\",\"\",INDEX(synt,socle8,nomenfant))","v":{"$error":"#REF!"}},{"$f":"IF(AB156=P2,1,IF(AB156=Q2,0.65,IF(AB156=R2,0.35,\"\")))","v":{"$error":"#REF!"}},{"$error":"#REF!"},null,{"$f":"IF(OR(AD156>0.7,AG156>0),\"OUI\",\"\")","v":{"$error":"#REF!"}},{"$f":"INDEX(validationsocle,AI156,nomenfant)","v":"00:00:00"},null,142]
[null,null,157,250,250,250,250,250,250,250,null,null,"Produire de manière autonome quelques phrases",{"$f":"IF(INDEX(synt,socle1,nomenfant)=\"\",\"\",INDEX(synt,socle1,nomenfant))","v":{"$error":"#REF!"}},{"$f":"IF(N157=P2,1,IF(N157=Q2,0.65,IF(N157=R2,0.35,\"\")))","v":{"$error":"#REF!"}},{"$f":"IF(INDEX(synt,socle2,nomenfant)=\"\",\"\",INDEX(synt,socle2,nomenfant))","v":{"$error":"#REF!"}},{"$f":"IF(P157=P2,1,IF(P157=Q2,0.65,IF(P157=R2,0.35,\"\")))","v":{"$error":"#REF!"}},{"$f":"IF(INDEX(synt,socle3,nomenfant)=\"\",\"\",INDEX(synt,socle3,nomenfant))","v":{"$error":"#REF!"}},{"$f":"IF(R157=P2,1,IF(R157=Q2,0.65,IF(R157=R2,0.35,\"\")))","v":{"$error":"#REF!"}},{"$f":"IF(INDEX(synt,socle4,nomenfant)=\"\",\"\",INDEX(synt,socle4,nomenfant))","v":{"$error":"#REF!"}},{"$f":"IF(T157=P2,1,IF(T157=Q2,0.65,IF(T157=R2,0.35,\"\")))","v":{"$error":"#REF!"}},{"$f":"IF(INDEX(synt,socle5,nomenfant)=\"\",\"\",INDEX(synt,socle5,nomenfant))","v":{"$error":"#REF!"}},{"$f":"IF(V157=P2,1,IF(V157=Q2,0.65,IF(V157=R2,0.35,\"\")))","v":{"$error":"#REF!"}},{"$f":"IF(INDEX(synt,socle6,nomenfant)=\"\",\"\",INDEX(synt,socle6,nomenfant))","v":{"$error":"#REF!"}},{"$f":"IF(X157=P2,1,IF(X157=Q2,0.65,IF(X157=R2,0.35,\"\")))","v":{"$error":"#REF!"}},{"$f":"IF(INDEX(synt,socle7,nomenfant)=\"\",\"\",INDEX(synt,socle7,nomenfant))","v":{"$error":"#REF!"}},{"$f":"IF(Z157=P2,1,IF(Z157=Q2,0.65,IF(Z157=R2,0.35,\"\")))","v":{"$error":"#REF!"}},{"$f":"IF(INDEX(synt,socle8,nomenfant)=\"\",\"\",INDEX(synt,socle8,nomenfant))","v":{"$error":"#REF!"}},{"$f":"IF(AB157=P2,1,IF(AB157=Q2,0.65,IF(AB157=R2,0.35,\"\")))","v":{"$error":"#REF!"}},{"$error":"#REF!"},null,{"$f":"IF(OR(AD157>0.7,AG157>0),\"OUI\",\"\")","v":{"$error":"#REF!"}},{"$f":"INDEX(validationsocle,AI157,nomenfant)","v":"00:00:00"},null,143]
[null,null,158,250,250,250,250,250,250,250,null,null,"Écrire sous la dictée des expressions connues",{"$f":"IF(INDEX(synt,socle1,nomenfant)=\"\",\"\",INDEX(synt,socle1,nomenfant))","v":{"$error":"#REF!"}},{"$f":"IF(N158=P2,1,IF(N158=Q2,0.65,IF(N158=R2,0.35,\"\")))","v":{"$error":"#REF!"}},{"$f":"IF(INDEX(synt,socle2,nomenfant)=\"\",\"\",INDEX(synt,socle2,nomenfant))","v":{"$error":"#REF!"}},{"$f":"IF(P158=P2,1,IF(P158=Q2,0.65,IF(P158=R2,0.35,\"\")))","v":{"$error":"#REF!"}},{"$f":"IF(INDEX(synt,socle3,nomenfant)=\"\",\"\",INDEX(synt,socle3,nomenfant))","v":{"$error":"#REF!"}},{"$f":"IF(R158=P2,1,IF(R158=Q2,0.65,IF(R158=R2,0.35,\"\")))","v":{"$error":"#REF!"}},{"$f":"IF(INDEX(synt,socle4,nomenfant)=\"\",\"\",INDEX(synt,socle4,nomenfant))","v":{"$error":"#REF!"}},{"$f":"IF(T158=P2,1,IF(T158=Q2,0.65,IF(T158=R2,0.35,\"\")))","v":{"$error":"#REF!"}},{"$f":"IF(INDEX(synt,socle5,nomenfant)=\"\",\"\",INDEX(synt,socle5,nomenfant))","v":{"$error":"#REF!"}},{"$f":"IF(V158=P2,1,IF(V158=Q2,0.65,IF(V158=R2,0.35,\"\")))","v":{"$error":"#REF!"}},{"$f":"IF(INDEX(synt,socle6,nomenfant)=\"\",\"\",INDEX(synt,socle6,nomenfant))","v":{"$error":"#REF!"}},{"$f":"IF(X158=P2,1,IF(X158=Q2,0.65,IF(X158=R2,0.35,\"\")))","v":{"$error":"#REF!"}},{"$f":"IF(INDEX(synt,socle7,nomenfant)=\"\",\"\",INDEX(synt,socle7,nomenfant))","v":{"$error":"#REF!"}},{"$f":"IF(Z158=P2,1,IF(Z158=Q2,0.65,IF(Z158=R2,0.35,\"\")))","v":{"$error":"#REF!"}},{"$f":"IF(INDEX(synt,socle8,nomenfant)=\"\",\"\",INDEX(synt,socle8,nomenfant))","v":{"$error":"#REF!"}},{"$f":"IF(AB158=P2,1,IF(AB158=Q2,0.65,IF(AB158=R2,0.35,\"\")))","v":{"$error":"#REF!"}},{"$error":"#REF!"},null,{"$f":"IF(OR(AD158>0.7,AG158>0),\"OUI\",\"\")","v":{"$error":"#REF!"}},{"$f":"INDEX(validationsocle,AI158,nomenfant)","v":"00:00:00"},null,144]
[{"$nulls":34},145]
[{"$nulls":12},"L'autonomie et l’initiative",{"$nulls":21},146]
[{"$nulls":12},"S’APPUYER SUR DES MÉTHODES DE TRAVAIL POUR ÊTRE AUTONOME",{"$nulls":21},147]
[null,null,179,250,250,250,250,250,250,250,null,null,"Respecter des consignes simples, en autonomie",{"$f":"IF(INDEX(synt,socle1,nomenfant)=\"\",\"\",INDEX(synt,socle1,nomenfant))","v":{"$error":"#REF!"}},{"$f":"IF(N162=P2,1,IF(N162=Q2,0.65,IF(N162=R2,0.35,\"\")))","v":{"$error":"#REF!"}},{"$f":"IF(INDEX(synt,socle2,nomenfant)=\"\",\"\",INDEX(synt,socle2,nomenfant))","v":{"$error":"#REF!"}},{"$f":"IF(P162=P2,1,IF(P162=Q2,0.65,IF(P162=R2,0.35,\"\")))","v":{"$error":"#REF!"}},{"$f":"IF(INDEX(synt,socle3,nomenfant)=\"\",\"\",INDEX(synt,socle3,nomenfant))","v":{"$error":"#REF!"}},{"$f":"IF(R162=P2,1,IF(R162=Q2,0.65,IF(R162=R2,0.35,\"\")))","v":{"$error":"#REF!"}},{"$f":"IF(INDEX(synt,socle4,nomenfant)=\"\",\"\",INDEX(synt,socle4,nomenfant))","v":{"$error":"#REF!"}},{"$f":"IF(T162=P2,1,IF(T162=Q2,0.65,IF(T162=R2,0.35,\"\")))","v":{"$error":"#REF!"}},{"$f":"IF(INDEX(synt,socle5,nomenfant)=\"\",\"\",INDEX(synt,socle5,nomenfant))","v":{"$error":"#REF!"}},{"$f":"IF(V162=P2,1,IF(V162=Q2,0.65,IF(V162=R2,0.35,\"\")))","v":{"$error":"#REF!"}},{"$f":"IF(INDEX(synt,socle6,nomenfant)=\"\",\"\",INDEX(synt,socle6,nomenfant))","v":{"$error":"#REF!"}},{"$f":"IF(X162=P2,1,IF(X162=Q2,0.65,IF(X162=R2,0.35,\"\")))","v":{"$error":"#REF!"}},{"$f":"IF(INDEX(synt,socle7,nomenfant)=\"\",\"\",INDEX(synt,socle7,nomenfant))","v":{"$error":"#REF!"}},{"$f":"IF(Z162=P2,1,IF(Z162=Q2,0.65,IF(Z162=R2,0.35,\"\")))","v":{"$error":"#REF!"}},{"$f":"IF(INDEX(synt,socle8,nomenfant)=\"\",\"\",INDEX(synt,socle8,nomenfant))","v":{"$error":"#REF!"}},{"$f":"IF(AB162=P2,1,IF(AB162=Q2,0.65,IF(AB162=R2,0.35,\"\")))","v":{"$error":"#REF!"}},{"$f":"IF(SUM(N162:AC162)=0,0,SUM(N162:AC162)/COUNTIF(N162:AC162,\">0\"))","v":{"$error":"#REF!"}},null,{"$f":"IF(OR(AD162>0.7,AG162>0),\"OUI\",\"\")","v":{"$error":"#REF!"}},{"$f":"INDEX(validationsocle,AI162,nomenfant)","v":"00:00:00"},null,148]
[null,null,180,250,250,250,250,250,250,250,null,null,"Etre persévérant dans toutes les activités",{"$f":"IF(INDEX(synt,socle1,nomenfant)=\"\",\"\",INDEX(synt,socle1,nomenfant))","v":{"$error":"#REF!"}},{"$f":"IF(N163=P2,1,IF(N163=Q2,0.65,IF(N163=R2,0.35,\"\")))","v":{"$error":"#REF!"}},{"$f":"IF(INDEX(synt,socle2,nomenfant)=\"\",\"\",INDEX(synt,socle2,nomenfant))","v":{"$error":"#REF!"}},{"$f":"IF(P163=P2,1,IF(P163=Q2,0.65,IF(P163=R2,0.35,\"\")))","v":{"$error":"#REF!"}},{"$f":"IF(INDEX(synt,socle3,nomenfant)=\"\",\"\",INDEX(synt,socle3,nomenfant))","v":{"$error":"#REF!"}},{"$f":"IF(R163=P2,1,IF(R163=Q2,0.65,IF(R163=R2,0.35,\"\")))","v":{"$error":"#REF!"}},{"$f":"IF(INDEX(synt,socle4,nomenfant)=\"\",\"\",INDEX(synt,socle4,nomenfant))","v":{"$error":"#REF!"}},{"$f":"IF(T163=P2,1,IF(T163=Q2,0.65,IF(T163=R2,0.35,\"\")))","v":{"$error":"#REF!"}},{"$f":"IF(INDEX(synt,socle5,nomenfant)=\"\",\"\",INDEX(synt,socle5,nomenfant))","v":{"$error":"#REF!"}},{"$f":"IF(V163=P2,1,IF(V163=Q2,0.65,IF(V163=R2,0.35,\"\")))","v":{"$error":"#REF!"}},{"$f":"IF(INDEX(synt,socle6,nomenfant)=\"\",\"\",INDEX(synt,socle6,nomenfant))","v":{"$error":"#REF!"}},{"$f":"IF(X163=P2,1,IF(X163=Q2,0.65,IF(X163=R2,0.35,\"\")))","v":{"$error":"#REF!"}},{"$f":"IF(INDEX(synt,socle7,nomenfant)=\"\",\"\",INDEX(synt,socle7,nomenfant))","v":{"$error":"#REF!"}},{"$f":"IF(Z163=P2,1,IF(Z163=Q2,0.65,IF(Z163=R2,0.35,\"\")))","v":{"$error":"#REF!"}},{"$f":"IF(INDEX(synt,socle8,nomenfant)=\"\",\"\",INDEX(synt,socle8,nomenfant))","v":{"$error":"#REF!"}},{"$f":"IF(AB163=P2,1,IF(AB163=Q2,0.65,IF(AB163=R2,0.35,\"\")))","v":{"$error":"#REF!"}},{"$error":"#REF!"},null,{"$f":"IF(OR(AD163>0.7,AG163>0),\"OUI\",\"\")","v":{"$error":"#REF!"}},{"$f":"INDEX(validationsocle,AI163,nomenfant)","v":"00:00:00"},null,149]
[null,null,182,250,250,250,250,250,250,250,null,null,"Commencer à savoir s’auto-évaluer dans des situations simples",{"$f":"IF(INDEX(synt,socle1,nomenfant)=\"\",\"\",INDEX(synt,socle1,nomenfant))","v":{"$error":"#REF!"}},{"$f":"IF(N164=P2,1,IF(N164=Q2,0.65,IF(N164=R2,0.35,\"\")))","v":{"$error":"#REF!"}},{"$f":"IF(INDEX(synt,socle2,nomenfant)=\"\",\"\",INDEX(synt,socle2,nomenfant))","v":{"$error":"#REF!"}},{"$f":"IF(P164=P2,1,IF(P164=Q2,0.65,IF(P164=R2,0.35,\"\")))","v":{"$error":"#REF!"}},{"$f":"IF(INDEX(synt,socle3,nomenfant)=\"\",\"\",INDEX(synt,socle3,nomenfant))","v":{"$error":"#REF!"}},{"$f":"IF(R164=P2,1,IF(R164=Q2,0.65,IF(R164=R2,0.35,\"\")))","v":{"$error":"#REF!"}},{"$f":"IF(INDEX(synt,socle4,nomenfant)=\"\",\"\",INDEX(synt,socle4,nomenfant))","v":{"$error":"#REF!"}},{"$f":"IF(T164=P2,1,IF(T164=Q2,0.65,IF(T164=R2,0.35,\"\")))","v":{"$error":"#REF!"}},{"$f":"IF(INDEX(synt,socle5,nomenfant)=\"\",\"\",INDEX(synt,socle5,nomenfant))","v":{"$error":"#REF!"}},{"$f":"IF(V164=P2,1,IF(V164=Q2,0.65,IF(V164=R2,0.35,\"\")))","v":{"$error":"#REF!"}},{"$f":"IF(INDEX(synt,socle6,nomenfant)=\"\",\"\",INDEX(synt,socle6,nomenfant))","v":{"$error":"#REF!"}},{"$f":"IF(X164=P2,1,IF(X164=Q2,0.65,IF(X164=R2,0.35,\"\")))","v":{"$error":"#REF!"}},{"$f":"IF(INDEX(synt,socle7,nomenfant)=\"\",\"\",INDEX(synt,socle7,nomenfant))","v":{"$error":"#REF!"}},{"$f":"IF(Z164=P2,1,IF(Z164=Q2,0.65,IF(Z164=R2,0.35,\"\")))","v":{"$error":"#REF!"}},{"$f":"IF(INDEX(synt,socle8,nomenfant)=\"\",\"\",INDEX(synt,socle8,nomenfant))","v":{"$error":"#REF!"}},{"$f":"IF(AB164=P2,1,IF(AB164=Q2,0.65,IF(AB164=R2,0.35,\"\")))","v":{"$error":"#REF!"}},{"$error":"#REF!"},null,{"$f":"IF(OR(AD164>0.7,AG164>0),\"OUI\",\"\")","v":{"$error":"#REF!"}},{"$f":"INDEX(validationsocle,AI164,nomenfant)","v":"00:00:00"},null,150]
[null,null,183,250,250,250,250,250,250,250,null,null,"Soutenir une écoute prolongée (lecture, musique, spectacle, etc.)",{"$f":"IF(INDEX(synt,socle1,nomenfant)=\"\",\"\",INDEX(synt,socle1,nomenfant))","v":{"$error":"#REF!"}},{"$f":"IF(N165=P2,1,IF(N165=Q2,0.65,IF(N165=R2,0.35,\"\")))","v":{"$error":"#REF!"}},{"$f":"IF(INDEX(synt,socle2,nomenfant)=\"\",\"\",INDEX(synt,socle2,nomenfant))","v":{"$error":"#REF!"}},{"$f":"IF(P165=P2,1,IF(P165=Q2,0.65,IF(P165=R2,0.35,\"\")))","v":{"$error":"#REF!"}},{"$f":"IF(INDEX(synt,socle3,nomenfant)=\"\",\"\",INDEX(synt,socle3,nomenfant))","v":{"$error":"#REF!"}},{"$f":"IF(R165=P2,1,IF(R165=Q2,0.65,IF(R165=R2,0.35,\"\")))","v":{"$error":"#REF!"}},{"$f":"IF(INDEX(synt,socle4,nomenfant)=\"\",\"\",INDEX(synt,socle4,nomenfant))","v":{"$error":"#REF!"}},{"$f":"IF(T165=P2,1,IF(T165=Q2,0.65,IF(T165=R2,0.35,\"\")))","v":{"$error":"#REF!"}},{"$f":"IF(INDEX(synt,socle5,nomenfant)=\"\",\"\",INDEX(synt,socle5,nomenfant))","v":{"$error":"#REF!"}},{"$f":"IF(V165=P2,1,IF(V165=Q2,0.65,IF(V165=R2,0.35,\"\")))","v":{"$error":"#REF!"}},{"$f":"IF(INDEX(synt,socle6,nomenfant)=\"\",\"\",INDEX(synt,socle6,nomenfant))","v":{"$error":"#REF!"}},{"$f":"IF(X165=P2,1,IF(X165=Q2,0.65,IF(X165=R2,0.35,\"\")))","v":{"$error":"#REF!"}},{"$f":"IF(INDEX(synt,socle7,nomenfant)=\"\",\"\",INDEX(synt,socle7,nomenfant))","v":{"$error":"#REF!"}},{"$f":"IF(Z165=P2,1,IF(Z165=Q2,0.65,IF(Z165=R2,0.35,\"\")))","v":{"$error":"#REF!"}},{"$f":"IF(INDEX(synt,socle8,nomenfant)=\"\",\"\",INDEX(synt,socle8,nomenfant))","v":{"$error":"#REF!"}},{"$f":"IF(AB165=P2,1,IF(AB165=Q2,0.65,IF(AB165=R2,0.35,\"\")))","v":{"$error":"#REF!"}},{"$error":"#REF!"},null,{"$f":"IF(OR(AD165>0.7,AG165>0),\"OUI\",\"\")","v":{"$error":"#REF!"}},{"$f":"INDEX(validationsocle,AI165,nomenfant)","v":"00:00:00"},null,151]
[{"$nulls":12},"FAIRE PREUVE D’INITIATIVE",{"$nulls":21},152]
[null,null,173,250,250,250,250,250,250,250,null,null,"S’impliquer dans un projet individuel ou collectif",{"$f":"IF(INDEX(synt,socle1,nomenfant)=\"\",\"\",INDEX(synt,socle1,nomenfant))","v":{"$error":"#REF!"}},{"$f":"IF(N167=P2,1,IF(N167=Q2,0.65,IF(N167=R2,0.35,\"\")))","v":{"$error":"#REF!"}},{"$f":"IF(INDEX(synt,socle2,nomenfant)=\"\",\"\",INDEX(synt,socle2,nomenfant))","v":{"$error":"#REF!"}},{"$f":"IF(P167=P2,1,IF(P167=Q2,0.65,IF(P167=R2,0.35,\"\")))","v":{"$error":"#REF!"}},{"$f":"IF(INDEX(synt,socle3,nomenfant)=\"\",\"\",INDEX(synt,socle3,nomenfant))","v":{"$error":"#REF!"}},{"$f":"IF(R167=P2,1,IF(R167=Q2,0.65,IF(R167=R2,0.35,\"\")))","v":{"$error":"#REF!"}},{"$f":"IF(INDEX(synt,socle4,nomenfant)=\"\",\"\",INDEX(synt,socle4,nomenfant))","v":{"$error":"#REF!"}},{"$f":"IF(T167=P2,1,IF(T167=Q2,0.65,IF(T167=R2,0.35,\"\")))","v":{"$error":"#REF!"}},{"$f":"IF(INDEX(synt,socle5,nomenfant)=\"\",\"\",INDEX(synt,socle5,nomenfant))","v":{"$error":"#REF!"}},{"$f":"IF(V167=P2,1,IF(V167=Q2,0.65,IF(V167=R2,0.35,\"\")))","v":{"$error":"#REF!"}},{"$f":"IF(INDEX(synt,socle6,nomenfant)=\"\",\"\",INDEX(synt,socle6,nomenfant))","v":{"$error":"#REF!"}},{"$f":"IF(X167=P2,1,IF(X167=Q2,0.65,IF(X167=R2,0.35,\"\")))","v":{"$error":"#REF!"}},{"$f":"IF(INDEX(synt,socle7,nomenfant)=\"\",\"\",INDEX(synt,socle7,nomenfant))","v":{"$error":"#REF!"}},{"$f":"IF(Z167=P2,1,IF(Z167=Q2,0.65,IF(Z167=R2,0.35,\"\")))","v":{"$error":"#REF!"}},{"$f":"IF(INDEX(synt,socle8,nomenfant)=\"\",\"\",INDEX(synt,socle8,nomenfant))","v":{"$error":"#REF!"}},{"$f":"IF(AB167=P2,1,IF(AB167=Q2,0.65,IF(AB167=R2,0.35,\"\")))","v":{"$error":"#REF!"}},{"$error":"#REF!"},null,{"$f":"IF(OR(AD167>0.7,AG167>0),\"OUI\",\"\")","v":{"$error":"#REF!"}},{"$f":"INDEX(validationsocle,AI167,nomenfant)","v":"00:00:00"},null,153]
[{"$nulls":12},"AVOIR UNE BONNE MAÎTRISE DE SON CORPS ET PRATIQUER UN SPORT",{"$nulls":21},154]
[null,null,178,250,250,250,250,250,250,250,null,null,"Se respecter en respectant les principales règles d’hygiène de vie ; accomplir les gestes quotidiens sans risquer de se faire mal",{"$f":"IF(INDEX(synt,socle1,nomenfant)=\"\",\"\",INDEX(synt,socle1,nomenfant))","v":{"$error":"#REF!"}},{"$f":"IF(N169=P2,1,IF(N169=Q2,0.65,IF(N169=R2,0.35,\"\")))","v":{"$error":"#REF!"}},{"$f":"IF(INDEX(synt,socle2,nomenfant)=\"\",\"\",INDEX(synt,socle2,nomenfant))","v":{"$error":"#REF!"}},{"$f":"IF(P169=P2,1,IF(P169=Q2,0.65,IF(P169=R2,0.35,\"\")))","v":{"$error":"#REF!"}},{"$f":"IF(INDEX(synt,socle3,nomenfant)=\"\",\"\",INDEX(synt,socle3,nomenfant))","v":{"$error":"#REF!"}},{"$f":"IF(R169=P2,1,IF(R169=Q2,0.65,IF(R169=R2,0.35,\"\")))","v":{"$error":"#REF!"}},{"$f":"IF(INDEX(synt,socle4,nomenfant)=\"\",\"\",INDEX(synt,socle4,nomenfant))","v":{"$error":"#REF!"}},{"$f":"IF(T169=P2,1,IF(T169=Q2,0.65,IF(T169=R2,0.35,\"\")))","v":{"$error":"#REF!"}},{"$f":"IF(INDEX(synt,socle5,nomenfant)=\"\",\"\",INDEX(synt,socle5,nomenfant))","v":{"$error":"#REF!"}},{"$f":"IF(V169=P2,1,IF(V169=Q2,0.65,IF(V169=R2,0.35,\"\")))","v":{"$error":"#REF!"}},{"$f":"IF(INDEX(synt,socle6,nomenfant)=\"\",\"\",INDEX(synt,socle6,nomenfant))","v":{"$error":"#REF!"}},{"$f":"IF(X169=P2,1,IF(X169=Q2,0.65,IF(X169=R2,0.35,\"\")))","v":{"$error":"#REF!"}},{"$f":"IF(INDEX(synt,socle7,nomenfant)=\"\",\"\",INDEX(synt,socle7,nomenfant))","v":{"$error":"#REF!"}},{"$f":"IF(Z169=P2,1,IF(Z169=Q2,0.65,IF(Z169=R2,0.35,\"\")))","v":{"$error":"#REF!"}},{"$f":"IF(INDEX(synt,socle8,nomenfant)=\"\",\"\",INDEX(synt,socle8,nomenfant))","v":{"$error":"#REF!"}},{"$f":"IF(AB169=P2,1,IF(AB169=Q2,0.65,IF(AB169=R2,0.35,\"\")))","v":{"$error":"#REF!"}},{"$error":"#REF!"},null,{"$f":"IF(OR(AD169>0.7,AG169>0),\"OUI\",\"\")","v":{"$error":"#REF!"}},{"$f":"INDEX(validationsocle,AI169,nomenfant)","v":"00:00:00"},null,155]
[null,null,172,173,250,250,250,250,250,250,null,null,"Réaliser une performance mesurée dans les activités athlétiques et en natation",{"$f":"IF(INDEX(synt,socle1,nomenfant)=\"\",\"\",INDEX(synt,socle1,nomenfant))","v":{"$error":"#REF!"}},{"$f":"IF(N170=P2,1,IF(N170=Q2,0.65,IF(N170=R2,0.35,\"\")))","v":{"$error":"#REF!"}},{"$f":"IF(INDEX(synt,socle2,nomenfant)=\"\",\"\",INDEX(synt,socle2,nomenfant))","v":{"$error":"#REF!"}},{"$f":"IF(P170=P2,1,IF(P170=Q2,0.65,IF(P170=R2,0.35,\"\")))","v":{"$error":"#REF!"}},{"$f":"IF(INDEX(synt,socle3,nomenfant)=\"\",\"\",INDEX(synt,socle3,nomenfant))","v":{"$error":"#REF!"}},{"$f":"IF(R170=P2,1,IF(R170=Q2,0.65,IF(R170=R2,0.35,\"\")))","v":{"$error":"#REF!"}},{"$f":"IF(INDEX(synt,socle4,nomenfant)=\"\",\"\",INDEX(synt,socle4,nomenfant))","v":{"$error":"#REF!"}},{"$f":"IF(T170=P2,1,IF(T170=Q2,0.65,IF(T170=R2,0.35,\"\")))","v":{"$error":"#REF!"}},{"$f":"IF(INDEX(synt,socle5,nomenfant)=\"\",\"\",INDEX(synt,socle5,nomenfant))","v":{"$error":"#REF!"}},{"$f":"IF(V170=P2,1,IF(V170=Q2,0.65,IF(V170=R2,0.35,\"\")))","v":{"$error":"#REF!"}},{"$f":"IF(INDEX(synt,socle6,nomenfant)=\"\",\"\",INDEX(synt,socle6,nomenfant))","v":{"$error":"#REF!"}},{"$f":"IF(X170=P2,1,IF(X170=Q2,0.65,IF(X170=R2,0.35,\"\")))","v":{"$error":"#REF!"}},{"$f":"IF(INDEX(synt,socle7,nomenfant)=\"\",\"\",INDEX(synt,socle7,nomenfant))","v":{"$error":"#REF!"}},{"$f":"IF(Z170=P2,1,IF(Z170=Q2,0.65,IF(Z170=R2,0.35,\"\")))","v":{"$error":"#REF!"}},{"$f":"IF(INDEX(synt,socle8,nomenfant)=\"\",\"\",INDEX(synt,socle8,nomenfant))","v":{"$error":"#REF!"}},{"$f":"IF(AB170=P2,1,IF(AB170=Q2,0.65,IF(AB170=R2,0.35,\"\")))","v":{"$error":"#REF!"}},{"$error":"#REF!"},null,{"$f":"IF(OR(AD170>0.7,AG170>0),\"OUI\",\"\")","v":{"$error":"#REF!"}},{"$f":"INDEX(validationsocle,AI170,nomenfant)","v":"00:00:00"},null,156]
[null,null,174,175,176,177,250,250,250,250,null,null,"Se déplacer en s’adaptant à l’environnement",{"$f":"IF(INDEX(synt,socle1,nomenfant)=\"\",\"\",INDEX(synt,socle1,nomenfant))","v":{"$error":"#REF!"}},{"$f":"IF(N171=P2,1,IF(N171=Q2,0.65,IF(N171=R2,0.35,\"\")))","v":{"$error":"#REF!"}},{"$f":"IF(INDEX(synt,socle2,nomenfant)=\"\",\"\",INDEX(synt,socle2,nomenfant))","v":{"$error":"#REF!"}},{"$f":"IF(P171=P2,1,IF(P171=Q2,0.65,IF(P171=R2,0.35,\"\")))","v":{"$error":"#REF!"}},{"$f":"IF(INDEX(synt,socle3,nomenfant)=\"\",\"\",INDEX(synt,socle3,nomenfant))","v":{"$error":"#REF!"}},{"$f":"IF(R171=P2,1,IF(R171=Q2,0.65,IF(R171=R2,0.35,\"\")))","v":{"$error":"#REF!"}},{"$f":"IF(INDEX(synt,socle4,nomenfant)=\"\",\"\",INDEX(synt,socle4,nomenfant))","v":{"$error":"#REF!"}},{"$f":"IF(T171=P2,1,IF(T171=Q2,0.65,IF(T171=R2,0.35,\"\")))","v":{"$error":"#REF!"}},{"$f":"IF(INDEX(synt,socle5,nomenfant)=\"\",\"\",INDEX(synt,socle5,nomenfant))","v":{"$error":"#REF!"}},{"$f":"IF(V171=P2,1,IF(V171=Q2,0.65,IF(V171=R2,0.35,\"\")))","v":{"$error":"#REF!"}},{"$f":"IF(INDEX(synt,socle6,nomenfant)=\"\",\"\",INDEX(synt,socle6,nomenfant))","v":{"$error":"#REF!"}},{"$f":"IF(X171=P2,1,IF(X171=Q2,0.65,IF(X171=R2,0.35,\"\")))","v":{"$error":"#REF!"}},{"$f":"IF(INDEX(synt,socle7,nomenfant)=\"\",\"\",INDEX(synt,socle7,nomenfant))","v":{"$error":"#REF!"}},{"$f":"IF(Z171=P2,1,IF(Z171=Q2,0.65,IF(Z171=R2,0.35,\"\")))","v":{"$error":"#REF!"}},{"$f":"IF(INDEX(synt,socle8,nomenfant)=\"\",\"\",INDEX(synt,socle8,nomenfant))","v":{"$error":"#REF!"}},{"$f":"IF(AB171=P2,1,IF(AB171=Q2,0.65,IF(AB171=R2,0.35,\"\")))","v":{"$error":"#REF!"}},{"$error":"#REF!"},null,{"$f":"IF(OR(AD171>0.7,AG171>0),\"OUI\",\"\")","v":{"$error":"#REF!"}},{"$f":"INDEX(validationsocle,AI171,nomenfant)","v":"00:00:00"},null,157]
[{"$nulls":34},158]
[{"$nulls":12},"Les compétences sociales et civiques",{"$nulls":21},159]
[{"$nulls":12},"CONNAÎTRE LES PRINCIPES ET FONDEMENTS DE LA VIE CIVIQUE ET SOCIALE",{"$nulls":21},160]
[null,null,173,250,250,250,250,250,250,250,null,null,"Reconnaître les symboles de la république et de l’Union européenne",{"$f":"IF(INDEX(synt,socle1,nomenfant)=\"\",\"\",INDEX(synt,socle1,nomenfant))","v":{"$error":"#REF!"}},{"$f":"IF(N175=P2,1,IF(N175=Q2,0.65,IF(N175=R2,0.35,\"\")))","v":{"$error":"#REF!"}},{"$f":"IF(INDEX(synt,socle2,nomenfant)=\"\",\"\",INDEX(synt,socle2,nomenfant))","v":{"$error":"#REF!"}},{"$f":"IF(P175=P2,1,IF(P175=Q2,0.65,IF(P175=R2,0.35,\"\")))","v":{"$error":"#REF!"}},{"$f":"IF(INDEX(synt,socle3,nomenfant)=\"\",\"\",INDEX(synt,socle3,nomenfant))","v":{"$error":"#REF!"}},{"$f":"IF(R175=P2,1,IF(R175=Q2,0.65,IF(R175=R2,0.35,\"\")))","v":{"$error":"#REF!"}},{"$f":"IF(INDEX(synt,socle4,nomenfant)=\"\",\"\",INDEX(synt,socle4,nomenfant))","v":{"$error":"#REF!"}},{"$f":"IF(T175=P2,1,IF(T175=Q2,0.65,IF(T175=R2,0.35,\"\")))","v":{"$error":"#REF!"}},{"$f":"IF(INDEX(synt,socle5,nomenfant)=\"\",\"\",INDEX(synt,socle5,nomenfant))","v":{"$error":"#REF!"}},{"$f":"IF(V175=P2,1,IF(V175=Q2,0.65,IF(V175=R2,0.35,\"\")))","v":{"$error":"#REF!"}},{"$f":"IF(INDEX(synt,socle6,nomenfant)=\"\",\"\",INDEX(synt,socle6,nomenfant))","v":{"$error":"#REF!"}},{"$f":"IF(X175=P2,1,IF(X175=Q2,0.65,IF(X175=R2,0.35,\"\")))","v":{"$error":"#REF!"}},{"$f":"IF(INDEX(synt,socle7,nomenfant)=\"\",\"\",INDEX(synt,socle7,nomenfant))","v":{"$error":"#REF!"}},{"$f":"IF(Z175=P2,1,IF(Z175=Q2,0.65,IF(Z175=R2,0.35,\"\")))","v":{"$error":"#REF!"}},{"$f":"IF(INDEX(synt,socle8,nomenfant)=\"\",\"\",INDEX(synt,socle8,nomenfant))","v":{"$error":"#REF!"}},{"$f":"IF(AB175=P2,1,IF(AB175=Q2,0.65,IF(AB175=R2,0.35,\"\")))","v":{"$error":"#REF!"}},{"$f":"IF(SUM(N175:AC175)=0,0,SUM(N175:AC175)/COUNTIF(N175:AC175,\">0\"))","v":{"$error":"#REF!"}},null,{"$f":"IF(OR(AD175>0.7,AG175>0),\"OUI\",\"\")","v":{"$error":"#REF!"}},{"$f":"INDEX(validationsocle,AI175,nomenfant)","v":"00:00:00"},null,161]
[null,null,176,250,250,250,250,250,250,250,null,null,"Comprendre les notions de droits et de devoirs, les accepter et les mettre en application",{"$f":"IF(INDEX(synt,socle1,nomenfant)=\"\",\"\",INDEX(synt,socle1,nomenfant))","v":{"$error":"#REF!"}},{"$f":"IF(N176=P2,1,IF(N176=Q2,0.65,IF(N176=R2,0.35,\"\")))","v":{"$error":"#REF!"}},{"$f":"IF(INDEX(synt,socle2,nomenfant)=\"\",\"\",INDEX(synt,socle2,nomenfant))","v":{"$error":"#REF!"}},{"$f":"IF(P176=P2,1,IF(P176=Q2,0.65,IF(P176=R2,0.35,\"\")))","v":{"$error":"#REF!"}},{"$f":"IF(INDEX(synt,socle3,nomenfant)=\"\",\"\",INDEX(synt,socle3,nomenfant))","v":{"$error":"#REF!"}},{"$f":"IF(R176=P2,1,IF(R176=Q2,0.65,IF(R176=R2,0.35,\"\")))","v":{"$error":"#REF!"}},{"$f":"IF(INDEX(synt,socle4,nomenfant)=\"\",\"\",INDEX(synt,socle4,nomenfant))","v":{"$error":"#REF!"}},{"$f":"IF(T176=P2,1,IF(T176=Q2,0.65,IF(T176=R2,0.35,\"\")))","v":{"$error":"#REF!"}},{"$f":"IF(INDEX(synt,socle5,nomenfant)=\"\",\"\",INDEX(synt,socle5,nomenfant))","v":{"$error":"#REF!"}},{"$f":"IF(V176=P2,1,IF(V176=Q2,0.65,IF(V176=R2,0.35,\"\")))","v":{"$error":"#REF!"}},{"$f":"IF(INDEX(synt,socle6,nomenfant)=\"\",\"\",INDEX(synt,socle6,nomenfant))","v":{"$error":"#REF!"}},{"$f":"IF(X176=P2,1,IF(X176=Q2,0.65,IF(X176=R2,0.35,\"\")))","v":{"$error":"#REF!"}},{"$f":"IF(INDEX(synt,socle7,nomenfant)=\"\",\"\",INDEX(synt,socle7,nomenfant))","v":{"$error":"#REF!"}},{"$f":"IF(Z176=P2,1,IF(Z176=Q2,0.65,IF(Z176=R2,0.35,\"\")))","v":{"$error":"#REF!"}},{"$f":"IF(INDEX(synt,socle8,nomenfant)=\"\",\"\",INDEX(synt,socle8,nomenfant))","v":{"$error":"#REF!"}},{"$f":"IF(AB176=P2,1,IF(AB176=Q2,0.65,IF(AB176=R2,0.35,\"\")))","v":{"$error":"#REF!"}},{"$error":"#REF!"},null,{"$f":"IF(OR(AD176>0.7,AG176>0),\"OUI\",\"\")","v":{"$error":"#REF!"}},{"$f":"INDEX(validationsocle,AI176,nomenfant)","v":"00:00:00"},null,162]
[null,null,178,250,250,250,250,250,250,250,null,null,"Avoir conscience de la dignité de la personne humaine et en tirer les conséquences au quotidien",{"$f":"IF(INDEX(synt,socle1,nomenfant)=\"\",\"\",INDEX(synt,socle1,nomenfant))","v":{"$error":"#REF!"}},{"$f":"IF(N177=P2,1,IF(N177=Q2,0.65,IF(N177=R2,0.35,\"\")))","v":{"$error":"#REF!"}},{"$f":"IF(INDEX(synt,socle2,nomenfant)=\"\",\"\",INDEX(synt,socle2,nomenfant))","v":{"$error":"#REF!"}},{"$f":"IF(P177=P2,1,IF(P177=Q2,0.65,IF(P177=R2,0.35,\"\")))","v":{"$error":"#REF!"}},{"$f":"IF(INDEX(synt,socle3,nomenfant)=\"\",\"\",INDEX(synt,socle3,nomenfant))","v":{"$error":"#REF!"}},{"$f":"IF(R177=P2,1,IF(R177=Q2,0.65,IF(R177=R2,0.35,\"\")))","v":{"$error":"#REF!"}},{"$f":"IF(INDEX(synt,socle4,nomenfant)=\"\",\"\",INDEX(synt,socle4,nomenfant))","v":{"$error":"#REF!"}},{"$f":"IF(T177=P2,1,IF(T177=Q2,0.65,IF(T177=R2,0.35,\"\")))","v":{"$error":"#REF!"}},{"$f":"IF(INDEX(synt,socle5,nomenfant)=\"\",\"\",INDEX(synt,socle5,nomenfant))","v":{"$error":"#REF!"}},{"$f":"IF(V177=P2,1,IF(V177=Q2,0.65,IF(V177=R2,0.35,\"\")))","v":{"$error":"#REF!"}},{"$f":"IF(INDEX(synt,socle6,nomenfant)=\"\",\"\",INDEX(synt,socle6,nomenfant))","v":{"$error":"#REF!"}},{"$f":"IF(X177=P2,1,IF(X177=Q2,0.65,IF(X177=R2,0.35,\"\")))","v":{"$error":"#REF!"}},{"$f":"IF(INDEX(synt,socle7,nomenfant)=\"\",\"\",INDEX(synt,socle7,nomenfant))","v":{"$error":"#REF!"}},{"$f":"IF(Z177=P2,1,IF(Z177=Q2,0.65,IF(Z177=R2,0.35,\"\")))","v":{"$error":"#REF!"}},{"$f":"IF(INDEX(synt,socle8,nomenfant)=\"\",\"\",INDEX(synt,socle8,nomenfant))","v":{"$error":"#REF!"}},{"$f":"IF(AB177=P2,1,IF(AB177=Q2,0.65,IF(AB177=R2,0.35,\"\")))","v":{"$error":"#REF!"}},{"$error":"#REF!"},null,{"$f":"IF(OR(AD177>0.7,AG177>0),\"OUI\",\"\")","v":{"$error":"#REF!"}},{"$f":"INDEX(validationsocle,AI177,nomenfant)","v":"00:00:00"},null,163]
[{"$nulls":12},"AVOIR UN COMPORTEMENT RESPONSABLE",{"$nulls":21},164]
[null,null,177,250,250,250,250,250,250,250,null,null,"Respecter les règles de la vie collective, notamment dans les pratiques sportives",{"$f":"IF(INDEX(synt,socle1,nomenfant)=\"\",\"\",INDEX(synt,socle1,nomenfant))","v":{"$error":"#REF!"}},{"$f":"IF(N179=P2,1,IF(N179=Q2,0.65,IF(N179=R2,0.35,\"\")))","v":{"$error":"#REF!"}},{"$f":"IF(INDEX(synt,socle2,nomenfant)=\"\",\"\",INDEX(synt,socle2,nomenfant))","v":{"$error":"#REF!"}},{"$f":"IF(P179=P2,1,IF(P179=Q2,0.65,IF(P179=R2,0.35,\"\")))","v":{"$error":"#REF!"}},{"$f":"IF(INDEX(synt,socle3,nomenfant)=\"\",\"\",INDEX(synt,socle3,nomenfant))","v":{"$error":"#REF!"}},{"$f":"IF(R179=P2,1,IF(R179=Q2,0.65,IF(R179=R2,0.35,\"\")))","v":{"$error":"#REF!"}},{"$f":"IF(INDEX(synt,socle4,nomenfant)=\"\",\"\",INDEX(synt,socle4,nomenfant))","v":{"$error":"#REF!"}},{"$f":"IF(T179=P2,1,IF(T179=Q2,0.65,IF(T179=R2,0.35,\"\")))","v":{"$error":"#REF!"}},{"$f":"IF(INDEX(synt,socle5,nomenfant)=\"\",\"\",INDEX(synt,socle5,nomenfant))","v":{"$error":"#REF!"}},{"$f":"IF(V179=P2,1,IF(V179=Q2,0.65,IF(V179=R2,0.35,\"\")))","v":{"$error":"#REF!"}},{"$f":"IF(INDEX(synt,socle6,nomenfant)=\"\",\"\",INDEX(synt,socle6,nomenfant))","v":{"$error":"#REF!"}},{"$f":"IF(X179=P2,1,IF(X179=Q2,0.65,IF(X179=R2,0.35,\"\")))","v":{"$error":"#REF!"}},{"$f":"IF(INDEX(synt,socle7,nomenfant)=\"\",\"\",INDEX(synt,socle7,nomenfant))","v":{"$error":"#REF!"}},{"$f":"IF(Z179=P2,1,IF(Z179=Q2,0.65,IF(Z179=R2,0.35,\"\")))","v":{"$error":"#REF!"}},{"$f":"IF(INDEX(synt,socle8,nomenfant)=\"\",\"\",INDEX(synt,socle8,nomenfant))","v":{"$error":"#REF!"}},{"$f":"IF(AB179=P2,1,IF(AB179=Q2,0.65,IF(AB179=R2,0.35,\"\")))","v":{"$error":"#REF!"}},{"$error":"#REF!"},null,{"$f":"IF(OR(AD179>0.7,AG179>0),\"OUI\",\"\")","v":{"$error":"#REF!"}},{"$f":"INDEX(validationsocle,AI179,nomenfant)","v":"00:00:00"},null,165]
[null,null,178,250,250,250,250,250,250,250,null,null,"Respecter tous les autres, et notamment appliquer les principes de l’égalité des filles et des garçons",{"$f":"IF(INDEX(synt,socle1,nomenfant)=\"\",\"\",INDEX(synt,socle1,nomenfant))","v":{"$error":"#REF!"}},{"$f":"IF(N180=P2,1,IF(N180=Q2,0.65,IF(N180=R2,0.35,\"\")))","v":{"$error":"#REF!"}},{"$f":"IF(INDEX(synt,socle2,nomenfant)=\"\",\"\",INDEX(synt,socle2,nomenfant))","v":{"$error":"#REF!"}},{"$f":"IF(P180=P2,1,IF(P180=Q2,0.65,IF(P180=R2,0.35,\"\")))","v":{"$error":"#REF!"}},{"$f":"IF(INDEX(synt,socle3,nomenfant)=\"\",\"\",INDEX(synt,socle3,nomenfant))","v":{"$error":"#REF!"}},{"$f":"IF(R180=P2,1,IF(R180=Q2,0.65,IF(R180=R2,0.35,\"\")))","v":{"$error":"#REF!"}},{"$f":"IF(INDEX(synt,socle4,nomenfant)=\"\",\"\",INDEX(synt,socle4,nomenfant))","v":{"$error":"#REF!"}},{"$f":"IF(T180=P2,1,IF(T180=Q2,0.65,IF(T180=R2,0.35,\"\")))","v":{"$error":"#REF!"}},{"$f":"IF(INDEX(synt,socle5,nomenfant)=\"\",\"\",INDEX(synt,socle5,nomenfant))","v":{"$error":"#REF!"}},{"$f":"IF(V180=P2,1,IF(V180=Q2,0.65,IF(V180=R2,0.35,\"\")))","v":{"$error":"#REF!"}},{"$f":"IF(INDEX(synt,socle6,nomenfant)=\"\",\"\",INDEX(synt,socle6,nomenfant))","v":{"$error":"#REF!"}},{"$f":"IF(X180=P2,1,IF(X180=Q2,0.65,IF(X180=R2,0.35,\"\")))","v":{"$error":"#REF!"}},{"$f":"IF(INDEX(synt,socle7,nomenfant)=\"\",\"\",INDEX(synt,socle7,nomenfant))","v":{"$error":"#REF!"}},{"$f":"IF(Z180=P2,1,IF(Z180=Q2,0.65,IF(Z180=R2,0.35,\"\")))","v":{"$error":"#REF!"}},{"$f":"IF(INDEX(synt,socle8,nomenfant)=\"\",\"\",INDEX(synt,socle8,nomenfant))","v":{"$error":"#REF!"}},{"$f":"IF(AB180=P2,1,IF(AB180=Q2,0.65,IF(AB180=R2,0.35,\"\")))","v":{"$error":"#REF!"}},{"$error":"#REF!"},null,{"$f":"IF(OR(AD180>0.7,AG180>0),\"OUI\",\"\")","v":{"$error":"#REF!"}},{"$f":"INDEX(validationsocle,AI180,nomenfant)","v":"00:00:00"},null,166]
[{"$nulls":34},167]