{"text_format":"3","workbook":"xlsx","n_sheets":12,"sheets":["NOTICE","RENSEIGNEMENTS","Registre","MATERNELLE","ELEMENTAIRE","UPE2A","C1","administratif","coop","certificat","classe","Feuil3"],"not_rendered":{"images":2,"macros":1,"defined_names":31},"read":"whole","date_system":"1900"}

{"sheet":"NOTICE","index":0,"n_rows":27,"n_cols":2,"rows_kept":27}
[null,"Logiciel de gestion de classe"]
[]
[null,"Nécessite d'accepter les macros"]
[]
[null,"Notice"]
[null,"Première étape: renseignement"]
[null,"Dans l'onglet renseignement, vous devez entrer le nom de l'école, le nom du directeur(trice) et le nombre de classe\nEnsuite créer les feuilles de classe, (des onglets C1, C2.... apparaîtront) et noter  la liste des enseignants avec leur niveau. Si vous avez une UPE2A cocher le bouton et écrivez le nom de l'enseignant."]
[null,"Deuxième étape: registre"]
[null,"Pour cette étape vous devez avoir exporté de base élèves vos listes en format excel et faire un copier-coller dans les colonnes.\nChaque colonne du registre a un filtre qui vous permet d'afficher ces listes par ordre alphabétique, de classe, d'âge, ou de niveau."]
[]
[null,"Troisième étape: l'affectation des élèves dans les classes"]
[null,"C'est la colonne G  du registre qui vous permettra de faire vos classes, vous devez seulement affecter un numéro de classe à chaque élève dans ce registre. \n C'est ce qui vous permettra ensuite de synchoniser vos listes, et de les modifier ultèrieurement."]
[]
[null,"Dernière étape : Les synchonisations"]
[null,"Une fois le registre complété. Vous n'avez qu'à synchoniser les listes des classes avec le bouton synchoniser.\nPour toutes modifications des listes, il est préférable d'abord d'effacer puis resynchoniser.\n La liste de classe  apparaitra dans l'ordre du registre (alphabétique, ou âge ou niveau que vous pouvez modifier à votre guise).\nAttention à ne rien effacer dans les onglets des classes à part en utilisant le bouton."]
[null,"Vous avez deux onglets, maternelle et élementaire, qui regroupent les élèves par niveau. Si vous avez renseigné les nombres de vos seuils d'ouverture et de fermeture, vous verrez apparaître la situation de votre école dans ces onglets là."]
[]
[null,"Feuilles utilitaires:  Grâce au menu déroulant vous pouvez fabriquer différents documents."]
[null,"Administratif : permet de créer des listes à cocher pour les collègues"]
[]
[null,"Coop : permet de créer une feuille de coop par classe pour les diverses actions financées."]
[]
[null,"Certificat :  permet de tirer rapidement un certificat de scolarité"]
[]
[]
[]
[null,"Le logiciel gestion de classe by Eric Di Donfrancesco est mis à disposition selon les termes de la licence Creative Commons Paternité - Pas d'Utilisation Commerciale - Partage des Conditions Initiales à l'Identique 3.0 Unported."]

{"sheet":"RENSEIGNEMENTS","index":1,"n_rows":15,"n_cols":11,"rows_kept":15,"merged":[[1,1,1,4],[3,1,3,2],[6,1,6,3]]}
[]
["Nom de l'école :","GROUPE SCOLAIRE LEONARD DE VINCI"]
[]
[null,"Classes",null,"Nom des enseignants",null,null,"Nombre de classes"]
[{"$nulls":6},1]
[{"$nulls":3},"DIRECTEUR "]
[null,"Hubert DURAND",{"$nulls":4},"MATERNELLE","ELEMENTAIRE"]
[null,"Classe","Niveau","Enseignant",null,null,"SEUIL DE FERMETURE","SEUIL DE FERMETURE"]
[null,"C1","CE1","Jean MACHIN"]
[{"$nulls":6},"SEUIL D'OUVERTURE ","SEUIL D'OUVERTURE "]
[]
[]
[{"$nulls":6},"ANNEE SCOLAIRE :","2014/2015"]
[]
[{"$nulls":10},"Enseignant"]

{"sheet":"Registre","index":2,"n_rows":504,"n_cols":21,"rows_kept":504,"merged":[[1,1,1,6],[2,6,3,7],[3,11,3,15]]}
[]
[null,"REGISTRE",{"$nulls":8},"Mettez une croix pour les enfants ENAF"]
[{"$nulls":5},{"$f":"COUNTIF(F6:F500,\"*\")","v":18},"Affectez un numero de classe à l'élève"]
[{"$nulls":8},"Adresse",null,null,"TELEPHONES",{"$nulls":4},"adresse","Adresse Père"]
["Nb","NOM","PRENOM","Date","Sexe","Niv","Classe","Enseignant",null,"Cycle","UPE2A","domicile","port père","port mère","travail","autre"]
[7,"ALLENOU","OCEANE","2006-08-24","F","CE1",1,"Jean MACHIN",{"$nulls":12},{"$f":"CONCATENATE(B6, \" \",C6)","v":"ALLENOU OCEANE"}]
[12,"AZIM","INES","2006-06-01","F","CE1",1,"Jean MACHIN",{"$nulls":12},{"$f":"CONCATENATE(B7, \" \",C7)","v":"AZIM INES"}]
[16,"BERNARD","AYOUB","2006-01-04","M","CE1",1,"Jean MACHIN",{"$nulls":12},"BERNARD AYOUB"]
[1,"BOIDAN","BAPTISTE","2007-07-07","M","CE1",1,"Jean MACHIN",{"$nulls":12},"BOIDAN BAPTISTE"]
[5,"BOUDIS","DEHYA","2006-11-24","F","CE1",1,"Jean MACHIN",{"$nulls":12},"BOUDIS DEHYA"]
[{"$f":"A10+1","v":6},"BOURGEOIS","RAYAN","2006-12-08","M","CE1",1,"Jean MACHIN",{"$nulls":12},"BOURGEOIS RAYAN"]
[13,"CAMUS","ALBERT","2006-04-02","M","CE1",1,"Jean MACHIN",{"$nulls":12},"CAMUS ALBERT"]
[9,"CARAUD","LOUISE","2006-07-25","F","CE1",1,"Jean MACHIN",{"$nulls":12},"CARAUD LOUISE"]
[8,"CASTELO","SEPHORA","2006-07-30","F","CE1",1,"Jean MACHIN",{"$nulls":12},"CASTELO SEPHORA"]
[11,"CHEGUETAZIM","DANA","2006-06-24","F","CE1",1,"Jean MACHIN",{"$nulls":12},"CHEGUETAZIM DANA"]
[15,"CHENAL","LINE","2006-02-06","F","CE1",1,"Jean MACHIN",{"$nulls":12},"CHENAL LINE"]
[2,"CHOULAND","ROMAISSA","2006-12-31","F","CE1",1,"Jean MACHIN",{"$nulls":12},"CHOULAND ROMAISSA"]
[10,"DUVAL","LISA","2006-07-08","F","CE1",1,"Jean MACHIN",{"$nulls":12},"DUVAL LISA"]
[4,"FLECHON","ZOE","2006-12-08","F","CE1",1,"Jean MACHIN",{"$nulls":12},"FLECHON ZOE"]
[14,"GERMAIN","GUS","2006-02-19","M","CE1",1,"Jean MACHIN",{"$nulls":12},"GERMAIN GUS"]
[6,"GRAND ","MAGALI","2006-09-01","F","CE1",1,"Jean MACHIN",{"$nulls":12},"GRAND  MAGALI"]
[17,"GREGOIRE","ZOE","2005-06-24","F","CE2",1,"Jean MACHIN",{"$nulls":12},"GREGOIRE ZOE"]
[18,"HAFSAOUI","LEON","2005-06-20","M","CE2",1,"Jean MACHIN",{"$nulls":12},"HAFSAOUI LEON"]
[19,{"$nulls":19}," "]
[20,{"$nulls":19}," "]
[21,{"$nulls":19}," "]
[22,{"$nulls":19}," "]
[23,{"$nulls":19}," "]
[24,{"$nulls":19}," "]
[25,{"$nulls":19}," "]
[26,{"$nulls":19}," "]
[27,{"$nulls":19}," "]
[28,{"$nulls":16},"ISTIFAN Shad 71 rue Saint Denis 75  001",null,null," "]
[29,{"$nulls":19}," "]
[30,{"$nulls":19}," "]
[31,{"$nulls":19}," "]
[32,{"$nulls":19}," "]
[33,{"$nulls":19}," "]
[34,{"$nulls":19}," "]
[35,{"$nulls":19}," "]
[36,{"$nulls":19}," "]
[37,{"$nulls":19}," "]
[38,{"$nulls":19}," "]
[39,{"$nulls":19}," "]
[40,{"$nulls":19}," "]
[41,{"$nulls":19}," "]
[42,{"$nulls":19}," "]
[43,{"$nulls":19}," "]
[44,{"$nulls":19}," "]
[45,{"$nulls":19}," "]
[46,{"$nulls":19}," "]
[47,{"$nulls":19}," "]
[48,{"$nulls":19}," "]
[49,{"$nulls":19}," "]
[50,{"$nulls":19}," "]
[51,{"$nulls":19}," "]
[52,{"$nulls":19}," "]
[53,{"$nulls":19}," "]
[54,{"$nulls":19}," "]
[55,{"$nulls":19}," "]
[56,{"$nulls":19}," "]
[57,{"$nulls":19}," "]
[58,{"$nulls":19}," "]
[59,{"$nulls":19}," "]
[60,{"$nulls":19}," "]
[61,{"$nulls":19}," "]
[62,{"$nulls":19}," "]
[63,{"$nulls":19}," "]
[64,{"$nulls":19}," "]
[65,{"$nulls":19}," "]
[66,{"$nulls":19},{"$f":"CONCATENATE(B71, \" \",C71)","v":" "}]
[67,{"$nulls":19}," "]
[68,{"$nulls":19}," "]
[69,{"$nulls":19}," "]
[70,{"$nulls":19}," "]
[71,{"$nulls":19}," "]
[72,{"$nulls":19}," "]
[73,{"$nulls":19}," "]
[74,{"$nulls":19}," "]
[75,{"$nulls":19}," "]
[76,{"$nulls":19}," "]
[77,{"$nulls":19}," "]
[78,{"$nulls":19}," "]
[79,{"$nulls":19}," "]
[80,{"$nulls":19}," "]
[81,{"$nulls":19}," "]
[82,{"$nulls":19}," "]
[83,{"$nulls":19}," "]
[84,{"$nulls":19}," "]
[85,{"$nulls":19}," "]
[86,{"$nulls":19}," "]
[87,{"$nulls":19}," "]
[88,{"$nulls":19}," "]
[89,{"$nulls":19}," "]
[90,{"$nulls":19}," "]
[91,{"$nulls":19}," "]
[92,{"$nulls":19}," "]
[93,{"$nulls":19}," "]
[94,{"$nulls":19}," "]
[95,{"$nulls":19}," "]
[96,{"$nulls":19}," "]
[97,{"$nulls":19}," "]
[98,{"$nulls":19}," "]
[99,{"$nulls":19}," "]
[100,{"$nulls":19}," "]
[101,{"$nulls":19}," "]
[102,{"$nulls":19}," "]
[103,{"$nulls":19}," "]
[104,{"$nulls":19}," "]
[105,{"$nulls":19}," "]
[106,{"$nulls":19}," "]
[107,{"$nulls":19}," "]
[108,{"$nulls":19}," "]
[109,{"$nulls":19}," "]
[110,{"$nulls":19}," "]
[111,{"$nulls":19}," "]
[112,{"$nulls":19}," "]
[113,{"$nulls":19}," "]
[114,{"$nulls":19}," "]
[115,{"$nulls":19}," "]
[116,{"$nulls":9},"X",{"$nulls":9}," "]
[117,{"$nulls":19}," "]
[118,{"$nulls":19}," "]
[119,{"$nulls":19}," "]
[120,{"$nulls":19}," "]
[121,{"$nulls":19}," "]
[122,{"$nulls":19}," "]
[123,{"$nulls":19}," "]
[124,{"$nulls":19}," "]
[125,{"$nulls":19}," "]
[126,{"$nulls":19}," "]
[127,{"$nulls":19}," "]
[128,{"$nulls":19}," "]
[129,{"$nulls":19}," "]
[130,{"$nulls":19},{"$f":"CONCATENATE(B135, \" \",C135)","v":" "}]
[131,{"$nulls":19}," "]
[132,{"$nulls":19}," "]
[133,{"$nulls":19}," "]
[134,{"$nulls":19}," "]
[135,{"$nulls":19}," "]
[136,{"$nulls":19}," "]
[137,{"$nulls":19}," "]
[138,{"$nulls":19}," "]
[139,{"$nulls":19}," "]
[140,{"$nulls":19}," "]
[141,{"$nulls":19}," "]
[142,{"$nulls":19}," "]
[143,{"$nulls":19}," "]
[144,{"$nulls":19}," "]
[145,{"$nulls":19}," "]
[146,{"$nulls":19}," "]
[147,{"$nulls":19}," "]
[148,{"$nulls":19}," "]
[149,{"$nulls":19}," "]
[150,{"$nulls":19}," "]
[151,{"$nulls":19}," "]
[152,{"$nulls":19}," "]
[153,{"$nulls":19}," "]
[154,{"$nulls":19}," "]
[155,{"$nulls":19}," "]
[156,{"$nulls":19}," "]
[157,{"$nulls":19}," "]
[158,{"$nulls":19}," "]
[159,{"$nulls":19}," "]
[160,{"$nulls":19}," "]
[161,{"$nulls":19}," "]
[162,{"$nulls":19}," "]
[163,{"$nulls":9},"X",{"$nulls":9}," "]
[164,{"$nulls":19}," "]
[165,{"$nulls":19}," "]
[166,{"$nulls":19}," "]
[167,{"$nulls":19}," "]
[168,{"$nulls":19}," "]
[169,{"$nulls":19}," "]
[170,{"$nulls":19}," "]
[171,{"$nulls":19}," "]
[172,{"$nulls":19}," "]
[173,{"$nulls":19}," "]
[174,{"$nulls":19}," "]
[175,{"$nulls":19}," "]
[176,{"$nulls":19}," "]
[177,{"$nulls":19}," "]
[178,{"$nulls":19}," "]
[179,{"$nulls":19}," "]
[180,{"$nulls":19}," "]
[181,{"$nulls":19}," "]
[182,{"$nulls":19}," "]
[183,{"$nulls":19}," "]
[184,{"$nulls":19}," "]
[185,{"$nulls":19}," "]
[186,{"$nulls":19}," "]
[187,{"$nulls":19}," "]
[188,{"$nulls":19}," "]
[189,{"$nulls":19}," "]
[190,{"$nulls":19}," "]
[191,{"$nulls":19}," "]
[192,{"$nulls":19}," "]
[193,{"$nulls":19}," "]
[194,{"$nulls":19},{"$f":"CONCATENATE(B199, \" \",C199)","v":" "}]
[195,{"$nulls":19}," "]
[196,{"$nulls":19}," "]
[197,{"$nulls":19}," "]
[198,{"$nulls":19}," "]
[199,{"$nulls":17}," ",null," "]
[200,{"$nulls":19}," "]
[201,{"$nulls":19}," "]
[202,{"$nulls":19}," "]
[203,{"$nulls":19}," "]
[204,{"$nulls":19}," "]
[205,{"$nulls":19}," "]
[206,{"$nulls":19}," "]
[207,{"$nulls":19}," "]
[208,{"$nulls":19}," "]
[209,{"$nulls":19}," "]
[210,{"$nulls":19}," "]
[211,{"$nulls":19}," "]
[212,{"$nulls":19}," "]
[213,{"$nulls":19}," "]
[214,{"$nulls":19}," "]
[215,{"$nulls":19}," "]
[216,{"$nulls":19}," "]
[217,{"$nulls":19}," "]
[218,{"$nulls":19}," "]
[219,{"$nulls":19}," "]
[220,{"$nulls":19}," "]
[221,{"$nulls":19}," "]
[222,{"$nulls":19}," "]
[223,{"$nulls":19}," "]
[224,{"$nulls":19}," "]
[225,{"$nulls":19}," "]
[226,{"$nulls":19}," "]
[227,{"$nulls":19}," "]
[228,{"$nulls":19}," "]
[229,{"$nulls":19}," "]
[230,{"$nulls":19}," "]
[231,{"$nulls":19}," "]
[232,{"$nulls":19}," "]
[233,{"$nulls":19}," "]
[234,{"$nulls":19}," "]
[235,{"$nulls":19}," "]
[236,{"$nulls":19}," "]
[237,{"$nulls":19}," "]
[238,{"$nulls":19}," "]
[239,{"$nulls":19}," "]
[240,{"$nulls":19}," "]
[241,{"$nulls":19}," "]
[242,{"$nulls":19}," "]
[243,{"$nulls":19}," "]
[244,{"$nulls":19}," "]
[245,{"$nulls":19}," "]
[246,{"$nulls":19}," "]
[247,{"$nulls":19}," "]
[248,{"$nulls":19}," "]
[249,{"$nulls":19}," "]
[250,{"$nulls":19}," "]
[251,{"$nulls":19}," "]
[252,{"$nulls":19}," "]
[253,{"$nulls":19}," "]
[254,{"$nulls":19}," "]
[255,{"$nulls":19}," "]
[256,{"$nulls":19}," "]
[257,{"$nulls":19}," "]
[258,{"$nulls":19},{"$f":"CONCATENATE(B263, \" \",C263)","v":" "}]
[259,{"$nulls":19}," "]
[260,{"$nulls":19}," "]
[261,{"$nulls":19}," "]
[262,{"$nulls":19}," "]
[263,{"$nulls":19}," "]
[264,{"$nulls":19}," "]
[265,{"$nulls":19}," "]
[266,{"$nulls":19}," "]
[267,{"$nulls":19}," "]
[268,{"$nulls":19}," "]
[269,{"$nulls":19}," "]
[270,{"$nulls":19}," "]
[271,{"$nulls":19}," "]
[272,{"$nulls":19}," "]
[273,{"$nulls":19}," "]
[274,{"$nulls":19}," "]
[275,{"$nulls":19}," "]
[276,{"$nulls":19}," "]
[277,{"$nulls":19}," "]
[278,{"$nulls":19}," "]
[279,{"$nulls":19}," "]
[280,{"$nulls":19}," "]
[281,{"$nulls":19}," "]
[282,{"$nulls":19}," "]
[283,{"$nulls":19}," "]
[284,{"$nulls":19}," "]
[285,{"$nulls":19}," "]
[286,{"$nulls":19}," "]
[287,{"$nulls":19}," "]
[288,{"$nulls":19}," "]
[289,{"$nulls":19}," "]
[290,{"$nulls":19}," "]
[291,{"$nulls":19}," "]
[292,{"$nulls":19}," "]
[293,{"$nulls":19}," "]
[294,{"$nulls":19}," "]
[295,{"$nulls":19}," "]
[296,{"$nulls":19}," "]
[297,{"$nulls":19}," "]
[298,{"$nulls":19}," "]
[299,{"$nulls":19}," "]
[300,{"$nulls":19}," "]
[301,{"$nulls":19}," "]
[302,{"$nulls":19}," "]
[303,{"$nulls":19}," "]
[304,{"$nulls":19}," "]
[305,{"$nulls":19}," "]
[306,{"$nulls":19}," "]
[307,{"$nulls":19}," "]
[308,{"$nulls":19}," "]
[309,{"$nulls":19}," "]
[310,{"$nulls":19}," "]
[311,{"$nulls":19}," "]
[312,{"$nulls":19}," "]
[313,{"$nulls":19}," "]
[314,{"$nulls":19}," "]
[315,{"$nulls":19}," "]
[316,{"$nulls":19}," "]
[317,{"$nulls":19}," "]
[318,{"$nulls":19}," "]
[319,{"$nulls":19}," "]
[320,{"$nulls":19}," "]
[321,{"$nulls":19}," "]
[322,{"$nulls":19},{"$f":"CONCATENATE(B327, \" \",C327)","v":" "}]
[323,{"$nulls":19}," "]
[324,{"$nulls":19}," "]
[325,{"$nulls":19}," "]
[326,{"$nulls":19}," "]
[327,{"$nulls":19}," "]
[328,{"$nulls":19}," "]
[329,{"$nulls":19}," "]
[330,{"$nulls":19}," "]
[331,{"$nulls":19}," "]
[332,{"$nulls":19}," "]
[333,{"$nulls":19}," "]
[334,{"$nulls":19}," "]
[335,{"$nulls":19}," "]
[336,{"$nulls":19}," "]
[337,{"$nulls":19}," "]
[338,{"$nulls":19}," "]
[339,{"$nulls":19}," "]
[340,{"$nulls":19}," "]
[341,{"$nulls":19}," "]
[342,{"$nulls":19}," "]
[343,{"$nulls":19}," "]
[344,{"$nulls":19}," "]
[345,{"$nulls":19}," "]
[346,{"$nulls":19}," "]
[347,{"$nulls":19}," "]
[348,{"$nulls":19}," "]
[349,{"$nulls":19}," "]
[350,{"$nulls":19}," "]
[351,{"$nulls":19}," "]
[352,{"$nulls":19}," "]
[353,{"$nulls":19}," "]
[354,{"$nulls":19}," "]
[355,{"$nulls":19}," "]
[356,{"$nulls":19}," "]
[357,{"$nulls":19}," "]
[358,{"$nulls":19}," "]
[359,{"$nulls":19}," "]
[360,{"$nulls":19}," "]
[361,{"$nulls":19}," "]
[362,{"$nulls":19}," "]
[363,{"$nulls":19}," "]
[364,{"$nulls":19}," "]
[365,{"$nulls":19}," "]
[366,{"$nulls":19}," "]
[367,{"$nulls":19}," "]
[368,{"$nulls":19}," "]
[369,{"$nulls":19}," "]
[370,{"$nulls":19}," "]
[371,{"$nulls":19}," "]
[372,{"$nulls":19}," "]
[373,{"$nulls":19}," "]
[374,{"$nulls":19}," "]
[375,{"$nulls":19}," "]
[376,{"$nulls":19}," "]
[377,{"$nulls":19}," "]
[378,{"$nulls":19}," "]
[379,{"$nulls":19}," "]
[380,{"$nulls":19}," "]
[381,{"$nulls":19}," "]
[382,{"$nulls":19}," "]
[383,{"$nulls":19}," "]
[384,{"$nulls":19}," "]
[385,{"$nulls":19}," "]
[386,{"$nulls":19},{"$f":"CONCATENATE(B391, \" \",C391)","v":" "}]
[387,{"$nulls":19}," "]
[388,{"$nulls":19}," "]
[389,{"$nulls":19}," "]
[390,{"$nulls":19}," "]
[391,{"$nulls":19}," "]
[392,{"$nulls":19}," "]
[393,{"$nulls":19}," "]
[394,{"$nulls":19}," "]
[395,{"$nulls":19}," "]
[396,{"$nulls":19}," "]
[397,{"$nulls":19}," "]
[398,{"$nulls":19}," "]
[399,{"$nulls":19}," "]
[400,{"$nulls":19}," "]
[401,{"$nulls":19}," "]
[402,{"$nulls":19}," "]
[403,{"$nulls":19}," "]
[404,{"$nulls":19}," "]
[405,{"$nulls":19}," "]
[406,{"$nulls":19}," "]
[407,{"$nulls":19}," "]
[408,{"$nulls":19}," "]
[409,{"$nulls":19}," "]
[410,{"$nulls":19}," "]
[411,{"$nulls":19}," "]
[412,{"$nulls":19}," "]
[413,{"$nulls":19}," "]
[414,{"$nulls":19}," "]
[415,{"$nulls":19}," "]
[416,{"$nulls":19}," "]
[417,{"$nulls":19}," "]
[418,{"$nulls":19}," "]
[419,{"$nulls":19}," "]
[420,{"$nulls":19}," "]
[421,{"$nulls":19}," "]
[422,{"$nulls":19}," "]
[423,{"$nulls":19}," "]
[424,{"$nulls":19}," "]
[425,{"$nulls":19}," "]
[426,{"$nulls":19}," "]
[427,{"$nulls":19}," "]
[428,{"$nulls":19}," "]
[429,{"$nulls":19}," "]
[430,{"$nulls":19}," "]
[431,{"$nulls":19}," "]
[432,{"$nulls":19}," "]
[433,{"$nulls":19}," "]
[434,{"$nulls":19}," "]
[435,{"$nulls":19}," "]
[436,{"$nulls":19}," "]
[437,{"$nulls":19}," "]
[438,{"$nulls":19}," "]
[439,{"$nulls":19}," "]
[440,{"$nulls":19}," "]
[441,{"$nulls":19}," "]
[442,{"$nulls":19}," "]
[443,{"$nulls":19}," "]
[444,{"$nulls":19}," "]
[445,{"$nulls":19}," "]
[446,{"$nulls":19}," "]
[447,{"$nulls":19}," "]
[448,{"$nulls":19}," "]
[449,{"$nulls":19}," "]
[450,{"$nulls":19},{"$f":"CONCATENATE(B455, \" \",C455)","v":" "}]
[451,{"$nulls":19}," "]
[452,{"$nulls":19}," "]
[453,{"$nulls":19}," "]
[454,{"$nulls":19}," "]
[455,{"$nulls":19}," "]
[456,{"$nulls":19}," "]
[457,{"$nulls":19}," "]
[458,{"$nulls":19}," "]
[459,{"$nulls":19}," "]
[460,{"$nulls":19}," "]
[461,{"$nulls":19}," "]
[462,{"$nulls":19}," "]
[463,{"$nulls":19}," "]
[464,{"$nulls":19}," "]
[465,{"$nulls":19}," "]
[466,{"$nulls":19}," "]
[467,{"$nulls":19}," "]
[468,{"$nulls":19}," "]
[469,{"$nulls":19}," "]
[470,{"$nulls":19}," "]
[471,{"$nulls":19}," "]
[472,{"$nulls":19}," "]
[473,{"$nulls":19}," "]
[474,{"$nulls":19}," "]
[475,{"$nulls":19}," "]
[476,{"$nulls":19}," "]
[477,{"$nulls":19}," "]
[478,{"$nulls":19}," "]
[479,{"$nulls":19}," "]
[480,{"$nulls":19}," "]
[481,{"$nulls":19}," "]
[482,{"$nulls":19}," "]
[483,{"$nulls":19}," "]
[484,{"$nulls":19}," "]
[485,{"$nulls":19}," "]
[486,{"$nulls":19}," "]
[487,{"$nulls":19}," "]
[488,{"$nulls":19}," "]
[489,{"$nulls":19}," "]
[490,{"$nulls":19}," "]
[491,{"$nulls":19}," "]
[492,{"$nulls":19}," "]
[493,{"$nulls":19}," "]
[494,{"$nulls":19}," "]
[495,{"$nulls":19}," "]
[496,{"$nulls":19}," "]
[497,{"$nulls":19}," "]
[498,{"$nulls":19}," "]
[{"$nulls":20}," "]

{"sheet":"MATERNELLE","index":3,"n_rows":116,"n_cols":24,"rows_kept":116,"merged":[[1,1,1,16],[3,1,3,4],[3,6,3,9],[3,11,3,14],[3,16,3,19]]}
[]
[null,"Maternelle niveaux",{"$nulls":20},"retrait","création"]
[{"$nulls":4},{"$f":"COUNTIF(E6:E49,\"*\")","v":0},{"$nulls":4},{"$f":"COUNTIF(J6:J100,\"*\")","v":0},{"$nulls":4},{"$f":"COUNTIF(O6:O100,\"*\")","v":0},{"$nulls":4},{"$f":"COUNTIF(T6:T100,\"*\")","v":0},null,{"$f":"T3+O3+J3+E3","v":0},{"$f":"V3-RENSEIGNEMENTS!G9","v":0},{"$f":"V3-RENSEIGNEMENTS!G11","v":0}]
[null,"TPS",{"$nulls":4},"PS",{"$nulls":4},"MS",{"$nulls":4},"GS"]
[null,"Nom","Prénom","Date","Sx","Cl","Nom","Prénom","Date","Sx","Cl","Nom","Prénom","Date","Sx","CL","Nom","Prénom","Date","Sx","CL"]
[1]
[{"$f":"A6+1","v":2}]
[3]
[4]
[5]
[6]
[7]
[8]
[9]
[10]
[11]
[12]
[13]
[14]
[15]
[16]
[17]
[18]
[19]
[20]
[21]
[22]
[23]
[24]
[25]
[26]
[27]
[28]
[29]
[30]
[31]
[32]
[33]
[{"$f":"A38+1","v":34}]
[35]
[36]
[37]
[38]
[39]
[40]
[41]
[42]
[43]
[44]
[45]
[46]
[47]
[48]
[49]
[50]
[51]
[52]
[53]
[54]
[55]
[56]
[57]
[58]
[59]
[60]
[61]
[62]
[63]
[64]
[65]
[{"$f":"A70+1","v":66}]
[67]
[68]
[69]
[70]
[71]
[72]
[73]
[74]
[75]
[76]
[77]
[78]
[79]
[80]
[81]
[82]
[83]
[84]
[85]
[86]
[87]
[88]
[89]
[90]
[91]
[92]
[93]
[94]
[95]
[96]
[97]
[{"$f":"A102+1","v":98}]
[99]
[100]
[101]
[102]
[103]
[104]
[105]
[106]
[107]
[108]
[109]
[110]
[111]

{"sheet":"ELEMENTAIRE","index":4,"n_rows":116,"n_cols":29,"rows_kept":116,"merged":[[0,1,0,21],[3,1,3,4],[3,6,3,9],[3,11,3,14],[3,16,3,19],[3,21,3,24]]}
[null,"Primaire niveaux"]
[{"$nulls":26},"Nombre d'élèves","retrait","création"]
[null,null,{"$f":"COUNTIF(C6:C65,\"*\")","v":0},{"$nulls":4},{"$f":"COUNTIF(H6:H65,\"*\")","v":0},{"$nulls":4},{"$f":"COUNTIF(M6:M65,\"*\")","v":0},{"$nulls":4},{"$f":"COUNTIF(R6:R65,\"*\")","v":0},{"$nulls":4},{"$f":"COUNTIF(W6:W65,\"*\")","v":0},{"$nulls":3},{"$f":"W3+R3+M3+H3+C3","v":0},{"$f":"AA3-RENSEIGNEMENTS!H9","v":0},{"$f":"AA3-RENSEIGNEMENTS!H11","v":0}]
[null,"CP",{"$nulls":4},"CE1",{"$nulls":4},"CE2",{"$nulls":4},"CM1",{"$nulls":4},"CM2"]
[null,"Nom","Prénom","Date","Sx","Cl","Nom","Prénom","Date","Sx","Cl","Nom","Prénom","Date","Sx","Cl","Nom","Prénom","Date","Sx","Cl","Nom","Prénom","Date","Sx","Cl"]
[1]
[{"$f":"A6+1","v":2}]
[3]
[4]
[5]
[6]
[7]
[8]
[9]
[10]
[11]
[12]
[13]
[14]
[15]
[16]
[17]
[18]
[19]
[20]
[21]
[22]
[23]
[24]
[25]
[26]
[27]
[28]
[29]
[30]
[31]
[32]
[33]
[34]
[35]
[36]
[37]
[38]
[39]
[40]
[41]
[42]
[43]
[44]
[45]
[46]
[47]
[48]
[49]
[50]
[51]
[52]
[53]
[54]
[55]
[56]
[57]
[58]
[59]
[60]
[61]
[62]
[63]
[64]
[65]
[66]
[67]
[68]
[69]
[70]
[71]
[72]
[73]
[74]
[75]
[76]
[77]
[78]
[79]
[80]
[81]
[82]
[83]
[84]
[85]
[86]
[87]
[88]
[89]
[90]
[91]
[92]
[93]
[94]
[95]
[96]
[97]
[98]
[99]
[100]
[101]
[102]
[103]
[104]
[105]
[106]
[107]
[108]
[109]
[110]
[111]

{"sheet":"UPE2A","index":5,"n_rows":30,"n_cols":6,"rows_kept":30,"hidden":true,"merged":[[0,0,0,5],[1,1,1,2],[1,3,1,5],[2,1,2,5]]}
[{"$f":"RENSEIGNEMENTS!B2","v":"GROUPE SCOLAIRE LEONARD DE VINCI"}]
["CLIN","CLASSE ",null,"UPE2A"]
[null,{"$f":"RENSEIGNEMENTS!#REF!","v":{"$error":"#REF!"}}]
[]
[null,"NOM","Prénom","Date","Sx","niv"]
[1,"NOGHBIL","INES","2009-09-03","F","MS"]
[2,"OKEWUIHE","MICHELE","2010-08-25","F","PS"]
[3]
[4]
[5]
[6]
[7]
[8]
[9]
[10]
[11]
[12]
[13]
[14]
[15]
[16]
[17]
[18]
[19]
[20]
[21]
[22]
[23]
[24]
[25]

{"sheet":"C1","index":6,"n_rows":38,"n_cols":10,"rows_kept":38,"merged":[[1,1,1,2],[1,3,1,5],[2,1,2,5]]}
[1,{"$f":"RENSEIGNEMENTS!B2","v":"GROUPE SCOLAIRE LEONARD DE VINCI"}]
[20,"CLASSE ",null,"CE1"]
[null,"Jean MACHIN"]
[]
[null,"NOM","Prénom","Date","Sx","niv"]
[1,{"$nulls":5},{"$f":"CONCATENATE(B6,C6)","v":""},{"$f":"CONCATENATE(B6,\" \",C6)","v":" "},null,{"$f":"CONCATENATE(B6&\" \"&C6)","v":" "}]
[2,{"$nulls":5},{"$f":"#N/A","v":{"$error":"#N/A"}},{"$f":"#N/A","v":{"$error":"#N/A"}},null,{"$f":"CONCATENATE(B7&\" \"&C7)","v":" "}]
[3,{"$nulls":5},{"$f":"#N/A","v":{"$error":"#N/A"}},{"$f":"#N/A","v":{"$error":"#N/A"}},null," "]
[4,{"$nulls":5},{"$f":"#N/A","v":{"$error":"#N/A"}},{"$f":"#N/A","v":{"$error":"#N/A"}},null," "]
[5,{"$nulls":5},{"$f":"#N/A","v":{"$error":"#N/A"}},{"$f":"#N/A","v":{"$error":"#N/A"}},null," "]
[6,{"$nulls":5},{"$f":"#N/A","v":{"$error":"#N/A"}},{"$f":"#N/A","v":{"$error":"#N/A"}},null," "]
[7,{"$nulls":5},{"$f":"#N/A","v":{"$error":"#N/A"}},{"$f":"#N/A","v":{"$error":"#N/A"}},null," "]
[8,{"$nulls":5},{"$f":"#N/A","v":{"$error":"#N/A"}},{"$f":"#N/A","v":{"$error":"#N/A"}},null," "]
[9,{"$nulls":5},{"$f":"#N/A","v":{"$error":"#N/A"}},{"$f":"#N/A","v":{"$error":"#N/A"}},null," "]
[10,{"$nulls":5},{"$f":"#N/A","v":{"$error":"#N/A"}},{"$f":"#N/A","v":{"$error":"#N/A"}},null," "]
[11,{"$nulls":5},{"$f":"#N/A","v":{"$error":"#N/A"}},{"$f":"#N/A","v":{"$error":"#N/A"}},null," "]
[12,{"$nulls":5},{"$f":"#N/A","v":{"$error":"#N/A"}},{"$f":"#N/A","v":{"$error":"#N/A"}},null," "]
[13,{"$nulls":5},{"$f":"#N/A","v":{"$error":"#N/A"}},{"$f":"#N/A","v":{"$error":"#N/A"}},null," "]
[14,{"$nulls":5},{"$f":"#N/A","v":{"$error":"#N/A"}},{"$f":"#N/A","v":{"$error":"#N/A"}},null," "]
[15,{"$nulls":5},{"$f":"#N/A","v":{"$error":"#N/A"}},{"$f":"#N/A","v":{"$error":"#N/A"}},null," "]
[16,{"$nulls":5},{"$f":"#N/A","v":{"$error":"#N/A"}},{"$f":"#N/A","v":{"$error":"#N/A"}},null," "]
[17,{"$nulls":6},{"$f":"#N/A","v":{"$error":"#N/A"}},null," "]
[18,{"$nulls":6},{"$f":"#N/A","v":{"$error":"#N/A"}},null," "]
[19,{"$nulls":6},{"$f":"#N/A","v":{"$error":"#N/A"}},null," "]
[20,{"$nulls":6},{"$f":"#N/A","v":{"$error":"#N/A"}},null," "]
[21,{"$nulls":5},{"$f":"#N/A","v":{"$error":"#N/A"}},{"$f":"#N/A","v":{"$error":"#N/A"}},null," "]
[22,{"$nulls":5},{"$f":"#N/A","v":{"$error":"#N/A"}},{"$f":"#N/A","v":{"$error":"#N/A"}},null," "]
[23,{"$nulls":6},{"$f":"#N/A","v":{"$error":"#N/A"}},null," "]
[24,{"$nulls":6},{"$f":"#N/A","v":{"$error":"#N/A"}},null," "]
[25,{"$nulls":6},{"$f":"#N/A","v":{"$error":"#N/A"}},null," "]
[26,{"$nulls":6},{"$f":"#N/A","v":{"$error":"#N/A"}},null," "]
[27,{"$nulls":6},{"$f":"#N/A","v":{"$error":"#N/A"}},null," "]
[28,{"$nulls":6},{"$f":"#N/A","v":{"$error":"#N/A"}},null," "]
[29,{"$nulls":6},{"$f":"#N/A","v":{"$error":"#N/A"}},null," "]
[30,{"$nulls":6},{"$f":"#N/A","v":{"$error":"#N/A"}},null," "]
[31,{"$nulls":6},{"$f":"#N/A","v":{"$error":"#N/A"}},null," "]
[32,{"$nulls":6},{"$f":"#N/A","v":{"$error":"#N/A"}},null," "]
[33,{"$nulls":8}," "]

{"sheet":"administratif","index":7,"n_rows":42,"n_cols":10,"rows_kept":42,"merged":[[0,0,0,5],[1,2,1,4],[1,5,1,7],[1,8,1,12],[2,1,2,4]]}
["GROUPE SCOLAIRE John KENNEDY",{"$nulls":5},1]
[25,"CLASSE DE  ",{"$f":"B41","v":"CE1"},{"$f":"IF(INDEX(listes,noenfant,classe)=\"\",0,INDEX(listes,noenfant,classe))","v":{"$error":"#VALUE!"}},{"$f":"IF(INDEX(listes,noenfant,classe)=\"\",0,INDEX(listes,noenfant,classe))","v":{"$error":"#VALUE!"}}]
[null,{"$f":"B42","v":"Jean MACHIN"},{"$f":"IF(INDEX(listes,noenfant,classe)=\"\",0,INDEX(listes,noenfant,classe))","v":{"$error":"#VALUE!"}},{"$f":"IF(INDEX(listes,noenfant,classe)=\"\",0,INDEX(listes,noenfant,classe))","v":{"$error":"#VALUE!"}},{"$f":"IF(INDEX(listes,noenfant,classe)=\"\",0,INDEX(listes,noenfant,classe))","v":{"$error":"#VALUE!"}}]
[]
[null,"NOM PRENOM","Assurance","Fiche de renseignement","autorisation de sortie","autorisation photo","coop","Etude ou garderie du soir","garderie matin","inscription restaurant"]
[1,{"$f":"IF(INDEX(listes,noenfant,classe)=\"\",0,INDEX(listes,noenfant,classe))","v":" "}]
[{"$f":"A6+1","v":2}," "]
[3," "]
[4," "]
[5," "]
[6," "]
[7," "]
[8," "]
[9," "]
[10," "]
[11," "]
[12," "]
[13," "]
[14," "]
[15," "]
[16," "]
[17," "]
[18," "]
[19," "]
[20," "]
[21," "]
[22," "]
[23," "]
[24," "]
[25," "]
[26," "]
[27," "]
[28," "]
[29," "]
[30," "]
[31," "]
[32," "]
[33," "]
[]
[]
[null,"CE1"]
[null,"Jean MACHIN"]

{"sheet":"coop","index":8,"n_rows":46,"n_cols":8,"rows_kept":46,"merged":[[1,2,1,4],[1,5,1,7],[2,1,2,4],[3,2,3,7],[5,1,5,3],[5,5,5,7]]}
[null,null,"Coopérative scolaire",{"$nulls":3},2]
[25,"CLASSE DE  ",{"$f":"B43","v":"CM2"},{"$f":"IF(INDEX(listes,noenfant,classe)=\"\",0,INDEX(listes,noenfant,classe))","v":{"$error":"#NAME?"}},{"$f":"IF(INDEX(listes,noenfant,classe)=\"\",0,INDEX(listes,noenfant,classe))","v":{"$error":"#NAME?"}},{"$f":"B44","v":"TRUC"}]
[]
[null,"Action :"]
[]
[null,"SOMMES RECUES",{"$nulls":3},"SOMMES DEPENSEES"]
[null,"Enfants","Chèque","Liquide",null,"Objet de la dépense","Chèque","Liquide"]
[1,{"$f":"IF(INDEX(listes,nenfant,classes)=\"\",0,INDEX(listes,nenfant,classes))","v":" "}]
[{"$f":"A8+1","v":2},{"$f":"IF(INDEX(listes,nenfant,classes)=\"\",0,INDEX(listes,nenfant,classes))","v":" "}]
[{"$f":"A9+1","v":3}," "]
[4," "]
[5," "]
[6," "]
[7," "]
[8," "]
[9," "]
[10," "]
[11," "]
[12," "]
[13," "]
[14," "]
[15," "]
[16," "]
[17," "]
[18," "]
[19," "]
[20," "]
[21," "]
[22," "]
[23," "]
[24," "]
[25," "]
[26," "]
[27," "]
[28," "]
[29," "]
[30," "]
[31," "]
[32," "]
[33," "]
[34,0]
[35,0,"A - Total","€",null,null,"B- Total","€"]
[36,"CM2","+",{"$nulls":3},"+"]
[37,"TRUC","B-A Déficit","€",null,null,"A-B Exédent","€"]
[]
[{"$nulls":3},"€",null,"      =",null,"€"]

{"sheet":"certificat","index":9,"n_rows":29,"n_cols":15,"rows_kept":29,"merged":[[2,9,2,11],[5,1,5,10],[9,3,9,6],[11,9,11,11],[13,2,13,6],[15,2,15,6],[17,2,17,6],[19,7,19,11]]}
[]
[{"$nulls":14},108]
[{"$nulls":9},{"$f":"TODAY()","v":"2014-05-07"}]
[]
[]
[null,"CERTIFICAT DE SCOLARITE"]
[]
[]
[]
[null,"Je soussigné , ",null,{"$f":"RENSEIGNEMENTS!B7","v":"Hubert DURAND"},{"$nulls":5},{"$f":"RENSEIGNEMENTS!D6","v":"DIRECTEUR "}]
[]
[null,"certifie que l'enfant "]
[]
[null,"nom:",{"$f":"IF(INDEX(registre,enfant,2)=\"\",0,INDEX(registre,enfant,2))","v":0}]
[]
[null,"prénom :",{"$f":"IF(INDEX(registre,enfant,3)=\"\",0,INDEX(registre,enfant,3))","v":0}]
[]
[null,"né le : ",{"$f":"IF(INDEX(registre,enfant,4)=\"\",0,INDEX(registre,enfant,4))","v":"00:00:00"}]
[]
[null,"a été inscrit sur les registres du",{"$nulls":5},{"$f":"RENSEIGNEMENTS!B2","v":"GROUPE SCOLAIRE LEONARD DE VINCI"}]
[]
[null,"et fréquente le    ",null,null,"cycle",{"$f":"IF(INDEX(registre,enfant,10)=\"\",0,INDEX(registre,enfant,10))","v":0},null,"en classe de ",null,{"$f":"IF(INDEX(registre,enfant,6)=\"\",0,INDEX(registre,enfant,6))","v":0}]
[]
[null,"pour l’année scolaire :",{"$nulls":3},{"$f":"RENSEIGNEMENTS!H13","v":"2014/2015"}]
[]
[]
[{"$nulls":6},"Signature :"]
[{"$nulls":6},"Le directeur :"]
[{"$nulls":6},{"$f":"RENSEIGNEMENTS!B7","v":"Hubert DURAND"}]

{"sheet":"classe","index":10,"n_rows":38,"n_cols":10,"rows_kept":38,"hidden":true,"merged":[[1,1,1,2],[1,3,1,5],[2,1,2,5]]}
[null,{"$f":"RENSEIGNEMENTS!B2","v":"GROUPE SCOLAIRE LEONARD DE VINCI"}]
[20,"CLASSE ",null,"Niveau"]
[null,"Enseignant"]
[]
[null,"NOM","Prénom","Date","Sx","niv"]
[1,{"$nulls":5},{"$f":"CONCATENATE(B6,C6)","v":""},{"$f":"CONCATENATE(B6,\" \",C6)","v":" "},null,{"$f":"CONCATENATE(B6&\" \"&C6)","v":" "}]
[2,{"$nulls":5},{"$f":"#N/A","v":{"$error":"#N/A"}},{"$f":"#N/A","v":{"$error":"#N/A"}},null,{"$f":"CONCATENATE(B7&\" \"&C7)","v":" "}]
[3,{"$nulls":5},{"$f":"#N/A","v":{"$error":"#N/A"}},{"$f":"#N/A","v":{"$error":"#N/A"}},null," "]
[4,{"$nulls":5},{"$f":"#N/A","v":{"$error":"#N/A"}},{"$f":"#N/A","v":{"$error":"#N/A"}},null," "]
[5,{"$nulls":5},{"$f":"#N/A","v":{"$error":"#N/A"}},{"$f":"#N/A","v":{"$error":"#N/A"}},null," "]
[6,{"$nulls":5},{"$f":"#N/A","v":{"$error":"#N/A"}},{"$f":"#N/A","v":{"$error":"#N/A"}},null," "]
[7,{"$nulls":5},{"$f":"#N/A","v":{"$error":"#N/A"}},{"$f":"#N/A","v":{"$error":"#N/A"}},null," "]
[8,{"$nulls":5},{"$f":"#N/A","v":{"$error":"#N/A"}},{"$f":"#N/A","v":{"$error":"#N/A"}},null," "]
[9,{"$nulls":5},{"$f":"#N/A","v":{"$error":"#N/A"}},{"$f":"#N/A","v":{"$error":"#N/A"}},null," "]
[10,{"$nulls":5},{"$f":"#N/A","v":{"$error":"#N/A"}},{"$f":"#N/A","v":{"$error":"#N/A"}},null," "]
[11,{"$nulls":5},{"$f":"#N/A","v":{"$error":"#N/A"}},{"$f":"#N/A","v":{"$error":"#N/A"}},null," "]
[12,{"$nulls":5},{"$f":"#N/A","v":{"$error":"#N/A"}},{"$f":"#N/A","v":{"$error":"#N/A"}},null," "]
[13,{"$nulls":5},{"$f":"#N/A","v":{"$error":"#N/A"}},{"$f":"#N/A","v":{"$error":"#N/A"}},null," "]
[14,{"$nulls":5},{"$f":"#N/A","v":{"$error":"#N/A"}},{"$f":"#N/A","v":{"$error":"#N/A"}},null," "]
[15,{"$nulls":5},{"$f":"#N/A","v":{"$error":"#N/A"}},{"$f":"#N/A","v":{"$error":"#N/A"}},null," "]
[16,{"$nulls":5},{"$f":"#N/A","v":{"$error":"#N/A"}},{"$f":"#N/A","v":{"$error":"#N/A"}},null," "]
[17,{"$nulls":6},{"$f":"#N/A","v":{"$error":"#N/A"}},null," "]
[18,{"$nulls":6},{"$f":"#N/A","v":{"$error":"#N/A"}},null," "]
[19,{"$nulls":6},{"$f":"#N/A","v":{"$error":"#N/A"}},null," "]
[20,{"$nulls":6},{"$f":"#N/A","v":{"$error":"#N/A"}},null," "]
[21,{"$nulls":5},{"$f":"#N/A","v":{"$error":"#N/A"}},{"$f":"#N/A","v":{"$error":"#N/A"}},null," "]
[22,{"$nulls":5},{"$f":"#N/A","v":{"$error":"#N/A"}},{"$f":"#N/A","v":{"$error":"#N/A"}},null," "]
[23,{"$nulls":6},{"$f":"#N/A","v":{"$error":"#N/A"}},null," "]
[24,{"$nulls":6},{"$f":"#N/A","v":{"$error":"#N/A"}},null," "]
[25,{"$nulls":6},{"$f":"#N/A","v":{"$error":"#N/A"}},null," "]
[26,{"$nulls":6},{"$f":"#N/A","v":{"$error":"#N/A"}},null," "]
[27,{"$nulls":6},{"$f":"#N/A","v":{"$error":"#N/A"}},null," "]
[28,{"$nulls":6},{"$f":"#N/A","v":{"$error":"#N/A"}},null," "]
[29,{"$nulls":6},{"$f":"#N/A","v":{"$error":"#N/A"}},null," "]
[30,{"$nulls":6},{"$f":"#N/A","v":{"$error":"#N/A"}},null," "]
[31,{"$nulls":6},{"$f":"#N/A","v":{"$error":"#N/A"}},null," "]
[32,{"$nulls":6},{"$f":"#N/A","v":{"$error":"#N/A"}},null," "]
[33,{"$nulls":8}," "]

{"sheet":"Feuil3","index":11,"n_rows":42,"n_cols":23,"rows_kept":42}
[]
[]
[]
[]
[null,"CLIN","C1","C2","C3","C4","C5","C6","C7","C8","C9","C10","C11","C12","C13","C14","C15","C16","C17","C18","C19","C20","C21"]
[null," "," "," "," ",{"$nulls":16},{"$f":"CONCATENATE(classe!$B6,\" \",classe!$C6)","v":" "},{"$f":"CONCATENATE(UPE2A!$B6,\" \",UPE2A!$C6)","v":"NOGHBIL INES"}]
[null," "," "," "," ",{"$nulls":16},{"$f":"CONCATENATE(classe!$B7,\" \",classe!$C7)","v":" "},{"$f":"CONCATENATE(UPE2A!$B7,\" \",UPE2A!$C7)","v":"OKEWUIHE MICHELE"}]
[null," "," "," "," ",{"$nulls":16},{"$f":"CONCATENATE(classe!$B8,\" \",classe!$C8)","v":" "},{"$f":"CONCATENATE(UPE2A!$B8,\" \",UPE2A!$C8)","v":" "}]
[null," "," "," "," ",{"$nulls":16},{"$f":"CONCATENATE(classe!$B9,\" \",classe!$C9)","v":" "},{"$f":"CONCATENATE(UPE2A!$B9,\" \",UPE2A!$C9)","v":" "}]
[null," "," "," "," ",{"$nulls":16},{"$f":"CONCATENATE(classe!$B10,\" \",classe!$C10)","v":" "},{"$f":"CONCATENATE(UPE2A!$B10,\" \",UPE2A!$C10)","v":" "}]
[null," "," "," "," ",{"$nulls":16},{"$f":"CONCATENATE(classe!$B11,\" \",classe!$C11)","v":" "},{"$f":"CONCATENATE(UPE2A!$B11,\" \",UPE2A!$C11)","v":" "}]
[null," "," "," "," ",{"$nulls":16},{"$f":"CONCATENATE(classe!$B12,\" \",classe!$C12)","v":" "},{"$f":"CONCATENATE(UPE2A!$B12,\" \",UPE2A!$C12)","v":" "}]
[null," "," "," "," ",{"$nulls":16},{"$f":"CONCATENATE(classe!$B13,\" \",classe!$C13)","v":" "},{"$f":"CONCATENATE(UPE2A!$B13,\" \",UPE2A!$C13)","v":" "}]
[null," "," "," "," ",{"$nulls":16},{"$f":"CONCATENATE(classe!$B14,\" \",classe!$C14)","v":" "},{"$f":"CONCATENATE(UPE2A!$B14,\" \",UPE2A!$C14)","v":" "}]
[null," "," "," "," ",{"$nulls":16},{"$f":"CONCATENATE(classe!$B15,\" \",classe!$C15)","v":" "},{"$f":"CONCATENATE(UPE2A!$B15,\" \",UPE2A!$C15)","v":" "}]
[null," "," "," "," ",{"$nulls":16},{"$f":"CONCATENATE(classe!$B16,\" \",classe!$C16)","v":" "},{"$f":"CONCATENATE(UPE2A!$B16,\" \",UPE2A!$C16)","v":" "}]
[null," "," "," "," ",{"$nulls":16},{"$f":"CONCATENATE(classe!$B17,\" \",classe!$C17)","v":" "},{"$f":"CONCATENATE(UPE2A!$B17,\" \",UPE2A!$C17)","v":" "}]
[null," "," "," "," ",{"$nulls":16},{"$f":"CONCATENATE(classe!$B18,\" \",classe!$C18)","v":" "},{"$f":"CONCATENATE(UPE2A!$B18,\" \",UPE2A!$C18)","v":" "}]
[null," "," "," "," ",{"$nulls":16},{"$f":"CONCATENATE(classe!$B19,\" \",classe!$C19)","v":" "},{"$f":"CONCATENATE(UPE2A!$B19,\" \",UPE2A!$C19)","v":" "}]
[null," "," "," "," ",{"$nulls":16},{"$f":"CONCATENATE(classe!$B20,\" \",classe!$C20)","v":" "},{"$f":"CONCATENATE(UPE2A!$B20,\" \",UPE2A!$C20)","v":" "}]
[null," "," "," "," ",{"$nulls":16},{"$f":"CONCATENATE(classe!$B21,\" \",classe!$C21)","v":" "},{"$f":"CONCATENATE(UPE2A!$B21,\" \",UPE2A!$C21)","v":" "}]
[null," "," "," "," ",{"$nulls":16},{"$f":"CONCATENATE(classe!$B22,\" \",classe!$C22)","v":" "},{"$f":"CONCATENATE(UPE2A!$B22,\" \",UPE2A!$C22)","v":" "}]
[null," "," "," "," ",{"$nulls":16},{"$f":"CONCATENATE(classe!$B23,\" \",classe!$C23)","v":" "},{"$f":"CONCATENATE(UPE2A!$B23,\" \",UPE2A!$C23)","v":" "}]
[null," "," "," "," ",{"$nulls":16},{"$f":"CONCATENATE(classe!$B24,\" \",classe!$C24)","v":" "},{"$f":"CONCATENATE(UPE2A!$B24,\" \",UPE2A!$C24)","v":" "}]
[null," "," "," "," ",{"$nulls":16},{"$f":"CONCATENATE(classe!$B25,\" \",classe!$C25)","v":" "},{"$f":"CONCATENATE(UPE2A!$B25,\" \",UPE2A!$C25)","v":" "}]
[null," "," "," "," ",{"$nulls":16},{"$f":"CONCATENATE(classe!$B26,\" \",classe!$C26)","v":" "},{"$f":"CONCATENATE(UPE2A!$B26,\" \",UPE2A!$C26)","v":" "}]
[null," "," "," "," ",{"$nulls":16},{"$f":"CONCATENATE(classe!$B27,\" \",classe!$C27)","v":" "},{"$f":"CONCATENATE(UPE2A!$B27,\" \",UPE2A!$C27)","v":" "}]
[null," "," "," "," ",{"$nulls":16},{"$f":"CONCATENATE(classe!$B28,\" \",classe!$C28)","v":" "},{"$f":"CONCATENATE(UPE2A!$B28,\" \",UPE2A!$C28)","v":" "}]
[null," "," "," "," ",{"$nulls":16},{"$f":"CONCATENATE(classe!$B29,\" \",classe!$C29)","v":" "},{"$f":"CONCATENATE(UPE2A!$B29,\" \",UPE2A!$C29)","v":" "}]
[null," "," "," "," ",{"$nulls":16},{"$f":"CONCATENATE(classe!$B30,\" \",classe!$C30)","v":" "},{"$f":"CONCATENATE(UPE2A!$B30,\" \",UPE2A!$C30)","v":" "}]
[null," "," "," "," ",{"$nulls":16},{"$f":"CONCATENATE(classe!$B31,\" \",classe!$C31)","v":" "},{"$f":"CONCATENATE(UPE2A!#REF!,\" \",UPE2A!#REF!)","v":{"$error":"#REF!"}}]
[null," "," "," "," ",{"$nulls":16},{"$f":"CONCATENATE(classe!$B32,\" \",classe!$C32)","v":" "},{"$f":"CONCATENATE(UPE2A!#REF!,\" \",UPE2A!#REF!)","v":{"$error":"#REF!"}}]
[null," "," "," "," ",{"$nulls":16},{"$f":"CONCATENATE(classe!$B33,\" \",classe!$C33)","v":" "},{"$f":"CONCATENATE(UPE2A!#REF!,\" \",UPE2A!#REF!)","v":{"$error":"#REF!"}}]
[null," "," "," "," ",{"$nulls":16},{"$f":"CONCATENATE(classe!$B34,\" \",classe!$C34)","v":" "},{"$f":"CONCATENATE(UPE2A!#REF!,\" \",UPE2A!#REF!)","v":{"$error":"#REF!"}}]
[null," "," "," "," ",{"$nulls":16},{"$f":"CONCATENATE(classe!$B35,\" \",classe!$C35)","v":" "},{"$f":"CONCATENATE(UPE2A!#REF!,\" \",UPE2A!#REF!)","v":{"$error":"#REF!"}}]
[null," "," "," "," "," "," "]
[null," "," "," "," "," "," "]
[null," "," "," "," "," "," "]
[]
[]
["Niveau",null,"CE1","CM2"]
["Enseignant",null,"Jean MACHIN","TRUC"]